{"text_format":"2","workbook":"xlsx","n_sheets":12,"sheets":["RaceList","MainSheet","Meetings1","Meetings2","Form","Race","Tables","Data","Results","Splashscreen","Info","Instructions"],"not_rendered":{"charts":0,"images":0,"macros":1,"external_links":0,"defined_names":26,"comments":0,"pivot_tables":0},"unopened":[],"bounds":{"document_bytes":16777216,"sheet_cells":100000,"run_cost":"one","rows_first":2000,"rows_last":500,"rows_between":2000,"halvings":0,"cell_chars":16384,"cell_head_chars":4096},"cells_cut":0,"cells_raw":0,"read":"whole","date_system":"1900"}

{"sheet":"RaceList","index":0,"n_rows":322,"n_cols":24,"rows_kept":322,"cut":false,"hidden":false,"merged":[[40,12,40,13],[40,14,40,15],[36,12,36,13],[36,14,36,15],[37,12,37,13],[37,14,37,15],[38,12,38,13],[38,14,38,15],[33,12,33,13],[33,14,33,15],[34,12,34,13],[34,14,34,15],[30,14,30,15],[31,12,31,13],[31,14,31,15],[32,12,32,13],[32,14,32,15],[1,12,1,15],[6,12,6,15],[39,12,39,13],[39,14,39,15],[17,12,17,13],[18,12,18,13],[19,12,19,13],[8,14,8,15],[9,14,9,15],[10,14,10,15],[11,14,11,15],[12,14,12,15],[13,14,13,15],[14,14,14,15],[15,14,15,15],[16,14,16,15],[17,14,17,15],[18,14,18,15],[19,14,19,15],[12,12,12,13],[13,12,13,13],[14,12,14,13],[15,12,15,13],[16,12,16,13],[8,12,8,13],[9,12,9,13],[10,12,10,13],[11,12,11,13],[41,12,41,15],[20,14,20,15],[21,14,21,15],[22,14,22,15],[23,14,23,15],[24,14,24,15],[20,12,20,13],[21,12,21,13],[22,12,22,13],[23,12,23,13],[24,12,24,13],[25,12,25,13],[25,14,25,15],[26,12,26,13],[26,14,26,15],[27,12,27,13],[27,14,27,15],[28,12,28,13],[28,14,28,15],[29,12,29,13],[29,14,29,15],[35,12,35,13],[35,14,35,15],[30,12,30,13],[13,23,13,24],[14,23,14,24],[15,23,15,24],[16,23,16,24],[17,23,17,24],[8,23,8,24],[9,23,9,24],[10,23,10,24],[11,23,11,24],[12,23,12,24],[23,23,23,24],[24,23,24,24],[25,23,25,24],[26,23,26,24],[27,23,27,24],[18,23,18,24],[19,23,19,24],[20,23,20,24],[21,23,21,24],[22,23,22,24],[38,23,38,24],[39,23,39,24],[40,23,40,24],[33,23,33,24],[34,23,34,24],[35,23,35,24],[36,23,36,24],[37,23,37,24],[28,23,28,24],[29,23,29,24],[30,23,30,24],[31,23,31,24],[32,23,32,24]]}
[]
[{"$nulls":12},"Race Selection "]
[]
[{"$nulls":13},"Market",0.85]
[null,null,null,"No of Runners",5]
[]
[{"$nulls":12},"Race Venues",{"$nulls":10},"Race List"]
[]
[{"$nulls":14},{"$f":"IF(Data!AW1=\"\",\"\",Data!AW1)","v":""},{"$nulls":8},{"$f":"IF(Meetings2!B2=\"\",\"\",Meetings2!B2)","v":""}]
[{"$nulls":14},{"$f":"IF(Data!AW2=\"\",\"\",Data!AW2)","v":"Paeroa"},{"$nulls":8},{"$f":"IF(Meetings2!B3=\"\",\"\",Meetings2!B3)","v":"DUBBO (NR)"}]
[{"$nulls":12},"KYNETON (VR)",null,{"$f":"IF(Data!AW3=\"\",\"\",Data!AW3)","v":"Kyneton"},null,"mr",{"$nulls":6},{"$f":"IF(Meetings2!B4=\"\",\"\",Meetings2!B4)","v":"KYNETON (VR)"}]
[{"$nulls":12},"DUBBO (NR)",null,{"$f":"IF(Data!AW4=\"\",\"\",Data!AW4)","v":"Dubbo"},null,"cr",{"$nulls":6},{"$f":"IF(Meetings2!B5=\"\",\"\",Meetings2!B5)","v":"ALBURY (CR)"}]
[{"$nulls":12},"ALBURY (CR)",null,{"$f":"IF(Data!AW5=\"\",\"\",Data!AW5)","v":"Albury"},null,"sr",{"$nulls":6},{"$f":"IF(Meetings2!B6=\"\",\"\",Meetings2!B6)","v":"PAEROA (ZS)"}]
[{"$nulls":14},{"$f":"IF(Data!AW6=\"\",\"\",Data!AW6)","v":""},{"$nulls":8},{"$f":"IF(Meetings2!B7=\"\",\"\",Meetings2!B7)","v":""}]
[{"$nulls":14},{"$f":"IF(Data!AW7=\"\",\"\",Data!AW7)","v":""},{"$nulls":8},{"$f":"IF(Meetings2!B8=\"\",\"\",Meetings2!B8)","v":"GOULBURN (NT)"}]
[{"$nulls":14},{"$f":"IF(Data!AW8=\"\",\"\",Data!AW8)","v":""},{"$nulls":8},{"$f":"IF(Meetings2!B9=\"\",\"\",Meetings2!B9)","v":"HAMILTON (VT)"}]
[{"$nulls":14},{"$f":"IF(Data!AW9=\"\",\"\",Data!AW9)","v":""},{"$nulls":8},{"$f":"IF(Meetings2!B10=\"\",\"\",Meetings2!B10)","v":"GLOBE DERBY (AT)"}]
[{"$nulls":14},{"$f":"IF(Data!AW10=\"\",\"\",Data!AW10)","v":""},{"$nulls":8},{"$f":"IF(Meetings2!B11=\"\",\"\",Meetings2!B11)","v":"GLOUCESTER PARK (PT)"}]
[{"$nulls":14},{"$f":"IF(Data!AW11=\"\",\"\",Data!AW11)","v":""},{"$nulls":8},{"$f":"IF(Meetings2!B12=\"\",\"\",Meetings2!B12)","v":"DEVONPORT (TT)"}]
[{"$nulls":14},{"$f":"IF(Data!AW12=\"\",\"\",Data!AW12)","v":""},{"$nulls":8},{"$f":"IF(Meetings2!B13=\"\",\"\",Meetings2!B13)","v":""}]
[{"$nulls":14},{"$f":"IF(Data!AW13=\"\",\"\",Data!AW13)","v":""},{"$nulls":8},{"$f":"IF(Meetings2!B14=\"\",\"\",Meetings2!B14)","v":"ALBION PARK (BG)"}]
[{"$nulls":14},{"$f":"IF(Data!AW14=\"\",\"\",Data!AW14)","v":""},{"$nulls":8},{"$f":"IF(Meetings2!B15=\"\",\"\",Meetings2!B15)","v":"BULLI (SG)"}]
[{"$nulls":14},{"$f":"IF(Data!AW15=\"\",\"\",Data!AW15)","v":""},{"$nulls":8},{"$f":"IF(Meetings2!B16=\"\",\"\",Meetings2!B16)","v":"SANDOWN PARK (MG)"}]
[{"$nulls":14},{"$f":"IF(Data!AW16=\"\",\"\",Data!AW16)","v":""},{"$nulls":8},{"$f":"IF(Meetings2!B17=\"\",\"\",Meetings2!B17)","v":"BATHURST (NG)"}]
[{"$nulls":14},{"$f":"IF(Data!AW17=\"\",\"\",Data!AW17)","v":""},{"$nulls":8},{"$f":"IF(Meetings2!B18=\"\",\"\",Meetings2!B18)","v":"SHEPPARTON (VG)"}]
[{"$nulls":14},{"$f":"IF(Data!AW18=\"\",\"\",Data!AW18)","v":""},{"$nulls":8},{"$f":"IF(Meetings2!B19=\"\",\"\",Meetings2!B19)","v":"ANGLE PARK (AG)"}]
[{"$nulls":14},{"$f":"IF(Data!AW19=\"\",\"\",Data!AW19)","v":""},{"$nulls":8},{"$f":"IF(Meetings2!B20=\"\",\"\",Meetings2!B20)","v":"NORTHAM (PG)"}]
[{"$nulls":14},{"$f":"IF(Data!AW20=\"\",\"\",Data!AW20)","v":""},{"$nulls":8},{"$f":"IF(Meetings2!B21=\"\",\"\",Meetings2!B21)","v":"BENDIGO (EG)"}]
[{"$nulls":14},{"$f":"IF(Data!AW21=\"\",\"\",Data!AW21)","v":""},{"$nulls":8},{"$f":"IF(Meetings2!B22=\"\",\"\",Meetings2!B22)","v":"MANAWATU (ZG)"}]
[{"$nulls":14},{"$f":"IF(Data!AW22=\"\",\"\",Data!AW22)","v":""},{"$nulls":8},{"$f":"IF(Meetings2!B23=\"\",\"\",Meetings2!B23)","v":"LAUNCESTON (TG)"}]
[{"$nulls":14},{"$f":"IF(Data!AW23=\"\",\"\",Data!AW23)","v":""},{"$nulls":8},{"$f":"IF(Meetings2!B24=\"\",\"\",Meetings2!B24)","v":""}]
[{"$nulls":14},{"$f":"IF(Data!AW24=\"\",\"\",Data!AW24)","v":""},{"$nulls":8},{"$f":"IF(Meetings2!B25=\"\",\"\",Meetings2!B25)","v":""}]
[{"$nulls":14},{"$f":"IF(Data!AW25=\"\",\"\",Data!AW25)","v":""},{"$nulls":8},{"$f":"IF(Meetings2!B26=\"\",\"\",Meetings2!B26)","v":""}]
[{"$nulls":14},{"$f":"IF(Data!AW26=\"\",\"\",Data!AW26)","v":""},{"$nulls":8},{"$f":"IF(Meetings2!B27=\"\",\"\",Meetings2!B27)","v":""}]
[{"$nulls":14},{"$f":"IF(Data!AW27=\"\",\"\",Data!AW27)","v":""},{"$nulls":8},{"$f":"IF(Meetings2!B28=\"\",\"\",Meetings2!B28)","v":""}]
[{"$nulls":14},{"$f":"IF(Data!AW28=\"\",\"\",Data!AW28)","v":""},{"$nulls":8},{"$f":"IF(Meetings2!B29=\"\",\"\",Meetings2!B29)","v":""}]
[{"$nulls":14},{"$f":"IF(Data!AW29=\"\",\"\",Data!AW29)","v":""},{"$nulls":8},{"$f":"IF(Meetings2!B30=\"\",\"\",Meetings2!B30)","v":""}]
[{"$nulls":14},{"$f":"IF(Data!AW30=\"\",\"\",Data!AW30)","v":""},{"$nulls":8},{"$f":"IF(Meetings2!B31=\"\",\"\",Meetings2!B31)","v":""}]
[{"$nulls":14},{"$f":"IF(Data!AW31=\"\",\"\",Data!AW31)","v":""},{"$nulls":8},{"$f":"IF(Meetings2!B32=\"\",\"\",Meetings2!B32)","v":""}]
[{"$nulls":14},{"$f":"IF(Data!AW32=\"\",\"\",Data!AW32)","v":""},{"$nulls":8},{"$f":"IF(Meetings2!B33=\"\",\"\",Meetings2!B33)","v":""}]
[{"$nulls":14},{"$f":"IF(Data!AW33=\"\",\"\",Data!AW33)","v":""},{"$nulls":8},{"$f":"IF(Meetings2!B34=\"\",\"\",Meetings2!B34)","v":""}]
[{"$nulls":12},"Race Lists"]
[{"$nulls":12},{"$f":"IF(Meetings1!A2=\"\",\"\",Meetings1!A2)","v":"Albury"},{"$f":"IF(Meetings1!B2=\"\",\"\",Meetings1!C2)","v":""}]
[{"$nulls":12},{"$f":"IF(Meetings1!A3=\"\",\"\",Meetings1!A3)","v":""},{"$f":"IF(Meetings1!B3=\"\",\"\",Meetings1!C3)","v":"Pogson Cronin Solicitors Mdn - 1175"},null,null,null,{"$f":"IF(Meetings1!A3=\"\",\"\",getAddress(Meetings1!E3))","v":""}]
[{"$nulls":12},{"$f":"IF(Meetings1!A4=\"\",\"\",Meetings1!A4)","v":""},{"$f":"IF(Meetings1!B4=\"\",\"\",Meetings1!C4)","v":"Greener Grass Country Plate - 1400"},null,null,null,{"$f":"IF(Meetings1!B4=\"\",\"\",getAddress(Meetings1!E4))","v":"http://formguide.cyberhorse.com.au/Form/form.html?formdate=2012-05-14&track=Albury&raceno=2"}]
[{"$nulls":12},{"$f":"IF(Meetings1!A5=\"\",\"\",Meetings1!A5)","v":""},{"$f":"IF(Meetings1!B5=\"\",\"\",Meetings1!C5)","v":"Follow @alburyracing Mdn Hcp - 1600"},null,null,null,{"$f":"IF(Meetings1!B5=\"\",\"\",getAddress(Meetings1!E5))","v":"http://formguide.cyberhorse.com.au/Form/form.html?formdate=2012-05-14&track=Albury&raceno=3"}]
[{"$nulls":12},{"$f":"IF(Meetings1!A6=\"\",\"\",Meetings1!A6)","v":4},{"$f":"IF(Meetings1!B6=\"\",\"\",Meetings1!C6)","v":"Enpower Solutions (Eps) (Bm61) - 1600"},null,null,null,{"$f":"IF(Meetings1!B6=\"\",\"\",getAddress(Meetings1!E6))","v":"http://formguide.cyberhorse.com.au/Form/form.html?formdate=2012-05-14&track=Albury&raceno=4"}]
[{"$nulls":12},{"$f":"IF(Meetings1!A7=\"\",\"\",Meetings1!A7)","v":5},{"$f":"IF(Meetings1!B7=\"\",\"\",Meetings1!C7)","v":"Carlton Draught Hcp (C3) - 1400"},null,null,null,{"$f":"IF(Meetings1!B7=\"\",\"\",getAddress(Meetings1!E7))","v":"http://formguide.cyberhorse.com.au/Form/form.html?formdate=2012-05-14&track=Albury&raceno=5"}]
[{"$nulls":12},{"$f":"IF(Meetings1!A8=\"\",\"\",Meetings1!A8)","v":6},{"$f":"IF(Meetings1!B8=\"\",\"\",Meetings1!C8)","v":"Commercial Club Albury (Bm70) - 1175"},null,null,null,{"$f":"IF(Meetings1!B8=\"\",\"\",getAddress(Meetings1!E8))","v":"http://formguide.cyberhorse.com.au/Form/form.html?formdate=2012-05-14&track=Albury&raceno=6"}]
[{"$nulls":12},{"$f":"IF(Meetings1!A9=\"\",\"\",Meetings1!A9)","v":7},{"$f":"IF(Meetings1!B9=\"\",\"\",Meetings1!C9)","v":"Blacklocks Lavington Hcp (C1) - 1175"},null,null,null,{"$f":"IF(Meetings1!B9=\"\",\"\",getAddress(Meetings1!E9))","v":"http://formguide.cyberhorse.com.au/Form/form.html?formdate=2012-05-14&track=Albury&raceno=7"}]
[{"$nulls":12},{"$f":"IF(Meetings1!A10=\"\",\"\",Meetings1!A10)","v":"Dubbo"},{"$f":"IF(Meetings1!B10=\"\",\"\",Meetings1!C10)","v":""},null,null,null,{"$f":"IF(Meetings1!B10=\"\",\"\",getAddress(Meetings1!E10))","v":""}]
[{"$nulls":12},{"$f":"IF(Meetings1!A11=\"\",\"\",Meetings1!A11)","v":""},{"$f":"IF(Meetings1!B11=\"\",\"\",Meetings1!C11)","v":"Thompson Bros Transport Mdn - 1300"},null,null,null,{"$f":"IF(Meetings1!B11=\"\",\"\",getAddress(Meetings1!E11))","v":"http://formguide.cyberhorse.com.au/Form/form.html?formdate=2012-05-14&track=Dubbo&raceno=1"}]
[{"$nulls":12},{"$f":"IF(Meetings1!A12=\"\",\"\",Meetings1!A12)","v":""},{"$f":"IF(Meetings1!B12=\"\",\"\",Meetings1!C12)","v":"Louth Field Day - 9th June Mdn - 1100"},null,null,null,{"$f":"IF(Meetings1!B12=\"\",\"\",getAddress(Meetings1!E12))","v":"http://formguide.cyberhorse.com.au/Form/form.html?formdate=2012-05-14&track=Dubbo&raceno=2"}]
[{"$nulls":12},{"$f":"IF(Meetings1!A13=\"\",\"\",Meetings1!A13)","v":""},{"$f":"IF(Meetings1!B13=\"\",\"\",Meetings1!C13)","v":"Dubbo Equine Hospital Hcp (C2) - 1100"},null,null,null,{"$f":"IF(Meetings1!B13=\"\",\"\",getAddress(Meetings1!E13))","v":"http://formguide.cyberhorse.com.au/Form/form.html?formdate=2012-05-14&track=Dubbo&raceno=3"}]
[{"$nulls":12},{"$f":"IF(Meetings1!A14=\"\",\"\",Meetings1!A14)","v":4},{"$f":"IF(Meetings1!B14=\"\",\"\",Meetings1!C14)","v":"Ploughman's Rest Tavern (C1) - 1400"},null,null,null,{"$f":"IF(Meetings1!B14=\"\",\"\",getAddress(Meetings1!E14))","v":"http://formguide.cyberhorse.com.au/Form/form.html?formdate=2012-05-14&track=Dubbo&raceno=4"}]
[{"$nulls":12},{"$f":"IF(Meetings1!A15=\"\",\"\",Meetings1!A15)","v":5},{"$f":"IF(Meetings1!B15=\"\",\"\",Meetings1!C15)","v":"Aqua West Dubbo Hcp (C3) - 1600"},null,null,null,{"$f":"IF(Meetings1!B15=\"\",\"\",getAddress(Meetings1!E15))","v":"http://formguide.cyberhorse.com.au/Form/form.html?formdate=2012-05-14&track=Dubbo&raceno=5"}]
[{"$nulls":12},{"$f":"IF(Meetings1!A16=\"\",\"\",Meetings1!A16)","v":6},{"$f":"IF(Meetings1!B16=\"\",\"\",Meetings1!C16)","v":"Kings Hall Jewellers Open Hcp - 1300"},null,null,null,{"$f":"IF(Meetings1!B16=\"\",\"\",getAddress(Meetings1!E16))","v":"http://formguide.cyberhorse.com.au/Form/form.html?formdate=2012-05-14&track=Dubbo&raceno=6"}]
[{"$nulls":12},{"$f":"IF(Meetings1!A17=\"\",\"\",Meetings1!A17)","v":7},{"$f":"IF(Meetings1!B17=\"\",\"\",Meetings1!C17)","v":"Dubbo Railway Bowling Clb-Bm70 - 1000"},null,null,null,{"$f":"IF(Meetings1!B17=\"\",\"\",getAddress(Meetings1!E17))","v":"http://formguide.cyberhorse.com.au/Form/form.html?formdate=2012-05-14&track=Dubbo&raceno=7"}]
[{"$nulls":12},{"$f":"IF(Meetings1!A18=\"\",\"\",Meetings1!A18)","v":"Kyneton"},{"$f":"IF(Meetings1!B18=\"\",\"\",Meetings1!C18)","v":""},null,null,null,{"$f":"IF(Meetings1!B18=\"\",\"\",getAddress(Meetings1!E18))","v":""}]
[{"$nulls":12},{"$f":"IF(Meetings1!A19=\"\",\"\",Meetings1!A19)","v":""},{"$f":"IF(Meetings1!B19=\"\",\"\",Meetings1!C19)","v":"Www.Racingnetwork.Com.Au Mdn - 1218"},null,null,null,{"$f":"IF(Meetings1!B19=\"\",\"\",getAddress(Meetings1!E19))","v":"http://formguide.cyberhorse.com.au/Form/form.html?formdate=2012-05-14&track=K'ton&raceno=1"}]
[{"$nulls":12},{"$f":"IF(Meetings1!A20=\"\",\"\",Meetings1!A20)","v":""},{"$f":"IF(Meetings1!B20=\"\",\"\",Meetings1!C20)","v":"Hygain Mdn Plate - 1479"},null,null,null,{"$f":"IF(Meetings1!B20=\"\",\"\",getAddress(Meetings1!E20))","v":"http://formguide.cyberhorse.com.au/Form/form.html?formdate=2012-05-14&track=K'ton&raceno=2"}]
[{"$nulls":12},{"$f":"IF(Meetings1!A21=\"\",\"\",Meetings1!A21)","v":""},{"$f":"IF(Meetings1!B21=\"\",\"\",Meetings1!C21)","v":"Hanging Rock Winery Mdn Plate - 1479"},null,null,null,{"$f":"IF(Meetings1!B21=\"\",\"\",getAddress(Meetings1!E21))","v":"http://formguide.cyberhorse.com.au/Form/form.html?formdate=2012-05-14&track=K'ton&raceno=3"}]
[{"$nulls":12},{"$f":"IF(Meetings1!A22=\"\",\"\",Meetings1!A22)","v":""},{"$f":"IF(Meetings1!B22=\"\",\"\",Meetings1!C22)","v":"Casella Wines Mdn Plate - 1887"},null,null,null,{"$f":"IF(Meetings1!B22=\"\",\"\",getAddress(Meetings1!E22))","v":"http://formguide.cyberhorse.com.au/Form/form.html?formdate=2012-05-14&track=K'ton&raceno=4"}]
[{"$nulls":12},{"$f":"IF(Meetings1!A23=\"\",\"\",Meetings1!A23)","v":""},{"$f":"IF(Meetings1!B23=\"\",\"\",Meetings1!C23)","v":"Welcome Back M Liston Mdn - 1887"},null,null,null,{"$f":"IF(Meetings1!B23=\"\",\"\",getAddress(Meetings1!E23))","v":"http://formguide.cyberhorse.com.au/Form/form.html?formdate=2012-05-14&track=K'ton&raceno=5"}]
[{"$nulls":12},{"$f":"IF(Meetings1!A24=\"\",\"\",Meetings1!A24)","v":6},{"$f":"IF(Meetings1!B24=\"\",\"\",Meetings1!C24)","v":"Nmit Hcp (62) - 1887"},null,null,null,{"$f":"IF(Meetings1!B24=\"\",\"\",getAddress(Meetings1!E24))","v":"http://formguide.cyberhorse.com.au/Form/form.html?formdate=2012-05-14&track=K'ton&raceno=6"}]
[{"$nulls":12},{"$f":"IF(Meetings1!A25=\"\",\"\",Meetings1!A25)","v":7},{"$f":"IF(Meetings1!B25=\"\",\"\",Meetings1!C25)","v":"Iasbet.Com Hcp (68) - 1479"},null,null,null,{"$f":"IF(Meetings1!B25=\"\",\"\",getAddress(Meetings1!E25))","v":"http://formguide.cyberhorse.com.au/Form/form.html?formdate=2012-05-14&track=K'ton&raceno=7"}]
[{"$nulls":12},{"$f":"IF(Meetings1!A26=\"\",\"\",Meetings1!A26)","v":8},{"$f":"IF(Meetings1!B26=\"\",\"\",Meetings1!C26)","v":"Slickpix/ Tvn Hcp (68) - 1218"},null,null,null,{"$f":"IF(Meetings1!B26=\"\",\"\",getAddress(Meetings1!E26))","v":"http://formguide.cyberhorse.com.au/Form/form.html?formdate=2012-05-14&track=K'ton&raceno=8"}]
[{"$nulls":12},{"$f":"IF(Meetings1!A27=\"\",\"\",Meetings1!A27)","v":9},{"$f":"IF(Meetings1!B27=\"\",\"\",Meetings1!C27)","v":"Sole Heating & Cooling Hcp-58 - 1218"},null,null,null,{"$f":"IF(Meetings1!B27=\"\",\"\",getAddress(Meetings1!E27))","v":"http://formguide.cyberhorse.com.au/Form/form.html?formdate=2012-05-14&track=K'ton&raceno=9"}]
[{"$nulls":12},{"$f":"IF(Meetings1!A28=\"\",\"\",Meetings1!A28)","v":"Paeroa"},{"$f":"IF(Meetings1!B28=\"\",\"\",Meetings1!C28)","v":""},null,null,null,{"$f":"IF(Meetings1!B28=\"\",\"\",getAddress(Meetings1!E28))","v":""}]
[{"$nulls":12},{"$f":"IF(Meetings1!A29=\"\",\"\",Meetings1!A29)","v":""},{"$f":"IF(Meetings1!B29=\"\",\"\",Meetings1!C29)","v":"Penninsula Mtls (0-1) Win Hrdl - 2950"},null,null,null,{"$f":"IF(Meetings1!B29=\"\",\"\",getAddress(Meetings1!E29))","v":"http://formguide.cyberhorse.com.au/Form/form.html?formdate=2012-05-14&track=Paeroa&raceno=1"}]
[{"$nulls":12},{"$f":"IF(Meetings1!A30=\"\",\"\",Meetings1!A30)","v":""},{"$f":"IF(Meetings1!B30=\"\",\"\",Meetings1!C30)","v":"Penninsula Cars (0-1) Win Stpl - 4000"},null,null,null,{"$f":"IF(Meetings1!B30=\"\",\"\",getAddress(Meetings1!E30))","v":"http://formguide.cyberhorse.com.au/Form/form.html?formdate=2012-05-14&track=Paeroa&raceno=2"}]
[{"$nulls":12},{"$f":"IF(Meetings1!A31=\"\",\"\",Meetings1!A31)","v":""},{"$f":"IF(Meetings1!B31=\"\",\"\",Meetings1!C31)","v":"Toyota Signature Class Mdn Hwt - 2200"},null,null,null,{"$f":"IF(Meetings1!B31=\"\",\"\",getAddress(Meetings1!E31))","v":"http://formguide.cyberhorse.com.au/Form/form.html?formdate=2012-05-14&track=Paeroa&raceno=3"}]
[{"$nulls":12},{"$f":"IF(Meetings1!A32=\"\",\"\",Meetings1!A32)","v":""},{"$f":"IF(Meetings1!B32=\"\",\"\",Meetings1!C32)","v":"Tony Richards Toyota Hcp (65) - 2200"},null,null,null,{"$f":"IF(Meetings1!B32=\"\",\"\",getAddress(Meetings1!E32))","v":"http://formguide.cyberhorse.com.au/Form/form.html?formdate=2012-05-14&track=Paeroa&raceno=4"}]
[{"$nulls":12},{"$f":"IF(Meetings1!A33=\"\",\"\",Meetings1!A33)","v":""},{"$f":"IF(Meetings1!B33=\"\",\"\",Meetings1!C33)","v":"Valley Toyota Thames Mdn Hwt - 1670"},null,null,null,{"$f":"IF(Meetings1!B33=\"\",\"\",getAddress(Meetings1!E33))","v":"http://formguide.cyberhorse.com.au/Form/form.html?formdate=2012-05-14&track=Paeroa&raceno=5"}]
[{"$nulls":12},{"$f":"IF(Meetings1!A34=\"\",\"\",Meetings1!A34)","v":""},{"$f":"IF(Meetings1!B34=\"\",\"\",Meetings1!C34)","v":"B L Anderson Fam. Trust Hwt-65 - 1670"},null,null,null,{"$f":"IF(Meetings1!B34=\"\",\"\",getAddress(Meetings1!E34))","v":"http://formguide.cyberhorse.com.au/Form/form.html?formdate=2012-05-14&track=Paeroa&raceno=6"}]
[{"$nulls":12},{"$f":"IF(Meetings1!A35=\"\",\"\",Meetings1!A35)","v":""},{"$f":"IF(Meetings1!B35=\"\",\"\",Meetings1!C35)","v":"Hotel Imperial Thames Hwt (65) - 1670"},null,null,null,{"$f":"IF(Meetings1!B35=\"\",\"\",getAddress(Meetings1!E35))","v":"http://formguide.cyberhorse.com.au/Form/form.html?formdate=2012-05-14&track=Paeroa&raceno=7"}]
[{"$nulls":12},{"$f":"IF(Meetings1!A36=\"\",\"\",Meetings1!A36)","v":"END"},{"$f":"IF(Meetings1!B36=\"\",\"\",Meetings1!C36)","v":""},null,null,null,{"$f":"IF(Meetings1!B36=\"\",\"\",getAddress(Meetings1!E36))","v":""}]
[{"$nulls":12},{"$f":"IF(Meetings1!A37=\"\",\"\",Meetings1!A37)","v":""},{"$f":"IF(Meetings1!B37=\"\",\"\",Meetings1!C37)","v":""},null,null,null,{"$f":"IF(Meetings1!B37=\"\",\"\",getAddress(Meetings1!E37))","v":""}]
[{"$nulls":12},{"$f":"IF(Meetings1!A38=\"\",\"\",Meetings1!A38)","v":""},{"$f":"IF(Meetings1!B38=\"\",\"\",Meetings1!C38)","v":""},null,null,null,{"$f":"IF(Meetings1!B38=\"\",\"\",getAddress(Meetings1!E38))","v":""}]
[{"$nulls":12},{"$f":"IF(Meetings1!A39=\"\",\"\",Meetings1!A39)","v":""},{"$f":"IF(Meetings1!B39=\"\",\"\",Meetings1!C39)","v":""},null,null,null,{"$f":"IF(Meetings1!B39=\"\",\"\",getAddress(Meetings1!E39))","v":""}]
[{"$nulls":12},{"$f":"IF(Meetings1!A40=\"\",\"\",Meetings1!A40)","v":""},{"$f":"IF(Meetings1!B40=\"\",\"\",Meetings1!C40)","v":""},null,null,null,{"$f":"IF(Meetings1!B40=\"\",\"\",getAddress(Meetings1!E40))","v":""}]
[{"$nulls":12},{"$f":"IF(Meetings1!A41=\"\",\"\",Meetings1!A41)","v":""},{"$f":"IF(Meetings1!B41=\"\",\"\",Meetings1!C41)","v":""},null,null,null,{"$f":"IF(Meetings1!B41=\"\",\"\",getAddress(Meetings1!E41))","v":""}]
[{"$nulls":12},{"$f":"IF(Meetings1!A42=\"\",\"\",Meetings1!A42)","v":""},{"$f":"IF(Meetings1!B42=\"\",\"\",Meetings1!C42)","v":""},null,null,null,{"$f":"IF(Meetings1!B42=\"\",\"\",getAddress(Meetings1!E42))","v":""}]
[{"$nulls":12},{"$f":"IF(Meetings1!A43=\"\",\"\",Meetings1!A43)","v":""},{"$f":"IF(Meetings1!B43=\"\",\"\",Meetings1!C43)","v":""},null,null,null,{"$f":"IF(Meetings1!B43=\"\",\"\",getAddress(Meetings1!E43))","v":""}]
[{"$nulls":12},{"$f":"IF(Meetings1!A44=\"\",\"\",Meetings1!A44)","v":""},{"$f":"IF(Meetings1!B44=\"\",\"\",Meetings1!C44)","v":""},null,null,null,{"$f":"IF(Meetings1!B44=\"\",\"\",getAddress(Meetings1!E44))","v":""}]
[{"$nulls":12},{"$f":"IF(Meetings1!A45=\"\",\"\",Meetings1!A45)","v":""},{"$f":"IF(Meetings1!B45=\"\",\"\",Meetings1!C45)","v":""},null,null,null,{"$f":"IF(Meetings1!B45=\"\",\"\",getAddress(Meetings1!E45))","v":""}]
[{"$nulls":12},{"$f":"IF(Meetings1!A46=\"\",\"\",Meetings1!A46)","v":""},{"$f":"IF(Meetings1!B46=\"\",\"\",Meetings1!C46)","v":""},null,null,null,{"$f":"IF(Meetings1!B46=\"\",\"\",getAddress(Meetings1!E46))","v":""}]
[{"$nulls":12},{"$f":"IF(Meetings1!A47=\"\",\"\",Meetings1!A47)","v":""},{"$f":"IF(Meetings1!B47=\"\",\"\",Meetings1!C47)","v":""},null,null,null,{"$f":"IF(Meetings1!B47=\"\",\"\",getAddress(Meetings1!E47))","v":""}]
[{"$nulls":12},{"$f":"IF(Meetings1!A48=\"\",\"\",Meetings1!A48)","v":""},{"$f":"IF(Meetings1!B48=\"\",\"\",Meetings1!C48)","v":""},null,null,null,{"$f":"IF(Meetings1!B48=\"\",\"\",getAddress(Meetings1!E48))","v":""}]
[{"$nulls":12},{"$f":"IF(Meetings1!A49=\"\",\"\",Meetings1!A49)","v":""},{"$f":"IF(Meetings1!B49=\"\",\"\",Meetings1!C49)","v":""},null,null,null,{"$f":"IF(Meetings1!B49=\"\",\"\",getAddress(Meetings1!E49))","v":""}]
[{"$nulls":12},{"$f":"IF(Meetings1!A50=\"\",\"\",Meetings1!A50)","v":""},{"$f":"IF(Meetings1!B50=\"\",\"\",Meetings1!C50)","v":""},null,null,null,{"$f":"IF(Meetings1!B50=\"\",\"\",getAddress(Meetings1!E50))","v":""}]
[{"$nulls":12},{"$f":"IF(Meetings1!A51=\"\",\"\",Meetings1!A51)","v":""},{"$f":"IF(Meetings1!B51=\"\",\"\",Meetings1!C51)","v":""},null,null,null,{"$f":"IF(Meetings1!B51=\"\",\"\",getAddress(Meetings1!E51))","v":""}]
[{"$nulls":12},{"$f":"IF(Meetings1!A52=\"\",\"\",Meetings1!A52)","v":""},{"$f":"IF(Meetings1!B52=\"\",\"\",Meetings1!C52)","v":""},null,null,null,{"$f":"IF(Meetings1!B52=\"\",\"\",getAddress(Meetings1!E52))","v":""}]
[{"$nulls":12},{"$f":"IF(Meetings1!A53=\"\",\"\",Meetings1!A53)","v":""},{"$f":"IF(Meetings1!B53=\"\",\"\",Meetings1!C53)","v":""},null,null,null,{"$f":"IF(Meetings1!B53=\"\",\"\",getAddress(Meetings1!E53))","v":""}]
[{"$nulls":12},{"$f":"IF(Meetings1!A54=\"\",\"\",Meetings1!A54)","v":""},{"$f":"IF(Meetings1!B54=\"\",\"\",Meetings1!C54)","v":""},null,null,null,{"$f":"IF(Meetings1!B54=\"\",\"\",getAddress(Meetings1!E54))","v":""}]
[{"$nulls":12},{"$f":"IF(Meetings1!A55=\"\",\"\",Meetings1!A55)","v":""},{"$f":"IF(Meetings1!B55=\"\",\"\",Meetings1!C55)","v":""},null,null,null,{"$f":"IF(Meetings1!B55=\"\",\"\",getAddress(Meetings1!E55))","v":""}]
[{"$nulls":12},{"$f":"IF(Meetings1!A56=\"\",\"\",Meetings1!A56)","v":""},{"$f":"IF(Meetings1!B56=\"\",\"\",Meetings1!C56)","v":""},null,null,null,{"$f":"IF(Meetings1!B56=\"\",\"\",getAddress(Meetings1!E56))","v":""}]
[{"$nulls":12},{"$f":"IF(Meetings1!A57=\"\",\"\",Meetings1!A57)","v":""},{"$f":"IF(Meetings1!B57=\"\",\"\",Meetings1!C57)","v":""},null,null,null,{"$f":"IF(Meetings1!B57=\"\",\"\",getAddress(Meetings1!E57))","v":""}]
[{"$nulls":12},{"$f":"IF(Meetings1!A58=\"\",\"\",Meetings1!A58)","v":""},{"$f":"IF(Meetings1!B58=\"\",\"\",Meetings1!C58)","v":""},null,null,null,{"$f":"IF(Meetings1!B58=\"\",\"\",getAddress(Meetings1!E58))","v":""}]
[{"$nulls":12},{"$f":"IF(Meetings1!A59=\"\",\"\",Meetings1!A59)","v":""},{"$f":"IF(Meetings1!B59=\"\",\"\",Meetings1!C59)","v":""},null,null,null,{"$f":"IF(Meetings1!B59=\"\",\"\",getAddress(Meetings1!E59))","v":""}]
[{"$nulls":12},{"$f":"IF(Meetings1!A60=\"\",\"\",Meetings1!A60)","v":""},{"$f":"IF(Meetings1!B60=\"\",\"\",Meetings1!C60)","v":""},null,null,null,{"$f":"IF(Meetings1!B60=\"\",\"\",getAddress(Meetings1!E60))","v":""}]
[{"$nulls":12},{"$f":"IF(Meetings1!A61=\"\",\"\",Meetings1!A61)","v":""},{"$f":"IF(Meetings1!B61=\"\",\"\",Meetings1!C61)","v":""},null,null,null,{"$f":"IF(Meetings1!B61=\"\",\"\",getAddress(Meetings1!E61))","v":""}]
[{"$nulls":12},{"$f":"IF(Meetings1!A62=\"\",\"\",Meetings1!A62)","v":""},{"$f":"IF(Meetings1!B62=\"\",\"\",Meetings1!C62)","v":""},null,null,null,{"$f":"IF(Meetings1!B62=\"\",\"\",getAddress(Meetings1!E62))","v":""}]
[{"$nulls":12},{"$f":"IF(Meetings1!A63=\"\",\"\",Meetings1!A63)","v":""},{"$f":"IF(Meetings1!B63=\"\",\"\",Meetings1!C63)","v":""},null,null,null,{"$f":"IF(Meetings1!B63=\"\",\"\",getAddress(Meetings1!E63))","v":""}]
[{"$nulls":12},{"$f":"IF(Meetings1!A64=\"\",\"\",Meetings1!A64)","v":""},{"$f":"IF(Meetings1!B64=\"\",\"\",Meetings1!C64)","v":""},null,null,null,{"$f":"IF(Meetings1!B64=\"\",\"\",getAddress(Meetings1!E64))","v":""}]
[{"$nulls":12},{"$f":"IF(Meetings1!A65=\"\",\"\",Meetings1!A65)","v":""},{"$f":"IF(Meetings1!B65=\"\",\"\",Meetings1!C65)","v":""},null,null,null,{"$f":"IF(Meetings1!B65=\"\",\"\",getAddress(Meetings1!E65))","v":""}]
[{"$nulls":12},{"$f":"IF(Meetings1!A66=\"\",\"\",Meetings1!A66)","v":""},{"$f":"IF(Meetings1!B66=\"\",\"\",Meetings1!C66)","v":""},null,null,null,{"$f":"IF(Meetings1!B66=\"\",\"\",getAddress(Meetings1!E66))","v":""}]
[{"$nulls":12},{"$f":"IF(Meetings1!A67=\"\",\"\",Meetings1!A67)","v":""},{"$f":"IF(Meetings1!B67=\"\",\"\",Meetings1!C67)","v":""},null,null,null,{"$f":"IF(Meetings1!B67=\"\",\"\",getAddress(Meetings1!E67))","v":""}]
[{"$nulls":12},{"$f":"IF(Meetings1!A68=\"\",\"\",Meetings1!A68)","v":""},{"$f":"IF(Meetings1!B68=\"\",\"\",Meetings1!C68)","v":""},null,null,null,{"$f":"IF(Meetings1!B68=\"\",\"\",getAddress(Meetings1!E68))","v":""}]
[{"$nulls":12},{"$f":"IF(Meetings1!A69=\"\",\"\",Meetings1!A69)","v":""},{"$f":"IF(Meetings1!B69=\"\",\"\",Meetings1!C69)","v":""},null,null,null,{"$f":"IF(Meetings1!B69=\"\",\"\",getAddress(Meetings1!E69))","v":""}]
[{"$nulls":12},{"$f":"IF(Meetings1!A70=\"\",\"\",Meetings1!A70)","v":""},{"$f":"IF(Meetings1!B70=\"\",\"\",Meetings1!C70)","v":""},null,null,null,{"$f":"IF(Meetings1!B70=\"\",\"\",getAddress(Meetings1!E70))","v":""}]
[{"$nulls":12},{"$f":"IF(Meetings1!A71=\"\",\"\",Meetings1!A71)","v":""},{"$f":"IF(Meetings1!B71=\"\",\"\",Meetings1!C71)","v":""},null,null,null,{"$f":"IF(Meetings1!B71=\"\",\"\",getAddress(Meetings1!E71))","v":""}]
[{"$nulls":12},{"$f":"IF(Meetings1!A72=\"\",\"\",Meetings1!A72)","v":""},{"$f":"IF(Meetings1!B72=\"\",\"\",Meetings1!C72)","v":""},null,null,null,{"$f":"IF(Meetings1!B72=\"\",\"\",getAddress(Meetings1!E72))","v":""}]
[{"$nulls":12},{"$f":"IF(Meetings1!A73=\"\",\"\",Meetings1!A73)","v":""},{"$f":"IF(Meetings1!B73=\"\",\"\",Meetings1!C73)","v":""},null,null,null,{"$f":"IF(Meetings1!B73=\"\",\"\",getAddress(Meetings1!E73))","v":""}]
[{"$nulls":12},{"$f":"IF(Meetings1!A74=\"\",\"\",Meetings1!A74)","v":""},{"$f":"IF(Meetings1!B74=\"\",\"\",Meetings1!C74)","v":""},null,null,null,{"$f":"IF(Meetings1!B74=\"\",\"\",getAddress(Meetings1!E74))","v":""}]
[{"$nulls":12},{"$f":"IF(Meetings1!A75=\"\",\"\",Meetings1!A75)","v":""},{"$f":"IF(Meetings1!B75=\"\",\"\",Meetings1!C75)","v":""},null,null,null,{"$f":"IF(Meetings1!B75=\"\",\"\",getAddress(Meetings1!E75))","v":""}]
[{"$nulls":12},{"$f":"IF(Meetings1!A76=\"\",\"\",Meetings1!A76)","v":""},{"$f":"IF(Meetings1!B76=\"\",\"\",Meetings1!C76)","v":""},null,null,null,{"$f":"IF(Meetings1!B76=\"\",\"\",getAddress(Meetings1!E76))","v":""}]
[{"$nulls":12},{"$f":"IF(Meetings1!A77=\"\",\"\",Meetings1!A77)","v":""},{"$f":"IF(Meetings1!B77=\"\",\"\",Meetings1!C77)","v":""},null,null,null,{"$f":"IF(Meetings1!B77=\"\",\"\",getAddress(Meetings1!E77))","v":""}]
[{"$nulls":12},{"$f":"IF(Meetings1!A78=\"\",\"\",Meetings1!A78)","v":""},{"$f":"IF(Meetings1!B78=\"\",\"\",Meetings1!C78)","v":""},null,null,null,{"$f":"IF(Meetings1!B78=\"\",\"\",getAddress(Meetings1!E78))","v":""}]
[{"$nulls":12},{"$f":"IF(Meetings1!A79=\"\",\"\",Meetings1!A79)","v":""},{"$f":"IF(Meetings1!B79=\"\",\"\",Meetings1!C79)","v":""},null,null,null,{"$f":"IF(Meetings1!B79=\"\",\"\",getAddress(Meetings1!E79))","v":""}]
[{"$nulls":12},{"$f":"IF(Meetings1!A80=\"\",\"\",Meetings1!A80)","v":""},{"$f":"IF(Meetings1!B80=\"\",\"\",Meetings1!C80)","v":""},null,null,null,{"$f":"IF(Meetings1!B80=\"\",\"\",getAddress(Meetings1!E80))","v":""}]
[{"$nulls":12},{"$f":"IF(Meetings1!A81=\"\",\"\",Meetings1!A81)","v":""},{"$f":"IF(Meetings1!B81=\"\",\"\",Meetings1!C81)","v":""},null,null,null,{"$f":"IF(Meetings1!B81=\"\",\"\",getAddress(Meetings1!E81))","v":""}]
[{"$nulls":12},{"$f":"IF(Meetings1!A82=\"\",\"\",Meetings1!A82)","v":""},{"$f":"IF(Meetings1!B82=\"\",\"\",Meetings1!C82)","v":""},null,null,null,{"$f":"IF(Meetings1!B82=\"\",\"\",getAddress(Meetings1!E82))","v":""}]
[{"$nulls":12},{"$f":"IF(Meetings1!A83=\"\",\"\",Meetings1!A83)","v":""},{"$f":"IF(Meetings1!B83=\"\",\"\",Meetings1!C83)","v":""},null,null,null,{"$f":"IF(Meetings1!B83=\"\",\"\",getAddress(Meetings1!E83))","v":""}]
[{"$nulls":12},{"$f":"IF(Meetings1!A84=\"\",\"\",Meetings1!A84)","v":""},{"$f":"IF(Meetings1!B84=\"\",\"\",Meetings1!C84)","v":""},null,null,null,{"$f":"IF(Meetings1!B84=\"\",\"\",getAddress(Meetings1!E84))","v":""}]
[{"$nulls":12},{"$f":"IF(Meetings1!A85=\"\",\"\",Meetings1!A85)","v":""},{"$f":"IF(Meetings1!B85=\"\",\"\",Meetings1!C85)","v":""},null,null,null,{"$f":"IF(Meetings1!B85=\"\",\"\",getAddress(Meetings1!E85))","v":""}]
[{"$nulls":12},{"$f":"IF(Meetings1!A86=\"\",\"\",Meetings1!A86)","v":""},{"$f":"IF(Meetings1!B86=\"\",\"\",Meetings1!C86)","v":""},null,null,null,{"$f":"IF(Meetings1!B86=\"\",\"\",getAddress(Meetings1!E86))","v":""}]
[{"$nulls":12},{"$f":"IF(Meetings1!A87=\"\",\"\",Meetings1!A87)","v":""},{"$f":"IF(Meetings1!B87=\"\",\"\",Meetings1!C87)","v":""},null,null,null,{"$f":"IF(Meetings1!B87=\"\",\"\",getAddress(Meetings1!E87))","v":""}]
[{"$nulls":12},{"$f":"IF(Meetings1!A88=\"\",\"\",Meetings1!A88)","v":""},{"$f":"IF(Meetings1!B88=\"\",\"\",Meetings1!C88)","v":""},null,null,null,{"$f":"IF(Meetings1!B88=\"\",\"\",getAddress(Meetings1!E88))","v":""}]
[{"$nulls":12},{"$f":"IF(Meetings1!A89=\"\",\"\",Meetings1!A89)","v":""},{"$f":"IF(Meetings1!B89=\"\",\"\",Meetings1!C89)","v":""},null,null,null,{"$f":"IF(Meetings1!B89=\"\",\"\",getAddress(Meetings1!E89))","v":""}]
[{"$nulls":12},{"$f":"IF(Meetings1!A90=\"\",\"\",Meetings1!A90)","v":""},{"$f":"IF(Meetings1!B90=\"\",\"\",Meetings1!C90)","v":""},null,null,null,{"$f":"IF(Meetings1!B90=\"\",\"\",getAddress(Meetings1!E90))","v":""}]
[{"$nulls":12},{"$f":"IF(Meetings1!A91=\"\",\"\",Meetings1!A91)","v":""},{"$f":"IF(Meetings1!B91=\"\",\"\",Meetings1!C91)","v":""},null,null,null,{"$f":"IF(Meetings1!B91=\"\",\"\",getAddress(Meetings1!E91))","v":""}]
[{"$nulls":12},{"$f":"IF(Meetings1!A92=\"\",\"\",Meetings1!A92)","v":""},{"$f":"IF(Meetings1!B92=\"\",\"\",Meetings1!C92)","v":""},null,null,null,{"$f":"IF(Meetings1!B92=\"\",\"\",getAddress(Meetings1!E92))","v":""}]
[{"$nulls":12},{"$f":"IF(Meetings1!A93=\"\",\"\",Meetings1!A93)","v":""},{"$f":"IF(Meetings1!B93=\"\",\"\",Meetings1!C93)","v":""},null,null,null,{"$f":"IF(Meetings1!B93=\"\",\"\",getAddress(Meetings1!E93))","v":""}]
[{"$nulls":12},{"$f":"IF(Meetings1!A94=\"\",\"\",Meetings1!A94)","v":""},{"$f":"IF(Meetings1!B94=\"\",\"\",Meetings1!C94)","v":""},null,null,null,{"$f":"IF(Meetings1!B94=\"\",\"\",getAddress(Meetings1!E94))","v":""}]
[{"$nulls":12},{"$f":"IF(Meetings1!A95=\"\",\"\",Meetings1!A95)","v":""},{"$f":"IF(Meetings1!B95=\"\",\"\",Meetings1!C95)","v":""},null,null,null,{"$f":"IF(Meetings1!B95=\"\",\"\",getAddress(Meetings1!E95))","v":""}]
[{"$nulls":12},{"$f":"IF(Meetings1!A96=\"\",\"\",Meetings1!A96)","v":""},{"$f":"IF(Meetings1!B96=\"\",\"\",Meetings1!C96)","v":""},null,null,null,{"$f":"IF(Meetings1!B96=\"\",\"\",getAddress(Meetings1!E96))","v":""}]
[{"$nulls":12},{"$f":"IF(Meetings1!A97=\"\",\"\",Meetings1!A97)","v":""},{"$f":"IF(Meetings1!B97=\"\",\"\",Meetings1!C97)","v":""},null,null,null,{"$f":"IF(Meetings1!B97=\"\",\"\",getAddress(Meetings1!E97))","v":""}]
[{"$nulls":12},{"$f":"IF(Meetings1!A98=\"\",\"\",Meetings1!A98)","v":""},{"$f":"IF(Meetings1!B98=\"\",\"\",Meetings1!C98)","v":""},null,null,null,{"$f":"IF(Meetings1!B98=\"\",\"\",getAddress(Meetings1!E98))","v":""}]
[{"$nulls":12},{"$f":"IF(Meetings1!A99=\"\",\"\",Meetings1!A99)","v":""},{"$f":"IF(Meetings1!B99=\"\",\"\",Meetings1!C99)","v":""},null,null,null,{"$f":"IF(Meetings1!B99=\"\",\"\",getAddress(Meetings1!E99))","v":""}]
[{"$nulls":12},{"$f":"IF(Meetings1!A100=\"\",\"\",Meetings1!A100)","v":""},{"$f":"IF(Meetings1!B100=\"\",\"\",Meetings1!C100)","v":""},null,null,null,{"$f":"IF(Meetings1!B100=\"\",\"\",getAddress(Meetings1!E100))","v":""}]
[{"$nulls":12},{"$f":"IF(Meetings1!A101=\"\",\"\",Meetings1!A101)","v":""},{"$f":"IF(Meetings1!B101=\"\",\"\",Meetings1!C101)","v":""},null,null,null,{"$f":"IF(Meetings1!B101=\"\",\"\",getAddress(Meetings1!E101))","v":""}]
[{"$nulls":12},{"$f":"IF(Meetings1!A102=\"\",\"\",Meetings1!A102)","v":""},{"$f":"IF(Meetings1!B102=\"\",\"\",Meetings1!C102)","v":""},null,null,null,{"$f":"IF(Meetings1!B102=\"\",\"\",getAddress(Meetings1!E102))","v":""}]
[{"$nulls":12},{"$f":"IF(Meetings1!A103=\"\",\"\",Meetings1!A103)","v":""},{"$f":"IF(Meetings1!B103=\"\",\"\",Meetings1!C103)","v":""},null,null,null,{"$f":"IF(Meetings1!B103=\"\",\"\",getAddress(Meetings1!E103))","v":""}]
[{"$nulls":12},{"$f":"IF(Meetings1!A104=\"\",\"\",Meetings1!A104)","v":""},{"$f":"IF(Meetings1!B104=\"\",\"\",Meetings1!C104)","v":""},null,null,null,{"$f":"IF(Meetings1!B104=\"\",\"\",getAddress(Meetings1!E104))","v":""}]
[{"$nulls":12},{"$f":"IF(Meetings1!A105=\"\",\"\",Meetings1!A105)","v":""},{"$f":"IF(Meetings1!B105=\"\",\"\",Meetings1!C105)","v":""},null,null,null,{"$f":"IF(Meetings1!B105=\"\",\"\",getAddress(Meetings1!E105))","v":""}]
[{"$nulls":12},{"$f":"IF(Meetings1!A106=\"\",\"\",Meetings1!A106)","v":""},{"$f":"IF(Meetings1!B106=\"\",\"\",Meetings1!C106)","v":""},null,null,null,{"$f":"IF(Meetings1!B106=\"\",\"\",getAddress(Meetings1!E106))","v":""}]
[{"$nulls":12},{"$f":"IF(Meetings1!A107=\"\",\"\",Meetings1!A107)","v":""},{"$f":"IF(Meetings1!B107=\"\",\"\",Meetings1!C107)","v":""},null,null,null,{"$f":"IF(Meetings1!B107=\"\",\"\",getAddress(Meetings1!E107))","v":""}]
[{"$nulls":12},{"$f":"IF(Meetings1!A108=\"\",\"\",Meetings1!A108)","v":""},{"$f":"IF(Meetings1!B108=\"\",\"\",Meetings1!C108)","v":""},null,null,null,{"$f":"IF(Meetings1!B108=\"\",\"\",getAddress(Meetings1!E108))","v":""}]
[{"$nulls":12},{"$f":"IF(Meetings1!A109=\"\",\"\",Meetings1!A109)","v":""},{"$f":"IF(Meetings1!B109=\"\",\"\",Meetings1!C109)","v":""},null,null,null,{"$f":"IF(Meetings1!B109=\"\",\"\",getAddress(Meetings1!E109))","v":""}]
[{"$nulls":12},{"$f":"IF(Meetings1!A110=\"\",\"\",Meetings1!A110)","v":""},{"$f":"IF(Meetings1!B110=\"\",\"\",Meetings1!C110)","v":""},null,null,null,{"$f":"IF(Meetings1!B110=\"\",\"\",getAddress(Meetings1!E110))","v":""}]
[{"$nulls":12},{"$f":"IF(Meetings1!A111=\"\",\"\",Meetings1!A111)","v":""},{"$f":"IF(Meetings1!B111=\"\",\"\",Meetings1!C111)","v":""},null,null,null,{"$f":"IF(Meetings1!B111=\"\",\"\",getAddress(Meetings1!E111))","v":""}]
[{"$nulls":12},{"$f":"IF(Meetings1!A112=\"\",\"\",Meetings1!A112)","v":""},{"$f":"IF(Meetings1!B112=\"\",\"\",Meetings1!C112)","v":""},null,null,null,{"$f":"IF(Meetings1!B112=\"\",\"\",getAddress(Meetings1!E112))","v":""}]
[{"$nulls":12},{"$f":"IF(Meetings1!A113=\"\",\"\",Meetings1!A113)","v":""},{"$f":"IF(Meetings1!B113=\"\",\"\",Meetings1!C113)","v":""},null,null,null,{"$f":"IF(Meetings1!B113=\"\",\"\",getAddress(Meetings1!E113))","v":""}]
[{"$nulls":12},{"$f":"IF(Meetings1!A114=\"\",\"\",Meetings1!A114)","v":""},{"$f":"IF(Meetings1!B114=\"\",\"\",Meetings1!C114)","v":""},null,null,null,{"$f":"IF(Meetings1!B114=\"\",\"\",getAddress(Meetings1!E114))","v":""}]
[{"$nulls":12},{"$f":"IF(Meetings1!A115=\"\",\"\",Meetings1!A115)","v":""},{"$f":"IF(Meetings1!B115=\"\",\"\",Meetings1!C115)","v":""},null,null,null,{"$f":"IF(Meetings1!B115=\"\",\"\",getAddress(Meetings1!E115))","v":""}]
[{"$nulls":12},{"$f":"IF(Meetings1!A116=\"\",\"\",Meetings1!A116)","v":""},{"$f":"IF(Meetings1!B116=\"\",\"\",Meetings1!C116)","v":""},null,null,null,{"$f":"IF(Meetings1!B116=\"\",\"\",getAddress(Meetings1!E116))","v":""}]
[{"$nulls":12},{"$f":"IF(Meetings1!A117=\"\",\"\",Meetings1!A117)","v":""},{"$f":"IF(Meetings1!B117=\"\",\"\",Meetings1!C117)","v":""},null,null,null,{"$f":"IF(Meetings1!B117=\"\",\"\",getAddress(Meetings1!E117))","v":""}]
[{"$nulls":12},{"$f":"IF(Meetings1!A118=\"\",\"\",Meetings1!A118)","v":""},{"$f":"IF(Meetings1!B118=\"\",\"\",Meetings1!C118)","v":""},null,null,null,{"$f":"IF(Meetings1!B118=\"\",\"\",getAddress(Meetings1!E118))","v":""}]
[{"$nulls":12},{"$f":"IF(Meetings1!A119=\"\",\"\",Meetings1!A119)","v":""},{"$f":"IF(Meetings1!B119=\"\",\"\",Meetings1!C119)","v":""},null,null,null,{"$f":"IF(Meetings1!B119=\"\",\"\",getAddress(Meetings1!E119))","v":""}]
[{"$nulls":12},{"$f":"IF(Meetings1!A120=\"\",\"\",Meetings1!A120)","v":""},{"$f":"IF(Meetings1!B120=\"\",\"\",Meetings1!C120)","v":""},null,null,null,{"$f":"IF(Meetings1!B120=\"\",\"\",getAddress(Meetings1!E120))","v":""}]
[{"$nulls":12},{"$f":"IF(Meetings1!A121=\"\",\"\",Meetings1!A121)","v":""},{"$f":"IF(Meetings1!B121=\"\",\"\",Meetings1!C121)","v":""},null,null,null,{"$f":"IF(Meetings1!B121=\"\",\"\",getAddress(Meetings1!E121))","v":""}]
[{"$nulls":12},{"$f":"IF(Meetings1!A122=\"\",\"\",Meetings1!A122)","v":""},{"$f":"IF(Meetings1!B122=\"\",\"\",Meetings1!C122)","v":""},null,null,null,{"$f":"IF(Meetings1!B122=\"\",\"\",getAddress(Meetings1!E122))","v":""}]
[{"$nulls":12},{"$f":"IF(Meetings1!A123=\"\",\"\",Meetings1!A123)","v":""},{"$f":"IF(Meetings1!B123=\"\",\"\",Meetings1!C123)","v":""},null,null,null,{"$f":"IF(Meetings1!B123=\"\",\"\",getAddress(Meetings1!E123))","v":""}]
[{"$nulls":12},{"$f":"IF(Meetings1!A124=\"\",\"\",Meetings1!A124)","v":""},{"$f":"IF(Meetings1!B124=\"\",\"\",Meetings1!C124)","v":""},null,null,null,{"$f":"IF(Meetings1!B124=\"\",\"\",getAddress(Meetings1!E124))","v":""}]
[{"$nulls":12},{"$f":"IF(Meetings1!A125=\"\",\"\",Meetings1!A125)","v":""},{"$f":"IF(Meetings1!B125=\"\",\"\",Meetings1!C125)","v":""},null,null,null,{"$f":"IF(Meetings1!B125=\"\",\"\",getAddress(Meetings1!E125))","v":""}]
[{"$nulls":12},{"$f":"IF(Meetings1!A126=\"\",\"\",Meetings1!A126)","v":""},{"$f":"IF(Meetings1!B126=\"\",\"\",Meetings1!C126)","v":""},null,null,null,{"$f":"IF(Meetings1!B126=\"\",\"\",getAddress(Meetings1!E126))","v":""}]
[{"$nulls":12},{"$f":"IF(Meetings1!A127=\"\",\"\",Meetings1!A127)","v":""},{"$f":"IF(Meetings1!B127=\"\",\"\",Meetings1!C127)","v":""},null,null,null,{"$f":"IF(Meetings1!B127=\"\",\"\",getAddress(Meetings1!E127))","v":""}]
[{"$nulls":12},{"$f":"IF(Meetings1!A128=\"\",\"\",Meetings1!A128)","v":""},{"$f":"IF(Meetings1!B128=\"\",\"\",Meetings1!C128)","v":""},null,null,null,{"$f":"IF(Meetings1!B128=\"\",\"\",getAddress(Meetings1!E128))","v":""}]
[{"$nulls":12},{"$f":"IF(Meetings1!A129=\"\",\"\",Meetings1!A129)","v":""},{"$f":"IF(Meetings1!B129=\"\",\"\",Meetings1!C129)","v":""},null,null,null,{"$f":"IF(Meetings1!B129=\"\",\"\",getAddress(Meetings1!E129))","v":""}]
[{"$nulls":12},{"$f":"IF(Meetings1!A130=\"\",\"\",Meetings1!A130)","v":""},{"$f":"IF(Meetings1!B130=\"\",\"\",Meetings1!C130)","v":""},null,null,null,{"$f":"IF(Meetings1!B130=\"\",\"\",getAddress(Meetings1!E130))","v":""}]
[{"$nulls":12},{"$f":"IF(Meetings1!A131=\"\",\"\",Meetings1!A131)","v":""},{"$f":"IF(Meetings1!B131=\"\",\"\",Meetings1!C131)","v":""},null,null,null,{"$f":"IF(Meetings1!B131=\"\",\"\",getAddress(Meetings1!E131))","v":""}]
[{"$nulls":12},{"$f":"IF(Meetings1!A132=\"\",\"\",Meetings1!A132)","v":""},{"$f":"IF(Meetings1!B132=\"\",\"\",Meetings1!C132)","v":""},null,null,null,{"$f":"IF(Meetings1!B132=\"\",\"\",getAddress(Meetings1!E132))","v":""}]
[{"$nulls":12},{"$f":"IF(Meetings1!A133=\"\",\"\",Meetings1!A133)","v":""},{"$f":"IF(Meetings1!B133=\"\",\"\",Meetings1!C133)","v":""},null,null,null,{"$f":"IF(Meetings1!B133=\"\",\"\",getAddress(Meetings1!E133))","v":""}]
[{"$nulls":12},{"$f":"IF(Meetings1!A134=\"\",\"\",Meetings1!A134)","v":""},{"$f":"IF(Meetings1!B134=\"\",\"\",Meetings1!C134)","v":""},null,null,null,{"$f":"IF(Meetings1!B134=\"\",\"\",getAddress(Meetings1!E134))","v":""}]
[{"$nulls":12},{"$f":"IF(Meetings1!A135=\"\",\"\",Meetings1!A135)","v":""},{"$f":"IF(Meetings1!B135=\"\",\"\",Meetings1!C135)","v":""},null,null,null,{"$f":"IF(Meetings1!B135=\"\",\"\",getAddress(Meetings1!E135))","v":""}]
[{"$nulls":12},{"$f":"IF(Meetings1!A136=\"\",\"\",Meetings1!A136)","v":""},{"$f":"IF(Meetings1!B136=\"\",\"\",Meetings1!C136)","v":""},null,null,null,{"$f":"IF(Meetings1!B136=\"\",\"\",getAddress(Meetings1!E136))","v":""}]
[{"$nulls":12},{"$f":"IF(Meetings1!A137=\"\",\"\",Meetings1!A137)","v":""},{"$f":"IF(Meetings1!B137=\"\",\"\",Meetings1!C137)","v":""},null,null,null,{"$f":"IF(Meetings1!B137=\"\",\"\",getAddress(Meetings1!E137))","v":""}]
[{"$nulls":12},{"$f":"IF(Meetings1!A138=\"\",\"\",Meetings1!A138)","v":""},{"$f":"IF(Meetings1!B138=\"\",\"\",Meetings1!C138)","v":""},null,null,null,{"$f":"IF(Meetings1!B138=\"\",\"\",getAddress(Meetings1!E138))","v":""}]
[{"$nulls":12},{"$f":"IF(Meetings1!A139=\"\",\"\",Meetings1!A139)","v":""},{"$f":"IF(Meetings1!B139=\"\",\"\",Meetings1!C139)","v":""},null,null,null,{"$f":"IF(Meetings1!B139=\"\",\"\",getAddress(Meetings1!E139))","v":""}]
[{"$nulls":12},{"$f":"IF(Meetings1!A140=\"\",\"\",Meetings1!A140)","v":""},{"$f":"IF(Meetings1!B140=\"\",\"\",Meetings1!C140)","v":""},null,null,null,{"$f":"IF(Meetings1!B140=\"\",\"\",getAddress(Meetings1!E140))","v":""}]
[{"$nulls":12},{"$f":"IF(Meetings1!A141=\"\",\"\",Meetings1!A141)","v":""},{"$f":"IF(Meetings1!B141=\"\",\"\",Meetings1!C141)","v":""},null,null,null,{"$f":"IF(Meetings1!B141=\"\",\"\",getAddress(Meetings1!E141))","v":""}]
[{"$nulls":12},{"$f":"IF(Meetings1!A142=\"\",\"\",Meetings1!A142)","v":""},{"$f":"IF(Meetings1!B142=\"\",\"\",Meetings1!C142)","v":""},null,null,null,{"$f":"IF(Meetings1!B142=\"\",\"\",getAddress(Meetings1!E142))","v":""}]
[{"$nulls":12},{"$f":"IF(Meetings1!A143=\"\",\"\",Meetings1!A143)","v":""},{"$f":"IF(Meetings1!B143=\"\",\"\",Meetings1!C143)","v":""},null,null,null,{"$f":"IF(Meetings1!B143=\"\",\"\",getAddress(Meetings1!E143))","v":""}]
[{"$nulls":12},{"$f":"IF(Meetings1!A144=\"\",\"\",Meetings1!A144)","v":""},{"$f":"IF(Meetings1!B144=\"\",\"\",Meetings1!C144)","v":""},null,null,null,{"$f":"IF(Meetings1!B144=\"\",\"\",getAddress(Meetings1!E144))","v":""}]
[{"$nulls":12},{"$f":"IF(Meetings1!A145=\"\",\"\",Meetings1!A145)","v":""},{"$f":"IF(Meetings1!B145=\"\",\"\",Meetings1!C145)","v":""},null,null,null,{"$f":"IF(Meetings1!B145=\"\",\"\",getAddress(Meetings1!E145))","v":""}]
[{"$nulls":12},{"$f":"IF(Meetings1!A146=\"\",\"\",Meetings1!A146)","v":""},{"$f":"IF(Meetings1!B146=\"\",\"\",Meetings1!C146)","v":""},null,null,null,{"$f":"IF(Meetings1!B146=\"\",\"\",getAddress(Meetings1!E146))","v":""}]
[{"$nulls":12},{"$f":"IF(Meetings1!A147=\"\",\"\",Meetings1!A147)","v":""},{"$f":"IF(Meetings1!B147=\"\",\"\",Meetings1!C147)","v":""},null,null,null,{"$f":"IF(Meetings1!B147=\"\",\"\",getAddress(Meetings1!E147))","v":""}]
[{"$nulls":12},{"$f":"IF(Meetings1!A148=\"\",\"\",Meetings1!A148)","v":""},{"$f":"IF(Meetings1!B148=\"\",\"\",Meetings1!C148)","v":""},null,null,null,{"$f":"IF(Meetings1!B148=\"\",\"\",getAddress(Meetings1!E148))","v":""}]
[{"$nulls":12},{"$f":"IF(Meetings1!A149=\"\",\"\",Meetings1!A149)","v":""},{"$f":"IF(Meetings1!B149=\"\",\"\",Meetings1!C149)","v":""},null,null,null,{"$f":"IF(Meetings1!B149=\"\",\"\",getAddress(Meetings1!E149))","v":""}]
[{"$nulls":12},{"$f":"IF(Meetings1!A150=\"\",\"\",Meetings1!A150)","v":""},{"$f":"IF(Meetings1!B150=\"\",\"\",Meetings1!C150)","v":""},null,null,null,{"$f":"IF(Meetings1!B150=\"\",\"\",getAddress(Meetings1!E150))","v":""}]
[{"$nulls":12},{"$f":"IF(Meetings1!A151=\"\",\"\",Meetings1!A151)","v":""},{"$f":"IF(Meetings1!B151=\"\",\"\",Meetings1!C151)","v":""},null,null,null,{"$f":"IF(Meetings1!B151=\"\",\"\",getAddress(Meetings1!E151))","v":""}]
[{"$nulls":12},{"$f":"IF(Meetings1!A152=\"\",\"\",Meetings1!A152)","v":""},{"$f":"IF(Meetings1!B152=\"\",\"\",Meetings1!C152)","v":""},null,null,null,{"$f":"IF(Meetings1!B152=\"\",\"\",getAddress(Meetings1!E152))","v":""}]
[{"$nulls":12},{"$f":"IF(Meetings1!A153=\"\",\"\",Meetings1!A153)","v":""},{"$f":"IF(Meetings1!B153=\"\",\"\",Meetings1!C153)","v":""},null,null,null,{"$f":"IF(Meetings1!B153=\"\",\"\",getAddress(Meetings1!E153))","v":""}]
[{"$nulls":12},{"$f":"IF(Meetings1!A154=\"\",\"\",Meetings1!A154)","v":""},{"$f":"IF(Meetings1!B154=\"\",\"\",Meetings1!C154)","v":""},null,null,null,{"$f":"IF(Meetings1!B154=\"\",\"\",getAddress(Meetings1!E154))","v":""}]
[{"$nulls":12},{"$f":"IF(Meetings1!A155=\"\",\"\",Meetings1!A155)","v":""},{"$f":"IF(Meetings1!B155=\"\",\"\",Meetings1!C155)","v":""},null,null,null,{"$f":"IF(Meetings1!B155=\"\",\"\",getAddress(Meetings1!E155))","v":""}]
[{"$nulls":12},{"$f":"IF(Meetings1!A156=\"\",\"\",Meetings1!A156)","v":""},{"$f":"IF(Meetings1!B156=\"\",\"\",Meetings1!C156)","v":""},null,null,null,{"$f":"IF(Meetings1!B156=\"\",\"\",getAddress(Meetings1!E156))","v":""}]
[{"$nulls":12},{"$f":"IF(Meetings1!A157=\"\",\"\",Meetings1!A157)","v":""},{"$f":"IF(Meetings1!B157=\"\",\"\",Meetings1!C157)","v":""},null,null,null,{"$f":"IF(Meetings1!B157=\"\",\"\",getAddress(Meetings1!E157))","v":""}]
[{"$nulls":12},{"$f":"IF(Meetings1!A158=\"\",\"\",Meetings1!A158)","v":""},{"$f":"IF(Meetings1!B158=\"\",\"\",Meetings1!C158)","v":""},null,null,null,{"$f":"IF(Meetings1!B158=\"\",\"\",getAddress(Meetings1!E158))","v":""}]
[{"$nulls":12},{"$f":"IF(Meetings1!A159=\"\",\"\",Meetings1!A159)","v":""},{"$f":"IF(Meetings1!B159=\"\",\"\",Meetings1!C159)","v":""},null,null,null,{"$f":"IF(Meetings1!B159=\"\",\"\",getAddress(Meetings1!E159))","v":""}]
[{"$nulls":12},{"$f":"IF(Meetings1!A160=\"\",\"\",Meetings1!A160)","v":""},{"$f":"IF(Meetings1!B160=\"\",\"\",Meetings1!C160)","v":""},null,null,null,{"$f":"IF(Meetings1!B160=\"\",\"\",getAddress(Meetings1!E160))","v":""}]
[{"$nulls":12},{"$f":"IF(Meetings1!A161=\"\",\"\",Meetings1!A161)","v":""},{"$f":"IF(Meetings1!B161=\"\",\"\",Meetings1!C161)","v":""},null,null,null,{"$f":"IF(Meetings1!B161=\"\",\"\",getAddress(Meetings1!E161))","v":""}]
[{"$nulls":12},{"$f":"IF(Meetings1!A162=\"\",\"\",Meetings1!A162)","v":""},{"$f":"IF(Meetings1!B162=\"\",\"\",Meetings1!C162)","v":""},null,null,null,{"$f":"IF(Meetings1!B162=\"\",\"\",getAddress(Meetings1!E162))","v":""}]
[{"$nulls":12},{"$f":"IF(Meetings1!A163=\"\",\"\",Meetings1!A163)","v":""},{"$f":"IF(Meetings1!B163=\"\",\"\",Meetings1!C163)","v":""},null,null,null,{"$f":"IF(Meetings1!B163=\"\",\"\",getAddress(Meetings1!E163))","v":""}]
[{"$nulls":12},{"$f":"IF(Meetings1!A164=\"\",\"\",Meetings1!A164)","v":""},{"$f":"IF(Meetings1!B164=\"\",\"\",Meetings1!C164)","v":""},null,null,null,{"$f":"IF(Meetings1!B164=\"\",\"\",getAddress(Meetings1!E164))","v":""}]
[{"$nulls":12},{"$f":"IF(Meetings1!A165=\"\",\"\",Meetings1!A165)","v":""},{"$f":"IF(Meetings1!B165=\"\",\"\",Meetings1!C165)","v":""},null,null,null,{"$f":"IF(Meetings1!B165=\"\",\"\",getAddress(Meetings1!E165))","v":""}]
[{"$nulls":12},{"$f":"IF(Meetings1!A166=\"\",\"\",Meetings1!A166)","v":""},{"$f":"IF(Meetings1!B166=\"\",\"\",Meetings1!C166)","v":""},null,null,null,{"$f":"IF(Meetings1!B166=\"\",\"\",getAddress(Meetings1!E166))","v":""}]
[{"$nulls":12},{"$f":"IF(Meetings1!A167=\"\",\"\",Meetings1!A167)","v":""},{"$f":"IF(Meetings1!B167=\"\",\"\",Meetings1!C167)","v":""},null,null,null,{"$f":"IF(Meetings1!B167=\"\",\"\",getAddress(Meetings1!E167))","v":""}]
[{"$nulls":12},{"$f":"IF(Meetings1!A168=\"\",\"\",Meetings1!A168)","v":""},{"$f":"IF(Meetings1!B168=\"\",\"\",Meetings1!C168)","v":""},null,null,null,{"$f":"IF(Meetings1!B168=\"\",\"\",getAddress(Meetings1!E168))","v":""}]
[{"$nulls":12},{"$f":"IF(Meetings1!A169=\"\",\"\",Meetings1!A169)","v":""},{"$f":"IF(Meetings1!B169=\"\",\"\",Meetings1!C169)","v":""},null,null,null,{"$f":"IF(Meetings1!B169=\"\",\"\",getAddress(Meetings1!E169))","v":""}]
[{"$nulls":12},{"$f":"IF(Meetings1!A170=\"\",\"\",Meetings1!A170)","v":""},{"$f":"IF(Meetings1!B170=\"\",\"\",Meetings1!C170)","v":""},null,null,null,{"$f":"IF(Meetings1!B170=\"\",\"\",getAddress(Meetings1!E170))","v":""}]
[{"$nulls":12},{"$f":"IF(Meetings1!A171=\"\",\"\",Meetings1!A171)","v":""},{"$f":"IF(Meetings1!B171=\"\",\"\",Meetings1!C171)","v":""},null,null,null,{"$f":"IF(Meetings1!B171=\"\",\"\",getAddress(Meetings1!E171))","v":""}]
[{"$nulls":12},{"$f":"IF(Meetings1!A172=\"\",\"\",Meetings1!A172)","v":""},{"$f":"IF(Meetings1!B172=\"\",\"\",Meetings1!C172)","v":""},null,null,null,{"$f":"IF(Meetings1!B172=\"\",\"\",getAddress(Meetings1!E172))","v":""}]
[{"$nulls":12},{"$f":"IF(Meetings1!A173=\"\",\"\",Meetings1!A173)","v":""},{"$f":"IF(Meetings1!B173=\"\",\"\",Meetings1!C173)","v":""},null,null,null,{"$f":"IF(Meetings1!B173=\"\",\"\",getAddress(Meetings1!E173))","v":""}]
[{"$nulls":12},{"$f":"IF(Meetings1!A174=\"\",\"\",Meetings1!A174)","v":""},{"$f":"IF(Meetings1!B174=\"\",\"\",Meetings1!C174)","v":""},null,null,null,{"$f":"IF(Meetings1!B174=\"\",\"\",getAddress(Meetings1!E174))","v":""}]
[{"$nulls":12},{"$f":"IF(Meetings1!A175=\"\",\"\",Meetings1!A175)","v":""},{"$f":"IF(Meetings1!B175=\"\",\"\",Meetings1!C175)","v":""},null,null,null,{"$f":"IF(Meetings1!B175=\"\",\"\",getAddress(Meetings1!E175))","v":""}]
[{"$nulls":12},{"$f":"IF(Meetings1!A176=\"\",\"\",Meetings1!A176)","v":""},{"$f":"IF(Meetings1!B176=\"\",\"\",Meetings1!C176)","v":""},null,null,null,{"$f":"IF(Meetings1!B176=\"\",\"\",getAddress(Meetings1!E176))","v":""}]
[{"$nulls":12},{"$f":"IF(Meetings1!A177=\"\",\"\",Meetings1!A177)","v":""},{"$f":"IF(Meetings1!B177=\"\",\"\",Meetings1!C177)","v":""},null,null,null,{"$f":"IF(Meetings1!B177=\"\",\"\",getAddress(Meetings1!E177))","v":""}]
[{"$nulls":12},{"$f":"IF(Meetings1!A178=\"\",\"\",Meetings1!A178)","v":""},{"$f":"IF(Meetings1!B178=\"\",\"\",Meetings1!C178)","v":""},null,null,null,{"$f":"IF(Meetings1!B178=\"\",\"\",getAddress(Meetings1!E178))","v":""}]
[{"$nulls":12},{"$f":"IF(Meetings1!A179=\"\",\"\",Meetings1!A179)","v":""},{"$f":"IF(Meetings1!B179=\"\",\"\",Meetings1!C179)","v":""},null,null,null,{"$f":"IF(Meetings1!B179=\"\",\"\",getAddress(Meetings1!E179))","v":""}]
[{"$nulls":12},{"$f":"IF(Meetings1!A180=\"\",\"\",Meetings1!A180)","v":""},{"$f":"IF(Meetings1!B180=\"\",\"\",Meetings1!C180)","v":""},null,null,null,{"$f":"IF(Meetings1!B180=\"\",\"\",getAddress(Meetings1!E180))","v":""}]
[{"$nulls":12},{"$f":"IF(Meetings1!A181=\"\",\"\",Meetings1!A181)","v":""},{"$f":"IF(Meetings1!B181=\"\",\"\",Meetings1!C181)","v":""},null,null,null,{"$f":"IF(Meetings1!B181=\"\",\"\",getAddress(Meetings1!E181))","v":""}]
[{"$nulls":12},{"$f":"IF(Meetings1!A182=\"\",\"\",Meetings1!A182)","v":""},{"$f":"IF(Meetings1!B182=\"\",\"\",Meetings1!C182)","v":""},null,null,null,{"$f":"IF(Meetings1!B182=\"\",\"\",getAddress(Meetings1!E182))","v":""}]
[{"$nulls":12},{"$f":"IF(Meetings1!A183=\"\",\"\",Meetings1!A183)","v":""},{"$f":"IF(Meetings1!B183=\"\",\"\",Meetings1!C183)","v":""},null,null,null,{"$f":"IF(Meetings1!B183=\"\",\"\",getAddress(Meetings1!E183))","v":""}]
[{"$nulls":12},{"$f":"IF(Meetings1!A184=\"\",\"\",Meetings1!A184)","v":""},{"$f":"IF(Meetings1!B184=\"\",\"\",Meetings1!C184)","v":""},null,null,null,{"$f":"IF(Meetings1!B184=\"\",\"\",getAddress(Meetings1!E184))","v":""}]
[{"$nulls":12},{"$f":"IF(Meetings1!A185=\"\",\"\",Meetings1!A185)","v":""},{"$f":"IF(Meetings1!B185=\"\",\"\",Meetings1!C185)","v":""},null,null,null,{"$f":"IF(Meetings1!B185=\"\",\"\",getAddress(Meetings1!E185))","v":""}]
[{"$nulls":12},{"$f":"IF(Meetings1!A186=\"\",\"\",Meetings1!A186)","v":""},{"$f":"IF(Meetings1!B186=\"\",\"\",Meetings1!C186)","v":""},null,null,null,{"$f":"IF(Meetings1!B186=\"\",\"\",getAddress(Meetings1!E186))","v":""}]
[{"$nulls":12},{"$f":"IF(Meetings1!A187=\"\",\"\",Meetings1!A187)","v":""},{"$f":"IF(Meetings1!B187=\"\",\"\",Meetings1!C187)","v":""},null,null,null,{"$f":"IF(Meetings1!B187=\"\",\"\",getAddress(Meetings1!E187))","v":""}]
[{"$nulls":12},{"$f":"IF(Meetings1!A188=\"\",\"\",Meetings1!A188)","v":""},{"$f":"IF(Meetings1!B188=\"\",\"\",Meetings1!C188)","v":""},null,null,null,{"$f":"IF(Meetings1!B188=\"\",\"\",getAddress(Meetings1!E188))","v":""}]
[{"$nulls":12},{"$f":"IF(Meetings1!A189=\"\",\"\",Meetings1!A189)","v":""},{"$f":"IF(Meetings1!B189=\"\",\"\",Meetings1!C189)","v":""},null,null,null,{"$f":"IF(Meetings1!B189=\"\",\"\",getAddress(Meetings1!E189))","v":""}]
[{"$nulls":12},{"$f":"IF(Meetings1!A190=\"\",\"\",Meetings1!A190)","v":""},{"$f":"IF(Meetings1!B190=\"\",\"\",Meetings1!C190)","v":""},null,null,null,{"$f":"IF(Meetings1!B190=\"\",\"\",getAddress(Meetings1!E190))","v":""}]
[{"$nulls":12},{"$f":"IF(Meetings1!A191=\"\",\"\",Meetings1!A191)","v":""},{"$f":"IF(Meetings1!B191=\"\",\"\",Meetings1!C191)","v":""},null,null,null,{"$f":"IF(Meetings1!B191=\"\",\"\",getAddress(Meetings1!E191))","v":""}]
[{"$nulls":12},{"$f":"IF(Meetings1!A192=\"\",\"\",Meetings1!A192)","v":""},{"$f":"IF(Meetings1!B192=\"\",\"\",Meetings1!C192)","v":""},null,null,null,{"$f":"IF(Meetings1!B192=\"\",\"\",getAddress(Meetings1!E192))","v":""}]
[{"$nulls":12},{"$f":"IF(Meetings1!A193=\"\",\"\",Meetings1!A193)","v":""},{"$f":"IF(Meetings1!B193=\"\",\"\",Meetings1!C193)","v":""},null,null,null,{"$f":"IF(Meetings1!B193=\"\",\"\",getAddress(Meetings1!E193))","v":""}]
[{"$nulls":12},{"$f":"IF(Meetings1!A194=\"\",\"\",Meetings1!A194)","v":""},{"$f":"IF(Meetings1!B194=\"\",\"\",Meetings1!C194)","v":""},null,null,null,{"$f":"IF(Meetings1!B194=\"\",\"\",getAddress(Meetings1!E194))","v":""}]
[{"$nulls":12},{"$f":"IF(Meetings1!A195=\"\",\"\",Meetings1!A195)","v":""},{"$f":"IF(Meetings1!B195=\"\",\"\",Meetings1!C195)","v":""},null,null,null,{"$f":"IF(Meetings1!B195=\"\",\"\",getAddress(Meetings1!E195))","v":""}]
[{"$nulls":12},{"$f":"IF(Meetings1!A196=\"\",\"\",Meetings1!A196)","v":""},{"$f":"IF(Meetings1!B196=\"\",\"\",Meetings1!C196)","v":""},null,null,null,{"$f":"IF(Meetings1!B196=\"\",\"\",getAddress(Meetings1!E196))","v":""}]
[{"$nulls":12},{"$f":"IF(Meetings1!A197=\"\",\"\",Meetings1!A197)","v":""},{"$f":"IF(Meetings1!B197=\"\",\"\",Meetings1!C197)","v":""},null,null,null,{"$f":"IF(Meetings1!B197=\"\",\"\",getAddress(Meetings1!E197))","v":""}]
[{"$nulls":12},{"$f":"IF(Meetings1!A198=\"\",\"\",Meetings1!A198)","v":""},{"$f":"IF(Meetings1!B198=\"\",\"\",Meetings1!C198)","v":""},null,null,null,{"$f":"IF(Meetings1!B198=\"\",\"\",getAddress(Meetings1!E198))","v":""}]
[{"$nulls":12},{"$f":"IF(Meetings1!A199=\"\",\"\",Meetings1!A199)","v":""},{"$f":"IF(Meetings1!B199=\"\",\"\",Meetings1!C199)","v":""},null,null,null,{"$f":"IF(Meetings1!B199=\"\",\"\",getAddress(Meetings1!E199))","v":""}]
[{"$nulls":12},{"$f":"IF(Meetings1!A200=\"\",\"\",Meetings1!A200)","v":""},{"$f":"IF(Meetings1!B200=\"\",\"\",Meetings1!C200)","v":""},null,null,null,{"$f":"IF(Meetings1!B200=\"\",\"\",getAddress(Meetings1!E200))","v":""}]
[{"$nulls":12},{"$f":"IF(Meetings1!A201=\"\",\"\",Meetings1!A201)","v":""},{"$f":"IF(Meetings1!B201=\"\",\"\",Meetings1!C201)","v":""},null,null,null,{"$f":"IF(Meetings1!B201=\"\",\"\",getAddress(Meetings1!E201))","v":""}]
[{"$nulls":12},{"$f":"IF(Meetings1!A202=\"\",\"\",Meetings1!A202)","v":""},{"$f":"IF(Meetings1!B202=\"\",\"\",Meetings1!C202)","v":""},null,null,null,{"$f":"IF(Meetings1!B202=\"\",\"\",getAddress(Meetings1!E202))","v":""}]
[{"$nulls":12},{"$f":"IF(Meetings1!A203=\"\",\"\",Meetings1!A203)","v":""},{"$f":"IF(Meetings1!B203=\"\",\"\",Meetings1!C203)","v":""},null,null,null,{"$f":"IF(Meetings1!B203=\"\",\"\",getAddress(Meetings1!E203))","v":""}]
[{"$nulls":12},{"$f":"IF(Meetings1!A204=\"\",\"\",Meetings1!A204)","v":""},{"$f":"IF(Meetings1!B204=\"\",\"\",Meetings1!C204)","v":""},null,null,null,{"$f":"IF(Meetings1!B204=\"\",\"\",getAddress(Meetings1!E204))","v":""}]
[{"$nulls":12},{"$f":"IF(Meetings1!A205=\"\",\"\",Meetings1!A205)","v":""},{"$f":"IF(Meetings1!B205=\"\",\"\",Meetings1!C205)","v":""},null,null,null,{"$f":"IF(Meetings1!B205=\"\",\"\",getAddress(Meetings1!E205))","v":""}]
[{"$nulls":12},{"$f":"IF(Meetings1!A206=\"\",\"\",Meetings1!A206)","v":""},{"$f":"IF(Meetings1!B206=\"\",\"\",Meetings1!C206)","v":""},null,null,null,{"$f":"IF(Meetings1!B206=\"\",\"\",getAddress(Meetings1!E206))","v":""}]
[{"$nulls":12},{"$f":"IF(Meetings1!A207=\"\",\"\",Meetings1!A207)","v":""},{"$f":"IF(Meetings1!B207=\"\",\"\",Meetings1!C207)","v":""},null,null,null,{"$f":"IF(Meetings1!B207=\"\",\"\",getAddress(Meetings1!E207))","v":""}]
[{"$nulls":12},{"$f":"IF(Meetings1!A208=\"\",\"\",Meetings1!A208)","v":""},{"$f":"IF(Meetings1!B208=\"\",\"\",Meetings1!C208)","v":""},null,null,null,{"$f":"IF(Meetings1!B208=\"\",\"\",getAddress(Meetings1!E208))","v":""}]
[{"$nulls":12},{"$f":"IF(Meetings1!A209=\"\",\"\",Meetings1!A209)","v":""},{"$f":"IF(Meetings1!B209=\"\",\"\",Meetings1!C209)","v":""},null,null,null,{"$f":"IF(Meetings1!B209=\"\",\"\",getAddress(Meetings1!E209))","v":""}]
[{"$nulls":12},{"$f":"IF(Meetings1!A210=\"\",\"\",Meetings1!A210)","v":""},{"$f":"IF(Meetings1!B210=\"\",\"\",Meetings1!C210)","v":""},null,null,null,{"$f":"IF(Meetings1!B210=\"\",\"\",getAddress(Meetings1!E210))","v":""}]
[{"$nulls":12},{"$f":"IF(Meetings1!A211=\"\",\"\",Meetings1!A211)","v":""},{"$f":"IF(Meetings1!B211=\"\",\"\",Meetings1!C211)","v":""},null,null,null,{"$f":"IF(Meetings1!B211=\"\",\"\",getAddress(Meetings1!E211))","v":""}]
[{"$nulls":12},{"$f":"IF(Meetings1!A212=\"\",\"\",Meetings1!A212)","v":""},{"$f":"IF(Meetings1!B212=\"\",\"\",Meetings1!C212)","v":""},null,null,null,{"$f":"IF(Meetings1!B212=\"\",\"\",getAddress(Meetings1!E212))","v":""}]
[{"$nulls":12},{"$f":"IF(Meetings1!A213=\"\",\"\",Meetings1!A213)","v":""},{"$f":"IF(Meetings1!B213=\"\",\"\",Meetings1!C213)","v":""},null,null,null,{"$f":"IF(Meetings1!B213=\"\",\"\",getAddress(Meetings1!E213))","v":""}]
[{"$nulls":12},{"$f":"IF(Meetings1!A214=\"\",\"\",Meetings1!A214)","v":""},{"$f":"IF(Meetings1!B214=\"\",\"\",Meetings1!C214)","v":""},null,null,null,{"$f":"IF(Meetings1!B214=\"\",\"\",getAddress(Meetings1!E214))","v":""}]
[{"$nulls":12},{"$f":"IF(Meetings1!A215=\"\",\"\",Meetings1!A215)","v":""},{"$f":"IF(Meetings1!B215=\"\",\"\",Meetings1!C215)","v":""},null,null,null,{"$f":"IF(Meetings1!B215=\"\",\"\",getAddress(Meetings1!E215))","v":""}]
[{"$nulls":12},{"$f":"IF(Meetings1!A216=\"\",\"\",Meetings1!A216)","v":""},{"$f":"IF(Meetings1!B216=\"\",\"\",Meetings1!C216)","v":""},null,null,null,{"$f":"IF(Meetings1!B216=\"\",\"\",getAddress(Meetings1!E216))","v":""}]
[{"$nulls":12},{"$f":"IF(Meetings1!A217=\"\",\"\",Meetings1!A217)","v":""},{"$f":"IF(Meetings1!B217=\"\",\"\",Meetings1!C217)","v":""},null,null,null,{"$f":"IF(Meetings1!B217=\"\",\"\",getAddress(Meetings1!E217))","v":""}]
[{"$nulls":12},{"$f":"IF(Meetings1!A218=\"\",\"\",Meetings1!A218)","v":""},{"$f":"IF(Meetings1!B218=\"\",\"\",Meetings1!C218)","v":""},null,null,null,{"$f":"IF(Meetings1!B218=\"\",\"\",getAddress(Meetings1!E218))","v":""}]
[{"$nulls":12},{"$f":"IF(Meetings1!A219=\"\",\"\",Meetings1!A219)","v":""},{"$f":"IF(Meetings1!B219=\"\",\"\",Meetings1!C219)","v":""},null,null,null,{"$f":"IF(Meetings1!B219=\"\",\"\",getAddress(Meetings1!E219))","v":""}]
[{"$nulls":12},{"$f":"IF(Meetings1!A220=\"\",\"\",Meetings1!A220)","v":""},{"$f":"IF(Meetings1!B220=\"\",\"\",Meetings1!C220)","v":""},null,null,null,{"$f":"IF(Meetings1!B220=\"\",\"\",getAddress(Meetings1!E220))","v":""}]
[{"$nulls":12},{"$f":"IF(Meetings1!A221=\"\",\"\",Meetings1!A221)","v":""},{"$f":"IF(Meetings1!B221=\"\",\"\",Meetings1!C221)","v":""},null,null,null,{"$f":"IF(Meetings1!B221=\"\",\"\",getAddress(Meetings1!E221))","v":""}]
[{"$nulls":12},{"$f":"IF(Meetings1!A222=\"\",\"\",Meetings1!A222)","v":""},{"$f":"IF(Meetings1!B222=\"\",\"\",Meetings1!C222)","v":""},null,null,null,{"$f":"IF(Meetings1!B222=\"\",\"\",getAddress(Meetings1!E222))","v":""}]
[{"$nulls":12},{"$f":"IF(Meetings1!A223=\"\",\"\",Meetings1!A223)","v":""},{"$f":"IF(Meetings1!B223=\"\",\"\",Meetings1!C223)","v":""},null,null,null,{"$f":"IF(Meetings1!B223=\"\",\"\",getAddress(Meetings1!E223))","v":""}]
[{"$nulls":12},{"$f":"IF(Meetings1!A224=\"\",\"\",Meetings1!A224)","v":""},{"$f":"IF(Meetings1!B224=\"\",\"\",Meetings1!C224)","v":""},null,null,null,{"$f":"IF(Meetings1!B224=\"\",\"\",getAddress(Meetings1!E224))","v":""}]
[{"$nulls":12},{"$f":"IF(Meetings1!A225=\"\",\"\",Meetings1!A225)","v":""},{"$f":"IF(Meetings1!B225=\"\",\"\",Meetings1!C225)","v":""},null,null,null,{"$f":"IF(Meetings1!B225=\"\",\"\",getAddress(Meetings1!E225))","v":""}]
[{"$nulls":12},{"$f":"IF(Meetings1!A226=\"\",\"\",Meetings1!A226)","v":""},{"$f":"IF(Meetings1!B226=\"\",\"\",Meetings1!C226)","v":""},null,null,null,{"$f":"IF(Meetings1!B226=\"\",\"\",getAddress(Meetings1!E226))","v":""}]
[{"$nulls":12},{"$f":"IF(Meetings1!A227=\"\",\"\",Meetings1!A227)","v":""},{"$f":"IF(Meetings1!B227=\"\",\"\",Meetings1!C227)","v":""},null,null,null,{"$f":"IF(Meetings1!B227=\"\",\"\",getAddress(Meetings1!E227))","v":""}]
[{"$nulls":12},{"$f":"IF(Meetings1!A228=\"\",\"\",Meetings1!A228)","v":""},{"$f":"IF(Meetings1!B228=\"\",\"\",Meetings1!C228)","v":""},null,null,null,{"$f":"IF(Meetings1!B228=\"\",\"\",getAddress(Meetings1!E228))","v":""}]
[{"$nulls":12},{"$f":"IF(Meetings1!A229=\"\",\"\",Meetings1!A229)","v":""},{"$f":"IF(Meetings1!B229=\"\",\"\",Meetings1!C229)","v":""},null,null,null,{"$f":"IF(Meetings1!B229=\"\",\"\",getAddress(Meetings1!E229))","v":""}]
[{"$nulls":12},{"$f":"IF(Meetings1!A230=\"\",\"\",Meetings1!A230)","v":""},{"$f":"IF(Meetings1!B230=\"\",\"\",Meetings1!C230)","v":""},null,null,null,{"$f":"IF(Meetings1!B230=\"\",\"\",getAddress(Meetings1!E230))","v":""}]
[{"$nulls":12},{"$f":"IF(Meetings1!A231=\"\",\"\",Meetings1!A231)","v":""},{"$f":"IF(Meetings1!B231=\"\",\"\",Meetings1!C231)","v":""},null,null,null,{"$f":"IF(Meetings1!B231=\"\",\"\",getAddress(Meetings1!E231))","v":""}]
[{"$nulls":12},{"$f":"IF(Meetings1!A232=\"\",\"\",Meetings1!A232)","v":""},{"$f":"IF(Meetings1!B232=\"\",\"\",Meetings1!C232)","v":""},null,null,null,{"$f":"IF(Meetings1!B232=\"\",\"\",getAddress(Meetings1!E232))","v":""}]
[{"$nulls":12},{"$f":"IF(Meetings1!A233=\"\",\"\",Meetings1!A233)","v":""},{"$f":"IF(Meetings1!B233=\"\",\"\",Meetings1!C233)","v":""},null,null,null,{"$f":"IF(Meetings1!B233=\"\",\"\",getAddress(Meetings1!E233))","v":""}]
[{"$nulls":12},{"$f":"IF(Meetings1!A234=\"\",\"\",Meetings1!A234)","v":""},{"$f":"IF(Meetings1!B234=\"\",\"\",Meetings1!C234)","v":""},null,null,null,{"$f":"IF(Meetings1!B234=\"\",\"\",getAddress(Meetings1!E234))","v":""}]
[{"$nulls":12},{"$f":"IF(Meetings1!A235=\"\",\"\",Meetings1!A235)","v":""},{"$f":"IF(Meetings1!B235=\"\",\"\",Meetings1!C235)","v":""},null,null,null,{"$f":"IF(Meetings1!B235=\"\",\"\",getAddress(Meetings1!E235))","v":""}]
[{"$nulls":12},{"$f":"IF(Meetings1!A236=\"\",\"\",Meetings1!A236)","v":""},{"$f":"IF(Meetings1!B236=\"\",\"\",Meetings1!C236)","v":""},null,null,null,{"$f":"IF(Meetings1!B236=\"\",\"\",getAddress(Meetings1!E236))","v":""}]
[{"$nulls":12},{"$f":"IF(Meetings1!A237=\"\",\"\",Meetings1!A237)","v":""},{"$f":"IF(Meetings1!B237=\"\",\"\",Meetings1!C237)","v":""},null,null,null,{"$f":"IF(Meetings1!B237=\"\",\"\",getAddress(Meetings1!E237))","v":""}]
[{"$nulls":12},{"$f":"IF(Meetings1!A238=\"\",\"\",Meetings1!A238)","v":""},{"$f":"IF(Meetings1!B238=\"\",\"\",Meetings1!C238)","v":""},null,null,null,{"$f":"IF(Meetings1!B238=\"\",\"\",getAddress(Meetings1!E238))","v":""}]
[{"$nulls":12},{"$f":"IF(Meetings1!A239=\"\",\"\",Meetings1!A239)","v":""},{"$f":"IF(Meetings1!B239=\"\",\"\",Meetings1!C239)","v":""},null,null,null,{"$f":"IF(Meetings1!B239=\"\",\"\",getAddress(Meetings1!E239))","v":""}]
[{"$nulls":12},{"$f":"IF(Meetings1!A240=\"\",\"\",Meetings1!A240)","v":""},{"$f":"IF(Meetings1!B240=\"\",\"\",Meetings1!C240)","v":""},null,null,null,{"$f":"IF(Meetings1!B240=\"\",\"\",getAddress(Meetings1!E240))","v":""}]
[{"$nulls":12},{"$f":"IF(Meetings1!A241=\"\",\"\",Meetings1!A241)","v":""},{"$f":"IF(Meetings1!B241=\"\",\"\",Meetings1!C241)","v":""},null,null,null,{"$f":"IF(Meetings1!B241=\"\",\"\",getAddress(Meetings1!E241))","v":""}]
[{"$nulls":12},{"$f":"IF(Meetings1!A242=\"\",\"\",Meetings1!A242)","v":""},{"$f":"IF(Meetings1!B242=\"\",\"\",Meetings1!C242)","v":""},null,null,null,{"$f":"IF(Meetings1!B242=\"\",\"\",getAddress(Meetings1!E242))","v":""}]
[{"$nulls":12},{"$f":"IF(Meetings1!A243=\"\",\"\",Meetings1!A243)","v":""},{"$f":"IF(Meetings1!B243=\"\",\"\",Meetings1!C243)","v":""},null,null,null,{"$f":"IF(Meetings1!B243=\"\",\"\",getAddress(Meetings1!E243))","v":""}]
[{"$nulls":12},{"$f":"IF(Meetings1!A244=\"\",\"\",Meetings1!A244)","v":""},{"$f":"IF(Meetings1!B244=\"\",\"\",Meetings1!C244)","v":""},null,null,null,{"$f":"IF(Meetings1!B244=\"\",\"\",getAddress(Meetings1!E244))","v":""}]
[{"$nulls":12},{"$f":"IF(Meetings1!A245=\"\",\"\",Meetings1!A245)","v":""},{"$f":"IF(Meetings1!B245=\"\",\"\",Meetings1!C245)","v":""},null,null,null,{"$f":"IF(Meetings1!B245=\"\",\"\",getAddress(Meetings1!E245))","v":""}]
[{"$nulls":12},{"$f":"IF(Meetings1!A246=\"\",\"\",Meetings1!A246)","v":""},{"$f":"IF(Meetings1!B246=\"\",\"\",Meetings1!C246)","v":""},null,null,null,{"$f":"IF(Meetings1!B246=\"\",\"\",getAddress(Meetings1!E246))","v":""}]
[{"$nulls":12},{"$f":"IF(Meetings1!A247=\"\",\"\",Meetings1!A247)","v":""},{"$f":"IF(Meetings1!B247=\"\",\"\",Meetings1!C247)","v":""},null,null,null,{"$f":"IF(Meetings1!B247=\"\",\"\",getAddress(Meetings1!E247))","v":""}]
[{"$nulls":12},{"$f":"IF(Meetings1!A248=\"\",\"\",Meetings1!A248)","v":""},{"$f":"IF(Meetings1!B248=\"\",\"\",Meetings1!C248)","v":""},null,null,null,{"$f":"IF(Meetings1!B248=\"\",\"\",getAddress(Meetings1!E248))","v":""}]
[{"$nulls":12},{"$f":"IF(Meetings1!A249=\"\",\"\",Meetings1!A249)","v":""},{"$f":"IF(Meetings1!B249=\"\",\"\",Meetings1!C249)","v":""},null,null,null,{"$f":"IF(Meetings1!B249=\"\",\"\",getAddress(Meetings1!E249))","v":""}]
[{"$nulls":12},{"$f":"IF(Meetings1!A250=\"\",\"\",Meetings1!A250)","v":""},{"$f":"IF(Meetings1!B250=\"\",\"\",Meetings1!C250)","v":""},null,null,null,{"$f":"IF(Meetings1!B250=\"\",\"\",getAddress(Meetings1!E250))","v":""}]
[{"$nulls":12},{"$f":"IF(Meetings1!A251=\"\",\"\",Meetings1!A251)","v":""},{"$f":"IF(Meetings1!B251=\"\",\"\",Meetings1!C251)","v":""},null,null,null,{"$f":"IF(Meetings1!B251=\"\",\"\",getAddress(Meetings1!E251))","v":""}]
[{"$nulls":12},{"$f":"IF(Meetings1!A252=\"\",\"\",Meetings1!A252)","v":""},{"$f":"IF(Meetings1!B252=\"\",\"\",Meetings1!C252)","v":""},null,null,null,{"$f":"IF(Meetings1!B252=\"\",\"\",getAddress(Meetings1!E252))","v":""}]
[{"$nulls":12},{"$f":"IF(Meetings1!A253=\"\",\"\",Meetings1!A253)","v":""},{"$f":"IF(Meetings1!B253=\"\",\"\",Meetings1!C253)","v":""},null,null,null,{"$f":"IF(Meetings1!B253=\"\",\"\",getAddress(Meetings1!E253))","v":""}]
[{"$nulls":12},{"$f":"IF(Meetings1!A254=\"\",\"\",Meetings1!A254)","v":""},{"$f":"IF(Meetings1!B254=\"\",\"\",Meetings1!C254)","v":""},null,null,null,{"$f":"IF(Meetings1!B254=\"\",\"\",getAddress(Meetings1!E254))","v":""}]
[{"$nulls":12},{"$f":"IF(Meetings1!A255=\"\",\"\",Meetings1!A255)","v":""},{"$f":"IF(Meetings1!B255=\"\",\"\",Meetings1!C255)","v":""},null,null,null,{"$f":"IF(Meetings1!B255=\"\",\"\",getAddress(Meetings1!E255))","v":""}]
[{"$nulls":12},{"$f":"IF(Meetings1!A256=\"\",\"\",Meetings1!A256)","v":""},{"$f":"IF(Meetings1!B256=\"\",\"\",Meetings1!C256)","v":""},null,null,null,{"$f":"IF(Meetings1!B256=\"\",\"\",getAddress(Meetings1!E256))","v":""}]
[{"$nulls":12},{"$f":"IF(Meetings1!A257=\"\",\"\",Meetings1!A257)","v":""},{"$f":"IF(Meetings1!B257=\"\",\"\",Meetings1!C257)","v":""},null,null,null,{"$f":"IF(Meetings1!B257=\"\",\"\",getAddress(Meetings1!E257))","v":""}]
[{"$nulls":12},{"$f":"IF(Meetings1!A258=\"\",\"\",Meetings1!A258)","v":""},{"$f":"IF(Meetings1!B258=\"\",\"\",Meetings1!C258)","v":""},null,null,null,{"$f":"IF(Meetings1!B258=\"\",\"\",getAddress(Meetings1!E258))","v":""}]
[{"$nulls":12},{"$f":"IF(Meetings1!A259=\"\",\"\",Meetings1!A259)","v":""},{"$f":"IF(Meetings1!B259=\"\",\"\",Meetings1!C259)","v":""},null,null,null,{"$f":"IF(Meetings1!B259=\"\",\"\",getAddress(Meetings1!E259))","v":""}]
[{"$nulls":12},{"$f":"IF(Meetings1!A260=\"\",\"\",Meetings1!A260)","v":""},{"$f":"IF(Meetings1!B260=\"\",\"\",Meetings1!C260)","v":""},null,null,null,{"$f":"IF(Meetings1!B260=\"\",\"\",getAddress(Meetings1!E260))","v":""}]
[{"$nulls":12},{"$f":"IF(Meetings1!A261=\"\",\"\",Meetings1!A261)","v":""},{"$f":"IF(Meetings1!B261=\"\",\"\",Meetings1!C261)","v":""},null,null,null,{"$f":"IF(Meetings1!B261=\"\",\"\",getAddress(Meetings1!E261))","v":""}]
[{"$nulls":12},{"$f":"IF(Meetings1!A262=\"\",\"\",Meetings1!A262)","v":""},{"$f":"IF(Meetings1!B262=\"\",\"\",Meetings1!C262)","v":""},null,null,null,{"$f":"IF(Meetings1!B262=\"\",\"\",getAddress(Meetings1!E262))","v":""}]
[{"$nulls":12},{"$f":"IF(Meetings1!A263=\"\",\"\",Meetings1!A263)","v":""},{"$f":"IF(Meetings1!B263=\"\",\"\",Meetings1!C263)","v":""},null,null,null,{"$f":"IF(Meetings1!B263=\"\",\"\",getAddress(Meetings1!E263))","v":""}]
[{"$nulls":12},{"$f":"IF(Meetings1!A264=\"\",\"\",Meetings1!A264)","v":""},{"$f":"IF(Meetings1!B264=\"\",\"\",Meetings1!C264)","v":""},null,null,null,{"$f":"IF(Meetings1!B264=\"\",\"\",getAddress(Meetings1!E264))","v":""}]
[{"$nulls":12},{"$f":"IF(Meetings1!A265=\"\",\"\",Meetings1!A265)","v":""},{"$f":"IF(Meetings1!B265=\"\",\"\",Meetings1!C265)","v":""},null,null,null,{"$f":"IF(Meetings1!B265=\"\",\"\",getAddress(Meetings1!E265))","v":""}]
[{"$nulls":12},{"$f":"IF(Meetings1!A266=\"\",\"\",Meetings1!A266)","v":""},{"$f":"IF(Meetings1!B266=\"\",\"\",Meetings1!C266)","v":""},null,null,null,{"$f":"IF(Meetings1!B266=\"\",\"\",getAddress(Meetings1!E266))","v":""}]
[{"$nulls":12},{"$f":"IF(Meetings1!A267=\"\",\"\",Meetings1!A267)","v":""},{"$f":"IF(Meetings1!B267=\"\",\"\",Meetings1!C267)","v":""},null,null,null,{"$f":"IF(Meetings1!B267=\"\",\"\",getAddress(Meetings1!E267))","v":""}]
[{"$nulls":12},{"$f":"IF(Meetings1!A268=\"\",\"\",Meetings1!A268)","v":""},{"$f":"IF(Meetings1!B268=\"\",\"\",Meetings1!C268)","v":""},null,null,null,{"$f":"IF(Meetings1!B268=\"\",\"\",getAddress(Meetings1!E268))","v":""}]
[{"$nulls":12},{"$f":"IF(Meetings1!A269=\"\",\"\",Meetings1!A269)","v":""},{"$f":"IF(Meetings1!B269=\"\",\"\",Meetings1!C269)","v":""},null,null,null,{"$f":"IF(Meetings1!B269=\"\",\"\",getAddress(Meetings1!E269))","v":""}]
[{"$nulls":12},{"$f":"IF(Meetings1!A270=\"\",\"\",Meetings1!A270)","v":""},{"$f":"IF(Meetings1!B270=\"\",\"\",Meetings1!C270)","v":""},null,null,null,{"$f":"IF(Meetings1!B270=\"\",\"\",getAddress(Meetings1!E270))","v":""}]
[{"$nulls":12},{"$f":"IF(Meetings1!A271=\"\",\"\",Meetings1!A271)","v":""},{"$f":"IF(Meetings1!B271=\"\",\"\",Meetings1!C271)","v":""},null,null,null,{"$f":"IF(Meetings1!B271=\"\",\"\",getAddress(Meetings1!E271))","v":""}]
[{"$nulls":12},{"$f":"IF(Meetings1!A272=\"\",\"\",Meetings1!A272)","v":""},{"$f":"IF(Meetings1!B272=\"\",\"\",Meetings1!C272)","v":""},null,null,null,{"$f":"IF(Meetings1!B272=\"\",\"\",getAddress(Meetings1!E272))","v":""}]
[{"$nulls":12},{"$f":"IF(Meetings1!A273=\"\",\"\",Meetings1!A273)","v":""},{"$f":"IF(Meetings1!B273=\"\",\"\",Meetings1!C273)","v":""},null,null,null,{"$f":"IF(Meetings1!B273=\"\",\"\",getAddress(Meetings1!E273))","v":""}]
[{"$nulls":12},{"$f":"IF(Meetings1!A274=\"\",\"\",Meetings1!A274)","v":""},{"$f":"IF(Meetings1!B274=\"\",\"\",Meetings1!C274)","v":""},null,null,null,{"$f":"IF(Meetings1!B274=\"\",\"\",getAddress(Meetings1!E274))","v":""}]
[{"$nulls":12},{"$f":"IF(Meetings1!A275=\"\",\"\",Meetings1!A275)","v":""},{"$f":"IF(Meetings1!B275=\"\",\"\",Meetings1!C275)","v":""},null,null,null,{"$f":"IF(Meetings1!B275=\"\",\"\",getAddress(Meetings1!E275))","v":""}]
[{"$nulls":12},{"$f":"IF(Meetings1!A276=\"\",\"\",Meetings1!A276)","v":""},{"$f":"IF(Meetings1!B276=\"\",\"\",Meetings1!C276)","v":""},null,null,null,{"$f":"IF(Meetings1!B276=\"\",\"\",getAddress(Meetings1!E276))","v":""}]
[{"$nulls":12},{"$f":"IF(Meetings1!A277=\"\",\"\",Meetings1!A277)","v":""},{"$f":"IF(Meetings1!B277=\"\",\"\",Meetings1!C277)","v":""},null,null,null,{"$f":"IF(Meetings1!B277=\"\",\"\",getAddress(Meetings1!E277))","v":""}]
[{"$nulls":12},{"$f":"IF(Meetings1!A278=\"\",\"\",Meetings1!A278)","v":""},{"$f":"IF(Meetings1!B278=\"\",\"\",Meetings1!C278)","v":""},null,null,null,{"$f":"IF(Meetings1!B278=\"\",\"\",getAddress(Meetings1!E278))","v":""}]
[{"$nulls":12},{"$f":"IF(Meetings1!A279=\"\",\"\",Meetings1!A279)","v":""},{"$f":"IF(Meetings1!B279=\"\",\"\",Meetings1!C279)","v":""},null,null,null,{"$f":"IF(Meetings1!B279=\"\",\"\",getAddress(Meetings1!E279))","v":""}]
[{"$nulls":12},{"$f":"IF(Meetings1!A280=\"\",\"\",Meetings1!A280)","v":""},{"$f":"IF(Meetings1!B280=\"\",\"\",Meetings1!C280)","v":""},null,null,null,{"$f":"IF(Meetings1!B280=\"\",\"\",getAddress(Meetings1!E280))","v":""}]
[{"$nulls":12},{"$f":"IF(Meetings1!A281=\"\",\"\",Meetings1!A281)","v":""},{"$f":"IF(Meetings1!B281=\"\",\"\",Meetings1!C281)","v":""}]

{"sheet":"MainSheet","index":1,"n_rows":125,"n_cols":31,"rows_kept":125,"cut":false,"hidden":false,"merged":[[1,28,1,30]]}
[]
[null,"Average Prizemoney",null,null,"Win & Place Percentage",null,null,"Distance - Track ",null,null,"Wet Tracks",null,{"$f":"Tables!J1","v":"DEAD"},"Fitness",null,null,"Class",null,null,"Form",null,null,"Qtab Rating",null,null,"Pre Post Prices",null,null,"Concensus"]
[null,{"$f":"INDEX(Data!$BC$2:'Data'!$BC$26,MATCH(1,Data!$BK$2:'Data'!$BK$26,0),1)","v":"9  Elite Ebony"},null,{"$f":"INDEX(Data!$BL$2:'Data'!$BL$26,MATCH(1,Data!$BK$2:'Data'!$BK$26,0),1)","v":10},{"$f":"INDEX(Data!$BC$2:'Data'!$BC$26,MATCH(1,Data!$BP$2:'Data'!$BP$26,0),1)","v":"13  Remedia"},null,{"$f":"INDEX(Data!$BQ$2:'Data'!$BQ$26,MATCH(1,Data!$BP$2:'Data'!$BP$26,0),1)","v":10},{"$f":"INDEX(Data!$BC$2:'Data'!$BC$26,MATCH(1,Data!$CG$2:'Data'!$CG$26,0),1)","v":"13  Remedia"},null,{"$f":"INDEX(Data!$CH$2:'Data'!$CH$26,MATCH(1,Data!$CG$2:'Data'!$CG$26,0),1)","v":10},{"$f":"IF(Tables!$K$1=1,(INDEX(Data!$BC$2:'Data'!$BC$26,MATCH(1,Data!$CQ$2:'Data'!$CQ$26,0),1)),IF(Tables!$K$1=2,INDEX(Data!$BC$2:'Data'!$BC$26,MATCH(1,Data!$DA$2:'Data'!$DA$26,0),1),\"\"))","v":""},null,{"$f":"IF(INDEX(Data!$CR$2:'Data'!$CR$26,MATCH(1,Data!$CQ$2:'Data'!$CQ$26,0),1)=0,INDEX(Data!$DB$2:'Data'!$DB$26,MATCH(1,Data!$DA$2:'Data'!$DA$26,0),1),INDEX(Data!$CR$2:'Data'!$CR$26,MATCH(1,Data!$CQ$2:'Data'!$CQ$26,0),1))","v":0},{"$f":"INDEX(Data!$BC$2:'Data'!$BC$26,MATCH(1,Data!$DJ$2:'Data'!$DJ$26,0),1)","v":"6  Mitchener"},null,{"$f":"INDEX(Data!$DK$2:'Data'!$DK$26,MATCH(1,Data!$DJ$2:'Data'!$DJ$26,0),1)","v":10},{"$f":"INDEX(Data!$BC$2:'Data'!$BC$26,MATCH(1,Data!$DN$2:'Data'!$DN$26,0),1)","v":"13  Remedia"},null,{"$f":"INDEX(Data!$DO$2:'Data'!$DO$26,MATCH(1,Data!$DN$2:'Data'!$DN$26,0),1)","v":10},{"$f":"INDEX(Data!$BC$2:'Data'!$BC$26,MATCH(1,Data!$EI$2:'Data'!$EI$26,0),1)","v":"3  Watasham"},null,{"$f":"INDEX(Data!$EJ$2:'Data'!$EJ$26,MATCH(1,Data!$EI$2:'Data'!$EI$26,0),1)","v":10},{"$f":"INDEX(Data!$BC$2:'Data'!$BC$26,MATCH(1,Data!$EM$2:'Data'!$EM$26,0),1)","v":"13  Remedia"},null,{"$f":"INDEX(Data!$EN$2:'Data'!$EN$26,MATCH(1,Data!$EM$2:'Data'!$EM$26,0),1)","v":10},{"$f":"INDEX(Data!$BC$2:'Data'!$BC$26,MATCH(1,Data!$ET$2:'Data'!$ET$26,0),1)","v":"3  Watasham"},null,{"$f":"INDEX(Data!$EN$2:'Data'!$EN$26,MATCH(1,Data!$EM$2:'Data'!$EM$26,0),1)","v":10},{"$f":"T31&\"  \"&U31","v":"13  Remedia"},null,{"$f":"IF(ISNA(VLOOKUP(U31,Data!$BD$2:'Data'!$EV$26,97,FALSE)),\"\",VLOOKUP(U31,Data!$BD$2:'Data'!$EV$26,97,FALSE))","v":44}]
[null,{"$f":"INDEX(Data!$BC$2:'Data'!$BC$26,MATCH(2,Data!$BK$2:'Data'!$BK$26,0),1)","v":"4  Ettore"},null,{"$f":"INDEX(Data!$BL$2:'Data'!$BL$26,MATCH(2,Data!$BK$2:'Data'!$BK$26,0),1)","v":8},{"$f":"INDEX(Data!$BC$2:'Data'!$BC$26,MATCH(2,Data!$BP$2:'Data'!$BP$26,0),1)","v":"10  Hoakstess"},null,{"$f":"INDEX(Data!$BQ$2:'Data'!$BQ$26,MATCH(2,Data!$BP$2:'Data'!$BP$26,0),1)","v":8},{"$f":"INDEX(Data!$BC$2:'Data'!$BC$26,MATCH(2,Data!$CG$2:'Data'!$CG$26,0),1)","v":"11  Midnight Pearl"},null,{"$f":"INDEX(Data!$CH$2:'Data'!$CH$26,MATCH(2,Data!$CG$2:'Data'!$CG$26,0),1)","v":8},{"$f":"IF(Tables!$K$1=1,(INDEX(Data!$BC$2:'Data'!$BC$26,MATCH(2,Data!$CQ$2:'Data'!$CQ$26,0),1)),IF(Tables!$K$1=2,INDEX(Data!$BC$2:'Data'!$BC$26,MATCH(2,Data!$DA$2:'Data'!$DA$26,0),1),\"\"))","v":""},null,{"$f":"IF(INDEX(Data!$CR$2:'Data'!$CR$26,MATCH(2,Data!$CQ$2:'Data'!$CQ$26,0),1)=0,INDEX(Data!$DB$2:'Data'!$DB$26,MATCH(2,Data!$DA$2:'Data'!$DA$26,0),1),INDEX(Data!$CR$2:'Data'!$CR$26,MATCH(2,Data!$CQ$2:'Data'!$CQ$26,0),1))","v":0},{"$f":"INDEX(Data!$BC$2:'Data'!$BC$26,MATCH(2,Data!$DJ$2:'Data'!$DJ$26,0),1)","v":"7  Vopop"},null,{"$f":"INDEX(Data!$DK$2:'Data'!$DK$26,MATCH(2,Data!$DJ$2:'Data'!$DJ$26,0),1)","v":8},{"$f":"INDEX(Data!$BC$2:'Data'!$BC$26,MATCH(2,Data!$DN$2:'Data'!$DN$26,0),1)","v":"9  Elite Ebony"},null,{"$f":"INDEX(Data!$DO$2:'Data'!$DO$26,MATCH(2,Data!$DN$2:'Data'!$DN$26,0),1)","v":8},{"$f":"INDEX(Data!$BC$2:'Data'!$BC$26,MATCH(2,Data!$EI$2:'Data'!$EI$26,0),1)","v":"2  Handle On A Star"},null,{"$f":"INDEX(Data!$EJ$2:'Data'!$EJ$26,MATCH(2,Data!$EI$2:'Data'!$EI$26,0),1)","v":8},{"$f":"INDEX(Data!$BC$2:'Data'!$BC$26,MATCH(2,Data!$EM$2:'Data'!$EM$26,0),1)","v":"9  Elite Ebony"},null,{"$f":"INDEX(Data!$EN$2:'Data'!$EN$26,MATCH(2,Data!$EM$2:'Data'!$EM$26,0),1)","v":8},{"$f":"INDEX(Data!$BC$2:'Data'!$BC$26,MATCH(2,Data!$ET$2:'Data'!$ET$26,0),1)","v":"7  Vopop"},null,{"$f":"INDEX(Data!$EN$2:'Data'!$EN$26,MATCH(2,Data!$EM$2:'Data'!$EM$26,0),1)","v":8},{"$f":"T32&\"  \"&U32","v":"3  Watasham"},null,{"$f":"IF(ISNA(VLOOKUP(U32,Data!$BD$2:'Data'!$EV$26,97,FALSE)),\"\",VLOOKUP(U32,Data!$BD$2:'Data'!$EV$26,97,FALSE))","v":30}]
[null,{"$f":"INDEX(Data!$BC$2:'Data'!$BC$26,MATCH(3,Data!$BK$2:'Data'!$BK$26,0),1)","v":"1  Agasha"},null,{"$f":"INDEX(Data!$BL$2:'Data'!$BL$26,MATCH(3,Data!$BK$2:'Data'!$BK$26,0),1)","v":6},{"$f":"INDEX(Data!$BC$2:'Data'!$BC$26,MATCH(3,Data!$BP$2:'Data'!$BP$26,0),1)","v":"1  Agasha"},null,{"$f":"INDEX(Data!$BQ$2:'Data'!$BQ$26,MATCH(3,Data!$BP$2:'Data'!$BP$26,0),1)","v":6},{"$f":"INDEX(Data!$BC$2:'Data'!$BC$26,MATCH(3,Data!$CG$2:'Data'!$CG$26,0),1)","v":"14  Dr Schimmell"},null,{"$f":"INDEX(Data!$CH$2:'Data'!$CH$26,MATCH(3,Data!$CG$2:'Data'!$CG$26,0),1)","v":6},{"$f":"IF(Tables!$K$1=1,(INDEX(Data!$BC$2:'Data'!$BC$26,MATCH(3,Data!$CQ$2:'Data'!$CQ$26,0),1)),IF(Tables!$K$1=2,INDEX(Data!$BC$2:'Data'!$BC$26,MATCH(3,Data!$DA$2:'Data'!$DA$26,0),1),\"\"))","v":""},null,{"$f":"IF(INDEX(Data!$CR$2:'Data'!$CR$26,MATCH(3,Data!$CQ$2:'Data'!$CQ$26,0),1)=0,INDEX(Data!$DB$2:'Data'!$DB$26,MATCH(3,Data!$DA$2:'Data'!$DA$26,0),1),INDEX(Data!$CR$2:'Data'!$CR$26,MATCH(3,Data!$CQ$2:'Data'!$CQ$26,0),1))","v":0},{"$f":"INDEX(Data!$BC$2:'Data'!$BC$26,MATCH(3,Data!$DJ$2:'Data'!$DJ$26,0),1)","v":"8  Northern Shift"},null,{"$f":"INDEX(Data!$DK$2:'Data'!$DK$26,MATCH(3,Data!$DJ$2:'Data'!$DJ$26,0),1)","v":6},{"$f":"INDEX(Data!$BC$2:'Data'!$BC$26,MATCH(3,Data!$DN$2:'Data'!$DN$26,0),1)","v":"14  Dr Schimmell"},null,{"$f":"INDEX(Data!$DO$2:'Data'!$DO$26,MATCH(3,Data!$DN$2:'Data'!$DN$26,0),1)","v":6},{"$f":"INDEX(Data!$BC$2:'Data'!$BC$26,MATCH(3,Data!$EI$2:'Data'!$EI$26,0),1)","v":"7  Vopop"},null,{"$f":"INDEX(Data!$EJ$2:'Data'!$EJ$26,MATCH(3,Data!$EI$2:'Data'!$EI$26,0),1)","v":6},{"$f":"INDEX(Data!$BC$2:'Data'!$BC$26,MATCH(3,Data!$EM$2:'Data'!$EM$26,0),1)","v":"3  Watasham"},null,{"$f":"INDEX(Data!$EN$2:'Data'!$EN$26,MATCH(3,Data!$EM$2:'Data'!$EM$26,0),1)","v":6},{"$f":"INDEX(Data!$BC$2:'Data'!$BC$26,MATCH(3,Data!$ET$2:'Data'!$ET$26,0),1)","v":"2  Handle On A Star"},null,{"$f":"INDEX(Data!$EN$2:'Data'!$EN$26,MATCH(3,Data!$EM$2:'Data'!$EM$26,0),1)","v":6},{"$f":"T33&\"  \"&U33","v":"9  Elite Ebony"},null,{"$f":"IF(ISNA(VLOOKUP(U33,Data!$BD$2:'Data'!$EV$26,97,FALSE)),\"\",VLOOKUP(U33,Data!$BD$2:'Data'!$EV$26,97,FALSE))","v":30}]
[null,{"$f":"INDEX(Data!$BC$2:'Data'!$BC$26,MATCH(4,Data!$BK$2:'Data'!$BK$26,0),1)","v":"11  Midnight Pearl"},null,{"$f":"INDEX(Data!$BL$2:'Data'!$BL$26,MATCH(4,Data!$BK$2:'Data'!$BK$26,0),1)","v":4},{"$f":"INDEX(Data!$BC$2:'Data'!$BC$26,MATCH(4,Data!$BP$2:'Data'!$BP$26,0),1)","v":"11  Midnight Pearl"},null,{"$f":"INDEX(Data!$BQ$2:'Data'!$BQ$26,MATCH(4,Data!$BP$2:'Data'!$BP$26,0),1)","v":4},{"$f":"INDEX(Data!$BC$2:'Data'!$BC$26,MATCH(4,Data!$CG$2:'Data'!$CG$26,0),1)","v":"9  Elite Ebony"},null,{"$f":"INDEX(Data!$CH$2:'Data'!$CH$26,MATCH(4,Data!$CG$2:'Data'!$CG$26,0),1)","v":4},{"$f":"IF(Tables!$K$1=1,(INDEX(Data!$BC$2:'Data'!$BC$26,MATCH(4,Data!$CQ$2:'Data'!$CQ$26,0),1)),IF(Tables!$K$1=2,INDEX(Data!$BC$2:'Data'!$BC$26,MATCH(4,Data!$DA$2:'Data'!$DA$26,0),1),\"\"))","v":""},null,{"$f":"IF(INDEX(Data!$CR$2:'Data'!$CR$26,MATCH(4,Data!$CQ$2:'Data'!$CQ$26,0),1)=0,INDEX(Data!$DB$2:'Data'!$DB$26,MATCH(4,Data!$DA$2:'Data'!$DA$26,0),1),INDEX(Data!$CR$2:'Data'!$CR$26,MATCH(4,Data!$CQ$2:'Data'!$CQ$26,0),1))","v":0},{"$f":"INDEX(Data!$BC$2:'Data'!$BC$26,MATCH(4,Data!$DJ$2:'Data'!$DJ$26,0),1)","v":"1  Agasha"},null,{"$f":"INDEX(Data!$DK$2:'Data'!$DK$26,MATCH(4,Data!$DJ$2:'Data'!$DJ$26,0),1)","v":4},{"$f":"INDEX(Data!$BC$2:'Data'!$BC$26,MATCH(4,Data!$DN$2:'Data'!$DN$26,0),1)","v":"11  Midnight Pearl"},null,{"$f":"INDEX(Data!$DO$2:'Data'!$DO$26,MATCH(4,Data!$DN$2:'Data'!$DN$26,0),1)","v":4},{"$f":"INDEX(Data!$BC$2:'Data'!$BC$26,MATCH(4,Data!$EI$2:'Data'!$EI$26,0),1)","v":"13  Remedia"},null,{"$f":"INDEX(Data!$EJ$2:'Data'!$EJ$26,MATCH(4,Data!$EI$2:'Data'!$EI$26,0),1)","v":4},{"$f":"INDEX(Data!$BC$2:'Data'!$BC$26,MATCH(4,Data!$EM$2:'Data'!$EM$26,0),1)","v":"10  Hoakstess"},null,{"$f":"INDEX(Data!$EN$2:'Data'!$EN$26,MATCH(4,Data!$EM$2:'Data'!$EM$26,0),1)","v":4},{"$f":"INDEX(Data!$BC$2:'Data'!$BC$26,MATCH(4,Data!$ET$2:'Data'!$ET$26,0),1)","v":"10  Hoakstess"},null,{"$f":"INDEX(Data!$EN$2:'Data'!$EN$26,MATCH(4,Data!$EM$2:'Data'!$EM$26,0),1)","v":4},{"$f":"T34&\"  \"&U34","v":"7  Vopop"},null,{"$f":"IF(ISNA(VLOOKUP(U34,Data!$BD$2:'Data'!$EV$26,97,FALSE)),\"\",VLOOKUP(U34,Data!$BD$2:'Data'!$EV$26,97,FALSE))","v":22}]
[null,{"$f":"INDEX(Data!$BC$2:'Data'!$BC$26,MATCH(5,Data!$BK$2:'Data'!$BK$26,0),1)","v":"10  Hoakstess"},null,{"$f":"INDEX(Data!$BL$2:'Data'!$BL$26,MATCH(5,Data!$BK$2:'Data'!$BK$26,0),1)","v":2},{"$f":"INDEX(Data!$BC$2:'Data'!$BC$26,MATCH(5,Data!$BP$2:'Data'!$BP$26,0),1)","v":"3  Watasham"},null,{"$f":"INDEX(Data!$BQ$2:'Data'!$BQ$26,MATCH(5,Data!$BP$2:'Data'!$BP$26,0),1)","v":2},{"$f":"INDEX(Data!$BC$2:'Data'!$BC$26,MATCH(5,Data!$CG$2:'Data'!$CG$26,0),1)","v":"5  Ryolly"},null,{"$f":"INDEX(Data!$CH$2:'Data'!$CH$26,MATCH(5,Data!$CG$2:'Data'!$CG$26,0),1)","v":2},{"$f":"IF(Tables!$K$1=1,(INDEX(Data!$BC$2:'Data'!$BC$26,MATCH(5,Data!$CQ$2:'Data'!$CQ$26,0),1)),IF(Tables!$K$1=2,INDEX(Data!$BC$2:'Data'!$BC$26,MATCH(5,Data!$DA$2:'Data'!$DA$26,0),1),\"\"))","v":""},null,{"$f":"IF(INDEX(Data!$CR$2:'Data'!$CR$26,MATCH(5,Data!$CQ$2:'Data'!$CQ$26,0),1)=0,INDEX(Data!$DB$2:'Data'!$DB$26,MATCH(5,Data!$DA$2:'Data'!$DA$26,0),1),INDEX(Data!$CR$2:'Data'!$CR$26,MATCH(5,Data!$CQ$2:'Data'!$CQ$26,0),1))","v":0},{"$f":"INDEX(Data!$BC$2:'Data'!$BC$26,MATCH(5,Data!$DJ$2:'Data'!$DJ$26,0),1)","v":"3  Watasham"},null,{"$f":"INDEX(Data!$DK$2:'Data'!$DK$26,MATCH(5,Data!$DJ$2:'Data'!$DJ$26,0),1)","v":2},{"$f":"INDEX(Data!$BC$2:'Data'!$BC$26,MATCH(5,Data!$DN$2:'Data'!$DN$26,0),1)","v":"10  Hoakstess"},null,{"$f":"INDEX(Data!$DO$2:'Data'!$DO$26,MATCH(5,Data!$DN$2:'Data'!$DN$26,0),1)","v":2},{"$f":"INDEX(Data!$BC$2:'Data'!$BC$26,MATCH(5,Data!$EI$2:'Data'!$EI$26,0),1)","v":"10  Hoakstess"},null,{"$f":"INDEX(Data!$EJ$2:'Data'!$EJ$26,MATCH(5,Data!$EI$2:'Data'!$EI$26,0),1)","v":2},{"$f":"INDEX(Data!$BC$2:'Data'!$BC$26,MATCH(5,Data!$EM$2:'Data'!$EM$26,0),1)","v":"1  Agasha"},null,{"$f":"INDEX(Data!$EN$2:'Data'!$EN$26,MATCH(5,Data!$EM$2:'Data'!$EM$26,0),1)","v":2},{"$f":"INDEX(Data!$BC$2:'Data'!$BC$26,MATCH(5,Data!$ET$2:'Data'!$ET$26,0),1)","v":"8  Northern Shift"},null,{"$f":"INDEX(Data!$EN$2:'Data'!$EN$26,MATCH(5,Data!$EM$2:'Data'!$EM$26,0),1)","v":2},{"$f":"T35&\"  \"&U35","v":"10  Hoakstess"},null,{"$f":"IF(ISNA(VLOOKUP(U35,Data!$BD$2:'Data'!$EV$26,97,FALSE)),\"\",VLOOKUP(U35,Data!$BD$2:'Data'!$EV$26,97,FALSE))","v":22}]
[]
[null,{"$f":"Race!A5","v":"RADIO TAB"},null,{"$f":"Race!B5","v":"3-4-10-1"},null,{"$f":"Race!C5","v":"MAL JAMES"},null,{"$f":"Race!D5","v":-10},null,{"$f":"Race!E5","v":"Late Mail 3"}]
[]
[null,null,"Venue",{"$f":"Data!N1","v":"Kyneton"},null,null,"Race",{"$f":"Data!O2","v":"9"},"Class",{"$f":"Form!F3","v":"Restricted 58"},null,"Value",{"$f":"Form!I4","v":12000},"Distance",{"$f":"Form!J3","v":"1218m"},null,"Market %",{"$f":"RaceList!O4","v":0.85},null,"Race Time",{"$f":"IF(Form!A8-W11>=13,Form!A8-W11-12,Form!A8-W11)","v":2.2199999999999989},"-",2,"Hours","Class/V",{"$f":"SUM(Data!BI2:'Data'!BI26)/AA11","v":1.3769230769230765},{"$f":"COUNT(L16:L42)","v":13}]
[]
[]
[null,"Form","No","Runner",null,null,"Trainer",null,"Jockey",null,"Weight","Barrier",null,"Rated","Rating","Form","PPP","Rated Price"]
[]
[null,{"$f":"IF(C16=\"\",\"\",Form!C6)","v":"43x030"},{"$f":"IF(Data!BF2=\"\",\"\",Data!BF2)","v":1},{"$f":"IF(Data!BF2=\"\",\"\",Data!BD2)","v":"Agasha"},null,null,{"$f":"IF(C16=\"\",\"\",IF(Data!BG2=\"\",\"SCRATCHED\",Form!E6))","v":"Jason Warren"},null,{"$f":"IF(C16=\"\",\"\",IF(Data!BG2=\"\",\"\",Form!F6))","v":"J R Todd"},null,{"$f":"IF(C16=\"\",\"\",IF(I16=\"\",\"\",Form!G6))","v":60},{"$f":"IF(C16=\"\",\"\",IF(D16=\"SCRATCHED\",\"\",Data!BG2))","v":7},{"$f":"IF(C16=\"\",\"\",IF(O16=\"\",\"\",COUNT($O$16:$O$43)-(RANK(O16,$O$16:$O$43)+COUNTIF($O$16:O16,O16)-1)+1))","v":7},{"$f":"IF(M16=\"\",\"\",RANK(M16,$M$16:$M$43))","v":7},{"$f":"IF(C16=\"\",\"\",IF(D16=\"SCRATCHED\",\"\",Data!EX2))","v":20.491228070175438},{"$f":"IF(G16=\"\",\"\",IF(IF(ISNA(VLOOKUP(D16,Data!$AX$1:'Data'!$BA$100,4,FALSE)),\"\",VLOOKUP(D16,Data!$AX$1:'Data'!$BA$100,4,FALSE))=0,\"\",IF(ISNA(VLOOKUP(D16,Data!$AX$1:'Data'!$BA$100,4,FALSE)),\"\",VLOOKUP(D16,Data!$AX$1:'Data'!$BA$100,4,FALSE))))","v":""},{"$f":"IF(G16<>\"\",Data!ER2,\"\")","v":11},{"$f":"IF(O16=\"\",\"\",Data!FD2)","v":12.582619863013699},{"$f":"IF(AND(Results!AC3=\"Result\",Results!AC5<>\"\"),\"Result\",\"\")","v":""}]
[null,{"$f":"IF(C17=\"\",\"\",Form!C7)","v":403921},{"$f":"IF(Data!BF3=\"\",\"\",Data!BF3)","v":2},{"$f":"IF(Data!BF3=\"\",\"\",Data!BD3)","v":"Handle On A Star"},null,null,{"$f":"IF(C17=\"\",\"\",IF(Data!BG3=\"\",\"SCRATCHED\",Form!E7))","v":"J D Pearson"},null,{"$f":"IF(C17=\"\",\"\",IF(Data!BG3=\"\",\"\",Form!F7))","v":"Zachary Scullie"},null,{"$f":"IF(C17=\"\",\"\",IF(I17=\"\",\"\",Form!G7))","v":60},{"$f":"IF(C17=\"\",\"\",IF(D17=\"SCRATCHED\",\"\",Data!BG3))","v":16},{"$f":"IF(C17=\"\",\"\",IF(O17=\"\",\"\",COUNT($O$16:$O$43)-(RANK(O17,$O$16:$O$43)+COUNTIF($O$16:O17,O17)-1)+1))","v":6},{"$f":"IF(M17=\"\",\"\",RANK(M17,$M$16:$M$43))","v":8},{"$f":"IF(C17=\"\",\"\",IF(D17=\"SCRATCHED\",\"\",Data!EX3))","v":14.526315789473685},{"$f":"IF(G17=\"\",\"\",IF(IF(ISNA(VLOOKUP(D17,Data!$AX$1:'Data'!$BA$100,4,FALSE)),\"\",VLOOKUP(D17,Data!$AX$1:'Data'!$BA$100,4,FALSE))=0,\"\",IF(ISNA(VLOOKUP(D17,Data!$AX$1:'Data'!$BA$100,4,FALSE)),\"\",VLOOKUP(D17,Data!$AX$1:'Data'!$BA$100,4,FALSE))))","v":"WT"},{"$f":"IF(G17<>\"\",Data!ER3,\"\")","v":7},{"$f":"IF(O17=\"\",\"\",Data!FD3)","v":17.749396135265698},null,null,"Save To Drive Letter","d",{"$f":"IF(S16<>\"\",\"Win\",\"\")","v":""},{"$f":"IF(S16<>\"\",\"Place\",\"\")","v":""}]
[null,{"$f":"IF(C18=\"\",\"\",Form!C8)","v":"2x5332"},{"$f":"IF(Data!BF4=\"\",\"\",Data!BF4)","v":3},{"$f":"IF(Data!BF4=\"\",\"\",Data!BD4)","v":"Watasham"},null,null,{"$f":"IF(C18=\"\",\"\",IF(Data!BG4=\"\",\"SCRATCHED\",Form!E8))","v":"D W Brown"},null,{"$f":"IF(C18=\"\",\"\",IF(Data!BG4=\"\",\"\",Form!F8))","v":"Damian Lane"},null,{"$f":"IF(C18=\"\",\"\",IF(I18=\"\",\"\",Form!G8))","v":60},{"$f":"IF(C18=\"\",\"\",IF(D18=\"SCRATCHED\",\"\",Data!BG4))","v":8},{"$f":"IF(C18=\"\",\"\",IF(O18=\"\",\"\",COUNT($O$16:$O$43)-(RANK(O18,$O$16:$O$43)+COUNTIF($O$16:O18,O18)-1)+1))","v":12},2,{"$f":"IF(C18=\"\",\"\",IF(D18=\"SCRATCHED\",\"\",Data!EX4))","v":41.754385964912281},{"$f":"IF(G18=\"\",\"\",IF(IF(ISNA(VLOOKUP(D18,Data!$AX$1:'Data'!$BA$100,4,FALSE)),\"\",VLOOKUP(D18,Data!$AX$1:'Data'!$BA$100,4,FALSE))=0,\"\",IF(ISNA(VLOOKUP(D18,Data!$AX$1:'Data'!$BA$100,4,FALSE)),\"\",VLOOKUP(D18,Data!$AX$1:'Data'!$BA$100,4,FALSE))))","v":"D"},{"$f":"IF(G18<>\"\",Data!ER4,\"\")","v":5},{"$f":"IF(O18=\"\",\"\",Data!FD4)","v":4.2850000000000001},{"$f":"IF($S$16<>\"\",\"1st\",\"\")","v":""},{"$f":"IF($S$16=\"\",\"\",0+TRIM(CLEAN(LEFT(Results!AC5,FIND(\" \",Results!AC5)-1))))","v":""},{"$f":"IF($S$16=\"\",\"\",TRIM(CLEAN(RIGHT(Results!AC5,LEN(Results!AC5)-SEARCH(\"-\",Results!AC5,2)))))","v":""},null,{"$f":"IF($S$16=\"\",\"\",0+TRIM(CLEAN(Results!AD5)))","v":""},{"$f":"IF($S$16=\"\",\"\",IF(ISNUMBER(0+TRIM(CLEAN(Results!AE5))),0+TRIM(CLEAN(Results!AE5)),\"NPD\"))","v":""},{"$f":"IF(U18=\"\",\"\",IF(ISNA(VLOOKUP(U18,$U$31:$U$38,1,FALSE)),\"\",VLOOKUP(U18,$U$31:$U$38,1,FALSE)))","v":""},{"$f":"IF(Y18=\"\",\"\",1)","v":""}]
[null,{"$f":"IF(C19=\"\",\"\",Form!C9)","v":"4475x7"},{"$f":"IF(Data!BF5=\"\",\"\",Data!BF5)","v":4},{"$f":"IF(Data!BF5=\"\",\"\",Data!BD5)","v":"Ettore"},null,null,{"$f":"IF(C19=\"\",\"\",IF(Data!BG5=\"\",\"SCRATCHED\",Form!E9))","v":"L J Corstens"},null,{"$f":"IF(C19=\"\",\"\",IF(Data!BG5=\"\",\"\",Form!F9))","v":"G Boss"},null,{"$f":"IF(C19=\"\",\"\",IF(I19=\"\",\"\",Form!G9))","v":59.5},{"$f":"IF(C19=\"\",\"\",IF(D19=\"SCRATCHED\",\"\",Data!BG5))","v":10},{"$f":"IF(C19=\"\",\"\",IF(O19=\"\",\"\",COUNT($O$16:$O$43)-(RANK(O19,$O$16:$O$43)+COUNTIF($O$16:O19,O19)-1)+1))","v":3},11,{"$f":"IF(C19=\"\",\"\",IF(D19=\"SCRATCHED\",\"\",Data!EX5))","v":6.6315789473684212},{"$f":"IF(G19=\"\",\"\",IF(IF(ISNA(VLOOKUP(D19,Data!$AX$1:'Data'!$BA$100,4,FALSE)),\"\",VLOOKUP(D19,Data!$AX$1:'Data'!$BA$100,4,FALSE))=0,\"\",IF(ISNA(VLOOKUP(D19,Data!$AX$1:'Data'!$BA$100,4,FALSE)),\"\",VLOOKUP(D19,Data!$AX$1:'Data'!$BA$100,4,FALSE))))","v":""},{"$f":"IF(G19<>\"\",Data!ER5,\"\")","v":9},{"$f":"IF(O19=\"\",\"\",Data!FD5)","v":38.879629629629619},{"$f":"IF($S$16<>\"\",\"2nd\",\"\")","v":""},{"$f":"IF($S$16=\"\",\"\",0+TRIM(CLEAN(LEFT(Results!AC6,FIND(\" \",Results!AC6)-1))))","v":""},{"$f":"IF($S$16=\"\",\"\",TRIM(CLEAN(RIGHT(Results!AC6,LEN(Results!AC6)-SEARCH(\"-\",Results!AC6,2)))))","v":""},null,null,{"$f":"IF($S$16=\"\",\"\",IF(ISNUMBER(0+TRIM(CLEAN(Results!AE6))),0+TRIM(CLEAN(Results!AE6)),\"NPD\"))","v":""},{"$f":"IF(U19=\"\",\"\",IF(ISNA(VLOOKUP(U19,$U$31:$U$38,1,FALSE)),\"\",VLOOKUP(U19,$U$31:$U$38,1,FALSE)))","v":""},{"$f":"IF(Y19=\"\",\"\",1)","v":""}]
[null,{"$f":"IF(C20=\"\",\"\",Form!C10)","v":"78290x"},{"$f":"IF(Data!BF6=\"\",\"\",Data!BF6)","v":5},{"$f":"IF(Data!BF6=\"\",\"\",Data!BD6)","v":"Ryolly"},null,null,{"$f":"IF(C20=\"\",\"\",IF(Data!BG6=\"\",\"SCRATCHED\",Form!E10))","v":"Kasey Wilson"},null,{"$f":"IF(C20=\"\",\"\",IF(Data!BG6=\"\",\"\",Form!F10))","v":"Ms R Cross"},null,{"$f":"IF(C20=\"\",\"\",IF(I20=\"\",\"\",Form!G10))","v":59.5},{"$f":"IF(C20=\"\",\"\",IF(D20=\"SCRATCHED\",\"\",Data!BG6))","v":9},{"$f":"IF(C20=\"\",\"\",IF(O20=\"\",\"\",COUNT($O$16:$O$43)-(RANK(O20,$O$16:$O$43)+COUNTIF($O$16:O20,O20)-1)+1))","v":1},13,{"$f":"IF(C20=\"\",\"\",IF(D20=\"SCRATCHED\",\"\",Data!EX6))","v":0},{"$f":"IF(G20=\"\",\"\",IF(IF(ISNA(VLOOKUP(D20,Data!$AX$1:'Data'!$BA$100,4,FALSE)),\"\",VLOOKUP(D20,Data!$AX$1:'Data'!$BA$100,4,FALSE))=0,\"\",IF(ISNA(VLOOKUP(D20,Data!$AX$1:'Data'!$BA$100,4,FALSE)),\"\",VLOOKUP(D20,Data!$AX$1:'Data'!$BA$100,4,FALSE))))","v":"DW"},{"$f":"IF(G20<>\"\",Data!ER6,\"\")","v":11},{"$f":"IF(O20=\"\",\"\",Data!FD6)","v":85},{"$f":"IF($S$16<>\"\",\"3rd\",\"\")","v":""},{"$f":"IF($S$16=\"\",\"\",0+TRIM(CLEAN(LEFT(Results!AC7,FIND(\" \",Results!AC7)-1))))","v":""},{"$f":"IF($S$16=\"\",\"\",TRIM(CLEAN(RIGHT(Results!AC7,LEN(Results!AC7)-SEARCH(\"-\",Results!AC7,2)))))","v":""},null,null,{"$f":"IF($S$16=\"\",\"\",IF(ISNUMBER(0+TRIM(CLEAN(Results!AE7))),0+TRIM(CLEAN(Results!AE7)),\"NPD\"))","v":""},{"$f":"IF(U20=\"\",\"\",IF(ISNA(VLOOKUP(U20,$U$31:$U$38,1,FALSE)),\"\",VLOOKUP(U20,$U$31:$U$38,1,FALSE)))","v":""},""]
[null,{"$f":"IF(C21=\"\",\"\",Form!C11)","v":"9x9039"},{"$f":"IF(Data!BF7=\"\",\"\",Data!BF7)","v":6},{"$f":"IF(Data!BF7=\"\",\"\",Data!BD7)","v":"Mitchener"},null,null,{"$f":"IF(C21=\"\",\"\",IF(Data!BG7=\"\",\"SCRATCHED\",Form!E11))","v":"G W Browney"},null,{"$f":"IF(C21=\"\",\"\",IF(Data!BG7=\"\",\"\",Form!F11))","v":"Erhan Kacmaz"},null,{"$f":"IF(C21=\"\",\"\",IF(I21=\"\",\"\",Form!G11))","v":59},{"$f":"IF(C21=\"\",\"\",IF(D21=\"SCRATCHED\",\"\",Data!BG7))","v":13},{"$f":"IF(C21=\"\",\"\",IF(O21=\"\",\"\",COUNT($O$16:$O$43)-(RANK(O21,$O$16:$O$43)+COUNTIF($O$16:O21,O21)-1)+1))","v":4},10,{"$f":"IF(C21=\"\",\"\",IF(D21=\"SCRATCHED\",\"\",Data!EX7))","v":9.1228070175438596},{"$f":"IF(G21=\"\",\"\",IF(IF(ISNA(VLOOKUP(D21,Data!$AX$1:'Data'!$BA$100,4,FALSE)),\"\",VLOOKUP(D21,Data!$AX$1:'Data'!$BA$100,4,FALSE))=0,\"\",IF(ISNA(VLOOKUP(D21,Data!$AX$1:'Data'!$BA$100,4,FALSE)),\"\",VLOOKUP(D21,Data!$AX$1:'Data'!$BA$100,4,FALSE))))","v":"DW"},{"$f":"IF(G21<>\"\",Data!ER7,\"\")","v":13},{"$f":"IF(O21=\"\",\"\",Data!FD7)","v":28.262499999999999},{"$f":"IF($S$16<>\"\",\"4th\",\"\")","v":""},{"$f":"IF($S$16=\"\",\"\",0+TRIM(CLEAN(LEFT(Results!AC8,FIND(\" \",Results!AC8)-1))))","v":""},{"$f":"IF($S$16=\"\",\"\",TRIM(CLEAN(RIGHT(Results!AC8,LEN(Results!AC8)-SEARCH(\"-\",Results!AC8,2)))))","v":""},null,null,{"$f":"IF($S$16=\"\",\"\",IF(ISNUMBER(0+TRIM(CLEAN(Results!AE8))),0+TRIM(CLEAN(Results!AE8)),\"NPD\"))","v":""},{"$f":"IF(U21=\"\",\"\",IF(ISNA(VLOOKUP(U21,$U$31:$U$38,1,FALSE)),\"\",VLOOKUP(U21,$U$31:$U$38,1,FALSE)))","v":""},""]
[null,{"$f":"IF(C22=\"\",\"\",Form!C12)","v":615373},{"$f":"IF(Data!BF8=\"\",\"\",Data!BF8)","v":7},{"$f":"IF(Data!BF8=\"\",\"\",Data!BD8)","v":"Vopop"},null,null,{"$f":"IF(C22=\"\",\"\",IF(Data!BG8=\"\",\"SCRATCHED\",Form!E12))","v":"M Sell"},null,{"$f":"IF(C22=\"\",\"\",IF(Data!BG8=\"\",\"\",Form!F12))","v":"C Nicoll"},null,{"$f":"IF(C22=\"\",\"\",IF(I22=\"\",\"\",Form!G12))","v":59},{"$f":"IF(C22=\"\",\"\",IF(D22=\"SCRATCHED\",\"\",Data!BG8))","v":12},{"$f":"IF(C22=\"\",\"\",IF(O22=\"\",\"\",COUNT($O$16:$O$43)-(RANK(O22,$O$16:$O$43)+COUNTIF($O$16:O22,O22)-1)+1))","v":10},4,{"$f":"IF(C22=\"\",\"\",IF(D22=\"SCRATCHED\",\"\",Data!EX8))","v":27.017543859649123},{"$f":"IF(G22=\"\",\"\",IF(IF(ISNA(VLOOKUP(D22,Data!$AX$1:'Data'!$BA$100,4,FALSE)),\"\",VLOOKUP(D22,Data!$AX$1:'Data'!$BA$100,4,FALSE))=0,\"\",IF(ISNA(VLOOKUP(D22,Data!$AX$1:'Data'!$BA$100,4,FALSE)),\"\",VLOOKUP(D22,Data!$AX$1:'Data'!$BA$100,4,FALSE))))","v":"T"},{"$f":"IF(G22<>\"\",Data!ER8,\"\")","v":7},{"$f":"IF(O22=\"\",\"\",Data!FD8)","v":6.6222727272727253}]
[null,{"$f":"IF(C23=\"\",\"\",Form!C13)","v":"0x0306"},{"$f":"IF(Data!BF9=\"\",\"\",Data!BF9)","v":8},{"$f":"IF(Data!BF9=\"\",\"\",Data!BD9)","v":"Northern Shift"},null,null,{"$f":"IF(C23=\"\",\"\",IF(Data!BG9=\"\",\"SCRATCHED\",Form!E13))","v":"A L Browell"},null,{"$f":"IF(C23=\"\",\"\",IF(Data!BG9=\"\",\"\",Form!F13))","v":"A Mallyon"},null,{"$f":"IF(C23=\"\",\"\",IF(I23=\"\",\"\",Form!G13))","v":58},{"$f":"IF(C23=\"\",\"\",IF(D23=\"SCRATCHED\",\"\",Data!BG9))","v":11},{"$f":"IF(C23=\"\",\"\",IF(O23=\"\",\"\",COUNT($O$16:$O$43)-(RANK(O23,$O$16:$O$43)+COUNTIF($O$16:O23,O23)-1)+1))","v":2},12,{"$f":"IF(C23=\"\",\"\",IF(D23=\"SCRATCHED\",\"\",Data!EX9))","v":6.6315789473684212},{"$f":"IF(G23=\"\",\"\",IF(IF(ISNA(VLOOKUP(D23,Data!$AX$1:'Data'!$BA$100,4,FALSE)),\"\",VLOOKUP(D23,Data!$AX$1:'Data'!$BA$100,4,FALSE))=0,\"\",IF(ISNA(VLOOKUP(D23,Data!$AX$1:'Data'!$BA$100,4,FALSE)),\"\",VLOOKUP(D23,Data!$AX$1:'Data'!$BA$100,4,FALSE))))","v":"W"},{"$f":"IF(G23<>\"\",Data!ER9,\"\")","v":8},{"$f":"IF(O23=\"\",\"\",Data!FD9)","v":38.879629629629619},null,{"$f":"IF($S$16=\"\",\"\",\"Qin\")","v":""},{"$f":"IF(ISNA(VLOOKUP(T23,Results!$AN$1:'Results'!$AP$100,2,FALSE)),\"\",VLOOKUP(T23,Results!$AN$1:'Results'!$AP$100,2,FALSE))","v":""},null,{"$f":"IF(ISNA(VLOOKUP(T23,Results!$AN$1:'Results'!$AP$100,3,FALSE)),\"\",VLOOKUP(T23,Results!$AN$1:'Results'!$AP$100,3,FALSE))","v":""}]
[null,{"$f":"IF(C24=\"\",\"\",Form!C14)","v":"72859x"},{"$f":"IF(Data!BF10=\"\",\"\",Data!BF10)","v":9},{"$f":"IF(Data!BF10=\"\",\"\",Data!BD10)","v":"Elite Ebony"},null,null,{"$f":"IF(C24=\"\",\"\",IF(Data!BG10=\"\",\"SCRATCHED\",Form!E14))","v":"Ms M Cid"},null,{"$f":"IF(C24=\"\",\"\",IF(Data!BG10=\"\",\"\",Form!F14))","v":"B Rawiller"},null,{"$f":"IF(C24=\"\",\"\",IF(I24=\"\",\"\",Form!G14))","v":57.5},{"$f":"IF(C24=\"\",\"\",IF(D24=\"SCRATCHED\",\"\",Data!BG10))","v":1},{"$f":"IF(C24=\"\",\"\",IF(O24=\"\",\"\",COUNT($O$16:$O$43)-(RANK(O24,$O$16:$O$43)+COUNTIF($O$16:O24,O24)-1)+1))","v":11},3,{"$f":"IF(C24=\"\",\"\",IF(D24=\"SCRATCHED\",\"\",Data!EX10))","v":41.754385964912281},{"$f":"IF(G24=\"\",\"\",IF(IF(ISNA(VLOOKUP(D24,Data!$AX$1:'Data'!$BA$100,4,FALSE)),\"\",VLOOKUP(D24,Data!$AX$1:'Data'!$BA$100,4,FALSE))=0,\"\",IF(ISNA(VLOOKUP(D24,Data!$AX$1:'Data'!$BA$100,4,FALSE)),\"\",VLOOKUP(D24,Data!$AX$1:'Data'!$BA$100,4,FALSE))))","v":"DW"},{"$f":"IF(G24<>\"\",Data!ER10,\"\")","v":13},{"$f":"IF(O24=\"\",\"\",Data!FD10)","v":4.2850000000000001},null,{"$f":"IF($S$16=\"\",\"\",\"Exa\")","v":""},{"$f":"IF(ISNA(VLOOKUP(T24,Results!$AN$1:'Results'!$AP$100,2,FALSE)),\"\",VLOOKUP(T24,Results!$AN$1:'Results'!$AP$100,2,FALSE))","v":""},null,{"$f":"IF(ISNA(VLOOKUP(T24,Results!$AN$1:'Results'!$AP$100,3,FALSE)),\"\",VLOOKUP(T24,Results!$AN$1:'Results'!$AP$100,3,FALSE))","v":""}]
[null,{"$f":"IF(C25=\"\",\"\",Form!C15)","v":"471x03"},{"$f":"IF(Data!BF11=\"\",\"\",Data!BF11)","v":10},{"$f":"IF(Data!BF11=\"\",\"\",Data!BD11)","v":"Hoakstess"},null,null,{"$f":"IF(C25=\"\",\"\",IF(Data!BG11=\"\",\"SCRATCHED\",Form!E15))","v":"Ms A Bennett"},null,{"$f":"IF(C25=\"\",\"\",IF(Data!BG11=\"\",\"\",Form!F15))","v":"I Gundogdu"},null,{"$f":"IF(C25=\"\",\"\",IF(I25=\"\",\"\",Form!G15))","v":57.5},{"$f":"IF(C25=\"\",\"\",IF(D25=\"SCRATCHED\",\"\",Data!BG11))","v":4},{"$f":"IF(C25=\"\",\"\",IF(O25=\"\",\"\",COUNT($O$16:$O$43)-(RANK(O25,$O$16:$O$43)+COUNTIF($O$16:O25,O25)-1)+1))","v":9},5,{"$f":"IF(C25=\"\",\"\",IF(D25=\"SCRATCHED\",\"\",Data!EX11))","v":27.017543859649123},{"$f":"IF(G25=\"\",\"\",IF(IF(ISNA(VLOOKUP(D25,Data!$AX$1:'Data'!$BA$100,4,FALSE)),\"\",VLOOKUP(D25,Data!$AX$1:'Data'!$BA$100,4,FALSE))=0,\"\",IF(ISNA(VLOOKUP(D25,Data!$AX$1:'Data'!$BA$100,4,FALSE)),\"\",VLOOKUP(D25,Data!$AX$1:'Data'!$BA$100,4,FALSE))))","v":"W"},{"$f":"IF(G25<>\"\",Data!ER11,\"\")","v":8},{"$f":"IF(O25=\"\",\"\",Data!FD11)","v":6.6222727272727253},null,{"$f":"IF($S$16=\"\",\"\",\"Tri\")","v":""},{"$f":"IF(ISNA(VLOOKUP(T25,Results!$AN$1:'Results'!$AP$100,2,FALSE)),\"\",VLOOKUP(T25,Results!$AN$1:'Results'!$AP$100,2,FALSE))","v":""},null,{"$f":"IF(ISNA(VLOOKUP(T25,Results!$AN$1:'Results'!$AP$100,3,FALSE)),\"\",VLOOKUP(T25,Results!$AN$1:'Results'!$AP$100,3,FALSE))","v":""}]
[null,{"$f":"IF(C26=\"\",\"\",Form!C16)","v":4728},{"$f":"IF(Data!BF12=\"\",\"\",Data!BF12)","v":11},{"$f":"IF(Data!BF12=\"\",\"\",Data!BD12)","v":"Midnight Pearl"},null,null,{"$f":"IF(C26=\"\",\"\",IF(Data!BG12=\"\",\"SCRATCHED\",Form!E16))","v":"J G Symons & S Laxon"},null,{"$f":"IF(C26=\"\",\"\",IF(Data!BG12=\"\",\"\",Form!F16))","v":"Ms N Mc Lean"},null,{"$f":"IF(C26=\"\",\"\",IF(I26=\"\",\"\",Form!G16))","v":57.5},{"$f":"IF(C26=\"\",\"\",IF(D26=\"SCRATCHED\",\"\",Data!BG12))","v":5},{"$f":"IF(C26=\"\",\"\",IF(O26=\"\",\"\",COUNT($O$16:$O$43)-(RANK(O26,$O$16:$O$43)+COUNTIF($O$16:O26,O26)-1)+1))","v":8},6,{"$f":"IF(C26=\"\",\"\",IF(D26=\"SCRATCHED\",\"\",Data!EX12))","v":23.684210526315788},{"$f":"IF(G26=\"\",\"\",IF(IF(ISNA(VLOOKUP(D26,Data!$AX$1:'Data'!$BA$100,4,FALSE)),\"\",VLOOKUP(D26,Data!$AX$1:'Data'!$BA$100,4,FALSE))=0,\"\",IF(ISNA(VLOOKUP(D26,Data!$AX$1:'Data'!$BA$100,4,FALSE)),\"\",VLOOKUP(D26,Data!$AX$1:'Data'!$BA$100,4,FALSE))))","v":"WT"},{"$f":"IF(G26<>\"\",Data!ER12,\"\")","v":13},{"$f":"IF(O26=\"\",\"\",Data!FD12)","v":10.886296296296296},null,{"$f":"IF($S$16=\"\",\"\",\"F4\")","v":""},{"$f":"IF(ISNA(VLOOKUP(T26,Results!$AN$1:'Results'!$AP$100,2,FALSE)),\"\",VLOOKUP(T26,Results!$AN$1:'Results'!$AP$100,2,FALSE))","v":""},null,{"$f":"IF(ISNA(VLOOKUP(T26,Results!$AN$1:'Results'!$AP$100,3,FALSE)),\"\",VLOOKUP(T26,Results!$AN$1:'Results'!$AP$100,3,FALSE))","v":""}]
[null,{"$f":"IF(C27=\"\",\"\",Form!C17)","v":1360},{"$f":"IF(Data!BF13=\"\",\"\",Data!BF13)","v":12},{"$f":"IF(Data!BF13=\"\",\"\",Data!BD13)","v":"Mon Coeur"},null,null,{"$f":"IF(C27=\"\",\"\",IF(Data!BG13=\"\",\"SCRATCHED\",Form!E17))","v":"SCRATCHED"},null,{"$f":"IF(C27=\"\",\"\",IF(Data!BG13=\"\",\"\",Form!F17))","v":""},null,{"$f":"IF(C27=\"\",\"\",IF(I27=\"\",\"\",Form!G17))","v":""},{"$f":"IF(C27=\"\",\"\",IF(D27=\"SCRATCHED\",\"\",Data!BG13))","v":""},{"$f":"IF(C27=\"\",\"\",IF(O27=\"\",\"\",COUNT($O$16:$O$43)-(RANK(O27,$O$16:$O$43)+COUNTIF($O$16:O27,O27)-1)+1))","v":""},"",{"$f":"IF(C27=\"\",\"\",IF(D27=\"SCRATCHED\",\"\",Data!EX13))","v":""},{"$f":"IF(G27=\"\",\"\",IF(IF(ISNA(VLOOKUP(D27,Data!$AX$1:'Data'!$BA$100,4,FALSE)),\"\",VLOOKUP(D27,Data!$AX$1:'Data'!$BA$100,4,FALSE))=0,\"\",IF(ISNA(VLOOKUP(D27,Data!$AX$1:'Data'!$BA$100,4,FALSE)),\"\",VLOOKUP(D27,Data!$AX$1:'Data'!$BA$100,4,FALSE))))","v":""},{"$f":"IF(G27<>\"\",Data!ER13,\"\")","v":""},{"$f":"IF(O27=\"\",\"\",Data!FD13)","v":""}]
[null,{"$f":"IF(C28=\"\",\"\",Form!C18)","v":"645x33"},{"$f":"IF(Data!BF14=\"\",\"\",Data!BF14)","v":13},{"$f":"IF(Data!BF14=\"\",\"\",Data!BD14)","v":"Remedia"},null,null,{"$f":"IF(C28=\"\",\"\",IF(Data!BG14=\"\",\"SCRATCHED\",Form!E18))","v":"S S Cunningham"},null,{"$f":"IF(C28=\"\",\"\",IF(Data!BG14=\"\",\"\",Form!F18))","v":"D Gauci"},null,{"$f":"IF(C28=\"\",\"\",IF(I28=\"\",\"\",Form!G18))","v":56.5},{"$f":"IF(C28=\"\",\"\",IF(D28=\"SCRATCHED\",\"\",Data!BG14))","v":3},{"$f":"IF(C28=\"\",\"\",IF(O28=\"\",\"\",COUNT($O$16:$O$43)-(RANK(O28,$O$16:$O$43)+COUNTIF($O$16:O28,O28)-1)+1))","v":13},1,{"$f":"IF(C28=\"\",\"\",IF(D28=\"SCRATCHED\",\"\",Data!EX14))","v":72.94736842105263},{"$f":"IF(G28=\"\",\"\",IF(IF(ISNA(VLOOKUP(D28,Data!$AX$1:'Data'!$BA$100,4,FALSE)),\"\",VLOOKUP(D28,Data!$AX$1:'Data'!$BA$100,4,FALSE))=0,\"\",IF(ISNA(VLOOKUP(D28,Data!$AX$1:'Data'!$BA$100,4,FALSE)),\"\",VLOOKUP(D28,Data!$AX$1:'Data'!$BA$100,4,FALSE))))","v":"D"},{"$f":"IF(G28<>\"\",Data!ER14,\"\")","v":15},{"$f":"IF(O28=\"\",\"\",Data!FD14)","v":2.4526936026936026}]
[null,{"$f":"IF(C29=\"\",\"\",Form!C19)","v":"2456x6"},{"$f":"IF(Data!BF15=\"\",\"\",Data!BF15)","v":14},{"$f":"IF(Data!BF15=\"\",\"\",Data!BD15)","v":"Dr Schimmell"},null,null,{"$f":"IF(C29=\"\",\"\",IF(Data!BG15=\"\",\"SCRATCHED\",Form!E19))","v":"N J Dyer"},null,{"$f":"IF(C29=\"\",\"\",IF(Data!BG15=\"\",\"\",Form!F19))","v":0},null,{"$f":"IF(C29=\"\",\"\",IF(I29=\"\",\"\",Form!G19))","v":58},{"$f":"IF(C29=\"\",\"\",IF(D29=\"SCRATCHED\",\"\",Data!BG15))","v":14},{"$f":"IF(C29=\"\",\"\",IF(O29=\"\",\"\",COUNT($O$16:$O$43)-(RANK(O29,$O$16:$O$43)+COUNTIF($O$16:O29,O29)-1)+1))","v":5},9,{"$f":"IF(C29=\"\",\"\",IF(D29=\"SCRATCHED\",\"\",Data!EX15))","v":11.754385964912281},{"$f":"IF(G29=\"\",\"\",IF(IF(ISNA(VLOOKUP(D29,Data!$AX$1:'Data'!$BA$100,4,FALSE)),\"\",VLOOKUP(D29,Data!$AX$1:'Data'!$BA$100,4,FALSE))=0,\"\",IF(ISNA(VLOOKUP(D29,Data!$AX$1:'Data'!$BA$100,4,FALSE)),\"\",VLOOKUP(D29,Data!$AX$1:'Data'!$BA$100,4,FALSE))))","v":"DW"},{"$f":"IF(G29<>\"\",Data!ER15,\"\")","v":15},{"$f":"IF(O29=\"\",\"\",Data!FD15)","v":21.935074626865667},"Race Value",{"$f":"M11","v":12000},"R/T",{"$f":"U11","v":2.2199999999999989}]
[null,{"$f":"IF(C30=\"\",\"\",Form!C20)","v":"55x35x"},{"$f":"IF(Data!BF16=\"\",\"\",Data!BF16)","v":15},{"$f":"IF(Data!BF16=\"\",\"\",Data!BD16)","v":"Glory Man"},null,null,{"$f":"IF(C30=\"\",\"\",IF(Data!BG16=\"\",\"SCRATCHED\",Form!E20))","v":"SCRATCHED"},null,{"$f":"IF(C30=\"\",\"\",IF(Data!BG16=\"\",\"\",Form!F20))","v":""},null,{"$f":"IF(C30=\"\",\"\",IF(I30=\"\",\"\",Form!G20))","v":""},{"$f":"IF(C30=\"\",\"\",IF(D30=\"SCRATCHED\",\"\",Data!BG16))","v":""},{"$f":"IF(C30=\"\",\"\",IF(O30=\"\",\"\",COUNT($O$16:$O$43)-(RANK(O30,$O$16:$O$43)+COUNTIF($O$16:O30,O30)-1)+1))","v":""},"",{"$f":"IF(C30=\"\",\"\",IF(D30=\"SCRATCHED\",\"\",Data!EX16))","v":""},{"$f":"IF(G30=\"\",\"\",IF(IF(ISNA(VLOOKUP(D30,Data!$AX$1:'Data'!$BA$100,4,FALSE)),\"\",VLOOKUP(D30,Data!$AX$1:'Data'!$BA$100,4,FALSE))=0,\"\",IF(ISNA(VLOOKUP(D30,Data!$AX$1:'Data'!$BA$100,4,FALSE)),\"\",VLOOKUP(D30,Data!$AX$1:'Data'!$BA$100,4,FALSE))))","v":""},{"$f":"IF(G30<>\"\",Data!ER16,\"\")","v":""},{"$f":"IF(O30=\"\",\"\",Data!FD16)","v":""},{"$f":"D11","v":"Kyneton"},null,{"$f":"G11&\"   \"&H11","v":"Race   9"},{"$f":"J11","v":"Restricted 58"},"R/Price",{"$f":"IF($S$16=\"\",\"\",\"Win\")","v":""},{"$f":"IF($S$16=\"\",\"\",\"Place\")","v":""},{"$f":"IF($S$16=\"\",\"\",\"Exotics\")","v":""},{"$f":"IF($S$16=\"\",\"\",\"Paid\")","v":""}]
[null,{"$f":"IF(C31=\"\",\"\",Form!C21)","v":"x70623"},{"$f":"IF(Data!BF17=\"\",\"\",Data!BF17)","v":16},{"$f":"IF(Data!BF17=\"\",\"\",Data!BD17)","v":"Lost Chord"},null,null,{"$f":"IF(C31=\"\",\"\",IF(Data!BG17=\"\",\"SCRATCHED\",Form!E21))","v":"SCRATCHED"},null,{"$f":"IF(C31=\"\",\"\",IF(Data!BG17=\"\",\"\",Form!F21))","v":""},null,{"$f":"IF(C31=\"\",\"\",IF(I31=\"\",\"\",Form!G21))","v":""},{"$f":"IF(C31=\"\",\"\",IF(D31=\"SCRATCHED\",\"\",Data!BG17))","v":""},{"$f":"IF(C31=\"\",\"\",IF(O31=\"\",\"\",COUNT($O$16:$O$43)-(RANK(O31,$O$16:$O$43)+COUNTIF($O$16:O31,O31)-1)+1))","v":""},"",{"$f":"IF(C31=\"\",\"\",IF(D31=\"SCRATCHED\",\"\",Data!EX17))","v":""},{"$f":"IF(G31=\"\",\"\",IF(IF(ISNA(VLOOKUP(D31,Data!$AX$1:'Data'!$BA$100,4,FALSE)),\"\",VLOOKUP(D31,Data!$AX$1:'Data'!$BA$100,4,FALSE))=0,\"\",IF(ISNA(VLOOKUP(D31,Data!$AX$1:'Data'!$BA$100,4,FALSE)),\"\",VLOOKUP(D31,Data!$AX$1:'Data'!$BA$100,4,FALSE))))","v":""},{"$f":"IF(G31<>\"\",Data!ER17,\"\")","v":""},{"$f":"IF(O31=\"\",\"\",Data!FD17)","v":""},{"$f":"IF(AA11>0,IF(RaceList!$E$5>0,\"1st\",\"\"),\"\")","v":"1st"},{"$f":"IF($S31=\"\",\"\",0+TRIM(CLEAN(INDEX($C$16:$C$39,MATCH(1,$N$16:$N$39,0),1))))","v":13},{"$f":"IF($S31=\"\",\"\",INDEX($D$16:$D$39,MATCH(1,$N$16:$N$39,0),1))","v":"Remedia"},null,{"$f":"IF($S31=\"\",\"\",INDEX($R$16:$R$42,MATCH(1,$N$16:$N$39,0),1))","v":2.4526936026936026},{"$f":"IF($S$16=\"\",\"\",IF(IF(ISNA(VLOOKUP(U31,$U$18:$X$20,3,FALSE)),\"\",VLOOKUP(U31,$U$18:$X$20,3,FALSE))=0,\"\",IF(ISNA(VLOOKUP(U31,$U$18:$X$20,3,FALSE)),\"\",VLOOKUP(U31,$U$18:$X$20,3,FALSE))))","v":""},{"$f":"IF($S$16=\"\",\"\",IF(ISNA(VLOOKUP(U31,$U$18:$X$21,4,FALSE)),\"\",VLOOKUP(U31,$U$18:$X$21,4,FALSE)))","v":""},{"$f":"IF($S$16=\"\",\"\",IF(RaceList!$E$5>1,\"Quin\",\"\"))","v":""},{"$f":"IF(Z31=\"\",\"\",IF(AND(Y18<>\"\",Y19<>\"\"),W23,0))","v":""}]
[null,{"$f":"IF(C32=\"\",\"\",Form!C22)","v":382038},{"$f":"IF(Data!BF18=\"\",\"\",Data!BF18)","v":17},{"$f":"IF(Data!BF18=\"\",\"\",Data!BD18)","v":"Rulesto"},null,null,{"$f":"IF(C32=\"\",\"\",IF(Data!BG18=\"\",\"SCRATCHED\",Form!E22))","v":"SCRATCHED"},null,{"$f":"IF(C32=\"\",\"\",IF(Data!BG18=\"\",\"\",Form!F22))","v":""},null,{"$f":"IF(C32=\"\",\"\",IF(I32=\"\",\"\",Form!G22))","v":""},{"$f":"IF(C32=\"\",\"\",IF(D32=\"SCRATCHED\",\"\",Data!BG18))","v":""},{"$f":"IF(C32=\"\",\"\",IF(O32=\"\",\"\",COUNT($O$16:$O$43)-(RANK(O32,$O$16:$O$43)+COUNTIF($O$16:O32,O32)-1)+1))","v":""},"",{"$f":"IF(C32=\"\",\"\",IF(D32=\"SCRATCHED\",\"\",Data!EX18))","v":""},{"$f":"IF(G32=\"\",\"\",IF(IF(ISNA(VLOOKUP(D32,Data!$AX$1:'Data'!$BA$100,4,FALSE)),\"\",VLOOKUP(D32,Data!$AX$1:'Data'!$BA$100,4,FALSE))=0,\"\",IF(ISNA(VLOOKUP(D32,Data!$AX$1:'Data'!$BA$100,4,FALSE)),\"\",VLOOKUP(D32,Data!$AX$1:'Data'!$BA$100,4,FALSE))))","v":""},{"$f":"IF(G32<>\"\",Data!ER18,\"\")","v":""},{"$f":"IF(O32=\"\",\"\",Data!FD18)","v":""},{"$f":"IF(AA11>1,IF(RaceList!$E$5>1,\"2nd\",\"\"),\"\")","v":"2nd"},{"$f":"IF($S32=\"\",\"\",0+TRIM(CLEAN(INDEX($C$16:$C$39,MATCH(2,$N$16:$N$39,0),1))))","v":3},{"$f":"IF($S32=\"\",\"\",INDEX($D$16:$D$39,MATCH(2,$N$16:$N$39,0),1))","v":"Watasham"},null,{"$f":"IF($S32=\"\",\"\",INDEX($R$16:$R$42,MATCH(2,$N$16:$N$39,0),1))","v":4.2850000000000001},{"$f":"IF($S$16=\"\",\"\",IF(IF(ISNA(VLOOKUP(U32,$U$18:$X$20,3,FALSE)),\"\",VLOOKUP(U32,$U$18:$X$20,3,FALSE))=0,\"\",IF(ISNA(VLOOKUP(U32,$U$18:$X$20,3,FALSE)),\"\",VLOOKUP(U32,$U$18:$X$20,3,FALSE))))","v":""},{"$f":"IF($S$16=\"\",\"\",IF(ISNA(VLOOKUP(U32,$U$18:$X$21,4,FALSE)),\"\",VLOOKUP(U32,$U$18:$X$21,4,FALSE)))","v":""},{"$f":"IF($S$16=\"\",\"\",IF(RaceList!$E$5>2,\"Tri\",\"\"))","v":""},{"$f":"IF(Z32=\"\",\"\",IF(COUNT(Z18:Z20)=3,W25,0))","v":""}]
[null,{"$f":"IF(C33=\"\",\"\",Form!C23)","v":""},{"$f":"IF(Data!BF19=\"\",\"\",Data!BF19)","v":""},{"$f":"IF(Data!BF19=\"\",\"\",Data!BD19)","v":""},null,null,{"$f":"IF(C33=\"\",\"\",IF(Data!BG19=\"\",\"SCRATCHED\",Form!E23))","v":""},null,{"$f":"IF(C33=\"\",\"\",IF(Data!BG19=\"\",\"\",Form!F23))","v":""},null,{"$f":"IF(C33=\"\",\"\",IF(I33=\"\",\"\",Form!G23))","v":""},{"$f":"IF(C33=\"\",\"\",IF(D33=\"SCRATCHED\",\"\",Data!BG19))","v":""},{"$f":"IF(C33=\"\",\"\",IF(O33=\"\",\"\",COUNT($O$16:$O$43)-(RANK(O33,$O$16:$O$43)+COUNTIF($O$16:O33,O33)-1)+1))","v":""},"",{"$f":"IF(C33=\"\",\"\",IF(D33=\"SCRATCHED\",\"\",Data!EX19))","v":""},{"$f":"IF(G33=\"\",\"\",IF(IF(ISNA(VLOOKUP(D33,Data!$AX$1:'Data'!$BA$100,4,FALSE)),\"\",VLOOKUP(D33,Data!$AX$1:'Data'!$BA$100,4,FALSE))=0,\"\",IF(ISNA(VLOOKUP(D33,Data!$AX$1:'Data'!$BA$100,4,FALSE)),\"\",VLOOKUP(D33,Data!$AX$1:'Data'!$BA$100,4,FALSE))))","v":""},{"$f":"IF(G33<>\"\",Data!ER19,\"\")","v":""},{"$f":"IF(O33=\"\",\"\",Data!FD19)","v":""},{"$f":"IF(AA11>2,IF(RaceList!$E$5>2,\"3rd\",\"\"),\"\")","v":"3rd"},{"$f":"IF($S33=\"\",\"\",0+TRIM(CLEAN(INDEX($C$16:$C$39,MATCH(3,$N$16:$N$39,0),1))))","v":9},{"$f":"IF($S33=\"\",\"\",INDEX($D$16:$D$39,MATCH(3,$N$16:$N$39,0),1))","v":"Elite Ebony"},null,{"$f":"IF($S33=\"\",\"\",INDEX($R$16:$R$42,MATCH(3,$N$16:$N$39,0),1))","v":4.2850000000000001},{"$f":"IF($S$16=\"\",\"\",IF(IF(ISNA(VLOOKUP(U33,$U$18:$X$20,3,FALSE)),\"\",VLOOKUP(U33,$U$18:$X$20,3,FALSE))=0,\"\",IF(ISNA(VLOOKUP(U33,$U$18:$X$20,3,FALSE)),\"\",VLOOKUP(U33,$U$18:$X$20,3,FALSE))))","v":""},"",{"$f":"IF($S$16=\"\",\"\",IF(RaceList!$E$5>3,\"F4\",\"\"))","v":""},{"$f":"IF(Z33=\"\",\"\",IF(COUNT(Z18:Z21)=4,W26,0))","v":""}]
[null,{"$f":"IF(C34=\"\",\"\",Form!C24)","v":""},{"$f":"IF(Data!BF20=\"\",\"\",Data!BF20)","v":""},{"$f":"IF(Data!BF20=\"\",\"\",Data!BD20)","v":""},null,null,{"$f":"IF(C34=\"\",\"\",IF(Data!BG20=\"\",\"SCRATCHED\",Form!E24))","v":""},null,{"$f":"IF(C34=\"\",\"\",IF(Data!BG20=\"\",\"\",Form!F24))","v":""},null,{"$f":"IF(C34=\"\",\"\",IF(I34=\"\",\"\",Form!G24))","v":""},{"$f":"IF(C34=\"\",\"\",IF(D34=\"SCRATCHED\",\"\",Data!BG20))","v":""},{"$f":"IF(C34=\"\",\"\",IF(O34=\"\",\"\",COUNT($O$16:$O$43)-(RANK(O34,$O$16:$O$43)+COUNTIF($O$16:O34,O34)-1)+1))","v":""},"",{"$f":"IF(C34=\"\",\"\",IF(D34=\"SCRATCHED\",\"\",Data!EX20))","v":""},{"$f":"IF(G34=\"\",\"\",IF(IF(ISNA(VLOOKUP(D34,Data!$AX$1:'Data'!$BA$100,4,FALSE)),\"\",VLOOKUP(D34,Data!$AX$1:'Data'!$BA$100,4,FALSE))=0,\"\",IF(ISNA(VLOOKUP(D34,Data!$AX$1:'Data'!$BA$100,4,FALSE)),\"\",VLOOKUP(D34,Data!$AX$1:'Data'!$BA$100,4,FALSE))))","v":""},{"$f":"IF(G34<>\"\",Data!ER20,\"\")","v":""},{"$f":"IF(O34=\"\",\"\",Data!FD20)","v":""},{"$f":"IF(AA11>3,IF(RaceList!$E$5>3,\"4th\",\"\"),\"\")","v":"4th"},{"$f":"IF($S34=\"\",\"\",0+TRIM(CLEAN(INDEX($C$16:$C$39,MATCH(4,$N$16:$N$39,0),1))))","v":7},{"$f":"IF($S34=\"\",\"\",INDEX($D$16:$D$39,MATCH(4,$N$16:$N$39,0),1))","v":"Vopop"},null,{"$f":"IF($S34=\"\",\"\",INDEX($R$16:$R$42,MATCH(4,$N$16:$N$39,0),1))","v":6.6222727272727253},{"$f":"IF($S$16=\"\",\"\",IF(IF(ISNA(VLOOKUP(U34,$U$18:$X$20,3,FALSE)),\"\",VLOOKUP(U34,$U$18:$X$20,3,FALSE))=0,\"\",IF(ISNA(VLOOKUP(U34,$U$18:$X$20,3,FALSE)),\"\",VLOOKUP(U34,$U$18:$X$20,3,FALSE))))","v":""},""]
[null,{"$f":"IF(C35=\"\",\"\",Form!C25)","v":""},{"$f":"IF(Data!BF21=\"\",\"\",Data!BF21)","v":""},{"$f":"IF(Data!BF21=\"\",\"\",Data!BD21)","v":""},null,null,{"$f":"IF(C35=\"\",\"\",IF(Data!BG21=\"\",\"SCRATCHED\",Form!E25))","v":""},null,{"$f":"IF(C35=\"\",\"\",IF(Data!BG21=\"\",\"\",Form!F25))","v":""},null,{"$f":"IF(C35=\"\",\"\",IF(I35=\"\",\"\",Form!G25))","v":""},{"$f":"IF(C35=\"\",\"\",IF(D35=\"SCRATCHED\",\"\",Data!BG21))","v":""},{"$f":"IF(C35=\"\",\"\",IF(O35=\"\",\"\",COUNT($O$16:$O$43)-(RANK(O35,$O$16:$O$43)+COUNTIF($O$16:O35,O35)-1)+1))","v":""},"",{"$f":"IF(C35=\"\",\"\",IF(D35=\"SCRATCHED\",\"\",Data!EX21))","v":""},{"$f":"IF(G35=\"\",\"\",IF(IF(ISNA(VLOOKUP(D35,Data!$AX$1:'Data'!$BA$100,4,FALSE)),\"\",VLOOKUP(D35,Data!$AX$1:'Data'!$BA$100,4,FALSE))=0,\"\",IF(ISNA(VLOOKUP(D35,Data!$AX$1:'Data'!$BA$100,4,FALSE)),\"\",VLOOKUP(D35,Data!$AX$1:'Data'!$BA$100,4,FALSE))))","v":""},{"$f":"IF(G35<>\"\",Data!ER21,\"\")","v":""},{"$f":"IF(O35=\"\",\"\",Data!FD21)","v":""},{"$f":"IF(AA11>4,IF(RaceList!$E$5>4,\"5th\",\"\"),\"\")","v":"5th"},{"$f":"IF($S35=\"\",\"\",0+TRIM(CLEAN(INDEX($C$16:$C$39,MATCH(5,$N$16:$N$39,0),1))))","v":10},{"$f":"IF($S35=\"\",\"\",INDEX($D$16:$D$39,MATCH(5,$N$16:$N$39,0),1))","v":"Hoakstess"},null,{"$f":"IF($S35=\"\",\"\",INDEX($R$16:$R$42,MATCH(5,$N$16:$N$39,0),1))","v":6.6222727272727253},{"$f":"IF($S$16=\"\",\"\",IF(IF(ISNA(VLOOKUP(U35,$U$18:$X$20,3,FALSE)),\"\",VLOOKUP(U35,$U$18:$X$20,3,FALSE))=0,\"\",IF(ISNA(VLOOKUP(U35,$U$18:$X$20,3,FALSE)),\"\",VLOOKUP(U35,$U$18:$X$20,3,FALSE))))","v":""},""]
[null,{"$f":"IF(C36=\"\",\"\",Form!C26)","v":""},{"$f":"IF(Data!BF22=\"\",\"\",Data!BF22)","v":""},{"$f":"IF(Data!BF22=\"\",\"\",Data!BD22)","v":""},null,null,{"$f":"IF(C36=\"\",\"\",IF(Data!BG22=\"\",\"SCRATCHED\",Form!E26))","v":""},null,{"$f":"IF(C36=\"\",\"\",IF(Data!BG22=\"\",\"\",Form!F26))","v":""},null,{"$f":"IF(C36=\"\",\"\",IF(I36=\"\",\"\",Form!G26))","v":""},{"$f":"IF(C36=\"\",\"\",IF(D36=\"SCRATCHED\",\"\",Data!BG22))","v":""},{"$f":"IF(C36=\"\",\"\",IF(O36=\"\",\"\",COUNT($O$16:$O$43)-(RANK(O36,$O$16:$O$43)+COUNTIF($O$16:O36,O36)-1)+1))","v":""},"",{"$f":"IF(C36=\"\",\"\",IF(D36=\"SCRATCHED\",\"\",Data!EX22))","v":""},{"$f":"IF(G36=\"\",\"\",IF(IF(ISNA(VLOOKUP(D36,Data!$AX$1:'Data'!$BA$100,4,FALSE)),\"\",VLOOKUP(D36,Data!$AX$1:'Data'!$BA$100,4,FALSE))=0,\"\",IF(ISNA(VLOOKUP(D36,Data!$AX$1:'Data'!$BA$100,4,FALSE)),\"\",VLOOKUP(D36,Data!$AX$1:'Data'!$BA$100,4,FALSE))))","v":""},{"$f":"IF(G36<>\"\",Data!ER22,\"\")","v":""},{"$f":"IF(O36=\"\",\"\",Data!FD22)","v":""},{"$f":"IF(AA11>5,IF(RaceList!$E$5>5,\"6th\",\"\"),\"\")","v":""},{"$f":"IF($S36=\"\",\"\",0+TRIM(CLEAN(INDEX($C$16:$C$39,MATCH(6,$N$16:$N$39,0),1))))","v":""},{"$f":"IF($S36=\"\",\"\",INDEX($D$16:$D$39,MATCH(6,$N$16:$N$39,0),1))","v":""},null,{"$f":"IF($S36=\"\",\"\",INDEX($R$16:$R$42,MATCH(6,$N$16:$N$39,0),1))","v":""},{"$f":"IF($S$16=\"\",\"\",IF(IF(ISNA(VLOOKUP(U36,$U$18:$X$20,3,FALSE)),\"\",VLOOKUP(U36,$U$18:$X$20,3,FALSE))=0,\"\",IF(ISNA(VLOOKUP(U36,$U$18:$X$20,3,FALSE)),\"\",VLOOKUP(U36,$U$18:$X$20,3,FALSE))))","v":""},""]
[null,{"$f":"IF(C37=\"\",\"\",Form!C27)","v":""},{"$f":"IF(Data!BF23=\"\",\"\",Data!BF23)","v":""},{"$f":"IF(Data!BF23=\"\",\"\",Data!BD23)","v":""},null,null,{"$f":"IF(C37=\"\",\"\",IF(Data!BG23=\"\",\"SCRATCHED\",Form!E27))","v":""},null,{"$f":"IF(C37=\"\",\"\",IF(Data!BG23=\"\",\"\",Form!F27))","v":""},null,{"$f":"IF(C37=\"\",\"\",IF(I37=\"\",\"\",Form!G27))","v":""},{"$f":"IF(C37=\"\",\"\",IF(D37=\"SCRATCHED\",\"\",Data!BG23))","v":""},{"$f":"IF(C37=\"\",\"\",IF(O37=\"\",\"\",COUNT($O$16:$O$43)-(RANK(O37,$O$16:$O$43)+COUNTIF($O$16:O37,O37)-1)+1))","v":""},"",{"$f":"IF(C37=\"\",\"\",IF(D37=\"SCRATCHED\",\"\",Data!EX23))","v":""},{"$f":"IF(G37=\"\",\"\",IF(IF(ISNA(VLOOKUP(D37,Data!$AX$1:'Data'!$BA$100,4,FALSE)),\"\",VLOOKUP(D37,Data!$AX$1:'Data'!$BA$100,4,FALSE))=0,\"\",IF(ISNA(VLOOKUP(D37,Data!$AX$1:'Data'!$BA$100,4,FALSE)),\"\",VLOOKUP(D37,Data!$AX$1:'Data'!$BA$100,4,FALSE))))","v":""},{"$f":"IF(G37<>\"\",Data!ER23,\"\")","v":""},{"$f":"IF(O37=\"\",\"\",Data!FD23)","v":""},{"$f":"IF(AA11>6,IF(RaceList!$E$5>6,\"7th\",\"\"),\"\")","v":""},{"$f":"IF($S37=\"\",\"\",0+TRIM(CLEAN(INDEX($C$16:$C$39,MATCH(7,$N$16:$N$39,0),1))))","v":""},{"$f":"IF($S37=\"\",\"\",INDEX($D$16:$D$39,MATCH(7,$N$16:$N$39,0),1))","v":""},null,{"$f":"IF($S37=\"\",\"\",INDEX($R$16:$R$42,MATCH(7,$N$16:$N$39,0),1))","v":""},"",""]
[null,{"$f":"IF(C38=\"\",\"\",Form!C28)","v":""},{"$f":"IF(Data!BF24=\"\",\"\",Data!BF24)","v":""},{"$f":"IF(Data!BF24=\"\",\"\",Data!BD24)","v":""},null,null,{"$f":"IF(C38=\"\",\"\",IF(Data!BG24=\"\",\"SCRATCHED\",Form!E28))","v":""},null,{"$f":"IF(C38=\"\",\"\",IF(Data!BG24=\"\",\"\",Form!F28))","v":""},null,{"$f":"IF(C38=\"\",\"\",IF(I38=\"\",\"\",Form!G28))","v":""},{"$f":"IF(C38=\"\",\"\",IF(D38=\"SCRATCHED\",\"\",Data!BG24))","v":""},{"$f":"IF(C38=\"\",\"\",IF(O38=\"\",\"\",COUNT($O$16:$O$43)-(RANK(O38,$O$16:$O$43)+COUNTIF($O$16:O38,O38)-1)+1))","v":""},"",{"$f":"IF(C38=\"\",\"\",IF(D38=\"SCRATCHED\",\"\",Data!EX24))","v":""},{"$f":"IF(G38=\"\",\"\",IF(IF(ISNA(VLOOKUP(D38,Data!$AX$1:'Data'!$BA$100,4,FALSE)),\"\",VLOOKUP(D38,Data!$AX$1:'Data'!$BA$100,4,FALSE))=0,\"\",IF(ISNA(VLOOKUP(D38,Data!$AX$1:'Data'!$BA$100,4,FALSE)),\"\",VLOOKUP(D38,Data!$AX$1:'Data'!$BA$100,4,FALSE))))","v":""},{"$f":"IF(G38<>\"\",Data!ER24,\"\")","v":""},{"$f":"IF(O38=\"\",\"\",Data!FD24)","v":""},{"$f":"IF(AA11>7,IF(RaceList!$E$5>7,\"8th\",\"\"),\"\")","v":""},{"$f":"IF($S38=\"\",\"\",0+TRIM(CLEAN(INDEX($C$16:$C$39,MATCH(8,$N$16:$N$39,0),1))))","v":""},{"$f":"IF($S38=\"\",\"\",INDEX($D$16:$D$39,MATCH(8,$N$16:$N$39,0),1))","v":""},null,{"$f":"IF($S38=\"\",\"\",INDEX($R$16:$R$42,MATCH(8,$N$16:$N$39,0),1))","v":""},"",""]
[null,{"$f":"IF(C39=\"\",\"\",Form!C29)","v":""},{"$f":"IF(Data!BF25=\"\",\"\",Data!BF25)","v":""},{"$f":"IF(Data!BF25=\"\",\"\",Data!BD25)","v":""},null,null,{"$f":"IF(C39=\"\",\"\",IF(Data!BG25=\"\",\"SCRATCHED\",Form!E29))","v":""},null,{"$f":"IF(C39=\"\",\"\",IF(Data!BG25=\"\",\"\",Form!F29))","v":""},null,{"$f":"IF(C39=\"\",\"\",IF(I39=\"\",\"\",Form!G29))","v":""},{"$f":"IF(C39=\"\",\"\",IF(D39=\"SCRATCHED\",\"\",Data!BG25))","v":""},{"$f":"IF(C39=\"\",\"\",IF(O39=\"\",\"\",COUNT($O$16:$O$43)-(RANK(O39,$O$16:$O$43)+COUNTIF($O$16:O39,O39)-1)+1))","v":""},"",{"$f":"IF(C39=\"\",\"\",IF(D39=\"SCRATCHED\",\"\",Data!EX25))","v":""},{"$f":"IF(G39=\"\",\"\",IF(IF(ISNA(VLOOKUP(D39,Data!$AX$1:'Data'!$BA$100,4,FALSE)),\"\",VLOOKUP(D39,Data!$AX$1:'Data'!$BA$100,4,FALSE))=0,\"\",IF(ISNA(VLOOKUP(D39,Data!$AX$1:'Data'!$BA$100,4,FALSE)),\"\",VLOOKUP(D39,Data!$AX$1:'Data'!$BA$100,4,FALSE))))","v":""},{"$f":"IF(G39<>\"\",Data!ER25,\"\")","v":""},{"$f":"IF(O39=\"\",\"\",Data!FD25)","v":""}]
[{"$nulls":13},{"$f":"IF(M40=\"\",\"\",RANK(M40,$M$16:$M$43))","v":""},null,{"$f":"IF(G40=\"\",\"\",IF(IF(ISNA(VLOOKUP(D40,Data!$AX$1:'Data'!$BA$100,4,FALSE)),\"\",VLOOKUP(D40,Data!$AX$1:'Data'!$BA$100,4,FALSE))=0,\"\",IF(ISNA(VLOOKUP(D40,Data!$AX$1:'Data'!$BA$100,4,FALSE)),\"\",VLOOKUP(D40,Data!$AX$1:'Data'!$BA$100,4,FALSE))))","v":""},{"$f":"IF(G40<>\"\",Data!ER26,\"\")","v":""},{"$f":"IF(O40=\"\",\"\",Data!FD26)","v":""}]
[{"$nulls":13},"",null,{"$f":"IF(G41=\"\",\"\",IF(IF(ISNA(VLOOKUP(D41,Data!$AX$1:'Data'!$BA$100,4,FALSE)),\"\",VLOOKUP(D41,Data!$AX$1:'Data'!$BA$100,4,FALSE))=0,\"\",IF(ISNA(VLOOKUP(D41,Data!$AX$1:'Data'!$BA$100,4,FALSE)),\"\",VLOOKUP(D41,Data!$AX$1:'Data'!$BA$100,4,FALSE))))","v":""},{"$f":"IF(G41<>\"\",Data!ER27,\"\")","v":""},{"$f":"IF(O41=\"\",\"\",Data!FD27)","v":""}]
[{"$nulls":13},"",null,{"$f":"IF(G42=\"\",\"\",IF(IF(ISNA(VLOOKUP(D42,Data!$AX$1:'Data'!$BA$100,4,FALSE)),\"\",VLOOKUP(D42,Data!$AX$1:'Data'!$BA$100,4,FALSE))=0,\"\",IF(ISNA(VLOOKUP(D42,Data!$AX$1:'Data'!$BA$100,4,FALSE)),\"\",VLOOKUP(D42,Data!$AX$1:'Data'!$BA$100,4,FALSE))))","v":""},{"$f":"IF(G42<>\"\",Data!ER28,\"\")","v":""},{"$f":"IF(O42=\"\",\"\",Data!FD28)","v":""}]
[]
[{"$nulls":18},"Bets"]
[null,{"$f":"\"[table]\"","v":"[table]"},{"$nulls":17},{"$f":"S30","v":"Kyneton"},null,{"$f":"U30","v":"Race   9"},{"$f":"V30","v":"Restricted 58"}]
[null,{"$f":"\"[tr]\"","v":"[tr]"},{"$nulls":17},{"$f":"IF(T31=\"\",\"\",T31&\". \"&SUBSTITUTE(U31,\"'\",\"\"))","v":"13. Remedia"},null,{"$f":"W31","v":2.4526936026936026}]
[null,null,{"$f":"\"[td][url=\"&Data!P2&\"]\"&S30&\"   \"&U30&\"[/url][/td]\"","v":"[td][url=http://www.tabonline.com.au/2012/05/14/VR09.html]Kyneton   Race   9[/url][/td]"},{"$nulls":16},{"$f":"IF(T32=\"\",\"\",T32&\". \"&SUBSTITUTE(U32,\"'\",\"\"))","v":"3. Watasham"},null,{"$f":"W32","v":4.2850000000000001}]
[null,null,{"$f":"\"[td][color=yellow]\"&Form!D3&\"[/color][/td]\"","v":"[td][color=yellow]Sole Heating & Cooling Hcp-58[/color][/td]"},{"$nulls":16},"9. Elite Ebony",null,{"$f":"W33","v":4.2850000000000001}]
[null,null,{"$f":"\"[td]\"&\"$\"&T29&\"[/td]\"","v":"[td]$12000[/td]"},{"$nulls":16},"7. Vopop",null,{"$f":"W34","v":6.6222727272727253}]
[null,null,{"$f":"\"[td][color=lime]\"&V30&\"[/color][/td]\"","v":"[td][color=lime]Restricted 58[/color][/td]"},{"$nulls":16},"10. Hoakstess",null,{"$f":"W35","v":6.6222727272727253}]
[null,{"$f":"\"[/tr]\"","v":"[/tr]"},{"$nulls":17},"",null,{"$f":"W36","v":""}]
[null,{"$f":"\"[tr]\"","v":"[tr]"},{"$nulls":17},"",null,""]
[null,null,{"$f":"\"[td]No Horse[/td]\"","v":"[td]No Horse[/td]"},{"$nulls":16},"",null,""]
[null,null,{"$f":"\"[td]Rated Price[/td]\"","v":"[td]Rated Price[/td]"},{"$nulls":16},""]
[null,null,{"$f":"\"[td]Win[/td]\"","v":"[td]Win[/td]"},{"$nulls":16},""]
[null,null,{"$f":"\"[td]Place[/td]\"","v":"[td]Place[/td]"}]
[null,{"$f":"IF(B58=\"\",\"\",\"[/tr]\")","v":"[/tr]"},null,null,null,{"$f":"IF(W48=\"\",\"\",\"[td]\"&\"Price\"&\"[/td]\")","v":""}]
[null,{"$f":"\"[tr]\"","v":"[tr]"}]
[null,null,{"$f":"IF(T46=\"\",\"\",\"[td]\"&T46&\"[/td]\")","v":"[td]13. Remedia[/td]"},{"$nulls":4},{"$f":"IF(Y49=\"\",\"\",\"[td]\"&\"No Horse\"&\"[/td]\")","v":""}]
[null,null,{"$f":"IF(T46=\"\",\"\",\"[td]\"&\"$\"&TEXT(V46,\"0.00\")&\"[/td]\")","v":"[td]$2.45[/td]"}]
[null,null,{"$f":"IF(C60=\"\",\"\",\"[td]\"&\"[/td]\")","v":"[td][/td]"}]
[null,null,{"$f":"IF(C61=\"\",\"\",\"[td]\"&\"[/td]\")","v":"[td][/td]"}]
[null,{"$f":"IF(B64=\"\",\"\",\"[/tr]\")","v":"[/tr]"}]
[null,{"$f":"IF(RaceList!$E$5>1,\"[tr]\",\"[/table]\")","v":"[tr]"}]
[null,null,{"$f":"IF(T47=\"\",\"\",\"[td]\"&T47&\"[/td]\")","v":"[td]3. Watasham[/td]"}]
[null,null,{"$f":"IF(T47=\"\",\"\",\"[td]\"&\"$\"&TEXT(V47,\"0.00\")&\"[/td]\")","v":"[td]$4.29[/td]"}]
[null,null,{"$f":"IF(C66=\"\",\"\",\"[td]\"&\"[/td]\")","v":"[td][/td]"}]
[null,null,{"$f":"IF(C67=\"\",\"\",\"[td]\"&\"[/td]\")","v":"[td][/td]"}]
[null,{"$f":"IF(B70=\"\",\"\",\"[/tr]\")","v":"[/tr]"}]
[null,{"$f":"IF(C68=\"\",\"\",IF(RaceList!$E$5>2,\"[tr]\",\"[/table]\"))","v":"[tr]"}]
[null,null,{"$f":"IF(T48=\"\",\"\",\"[td]\"&T48&\"[/td]\")","v":"[td]9. Elite Ebony[/td]"}]
[null,null,{"$f":"IF(T48=\"\",\"\",\"[td]\"&\"$\"&TEXT(V48,\"0.00\")&\"[/td]\")","v":"[td]$4.29[/td]"}]
[null,null,{"$f":"IF(C72=\"\",\"\",\"[td]\"&\"[/td]\")","v":"[td][/td]"}]
[null,null,{"$f":"IF(C73=\"\",\"\",\"[td]\"&\"[/td]\")","v":"[td][/td]"}]
[null,{"$f":"IF(B76=\"\",\"\",\"[/tr]\")","v":"[/tr]"}]
[null,{"$f":"IF(C74=\"\",\"\",IF(RaceList!$E$5>3,\"[tr]\",\"[/table]\"))","v":"[tr]"}]
[null,null,{"$f":"IF(T49=\"\",\"\",\"[td]\"&T49&\"[/td]\")","v":"[td]7. Vopop[/td]"}]
[null,null,{"$f":"IF(T49=\"\",\"\",\"[td]\"&\"$\"&TEXT(V49,\"0.00\")&\"[/td]\")","v":"[td]$6.62[/td]"}]
[null,null,{"$f":"IF(C78=\"\",\"\",\"[td]\"&\"[/td]\")","v":"[td][/td]"}]
[null,null,{"$f":"IF(C79=\"\",\"\",\"[td]\"&\"[/td]\")","v":"[td][/td]"},null,null,{"$f":"IF($E80=1,#REF!,\"\")","v":""},{"$f":"IF($E80=2,#REF!,\"\")","v":""},{"$f":"IF($E80=3,#REF!,\"\")","v":""},{"$f":"IF($E80=4,#REF!,\"\")","v":""}]
[null,{"$f":"IF(B82=\"\",\"\",\"[/tr]\")","v":"[/tr]"}]
[null,{"$f":"IF(C80=\"\",\"\",IF(RaceList!$E$5>4,\"[tr]\",\"[/table]\"))","v":"[tr]"}]
[null,null,{"$f":"IF(T50=\"\",\"\",\"[td]\"&T50&\"[/td]\")","v":"[td]10. Hoakstess[/td]"}]
[null,null,{"$f":"IF(T50=\"\",\"\",\"[td]\"&\"$\"&TEXT(V50,\"0.00\")&\"[/td]\")","v":"[td]$6.62[/td]"}]
[null,null,{"$f":"IF(C84=\"\",\"\",\"[td]\"&\"[/td]\")","v":"[td][/td]"}]
[null,null,{"$f":"IF(C85=\"\",\"\",\"[td]\"&\"[/td]\")","v":"[td][/td]"}]
[null,{"$f":"IF(B88=\"\",\"\",\"[/tr]\")","v":"[/tr]"}]
[null,{"$f":"IF(C86=\"\",\"\",IF(RaceList!$E$5>5,\"[tr]\",\"[/table]\"))","v":"[/table]"}]
[null,null,{"$f":"IF(T51=\"\",\"\",\"[td]\"&T51&\"[/td]\")","v":""}]
[null,null,{"$f":"IF(T51=\"\",\"\",\"[td]\"&\"$\"&TEXT(V51,\"0.00\")&\"[/td]\")","v":""}]
[null,null,{"$f":"IF(C90=\"\",\"\",\"[td]\"&\"[/td]\")","v":""}]
[null,null,{"$f":"IF(C91=\"\",\"\",\"[td]\"&\"[/td]\")","v":""}]
[null,{"$f":"IF(B94=\"\",\"\",\"[/tr]\")","v":""}]
[null,{"$f":"IF(C92=\"\",\"\",IF(RaceList!$E$5>6,\"[tr]\",\"[/table]\"))","v":""}]
[null,null,{"$f":"IF(T52=\"\",\"\",\"[td]\"&T52&\"[/td]\")","v":""}]
[null,null,{"$f":"IF(T52=\"\",\"\",\"[td]\"&\"$\"&TEXT(V52,\"0.00\")&\"[/td]\")","v":""}]
[null,null,{"$f":"IF(C96=\"\",\"\",\"[td]\"&\"[/td]\")","v":""}]
[null,null,{"$f":"IF(C97=\"\",\"\",\"[td]\"&\"[/td]\")","v":""}]
[null,{"$f":"IF(B100=\"\",\"\",\"[/tr]\")","v":""}]
[null,{"$f":"IF(C98=\"\",\"\",IF(RaceList!$E$5>7,\"[tr]\",\"[/table]\"))","v":""}]
[null,null,{"$f":"IF(T53=\"\",\"\",\"[td]\"&T53&\"[/td]\")","v":""}]
[null,null,{"$f":"IF(T53=\"\",\"\",\"[td]\"&\"$\"&TEXT(V53,\"0.00\")&\"[/td]\")","v":""}]
[null,null,{"$f":"IF(C102=\"\",\"\",\"[td]\"&\"[/td]\")","v":""}]
[null,null,{"$f":"IF(C103=\"\",\"\",\"[td]\"&\"[/td]\")","v":""}]
[null,{"$f":"IF(B106=\"\",\"\",\"[/tr]\")","v":""}]
[null,{"$f":"IF(C104=\"\",\"\",\"[/table]\")","v":""}]
{"$rows_empty":17}
[null,null,{"$f":"IF(AA87=\"\",\"\",\"[td]\"&\"$\"&TEXT(AA87,\"0.00\")&\"[/td]\")","v":""}]
[null,{"$f":"IF(B126=\"\",\"\",\"[/tr]\")","v":""}]

{"sheet":"Meetings1","index":2,"n_rows":36,"n_cols":8,"rows_kept":36,"cut":false,"hidden":false,"merged":[]}
["Select Date",{"$nulls":6},"Live Odds By"]
["Albury"]
[null,"01:13:00","Pogson Cronin Solicitors Mdn - 1175","Fields","Form","Xtra Ratings","Consistency"]
[null,"01:48:00","Greener Grass Country Plate - 1400","Fields","Form","Xtra Ratings","Consistency"]
[null,"02:23:00","Follow @alburyracing Mdn Hcp - 1600","Fields","Form","Xtra Ratings","Consistency"]
[4,"03:00:00","Enpower Solutions (Eps) (Bm61) - 1600","Fields","Form","Xtra Ratings","Consistency"]
[5,"03:35:00","Carlton Draught Hcp (C3) - 1400","Fields","Form","Xtra Ratings","Consistency"]
[6,"04:12:00","Commercial Club Albury (Bm70) - 1175","Fields","Form","Xtra Ratings","Consistency"]
[7,"04:48:00","Blacklocks Lavington Hcp (C1) - 1175","Fields","Form","Xtra Ratings","Consistency"]
["Dubbo"]
[null,"01:00:00","Thompson Bros Transport Mdn - 1300","Fields","Form","Xtra Ratings","Consistency"]
[null,"01:35:00","Louth Field Day - 9th June Mdn - 1100","Fields","Form","Xtra Ratings","Consistency"]
[null,"02:10:00","Dubbo Equine Hospital Hcp (C2) - 1100","Fields","Form","Xtra Ratings","Consistency"]
[4,"02:45:00","Ploughman's Rest Tavern (C1) - 1400","Fields","Form","Xtra Ratings","Consistency"]
[5,"03:20:00","Aqua West Dubbo Hcp (C3) - 1600","Fields","Form","Xtra Ratings","Consistency"]
[6,"03:55:00","Kings Hall Jewellers Open Hcp - 1300","Fields","Form","Xtra Ratings","Consistency"]
[7,"04:32:00","Dubbo Railway Bowling Clb-Bm70 - 1000","Fields","Form","Xtra Ratings","Consistency"]
["Kyneton"]
[null,"11:43:00","Www.Racingnetwork.Com.Au Mdn - 1218","Fields","Form","Xtra Ratings","Consistency"]
[null,"12:15:00","Hygain Mdn Plate - 1479","Fields","Form","Xtra Ratings","Consistency"]
[null,"12:50:00","Hanging Rock Winery Mdn Plate - 1479","Fields","Form","Xtra Ratings","Consistency"]
[null,"01:25:00","Casella Wines Mdn Plate - 1887","Fields","Form","Xtra Ratings","Consistency"]
[null,"02:00:00","Welcome Back M Liston Mdn - 1887","Fields","Form","Xtra Ratings","Consistency"]
[6,"02:35:00","Nmit Hcp (62) - 1887","Fields","Form","Xtra Ratings","Consistency"]
[7,"03:10:00","Iasbet.Com Hcp (68) - 1479","Fields","Form","Xtra Ratings","Consistency"]
[8,"03:45:00","Slickpix/ Tvn Hcp (68) - 1218","Fields","Form","Xtra Ratings","Consistency"]
[9,"04:22:00","Sole Heating & Cooling Hcp-58 - 1218","Fields","Form","Xtra Ratings","Consistency"]
["Paeroa"]
[null,"12:37:00","Penninsula Mtls (0-1) Win Hrdl - 2950","Fields","Form","Xtra Ratings","Consistency"]
[null,"01:12:00","Penninsula Cars (0-1) Win Stpl - 4000","Fields","Form","Xtra Ratings","Consistency"]
[null,"01:47:00","Toyota Signature Class Mdn Hwt - 2200","Fields","Form","Xtra Ratings","Consistency"]
[null,"02:22:00","Tony Richards Toyota Hcp (65) - 2200","Fields","Form","Xtra Ratings","Consistency"]
[null,"02:57:00","Valley Toyota Thames Mdn Hwt - 1670","Fields","Form","Xtra Ratings","Consistency"]
[null,"03:32:00","B L Anderson Fam. Trust Hwt-65 - 1670","Fields","Form","Xtra Ratings","Consistency"]
[null,"04:07:00","Hotel Imperial Thames Hwt (65) - 1670","Fields","Form","Xtra Ratings","Consistency"]
["END"]

{"sheet":"Meetings2","index":3,"n_rows":23,"n_cols":15,"rows_kept":23,"cut":false,"hidden":false,"merged":[[1,0,1,2],[24,0,24,2],[6,0,6,2],[12,0,12,2]]}
[]
["Races",null,null,1,2,3,4,5,6,7,8,9,10,11,12]
[null,"DUBBO (NR)","Fields","01:00:00","01:35:00","02:10:00","2:45 F4","3:20 F4","3:55 F4","4:32 F4"]
[null,"KYNETON (VR)","Fields","11:43am ","12:15:00","12:50:00","01:25:00","02:00:00","2:35 F4","3:10 F4","3:45 F4","4:22 F4"]
[null,"ALBURY (CR)","Fields","01:13:00","01:48:00","02:23:00","3:00 F4","3:35 F4","4:12 F4","4:48 F4"]
[null,"PAEROA (ZS)","Fields","10:37am ","11:12am ","11:47am ","12:22:00","12:57:00","01:32:00","02:07:00"]
["Trots",null,null,1,2,3,4,5,6,7,8,9,10,11,12]
[null,"GOULBURN (NT)","Fields","11:16am ","11:49am ","12:19:00","12:54:00","01:29:00","02:04:00","02:40:00","03:15:00","03:50:00","04:25:00"]
[null,"HAMILTON (VT)","Fields","12:32:00","01:07:00","01:42:00","02:17:00","02:55:00","03:30:00","04:05:00","04:42:00"]
[null,"GLOBE DERBY (AT)","Fields","1:52 F4","2:27 F4","3:05 F4","3:40 F4","4:15 F4","4:55 F4","5:20 F4","5:48 F4"]
[null,"GLOUCESTER PARK (PT)","Fields","02:50:00","03:25:00","04:00:00","04:35:00","05:04:00","05:30:00","06:02:00","06:31:00"]
[null,"DEVONPORT (TT)","Fields","6:15 F4","6:50 F4","7:18 F4","7:44 F4","8:13 F4","8:41 F4","9:09 F4","9:37 F4"]
["Greyhounds",null,null,1,2,3,4,5,6,7,8,9,10,11,12]
[null,"ALBION PARK (BG)","Fields","6:42 F4","7:01 F4","7:23 F4","7:41 F4","8:03 F4","8:24 F4","8:46 F4","9:04 F4","9:24 F4","9:45 F4"]
[null,"BULLI (SG)","Fields","07:13:00","07:32:00","07:53:00","08:11:00","08:32:00","08:52:00","09:14:00","09:32:00","09:52:00","10:14:00"]
[null,"SANDOWN PARK (MG)","Fields","04:09:00","04:29:00","04:52:00","05:10:00","05:26:00","05:44:00","06:07:00","06:24:00","06:45:00","07:04:00","07:26:00"]
[null,"BATHURST (NG)","Fields","04:19:00","04:39:00","05:00:00","05:16:00","05:36:00","05:54:00","06:12:00","06:28:00","06:48:00","07:07:00"]
[null,"SHEPPARTON (VG)","Fields","07:10:00","07:29:00","07:49:00","08:07:00","08:27:00","08:49:00","09:07:00","09:28:00","09:48:00","10:05:00","10:27:00","10:45:00"]
[null,"ANGLE PARK (AG)","Fields","6:36 F4","6:55 F4","7:16 F4","7:35 F4","7:56 F4","8:18 F4","8:36 F4","8:56 F4","9:17 F4","9:35 F4","9:56 F4"]
[null,"NORTHAM (PG)","Fields","03:19:00","03:39:00","03:54:00","04:18:00","04:41:00","04:59:00","05:19:00","05:40:00","05:58:00","06:20:00","06:39:00"]
[null,"BENDIGO (EG)","Fields","11:37am ","11:54am ","12:12:00","12:29:00","12:47:00","01:04:00","01:22:00","01:39:00","01:57:00","02:14:00","02:32:00"]
[null,"MANAWATU (ZG)","Fields","10:08am ","10:28am ","10:46am ","11:04am ","11:21am ","11:39am ","11:56am ","12:13:00","12:31:00","12:48:00","01:06:00","01:23:00"]
[null,"LAUNCESTON (TG)","Fields","7:38 F4","7:59 F4","8:21 F4","8:39 F4","9:00 F4","9:20 F4","9:42 F4","10:00 F4","10:20 F4","10:40 F4"]

{"sheet":"Form","index":4,"n_rows":695,"n_cols":11,"rows_kept":695,"cut":false,"hidden":false,"merged":[]}
[null,"Form - Kyneton 14/05/12"]
[{"$f":"IF(AND(B4=\"Career::\",B3=\"\"),IF(C2=\"\",\"\",IF(ISERROR(MID(C2,FIND(\" \",C2,1)+1,FIND(\"(\",C2,1)-FIND(\" \",C2,1)-2)),\"\",MID(C2,FIND(\" \",C2,1)+1,FIND(\"(\",C2,1)-FIND(\" \",C2,1)-2))),IF(C1=\"\",\"\",IF(ISERROR(MID(C1,FIND(\" \",C1,1)+1,FIND(\"(\",C1,1)-FIND(\" \",C1,1)-2)),\"\",MID(C1,FIND(\" \",C1,1)+1,FIND(\"(\",C1,1)-FIND(\" \",C1,1)-2))))","v":""}]
[{"$f":"IF(AND(B5=\"Career::\",B4=\"\"),IF(C3=\"\",\"\",IF(ISERROR(MID(C3,FIND(\" \",C3,1)+1,FIND(\"(\",C3,1)-FIND(\" \",C3,1)-2)),\"\",MID(C3,FIND(\" \",C3,1)+1,FIND(\"(\",C3,1)-FIND(\" \",C3,1)-2))),IF(C2=\"\",\"\",IF(ISERROR(MID(C2,FIND(\" \",C2,1)+1,FIND(\"(\",C2,1)-FIND(\" \",C2,1)-2)),\"\",MID(C2,FIND(\" \",C2,1)+1,FIND(\"(\",C2,1)-FIND(\" \",C2,1)-2))))","v":""},"Race 9",null,"Sole Heating & Cooling Hcp-58",null,"Restricted 58",null,null,null,"1218m"]
[{"$f":"0+LEFT(B4,FIND(\"::\",B4)-1)","v":4},"04::22",null,"Apprentices Can Claim",null,"Handicap Min Hcp Wgt :: 54.0",null,null,12000]
[{"$f":"RIGHT(B4,LEN(B4)-FIND(\"::\",B4,1))","v":":22"},"#","Form","    Horse (Barrier)    ","      Trainer      ","      Jockey      ","Wgt","API","Win%","Plc%","Odds"]
[{"$f":"IF(A4<8,A4+12,A4)","v":16},1,"43x030","Agasha (7)","Jason Warren","J R Todd",60,1.7,11.1,44.4,"10/1"]
[{"$f":"SUBSTITUTE(A5,\":\",\".\")","v":".22"},2,403921,"Handle On A Star (16)","J D Pearson","Zachary Scullie",60,0.9,6.7,33.299999999999997,"6/1"]
[{"$f":"A6&A7","v":"16.22"},3,"2x5332","Watasham (8)","D W Brown","Damian Lane",60,1.5,6.7,46.7,"4/1"]
["",4,"4475x7","Ettore (10)","L J Corstens","G Boss",59.5,1.8,8.3000000000000007,41.7,"8/1"]
["",5,"78290x","Ryolly (9)","Kasey Wilson","Ms R Cross",59.5,1.4,18.2,27.3,"10/1"]
["",6,"9x9039","Mitchener (13)","G W Browney","Erhan Kacmaz",59,1.1000000000000001,8.3000000000000007,25,"12/1"]
["",7,615373,"Vopop (12)","M Sell","C Nicoll",59,0.7,6.2,37.5,"6/1"]
["",8,"0x0306","Northern Shift (11)","A L Browell","A Mallyon",58,0.9,5,30,"7/1"]
["",9,"72859x","Elite Ebony (1)","Ms M Cid","B Rawiller",57.5,2.6,11.8,17.600000000000001,"12/1"]
["",10,"471x03","Hoakstess (4)","Ms A Bennett","I Gundogdu",57.5,1.5,11.1,44.4,"7/1"]
["",11,4728,"Midnight Pearl (5)","J G Symons & S Laxon","Ms N Mc Lean",57.5,1.6,7.9,47.4,"12/1"]
["",12,1360,"Mon Coeur (2)","T A Miles","Katelyn Mallyon",56.5,1.2,9.1,31.8,"20/1"]
["",13,"645x33","Remedia (3)","S S Cunningham","D Gauci",56.5,1,11.1,44.4,"14/1"]
["",14,"2456x6","Dr Schimmell (14)","N J Dyer",null,58,1.2,9.3000000000000007,27.9,"14/1"]
["",15,"55x35x","Glory Man (17)","G A Osborne","Dean Holland",57.5,0.9,0,25,"16/1"]
["",16,"x70623","Lost Chord (15)","Paul Maher",null,55.5,1.4,5.9,29.4,"33/1"]
["",17,382038,"Rulesto (6)","J K Blacker",null,55,0.6,3.2,22.6,"33/1"]
[""]
["",null,"1 Agasha (7) 60.0kg 3yo b g",null,null,"Trainer:: Jason Warren at Mornington",null,null,"Jockey:: J R Todd"]
["Agasha",null,"Owners:: G & Mrs L Strachan, Ms C Strachan, J Strachan, I & Mrs S Macdonald, K Macdonald & D Macdonald",null,null,"Breeding:: Hussonet - Peria by Perugino"]
["","Comments:: Followed len len 3rd I'm Mysterious, On The Rocks 1300m Geesyn Hcp (62) Apr 24 with 10-1/2 len 12th Gone Skiing 1400m Sale Hcp (62) Dead trk May 06 . Faded from 4th on turn at latest outing."]
["","Career::","Earnings::","Win:: 11.1%","Place::","API::","First Up::","Second Up::","Distance::","Track::"]
["","9::1-0-3",14950,null,0.44400000000000001,1.7,"2::0-0-1","2::0-0-1","0::0-0-0","0::0-0-0"]
["","Fast::","Good::","Dead::","Slow::","Heavy::","Distance/Track::","Win Distances::"]
["","0::0-0-0","2::0-0-1","7::1-0-2","0::0-0-0","0::0-0-0","0::0-0-0","1 (1000)"]
["","12-14 10.5L, Sale, 2012-05-06, 1400m, Dead, Race 6, Hcp (62), RB62, $12000, ($0), J R Todd, 11, Cd 59.0-0.0, (54.0), 1::24.94, (), 11/1, Settled- 1200- 800- Turn-, 1-Gone Skiing 60.0"]
["","3-10 1.3L, GeeSyn, 2012-04-24, 1300m, Good, Race 7, Hcp (62), RB62, $12000, ($1050), J Winks, 1, Cd 58.0-0.0, (54), 1::18.31, (), 13/2, Settled-3 1200- 800- Turn-5, 1-I'm Mysterious 57.0"]
["","10-11 10.7L, Sale, 2012-04-01, 1108m, Dead, Race 8, Hcp (C1), Cls 1, $22500, ($250), A Mallyon, 10, Cd 57.0-0.0, (54), 1::03.95, (), 14/1, Settled-7 1200- 800- Turn-8, 1-Peninsula Dane 55.5 Vet examination."]
["","3-10 1.0L, Seymor, 2011-10-16, 1300m, Dead, Race 5, Hcp (62), RB62, $20200, ($1850), M J Walker, 8, Cd 56.0-0.0, (53), 1::17.90, (), 5/1, Settled-8 1200- 800- Turn-6, 1-Dangarway 58.5"]
["","4-10 0.9L, Sale, 2011-10-07, 1113m, Good, Race 8, Hcp (62), RB62, $12000, ($525), L Coffey, 8, Cd 56.0-0.0, (53), 1::04.86, (), 9/1, Settled-2 1200- 800- Turn-3, 1-Ello Ello 57.0"]
["","8-14 4.8L, Ball't, 2011-09-18, 1000m, Dead, Race 5, Hcp (62), RB62, $22500, ($250), M J Walker, 13, Cd 56.5-0.0, (53), 0::58.87, (), 12/1, Settled-4 1200- 800- Turn-3, 1-Tel Onnah 58.5"]
["","1-10 0.4L, Morn., 2011-09-06, 1000m, Dead, Race 1, 3yo+ Mdn, Mdn 3+, $12000, ($6825), M J Walker, 3, Cd 55.5-0.0, (SW), 0::59.24, (), 6/1, Settled-1 1200- 800- Turn-1, 2-The Fairy's Kiss 53.5"]
["","7-10 6.3L, P'ham, 2011-08-28, 1008m, Dead, Race 1, 3yo Mdn, Mdn 3, $12000, ($250), A Mallyon, 7, Cd 57.0-0.0, (SW), 0::58.64, (), 5/1, Settled-7 1200- 800- Turn-7, 1-Miss Zoom 55.0"]
["","3-11 3.3L, Echuca, 2011-08-01, 1009m, Dead, Race 1, 3yo Mdn, Mdn 3, $12000, ($1050), M J Walker, 3, Cd 57.0-0.0, (SW), 1::00.38, (), 16/1, Settled- 1200- 800- Turn-, 1-Dontmentionthewar 57.0 Disappointed for a run."]
["","5-5 0.0L, Crasyn, 2011-07-18, 760m, Good, Race 8, Barrier Trl, Btria 2 cg, $0, ($0), A Mallyon, 5, Cd 0.0-0.0, (CWT), 0::45.98, (), , Settled- 1200- 800- Turn-, 1-Arctic Command 0.0"]
["",null,"2 Handle On A Star (16) 60.0kg 5yo b g",null,null,"Trainer:: J D Pearson at Echuca",null,null,"Jockey:: Zachary Scullie"]
["Handle On A Star",null,"Owners:: J D Pearson & Toopuntal Pastoral (Mgr:: R Harrigan)",null,null,"Breeding:: Oamaru Force - Moss Teak by Twig Moss"]
["J D Pearson & Toopuntal Pastoral","Comments:: Continued good form with nose 2nd Taino 1100m Kerang 3Yo+ Mdn Apr 07 . Then len 1st Joshua's Might, Space Diva 1100m K'ton 3Yo+ Mdn Slow trk Apr 23 . Good win record at this track."]
["","Career::","Earnings::","Win:: 6.7%","Place::","API::","First Up::","Second Up::","Distance::","Track::"]
["","15::1-1-3",13321,null,0.33300000000000002,0.9,"4::0-0-1","3::0-0-1","2::0-0-0","2::1-0-0"]
["","Fast::","Good::","Dead::","Slow::","Heavy::","Distance/Track::","Win Distances::"]
["","0::0-0-0","5::0-1-1","5::0-0-1","4::1-0-1","1::0-0-0","0::0-0-0","1 (1100)"]
["","1-7 0.8L, K'ton, 2012-04-23, 1100m, Slow, Race 1, 3yo+ Mdn, Mdn 3+, $12000, ($6825), Zachary Scullie, 1, Cd 54.5--4.0, (SW), 1::09.46, (), 6/1, Settled-1 1200- 800- Turn-1, 2-Joshua's Might 58.0"]
["","2-9 0.1L, Kerang, 2012-04-07, 1100m, Good, Race 1, 3yo+ Mdn, Mdn 3+, $7000, ($1196), Zachary Scullie, 9, Cd 54.5--4.0, (SW), 1::05.48, (), 8/1, Settled- 1200- 800- Turn-, 1-Taino 58.5"]
["","9-12 6.6L, Echuca, 2012-03-11, 1100m, Good, Race 1, 3yo+ Mdn, Mdn 3+, $15000, ($250), B Rawiller, 9, Cd 58.5-0.0, (SW), 1::05.28, (), 25/1, Settled-7 1200- 800- Turn-6, 1-Moudita 56.0"]
["","3-7 1.1L, Balran, 2012-02-18, 1000m, Good, Race 1, Mdn Plate, Mdn, $4000, ($400), T Barry, 4, Cd 59.0-0.0, (SW), 1::00.37, (), 2/1E, Settled- 1200- 800- Turn-, 1-Maxport 56.0"]
["","12-13 24.2L, Echuca, 2011-12-29, 1400m, Good, Race 4, Mdn, Mdn, $15000, ($0), Jarrod Fry, 11, Cd 58.0-0.0, (SW), 1::25.71, (), 14/1, Settled- 1200- 800- Turn-, 1-Billy Of Chicago 55.0"]
["","4-10 2.0L, K'ton, 2011-12-20, 1125m, Dead, Race 2, 4yo+ Mdn, Mdn 4+, $12000, ($525), Jarrod Fry, 9, Cd 58.0-0.0, (SW), 1::07.23, (), 20/1, Settled-6 1200- 800- Turn-4, 1-Dark Pearl 56.0 Hung in during race."]
["","5-12 4.6L, Tatura, 2011-12-04, 1000m, Dead, Race 1, 3yo+ Mdn, Mdn 3+, $12000, ($250), J Keating, 8, Cd 58.0-0.0, (SW), 0::59.06, (), 14/1, Settled-9 1200- 800- Turn-8, 1-Sparkling Stone 56.0"]
["","6-13 3.0L, Swan H, 2011-11-27, 975m, Slow, Race 1, 3yo+ Mdn, Mdn 3+, $12000, ($250), J Keating, 4, Cd 58.0-0.0, (SW), 0::58.66, (), 15/1, Settled- 1200- 800- Turn-, 1-Spiriticity 56.0"]
["","5-12 3.2L, Swan H, 2011-08-29, 975m, Dead, Race 1, 3yo+ Mdn, Mdn 3+, $12000, ($250), Tash Burleigh, 2, Cd 54.0--4.0, (SW), 0::57.32, (), 4/1, Settled-3 1200- 800- Turn-2, 1-Palconi 58.0"]
["","3-13 2.8L, Swan H, 2011-08-08, 975m, Slow, Race 1, 3yo+ Mdn, Mdn 3+, $12000, ($1050), J Lyon, 6, Cd 58.0-0.0, (SW), 1::00.95, (), 12/1, Settled- 1200- 800- Turn-, 1-Epona Fire 56.0"]
["",null,"3 Watasham (8) 60.0kg 4yo ch g",null,null,"Trainer:: D W Brown at Ballarat",null,null,"Jockey:: Damian Lane"]
["Watasham",null,"Owners:: Ms V Brown",null,null,"Breeding:: Shamardal - Avonells by Tirol"]
["","Comments:: Continued good form with 1-3/4 len hd 3rd Little Bro, Cherish Harmony 1200m Ball't Hcp (62) Dead trk Apr 05 . Then len 2nd Magic Waltz 1300m Geesyn Hcp (58) Apr 27 . Has good record in the wet."]
["","Career::","Earnings::","Win:: 6.7%","Place::","API::","First Up::","Second Up::","Distance::","Track::"]
["","15::1-3-3",22175,null,0.46700000000000003,1.5,"2::0-0-0","2::0-0-1","6::1-1-1","0::0-0-0"]
["","Fast::","Good::","Dead::","Slow::","Heavy::","Distance/Track::","Win Distances::"]
["","0::0-0-0","6::1-2-0","7::0-1-2","0::0-0-0","2::0-0-1","0::0-0-0","1 (1200)"]
["","2-11 0.8L, GeeSyn, 2012-04-27, 1300m, Good, Race 8, Hcp (58), RB58, $12000, ($2100), Dean Holland, 11, Cd 59.5-0.0, (54), 1::17.92, (34.79), 13/4, Settled-1 1200- 800- Turn-1, 1-Magic Waltz 57.5"]
["","3-12 2.0L, Ball't, 2012-04-05, 1200m, Dead, Race 8, Hcp (62), RB62, $15000, ($1350), Damian Lane, 6, Cd 57.5-0.0, (54), 1::12.02, (), 11/1, Settled-2 1200- 800- Turn-2, 1-Little Bro 57.5"]
[{"$f":"IF(AND(B69=\"Career::\",B68=\"\"),IF(C67=\"\",\"\",IF(ISERROR(MID(C67,FIND(\" \",C67,1)+1,FIND(\"(\",C67,1)-FIND(\" \",C67,1)-2)),\"\",MID(C67,FIND(\" \",C67,1)+1,FIND(\"(\",C67,1)-FIND(\" \",C67,1)-2))),IF(C66=\"\",\"\",IF(ISERROR(MID(C66,FIND(\" \",C66,1)+1,FIND(\"(\",C66,1)-FIND(\" \",C66,1)-2)),\"\",MID(C66,FIND(\" \",C66,1)+1,FIND(\"(\",C66,1)-FIND(\" \",C66,1)-2))))","v":""},"3-12 0.9L, W'bee, 2012-03-15, 1100m, Dead, Race 5, Hcp (C1), Cls 1, $15000, ($1350), Damian Lane, 3, Cd 55.5-0.0, (54), 1::05.72, (), 9/1, Settled-4 1200- 800- Turn-5, 1-Darkrai 56.0"]
["","5-14 4.7L, Donald, 2012-02-28, 1000m, Dead, Race 7, Hcp (58), RB58, $12000, ($250), Dean Holland, 14, Cd 60.0-0.0, (54), 0::58.02, (), 3/1F, Settled-5 1200- 800- Turn-4, 1-Limbo Dancer 56.0 Jumped awkwardly."]
["","2-7 0.8L, Kem.Gr, 2011-11-01, 1200m, Good, Race 4, E&G (Bm60), BM60 eg, $14000, ($2800), J Grisedale, 7, Cd 56.0-0.0, (53), 1::10.05, (33.33), 5/1, Settled-2 1200- 800- Turn-1, 1-Carve 'Em Up 54.5"]
["","6-10 2.4L, G'ford, 2011-10-16, 1100m, Good, Race 5, (Bm60), BM60, $14000, ($0), J Bowman, 6, Cd 56.5-0.0, (53), 1::04.87, (35.04), 13/2, Settled-7 1200- 800- Turn-6, 1-Boulevard Baron 58.5"]
["","6-10 8.0L, Kem.Gr, 2011-09-27, 1200m, Dead, Race 6, Hcp (C2), Cls 2, $16000, ($0), Ms K O'Hara, 9, Cd 53.5-0.0, (53), 1::10.71, (35.30), 20/1, Settled-1 1200- 800- Turn-2, 1-Rampart 58.0"]
["","7-10 4.4L, Kem.Gr, 2011-09-10, 1000m, Good, Race 5, Hcp (C1), Cls 1, $14000, ($0), S Pollard, 7, Cd 56.5-0.0, (53), 0::57.93, (34.07), 8/1, Settled-2 1200- 800- Turn-2, 1-Big Nell 54.0"]
["","6-10 4.7L, Ball't, 2011-07-03, 1000m, Heavy, Race 4, Hcp (C1), Cls 1, $22500, ($250), Dean Holland, 2, Cd 57.5-0.0, (53), 1::03.04, (), 13/4F, Settled-4 1200- 800- Turn-2, 1-Adricat 57.0"]
["","6-9 3.5L, Bend, 2011-06-02, 1100m, Dead, Race 4, Hcp (C1), Cls 1, $15000, ($250), Dean Holland, 7, Cd 58.0-0.0, (53), 1::04.05, (), 7/2E, Settled-2 1200- 800- Turn-2, 1-Any Dream Will Do 58.0"]
["",null,"4 Ettore (10) 59.5kg 4yo br g",null,null,"Trainer:: L J Corstens at Kyneton",null,null,"Jockey:: G Boss"]
["Ettore",null,"Owners:: Oti Racing (Mgrs:: T Henderson & S O'Donnell), J Loughnan, K Giles, P Harb, Hpb No 4 Synd, Gunit Synd & Travaglini Racing",null,null,"Breeding:: Bianconi - Tookay by Jeune"]
["Oti Racing","Comments:: Followed spell with 5-1/4 len 5th Vonharp 1400m Ball't Hcp (62) Dead trk Dec 18 . Then 6-3/4 len 7th Freshwater Storm 1200m Geesyn Hcp (C1) Apr 20 . Battled home from 8th on turn at latest outing."]
["","Career::","Earnings::","Win:: 8.3%","Place::","API::","First Up::","Second Up::","Distance::","Track::"]
["","12::1-2-2",21850,null,0.41699999999999998,1.8,"3::0-1-1","2::1-0-0","1::0-0-0","1::0-1-0"]
["","Fast::","Good::","Dead::","Slow::","Heavy::","Distance/Track::","Win Distances::"]
["","0::0-0-0","2::0-0-0","9::1-2-2","1::0-0-0","0::0-0-0","0::0-0-0","1 (1400)"]
["","7-12 6.9L, GeeSyn, 2012-04-20, 1200m, Good, Race 7, Hcp (C1), Cls 1, $12000, ($250), Ms L J Meech, 9, Cd 57.0-0.0, (54), 1::11.52, (34.55), 5/1, Settled-9 1200- 800- Turn-8, 1-Freshwater Storm 57.0"]
["","5-7 0.0L, Cran., 2012-04-02, 990m, Dead, Race 20, Barrier Trl, Btria 2+, $0, ($0), S R King, 5, Cd 0.0-0.0, (CWT), 0::59.89, (), , Settled- 1200- 800- Turn-, 1-Light Touch 0.0"]
["","4-9 0.0L, Tatura, 2012-03-13, 850m, Dead, Race 9, Barrier Trl, Btria 3+, $0, ($0), M Johnstone, 4, Cd 0.0-0.0, (CWT), 0::50.90, (), , Settled- 1200- 800- Turn-, 1-Dubai Opera 0.0"]
["","5-11 5.2L, Ball't, 2011-12-18, 1400m, Dead, Race 8, Hcp (62), RB62, $15000, ($250), J Noonan, 4, Cd 58.0-0.0, (53), 1::28.15, (), 6/1, Settled-6 1200- 800-6 Turn-4, 1-Vonharp 56.0"]
["","7-11 4.1L, G'long, 2011-12-04, 1325m, Dead, Race 8, Hcp (62), RB62, $15000, ($250), S Baster, 7, Cd 59.0-0.0, (53), 1::19.33, (35.05), 5/1, Settled-5 1200- 800- Turn-6, 1-Reparations 57.5"]
["","4-12 3.8L, Seymor, 2011-11-09, 1400m, Dead, Race 8, Hcp (68), RB68, $22500, ($1050), S R King, 7, Cd 56.0-0.0, (53), 1::23.20, (), 12/1, Settled-8 1200- 800-8 Turn-6, 1-Supreme De Lago 59.0"]
["","4-9 3.3L, Cran., 2011-10-13, 1600m, Good, Race 4, Hcp (62), RB62, $15000, ($675), S R King, 2, Cd 59.0-0.0, (53), 1::38.40, (), 1/1F, Settled-3 1200- 800-3 Turn-4, 1-Ironside 56.0"]
["","1-12 1.0L, Seymor, 2011-09-25, 1400m, Dead, Race 3, 4yo+ Mdn, Mdn 4+, $15000, ($8775), S R King, 9, Cd 58.0-0.0, (SW), 1::25.54, (), 7/4F, Settled-1 1200- 800-1 Turn-1, 2-Chief Successor 58.0"]
["","2-8 1.0L, K'ton, 2011-09-13, 1112m, Dead, Race 2, 3yo+ Mdn, Mdn 3+, $12000, ($2100), C Newitt, 4, Cd 58.0-0.0, (SW), 1::06.42, (), 7/2, Settled-4 1200- 800- Turn-3, 1-Revitalise 55.5 Struck interference at start."]
["","7-9 5.4L, Bend, 2011-03-24, 1500m, Slow, Race 2, 3yo Mdn, Mdn 3, $15000, ($250), J Mott, 9, Cd 57.0-0.0, (SW), 1::32.01, (), 6/1, Settled-3 1200- 800-3 Turn-2, 1-Tequila High 57.0"]
["",null,"5 Ryolly (9) 59.5kg 6yo b g",null,null,"Trainer:: Kasey Wilson at Pakenham",null,null,"Jockey:: Ms R Cross"]
["Ryolly",null,"Owners:: Mrs K L Wilson & R T Wilson",null,null,"Breeding:: King Of Prussia - Good Azz by Rancho Ruler"]
["","Comments:: Resumed from spell with 13-3/4 len 9th Fawkner where slowly away 1600m M.V. Hcp (78) Slow trk Oct 28 . Then 12-3/4 len last Te Jay 1600m Wang Hcp (72) Dead trk Nov 14 . Has good record in the wet."]
["","Career::","Earnings::","Win:: 18.2%","Place::","API::","First Up::","Second Up::","Distance::","Track::"]
["","22::4-1-1",30662,null,0.27300000000000002,1.4,"3::1-0-0","2::0-0-0","10::2-0-0","0::0-0-0"]
["","Fast::","Good::","Dead::","Slow::","Heavy::","Distance/Track::","Win Distances::"]
["","0::0-0-0","2::0-0-0","11::0-1-0","5::2-0-0","4::2-0-1","0::0-0-0","1 (1100), 1 (1110), 2 (1200)"]
["","11-11 12.7L, Wang, 2011-11-14, 1600m, Dead, Race 8, Hcp (72), RB72, $12000, ($0), Dean Holland, 8, Cd 53.0-0.0, (53), 1::37.97, (), 20/1, Settled-8 1200- 800-7 Turn-8, 1-Te Jay 56.5"]
["","9-10 13.9L, M.V., 2011-10-28, 1600m, Slow, Race 8, Hcp (78), RB78, $30000, ($350), J R Todd, 2, Cd 54.0-0.0, (54), 1::38.47, (36.24), 50/1, Settled-9 1200- 800-10 Turn-10, 1-Fawkner 56.0 Slowly away."]
["","2-12 0.2L, Bend, 2011-10-15, 1400m, Dead, Race 7, Hcp (58), RB58, $12000, ($2100), J R Todd, 5, Cd 58.0-0.0, (53), 1::25.65, (), 20/1, Settled-10 1200- 800-10 Turn-10, 1-Ask Me Nicely 59.0"]
["","8-12 11.7L, Wang, 2011-10-03, 1400m, Slow, Race 8, Hcp (62), RB62, $12000, ($250), J R Todd, 7, Cd 56.5-0.0, (53), 1::25.64, (), 20/1, Settled- 1200- 800- Turn-, 1-Loot 'N' Run 54.0 Jumped awkwardly. Checked early on."]
["","7-10 7.5L, Wang, 2011-09-04, 1170m, Dead, Race 7, Hcp (62), RB62, $12000, ($250), Lester Grace, 8, Cd 53.0--4.0, (53), 1::10.46, (), 16/1, Settled-8 1200- 800- Turn-9, 1-Undercurrent 58.5"]
["","8-8 4.1L, Wagga, 2011-08-12, 1200m, Dead, Race 5, (Bm70), BM70, $10000, ($0), J Duffy, 1, Cd 52.5--1.5, (54), 1::12.25, (), 9/1, Settled- 1200- 800- Turn-, 1-Fiddle's Dream 54.0"]
["","5-14 6.4L, Wodong, 2011-07-24, 1400m, Dead, Race 7, Hcp (62), RB62, $12000, ($250), L Currie, 4, Cd 59.0-0.0, (53), 1::25.69, (), 11/2, Settled-6 1200- 800-6 Turn-4, 1-Designer 56.0"]
["","4-13 2.2L, Wodong, 2011-07-02, 1200m, Dead, Race 8, Hcp (62), RB62, $12000, ($525), L Currie, 7, Cd 59.0-0.0, (53), 1::11.60, (), 9/2, Settled-7 1200- 800- Turn-7, 1-Bleaching 57.0"]
["","8-12 5.0L, Narran, 2011-06-06, 1200m, Good, Race 5, (Bm65), BM65, $12000, ($0), Mr Tim Phillips, 7, Cd 56.0-0.0, (54), 1::11.64, (36.17), 9/1, Settled- 1200- 800- Turn-, 1-Marinha Grande 54.0"]
["","5-11 3.6L, Tatura, 2011-05-28, 1000m, Good, Race 8, Hcp (68), RB68, $12000, ($250), R Wheeler, 7, Cd 57.5-0.0, (53), 0::58.41, (), 14/1, Settled-9 1200- 800- Turn-9, 1-Levant 59.0 Jumped awkwardly."]
["",null,"6 Mitchener (13) 59.0kg 5yo br g",null,null,"Trainer:: G W Browney at Bendigo",null,null,"Jockey:: Erhan Kacmaz"]
["Mitchener",null,"Owners:: G W Browney & Ms J A Byrne",null,null,"Breeding:: Lonhro - Ottavia by Snippets"]
["","Comments:: Followed len len 3rd Dubai Opera, Grey Dignity 1200m Avoca Hcp (62) Slow trk Apr 25 with 7-1/2 len 9th Riboulding 1400m Bend Hcp (62) Dead trk May 04 . Faded from 3rd on turn at latest outing."]
["","Career::","Earnings::","Win:: 8.3%","Place::","API::","First Up::","Second Up::","Distance::","Track::"]
["","24::2-1-3",26198,null,0.25,1.1000000000000001,"6::0-0-1","6::0-0-1","13::1-0-2","0::0-0-0"]
["","Fast::","Good::","Dead::","Slow::","Heavy::","Distance/Track::","Win Distances::"]
["","0::0-0-0","10::1-1-0","8::0-0-2","4::0-0-1","2::1-0-0","0::0-0-0","1 (1200), 1 (1404)"]
["","9-12 7.6L, Bend, 2012-05-04, 1400m, Dead, Race 5, Hcp (62), RB62, $12000, ($250), C Pace, 10, Cd 56.5--1.5, (54), 1::24.29, (), 30/1, Settled-3 1200- 800-3 Turn-3, 1-Riboulding 60.0"]
["","3-6 1.5L, Avoca, 2012-04-25, 1200m, Slow, Race 6, Hcp (62), RB62, $8000, ($698), J Keating, 5, Cd 58.5-0.0, (55), 0::00.00, (), 11/2, Settled- 1200- 800- Turn-, 1-Dubai Opera 54.5"]
["","11-11 11.9L, Bend, 2012-04-21, 1300m, Dead, Race 7, Hcp (62), RB62, $12000, ($0), J Keating, 7, Cd 58.5-0.0, (54), 1::18.11, (), 40/1, Settled-1 1200- 800-2 Turn-1, 1-Ebony Rock 59.5"]
["","9-12 9.3L, Ball't, 2012-04-05, 1200m, Dead, Race 8, Hcp (62), RB62, $15000, ($250), J Keating, 9, Cd 59.0-0.0, (54), 1::12.02, (), 25/1, Settled-6 1200- 800- Turn-6, 1-Little Bro 57.5 Raced erratically."]
["","9-10 5.4L, Ipswic, 2011-12-09, 1200m, Slow, Race 6, Hcp (C2), Cls 2, $10000, ($0), G Colless, 9, Cd 55.0-0.0, (54), 1::12.73, (36.00), 13/4, Settled-9 1200- 800- Turn-9, 1-Spurtastic 56.0 Jumped awkwardly."]
["","7-10 3.6L, Suncst, 2011-11-06, 1200m, Good, Race 7, Hcp (C2), Cls 2, $12000, ($0), G Colless, 3, Cd 55.0-0.0, (54), 1::11.47, (34.27), 2/1, Settled-2 1200- 800- Turn-2, 1-Baa Baa Jet 54.0 Vet examination."]
["","4-11 2.4L, Ipswic, 2011-10-21, 1350m, Good, Race 7, Hcp (C2), Cls 2, $10000, ($500), J Byrne, 5, Cd 56.0-0.0, (54), 1::20.99, (36.40), 2/1F, Settled- 1200- 800- Turn-, 1-African Mama 54.0 Ran wide early on."]
["","3-10 0.7L, Ipswic, 2011-09-30, 1200m, Dead, Race 7, Hcp (C2), Cls 2, $12000, ($1200), G Colless, 6, Cd 56.5-0.0, (54), 1::11.08, (35.48), 9/2, Settled-6 1200- 800- Turn-5, 1-Theft 58.0"]
["","3-6 0.5L, G Cst, 2011-09-20, 1000m, Good, Race 7, Barrier Trl, Btria, $0, ($0), P Keane, 4, Cd 0.0-0.0, (CWT), 0::59.52, (), , Settled- 1200- 800- Turn-, 1-Double Image 0.0"]
["","9-11 9.0L, Stawel, 2011-04-24, 1600m, Slow, Race 4, Hcp (62), RB62, $13000, ($250), A Mallyon, 9, Cd 58.5-0.0, (53), 1::40.47, (), 3/1F, Settled-2 1200- 800-1 Turn-1, 1-Quizzicle Mis 56.0 Vet examination. Pulled hard during race."]
["",null,"7 Vopop (12) 59.0kg 4yo br/bl g",null,null,"Trainer:: M Sell at Kyneton",null,null,"Jockey:: C Nicoll"]
["Vopop",null,"Owners:: Mrs A K Kraft, D J Kraft, Ms L Skinner, T Duncan & J Nicholls",null,null,"Breeding:: Consolidator - My Lady Penelope by Danewin"]
["","Comments:: Followed 6-1/2 len 7th El Blazing Time where lost a plate 1000m Geesyn Hcp (62) Apr 20 with 1-1/2 len 1/2 nk 3rd My Jessy, Higuain 1100m Ararat Hcp (58) Slow trk Apr 29 . Good win record at this track."]
["","Career::","Earnings::","Win:: 6.2%","Place::","API::","First Up::","Second Up::","Distance::","Track::"]
["","16::1-0-5",10655,null,0.375,0.7,"2::0-0-1","2::0-0-2","3::0-0-1","2::1-0-1"]
[{"$f":"IF(AND(B133=\"Career::\",B132=\"\"),IF(C131=\"\",\"\",IF(ISERROR(MID(C131,FIND(\" \",C131,1)+1,FIND(\"(\",C131,1)-FIND(\" \",C131,1)-2)),\"\",MID(C131,FIND(\" \",C131,1)+1,FIND(\"(\",C131,1)-FIND(\" \",C131,1)-2))),IF(C130=\"\",\"\",IF(ISERROR(MID(C130,FIND(\" \",C130,1)+1,FIND(\"(\",C130,1)-FIND(\" \",C130,1)-2)),\"\",MID(C130,FIND(\" \",C130,1)+1,FIND(\"(\",C130,1)-FIND(\" \",C130,1)-2))))","v":""},"Fast::","Good::","Dead::","Slow::","Heavy::","Distance/Track::","Win Distances::"]
["","0::0-0-0","4::0-0-1","10::1-0-3","2::0-0-1","0::0-0-0","0::0-0-0","1 (1100)"]
["","3-9 1.7L, Ararat, 2012-04-29, 1100m, Slow, Race 4, Hcp (58), RB58, $12000, ($1050), C Nicoll, 2, Cd 59.0-0.0, (54), 1::07.24, (), 11/2, Settled-1 1200- 800- Turn-2, 1-My Jessy 57.5"]
["","7-10 6.5L, GeeSyn, 2012-04-20, 1000m, Good, Race 5, Hcp (62), RB62, $12000, ($250), C Nicoll, 8, Cd 57.5-0.0, (54), 0::59.02, (34.28), 11/1, Settled-6 1200- 800- Turn-5, 1-El Blazing Time 56.0 Struck interference at start. Lost a plate."]
["","3-11 1.9L, GeeSyn, 2012-04-13, 1100m, Good, Race 8, Hcp (62), RB62, $12000, ($1050), C Nicoll, 8, Cd 57.0-0.0, (54), 1::05.84, (34.10), 14/1, Settled-1 1200- 800- Turn-2, 1-Voodoo Prince 58.5"]
["","5-11 4.0L, Cran., 2012-03-30, 1000m, Dead, Race 2, Hcp (58), RB58, $15000, ($250), C Nicoll, 4, Cd 59.5-0.0, (55), 0::58.85, (), 12/1, Settled-3 1200- 800- Turn-3, 1-El Blazing Time 56.0 Struck interference near 400m."]
["","1-10 1.0L, K'ton, 2012-01-26, 1100m, Dead, Race 2, 4yo+ Mdn, Mdn 4+, $7000, ($3887), C Nicoll, 1, Cd 58.5-0.0, (SW), 1::07.40, (), 3/1F, Settled-1 1200- 800- Turn-1, 2-Mr Texico 58.5"]
["","6-13 7.7L, Ararat, 2012-01-16, 1100m, Dead, Race 1, 3yo+ Mdn, Mdn 3+, $12000, ($250), Luke Londregan, 8, Cd 55.5--3.0, (SW), 1::04.48, (), 10/1, Settled-3 1200- 800- Turn-3, 1-Arrogant Cat 56.5"]
["","5-10 5.1L, Gunbwr, 2012-01-07, 1100m, Dead, Race 1, 3yo+ Mdn, Mdn 3+, $7000, ($170), C Nicoll, 3, Cd 58.5-0.0, (SW), 1::05.91, (), 7/2, Settled- 1200- 800- Turn-, 1-Kempinsky Cafe 54.5"]
["","3-9 1.6L, K'ton, 2011-12-15, 1100m, Dead, Race 1, 3yo+ Mdn, Mdn 3+, $15000, ($1350), C Nicoll, 9, Cd 58.0-0.0, (SW), 1::05.11, (), 25/1, Settled-1 1200- 800- Turn-1, 1-Morning Break 58.0"]
["","5-8 7.3L, W'bee, 2011-12-10, 1000m, Dead, Race 2, 3yo+ Mdn, Mdn 3+, $12000, ($250), R Mc Leod, 8, Cd 58.0-0.0, (SW), 0::57.81, (), 25/1, Settled-5 1200- 800- Turn-5, 1-Heart Of Melbourne 56.5"]
["","11-14 15.1L, Echuca, 2011-07-11, 1200m, Slow, Race 2, 2yo+ Mdn, Mdn 2+, $12000, ($0), B Knobel, 7, Cd 58.0-0.0, (SW), 1::12.35, (), 50/1, Settled- 1200- 800- Turn-, 1-Lord Of Brazil 58.0"]
["",null,"8 Northern Shift (11) 58.0kg 4yo b g",null,null,"Trainer:: A L Browell at Bendigo",null,null,"Jockey:: A Mallyon"]
["Northern Shift",null,"Owners:: Mrs V Browell, G & Mrs A Wilson, K McGrath, C Maloney & K & Mrs M A Fitzgibbon",null,null,"Breeding:: Tuscanos - Matagot by Night Shift"]
["","Comments:: Followed 7-1/4 len 12th Lascelles 1100m Bend Hcp (58) Dead trk Apr 21 with 3 len 6th Red Five 1100m K'more Hcp (62) Dead trk Apr 30 . Faded from 3rd on turn at latest outing."]
["","Career::","Earnings::","Win:: 5.0%","Place::","API::","First Up::","Second Up::","Distance::","Track::"]
["","20::1-2-3",17775,null,0.3,0.9,"3::0-0-0","3::0-1-1","3::0-2-0","1::0-0-0"]
["","Fast::","Good::","Dead::","Slow::","Heavy::","Distance/Track::","Win Distances::"]
["","0::0-0-0","2::0-1-0","13::0-0-3","2::1-1-0","3::0-0-0","0::0-0-0","1 (975)"]
["","6-12 3.0L, K'more, 2012-04-30, 1100m, Dead, Race 8, Hcp (62), RB62, $12000, ($250), W Egan, 6, Cd 56.0-0.0, (54), 1::04.84, (), 16/1, Settled-2 1200- 800- Turn-3, 1-Red Five 59.0"]
["","12-16 7.3L, Bend, 2012-04-21, 1100m, Dead, Race 6, Hcp (58), RB58, $12000, ($0), J Keating, 2, Cd 58.5-0.0, (54), 1::04.47, (), 9/1, Settled-2 1200- 800- Turn-2, 1-Lascelles 57.5"]
["","3-12 1.6L, Tatura, 2012-04-07, 1100m, Dead, Race 2, Hcp (58), RB58, $12000, ($1050), Jarrod Fry, 5, Cd 58.5-0.0, (54), 1::05.00, (), 12/1, Settled-1 1200- 800- Turn-1, 1-No Prior Knowledge 55.0"]
["","12-14 8.7L, Donald, 2012-02-28, 1000m, Dead, Race 7, Hcp (58), RB58, $12000, ($0), C A Robertson, 4, Cd 59.0-0.0, (54), 0::58.02, (), 10/1, Settled-3 1200- 800- Turn-3, 1-Limbo Dancer 56.0 Vet examination."]
["","13-14 8.3L, Donald, 2011-10-10, 1350m, Dead, Race 3, Hcp (58), RB58, $12000, ($0), A Mallyon, 3, Cd 58.5-0.0, (53), 1::20.83, (), 6/1, Settled- 1200- 800- Turn-, 1-Caradin 57.0 Vet examination."]
["","2-14 0.1L, Echuca, 2011-09-27, 1200m, Good, Race 8, Hcp (58), RB58, $12000, ($2100), A Mallyon, 7, Cd 58.0-0.0, (53), 1::11.30, (), 12/1, Settled- 1200- 800- Turn-, 1-Amalfi Coast 55.0"]
["","4-11 3.3L, K'ton, 2011-09-13, 1112m, Dead, Race 3, Hcp (58), RB58, $12000, ($525), Tash Burleigh, 2, Cd 54.0--4.0, (53), 1::06.54, (), 13/2, Settled-7 1200- 800- Turn-6, 1-Run For The Hills 58.0 Pulled hard during race."]
["","6-10 6.8L, Tatura, 2011-09-03, 1100m, Good, Race 9, Hcp (58), RB58, $12000, ($250), R Mc Leod, 6, Cd 58.5-0.0, (53), 1::04.39, (), 7/1, Settled-3 1200- 800- Turn-4, 1-Amalfi Coast 53.0"]
["","3-10 0.8L, Murtoa, 2011-08-27, 1100m, Dead, Race 3, Hcp (58), RB58, $12000, ($1050), A Mallyon, 10, Cd 58.5-0.0, (53), 1::05.27, (), 5/1, Settled-3 1200- 800- Turn-4, 1-Filou Shot 58.0"]
["","6-12 3.6L, Swan H, 2011-08-08, 975m, Heavy, Race 7, Hcp (62), RB62, $12000, ($250), R J Myers, 3, Cd 56.5-0.0, (53), 1::00.42, (), 12/1, Settled-3 1200- 800- Turn-3, 1-Let's Be Happy 56.0"]
["",null,"9 Elite Ebony (1) 57.5kg 4yo b/br m",null,null,"Trainer:: Ms M Cid at Mornington",null,null,"Jockey:: B Rawiller"]
["Elite Ebony",null,"Owners:: M E Telling, Mrs E A Telling, Miss M L Telling, Miss A M Butcher, Miss L J Telling, M J Telling, Mrs R E Thomas, T D Thomas & B G Butcher",null,null,"Breeding:: Bel Esprit - Larnie by Crested Wave"]
["","Comments:: Resumed from spell with 8 len 5th Ladramahs 1424m Sale Hcp (62) Heavy trk Sep 20 . Then 9-1/2 len 9th Famous By Name 1600m Bairns Hcp (62) Sep 25 . Faded from 4th on turn at latest outing."]
["","Career::","Earnings::","Win:: 11.8%","Place::","API::","First Up::","Second Up::","Distance::","Track::"]
["","17::2-1-0",43500,null,0.17599999999999999,2.6,"3::1-0-0","3::0-0-0","5::2-0-0","0::0-0-0"]
["","Fast::","Good::","Dead::","Slow::","Heavy::","Distance/Track::","Win Distances::"]
["","0::0-0-0","6::0-0-0","6::1-1-0","3::1-0-0","2::0-0-0","0::0-0-0","1 (1200), 1 (1208)"]
["","9-11 9.6L, Bairns, 2011-09-25, 1600m, Good, Race 8, Hcp (62), RB62, $15000, ($250), L Coffey, 11, Cd 55.0-0.0, (53), 1::37.88, (), 15/1, Settled-6 1200- 800-6 Turn-4, 1-Famous By Name 56.5"]
["","5-11 8.0L, Sale, 2011-09-20, 1424m, Heavy, Race 8, Hcp (62), RB62, $12000, ($250), P Mertens, 7, Cd 55.0-0.0, (53), 1::29.48, (), 9/2, Settled-7 1200- 800-7 Turn-6, 1-Ladramahs 58.0"]
["","8-16 2.3L, Sale, 2011-09-10, 1700m, Good, Race 6, Hcp (62), RB62, $12000, ($250), L Coffey, 8, Cd 55.0-0.0, (53), 1::45.43, (), 8/1, Settled-11 1200-10 800-13 Turn-13, 1-Queen's Fashion 56.0 Checked near turn."]
["","2-11 0.2L, P'ham, 2011-08-28, 1414m, Dead, Race 5, Hcp (62), RB62, $12000, ($2100), L Coffey, 7, Cd 55.0-0.0, (53), 1::25.82, (), 14/1, Settled-10 1200- 800-10 Turn-10, 1-Democrat 56.5"]
["","7-12 6.3L, Geesyn, 2011-08-12, 1300m, Good, Race 7, 3yo+ F&M Hcp-62, RB62 3+ fm, $12000, ($250), J R Todd, 5, Cd 57.0-0.0, (53), 1::17.84, (35.33), 15/1, Settled-8 1200- 800-8 Turn-9, 1-Glancing 59.0"]
["","1-14 0.5L, Sale, 2011-07-31, 1208m, Slow, Race 5, 3yo F Hcp (68), RB68 3 f, $22500, ($13650), J R Todd, 2, Cd 53.0-0.0, (53), 1::13.48, (), 25/1, Settled-8 1200- 800- Turn-4, 2-Brien's Girl 56.0 Struck interference near 100m."]
["","4-8 3.4L, Sale, 2011-07-17, 1213m, Good, Race 6, Hcp (C1), Cls 1, $12000, ($525), J R Todd, 3, Cd 53.0-0.0, (53), 1::10.68, (), 20/1, Settled-6 1200- 800- Turn-4, 1-Teen Spirit 53.0"]
["","10-11 14.2L, Sale, 2011-05-08, 1400m, Dead, Race 4, Hcp (62), RB62, $12000, ($250), J Benbow, 11, Cd 54.0-0.0, (53), 1::24.42, (), 20/1, Settled-11 1200- 800-11 Turn-11, 1-Desert Control 59.0"]
["","6-10 4.6L, Traral, 2011-04-25, 1430m, Dead, Race 4, F&M Hcp (58), RB58 fm, $12000, ($250), Dale Smith, 2, Cd 58.5-0.0, (53), 1::26.30, (), 14/1, Settled-4 1200- 800-3 Turn-3, 1-Lady Dynamo 54.5"]
["","7-7 11.0L, Sale, 2011-04-07, 1100m, Good, Race 5, 3yo F Hcp (68), RB68 3 f, $22500, ($250), J Benbow, 3, Cd 55.0-0.0, (53), 1::04.07, (), 20/1, Settled-7 1200- 800- Turn-7, 1-No Vanity 56.0 Slowly away."]
["",null,"10 Hoakstess (4) 57.5kg 4yo b m",null,null,"Trainer:: Ms A Bennett at Moe",null,null,"Jockey:: I Gundogdu"]
["Hoakstess",null,"Owners:: R M Humphreys, E J Stevens & Mrs P Kelly",null,null,"Breeding:: Manner Hill - Blessing Cup by He's A Bear"]
["","Comments:: Followed 7-3/4 len 10th Miss Beautymate 1100m Sale Hcp (62) Dead trk Apr 29 with len 3-1/4 len 3rd Serene Star, Sapphire Mistress 1020m Morn. 3Yo+ F&M Hcp-C1 Heavy trk May 07 . Has good record in the wet."]
["","Career::","Earnings::","Win:: 11.1%","Place::","API::","First Up::","Second Up::","Distance::","Track::"]
["","9::1-0-3",13500,null,0.44400000000000001,1.5,"2::0-0-0","2::0-0-2","1::0-0-0","0::0-0-0"]
["","Fast::","Good::","Dead::","Slow::","Heavy::","Distance/Track::","Win Distances::"]
["","0::0-0-0","2::0-0-0","4::0-0-2","1::1-0-0","2::0-0-1","0::0-0-0","1 (1400)"]
["","3-8 3.8L, Morn., 2012-05-07, 1020m, Heavy, Race 7, 3yo+ F&M Hcp-C1, Cls 1 3+ fm, $12000, ($1050), I Gundogdu, 3, Cd 56.5-0.0, (54), 1::01.95, (), 16/1, Settled-5 1200- 800- Turn-3, 1-Serene Star 60.0"]
["","10-13 7.8L, Sale, 2012-04-29, 1100m, Dead, Race 7, Hcp (62), RB62, $15000, ($250), I Gundogdu, 7, Cd 56.0-0.0, (54), 1::04.43, (), 16/1, Settled-1 1200- 800- Turn-1, 1-Miss Beautymate 57.0"]
["","1-10 0.2L, P'ham, 2011-11-11, 1400m, Slow, Race 4, 3yo+ Mdn, Mdn 3+, $12000, ($6825), I Gundogdu, 1, Cd 56.0-0.0, (SW), 1::28.22, (), 9/4F, Settled-3 1200- 800-5 Turn-1, 2-Hissing Benbara 54.5"]
["","7-8 10.5L, Sale, 2011-11-04, 1600m, Good, Race 4, 3yo+ Mdn, Mdn 3+, $12000, ($250), J Noonan, 4, Cd 56.0-0.0, (SW), 1::37.09, (), 8/1, Settled-1 1200- 800-1 Turn-1, 1-Visit Us 58.0"]
["","4-11 2.5L, P'ham, 2011-10-24, 1414m, Heavy, Race 4, 3yo+ F&M Mdn, Mdn 3+ fm, $12000, ($525), J Benbow, 11, Cd 57.0-0.0, (SW), 1::29.04, (), 8/1, Settled-1 1200- 800-1 Turn-1, 1-Seripak 57.0"]
["","3-12 6.3L, Sale, 2011-10-07, 1424m, Dead, Race 2, 3yo+ Mdn, Mdn 3+, $12000, ($1050), L Currie, 7, Cd 56.0-0.0, (SW), 1::26.62, (), 12/1, Settled-2 1200- 800-2 Turn-2, 1-Mega Rich 55.5"]
["","5-7 5.9L, Morn., 2011-09-19, 1018m, Dead, Race 1, 3yo+ Mdn, Mdn 3+, $12000, ($250), J Winks, 7, Cd 56.0-0.0, (SW), 0::59.21, (), 12/1, Settled-6 1200- 800- Turn-4, 1-De Lilly Lightful 53.5"]
["","3-10 2.7L, Morn., 2011-09-06, 1000m, Dead, Race 1, 3yo+ Mdn, Mdn 3+, $12000, ($1050), J Winks, 2, Cd 56.0-0.0, (SW), 0::59.24, (), 14/1, Settled-4 1200- 800- Turn-5, 1-Agasha 55.5"]
["","6-12 4.7L, GeeSyn, 2011-08-26, 1200m, Good, Race 5, 3yo+ Mdn Plate, Mdn 3+, $12000, ($250), J Winks, 5, Cd 56.0-0.0, (SW), 1::11.89, (34.96), 25/1, Settled-9 1200- 800- Turn-11, 1-Seeyasoon 58.0 Hung in during race."]
["","5-7 0.0L, Crasyn, 2011-07-18, 1000m, Good, Race 3, Barrier Trl, Btria 2+, $0, ($0), L Mc Gill, 5, Cd 0.0-0.0, (CWT), 1::00.43, (), , Settled- 1200- 800- Turn-, 1-Glenariff 0.0"]
["",null,"11 Midnight Pearl (5) 57.5kg 6yo br m",null,null,"Trainer:: J G Symons & S Laxon at Seymour",null,null,"Jockey:: Ms N Mc Lean"]
[{"$f":"IF(AND(B197=\"Career::\",B196=\"\"),IF(C195=\"\",\"\",IF(ISERROR(MID(C195,FIND(\" \",C195,1)+1,FIND(\"(\",C195,1)-FIND(\" \",C195,1)-2)),\"\",MID(C195,FIND(\" \",C195,1)+1,FIND(\"(\",C195,1)-FIND(\" \",C195,1)-2))),IF(C194=\"\",\"\",IF(ISERROR(MID(C194,FIND(\" \",C194,1)+1,FIND(\"(\",C194,1)-FIND(\" \",C194,1)-2)),\"\",MID(C194,FIND(\" \",C194,1)+1,FIND(\"(\",C194,1)-FIND(\" \",C194,1)-2))))","v":"Midnight Pearl"},null,"Owners:: R A & Mrs K Waldron, R & Mrs J O'Brien & G L & Mrs M Griffiths",null,null,"Breeding:: More Than Ready - Black Pearl by The Commander"]
["","Comments:: Followed 1-1/2 len 2nd No Prior Knowledge where struck interference near 600m 1100m Tatura Hcp (58) Dead trk Apr 07 with 5-3/4 len 8th Lascelles 1100m Bend Hcp (58) Dead trk Apr 21 . Has good record in the wet."]
["","Career::","Earnings::","Win:: 7.9%","Place::","API::","First Up::","Second Up::","Distance::","Track::"]
["","38::3-6-9",61050,null,0.47399999999999998,1.6,"6::1-0-2","5::0-0-2","12::0-3-1","4::1-2-0"]
["","Fast::","Good::","Dead::","Slow::","Heavy::","Distance/Track::","Win Distances::"]
["","0::0-0-0","11::1-1-3","19::1-3-4","5::1-2-0","3::0-0-2","1::0-0-0","1 (1100), 1 (1300), 1 (1469)"]
["","8-16 5.9L, Bend, 2012-04-21, 1100m, Dead, Race 6, Hcp (58), RB58, $12000, ($250), Ms C Puls, 10, Cd 58.0-0.0, (54), 1::04.47, (), 15/2, Settled-11 1200- 800- Turn-11, 1-Lascelles 57.5"]
["","2-12 1.5L, Tatura, 2012-04-07, 1100m, Dead, Race 2, Hcp (58), RB58, $12000, ($2100), D W Stackhouse, 6, Cd 58.0-0.0, (54), 1::05.00, (), 5/1, Settled-8 1200- 800- Turn-8, 1-No Prior Knowledge 55.0 Struck interference near 600m."]
["","7-11 5.3L, Seymor, 2012-02-16, 1200m, Dead, Race 8, Hcp (68), RB68, $22500, ($250), J Lyon, 7, Cd 54.5-0.0, (54), 1::10.78, (), 30/1, Settled-10 1200- 800- Turn-10, 1-Muhaajir 57.0"]
["","4-7 1.1L, K'ton, 2012-02-04, 1200m, Dead, Race 9, Hcp (62), RB62, $12000, ($525), L Currie, 5, Cd 57.0-0.0, (54), 1::13.84, (), 20/1, Settled-6 1200- 800- Turn-4, 1-Mo Vo 57.5"]
["","10-12 9.0L, Seymor, 2012-01-19, 1300m, Good, Race 8, Hcp (62), RB62, $15000, ($250), Nicholas Hall, 8, Cd 58.0-0.0, (54), 1::16.72, (), 25/1, Settled-12 1200- 800- Turn-10, 1-Dany The Fox 58.5"]
["","15-15 9.4L, Lakesi, 2011-12-21, 1200m, Good, Race 5, 4yo+ Hcp (68), RB68 4+, $30000, ($0), D Nikolic, 7, Cd 55.0-0.0, (53), 1::11.39, (34.13), 50/1, Settled-13 1200- 800- Turn-13, 1-Del Palio 55.0 Struck interference at start. Disappointed for a run."]
["","12-14 9.7L, Lakesi, 2011-08-28, 1200m, Dead, Race 6, 4yo+ M Hcp (78), RB78 4+ m, $30000, ($0), Ms Michelle Payne, 4, Cd 53.5-0.0, (53), 1::10.88, (33.74), 50/1, Settled-12 1200- 800-12 Turn-13, 1-Candy Stripes 54.0"]
["","3-7 3.1L, Seymor, 2011-03-22, 1600m, Dead, Race 4, Hcp (72), RB72, $12000, ($1050), J Noonan, 3, Cd 53.5-0.0, (53), 1::38.03, (), 7/4F, Settled-3 1200- 800-4 Turn-3, 1-Great Player 56.5"]
["","5-10 2.9L, Echuca, 2011-03-12, 1600m, Dead, Race 5, Hcp (68), RB68, $12000, ($250), Ms L J Meech, 9, Cd 56.0-0.0, (53), 1::38.65, (), 5/2F, Settled-7 1200- 800-6 Turn-2, 1-Can Get Thirsty 55.0"]
["","2-10 0.3L, K'ton, 2011-02-22, 1483m, Dead, Race 6, 3yo+ F&M Hcp-68, RB68 3+ fm, $12000, ($2100), S Nolen, 9, Cd 57.5-0.0, (53), 1::29.97, (), 4/1, Settled-9 1200- 800-9 Turn-9, 1-Road To Roam 58.5 Disappointed for a run."]
["",null,"12 Mon Coeur (2) 56.5kg 4yo b m",null,null,"Trainer:: T A Miles at Tatura",null,null,"Jockey:: Katelyn Mallyon"]
["Mon Coeur",null,"Owners:: T A Miles, K M Bergin, D G Sheehy & Homestraight Syndicate (Mgr:: W Bemrose)",null,null,"Breeding:: King Of Prussia - Southgate Adelaide by Regal Classic"]
["T A Miles, K M Bergin, D G Sheehy & Homestraight Syndicate","Comments:: Followed 6-1/4 len 6th Whooroo 1600m Echuca Hcp (58) Dead trk Mar 10 with 8-1/4 len 14th Lascelles 1100m Bend Hcp (58) Dead trk Apr 21 . Has good record in the wet."]
["","Career::","Earnings::","Win:: 9.1%","Place::","API::","First Up::","Second Up::","Distance::","Track::"]
["","22::2-1-4",27200,null,0.318,1.2,"4::0-0-0","4::0-0-2","7::0-0-3","1::0-0-0"]
["","Fast::","Good::","Dead::","Slow::","Heavy::","Distance/Track::","Win Distances::"]
["","0::0-0-0","5::0-1-0","11::0-0-3","4::0-0-1","2::2-0-0","1::0-0-0","1 (1100), 1 (1400)"]
["","6-9 4.4L, K'more, 2012-05-12, 1457m, Good, Race 6, Bullarook Park Stud Hcp (62), RB62 3+ fm, $12000, ($250), R Mc Leod, 8, Cd 56.5-0.0, (54.0), 1::30.63, (), 16/1, Settled- 1200- 800- Turn-, 1-Rainbow Queen 58.0"]
["","14-16 8.2L, Bend, 2012-04-21, 1100m, Dead, Race 6, Hcp (58), RB58, $12000, ($0), Damien Thornton, 14, Cd 55.0--2.0, (54), 1::04.47, (), 20/1, Settled-6 1200- 800- Turn-10, 1-Lascelles 57.5"]
["","6-10 6.2L, Echuca, 2012-03-10, 1600m, Dead, Race 4, Hcp (58), RB58, $12000, ($250), J Duffy, 4, Cd 57.5-0.0, (54), 1::38.15, (), 5/1, Settled-3 1200- 800-3 Turn-7, 1-Whooroo 59.5"]
["","3-11 2.3L, Bend, 2012-03-04, 1400m, Slow, Race 7, Hcp (62), RB62, $15000, ($1350), Katelyn Mallyon, 8, Cd 54.0--1.5, (54), 1::26.38, (), 9/1, Settled-1 1200- 800-1 Turn-1, 1-Sparks Burn 59.0"]
["","1-13 0.5L, Wang, 2012-02-20, 1100m, Heavy, Race 7, Hcp (58), RB58, $12000, ($6825), J Duffy, 11, Cd 53.5--1.5, (54), 1::08.79, (), 25/1, Settled-10 1200- 800- Turn-9, 2-Rexarena 54.0"]
["","10-13 10.6L, Albury, 2012-02-03, 1400m, Good, Race 7, (Bm55), BM55, $10000, ($0), Josh Cartwright, 5, Cd 53.0--1.5, (54), 1::24.62, (), 20/1, Settled- 1200- 800- Turn-, 1-Racers 'N' Chasers 57.5"]
["","11-12 6.0L, K'more, 2012-01-15, 1100m, Good, Race 6, Hcp (58), RB58, $12000, ($0), Jacob Rule, 7, Cd 57.0-0.0, (54), 1::05.50, (), 25/1, Settled-7 1200- 800- Turn-7, 1-Regalmania 59.5"]
["","11-11 13.9L, K'ton, 2011-12-20, 1225m, Dead, Race 8, Hcp (58), RB58, $12000, ($0), J R Todd, 1, Cd 56.0-0.0, (53), 1::12.97, (), 11/1, Settled-11 1200- 800- Turn-11, 1-Dimi The Dancer 59.0 Slowly away. Vet examination."]
["","3-13 3.5L, Wodong, 2011-11-27, 1200m, Dead, Race 6, Hcp (62), RB62, $15000, ($1350), L Camilleri, 1, Cd 54.5-0.0, (53), 1::11.08, (), 16/1, Settled-4 1200- 800- Turn-3, 1-Curlashot 58.5 Slowly away."]
["","10-12 5.9L, Wang, 2011-11-14, 1170m, Dead, Race 3, 3yo+ F&M Hcp-62, RB62 3+ fm, $12000, ($250), N Souquet, 1, Cd 56.5-0.0, (53), 1::10.90, (), 14/1, Settled-3 1200- 800- Turn-4, 1-Estagal 56.0"]
["",null,"13 Remedia (3) 56.5kg 5yo b m",null,null,"Trainer:: S S Cunningham at Wangaratta",null,null,"Jockey:: D Gauci"]
["Remedia",null,"Owners:: S S Cunningham & R Thomas",null,null,"Breeding:: Reset - Academia by Mark Of Esteem"]
["","Comments:: Continued good form with 1-3/4 len hd 3rd Back Sunday, Joke A Lot 1200m Hillst (Bm45) Apr 21 . Then 1-1/2 len 1-1/4 len 3rd Kentucky Belle, Bonzerina 1200m Kem.Gr F&M (Bm60) May 01 . Has good record in the wet."]
["","Career::","Earnings::","Win:: 11.1%","Place::","API::","First Up::","Second Up::","Distance::","Track::"]
["","36::4-6-6",34214,null,0.44400000000000001,1,"5::0-1-1","4::1-0-1","18::2-2-5","1::0-0-0"]
["","Fast::","Good::","Dead::","Slow::","Heavy::","Distance/Track::","Win Distances::"]
["","0::0-0-0","22::4-3-3","9::0-1-2","4::0-2-1","1::0-0-0","1::0-0-0","2 (1200), 2 (1400)"]
["","3-7 2.8L, Kem.Gr, 2012-05-01, 1200m, Good, Race 3, F&M (Bm60), BM60 fm, $16000, ($1600), A Stead, 3, Cd 54.5--0.5, (54), 1::10.61, (34.25), 12/1, Settled-3 1200- 800- Turn-3, 1-Kentucky Belle 58.0"]
["","3-10 2.0L, Hillst, 2012-04-21, 1200m, Good, Race 3, (Bm45), BM45, $4000, ($400), J Kissick, 7, Cd 60.5-0.0, (54), 1::09.16, (), 13/4, Settled- 1200- 800- Turn-, 1-Back Sunday 58.5"]
["","5-10 6.9L, Wodong, 2011-12-26, 1100m, Dead, Race 5, Hcp (58), RB58, $7000, ($170), E Marchant, 4, Cd 56.5-0.0, (54), 1::05.81, (), 9/2, Settled- 1200- 800- Turn-, 1-Leg Room 53.5"]
["","4-12 3.1L, Albury, 2011-12-17, 1400m, Good, Race 3, Hcp (C2), Cls 2, $5000, ($0), W Pearson, 8, Cd 56.0-0.0, (54), 1::24.56, (), 4/1, Settled- 1200- 800- Turn-, 1-Coongoola 56.0 Jumped awkwardly."]
["","6-11 1.3L, K'ton, 2011-12-06, 1212m, Good, Race 5, Hcp (58), RB58, $12000, ($250), Damian Lane, 3, Cd 56.5-0.0, (53), 1::12.37, (), 5/1, Settled-2 1200- 800- Turn-2, 1-Roman Centreman 58.0"]
["","4-12 1.2L, Wang, 2011-11-14, 1170m, Dead, Race 3, 3yo+ F&M Hcp-62, RB62 3+ fm, $12000, ($525), W Egan, 7, Cd 56.5-0.0, (53), 1::10.90, (), 8/1, Settled-8 1200- 800- Turn-7, 1-Estagal 56.0"]
["","2-6 0.5L, Wagga, 2011-11-01, 1400m, Good, Race 3, Hcp (C3), Cls 3, $4000, ($800), A Bloomfield, 4, Cd 56.0-0.0, (54), 1::23.59, (), 6/4E, Settled- 1200- 800- Turn-, 1-Lexical Ambiguity 54.0"]
["","1-11 1.0L, Wagga, 2011-10-15, 1400m, Good, Race 6, Hcp (C2), Cls 2, $5000, ($3500), A Bloomfield, 9, Cd 56.0-0.0, (54), 1::23.61, (), 6/1, Settled- 1200- 800- Turn-, 2-Lexical Ambiguity 52.0"]
["","1-9 1.5L, Cmulla, 2011-10-01, 1200m, Good, Race 4, Hcp (Cl B), Cls B, $7000, ($4550), I Coombes, 8, Cd 56.5-0.0, (56), 1::11.36, (), 5/2, Settled- 1200- 800- Turn-, 2-Portion 54.5"]
["","4-8 7.2L, Bedour, 2011-09-10, 1200m, Good, Race 5, Plate (C3), Cls 3, $10200, ($500), C Kearney, 7, Cd 55.5-0.0, (SW), 1::09.67, (), 7/2, Settled- 1200- 800- Turn-, 1-Embellishing 59.0"]
["",null,"14 Dr Schimmell (14) 58.0kg 7yo b g",null,null,"Trainer:: N J Dyer at Kyneton",null,null,"Jockey:: "]
["Dr Schimmell",null,"Owners:: L Catoggio, T Bidmaide, Frosties Racing (Mgr:: T A Groppi), B Page, H Lane, H Preston & R Bartholomew",null,null,"Breeding:: O'Reilly - Icy Calm by Western Symphony"]
["L Catoggio, T Bidmaide, Frosties Racing","Comments:: Followed spell with 8-1/4 len 6th Maxim 1650m Nhill Hcp (58) Dec 26 . Then 2-1/4 len 6th Lascelles where trial to steward's satisfaction 1100m Bend Hcp (58) Dead trk Apr 21 . Came from 9th on turn at latest outing."]
["","Career::","Earnings::","Win:: 9.3%","Place::","API::","First Up::","Second Up::","Distance::","Track::"]
["","43::4-5-3",50875,null,0.27900000000000003,1.2,"8::2-1-1","7::0-0-1","15::1-2-3","0::0-0-0"]
["","Fast::","Good::","Dead::","Slow::","Heavy::","Distance/Track::","Win Distances::"]
["","0::0-0-0","15::1-2-1","15::2-2-1","8::1-1-0","5::0-0-1","0::0-0-0","1 (1100), 1 (1204), 1 (1330), 1 (1400)"]
["","6-16 2.3L, Bend, 2012-04-21, 1100m, Dead, Race 6, Hcp (58), RB58, $12000, ($250), R Plumb, 6, Cd 58.0-0.0, (54), 1::04.47, (), 16/1, Settled-12 1200- 800- Turn-9, 1-Lascelles 57.5 Disappointed for a run. Trial to steward's satisfaction."]
["","6-9 8.3L, Nhill, 2011-12-26, 1650m, Good, Race 4, Hcp (58), RB58, $7000, ($170), C Atkinson, 8, Cd 58.0-0.0, (54), 1::44.11, (), 3/1, Settled- 1200- 800- Turn-, 1-Maxim 53.5"]
["","5-12 7.3L, Benlla, 2011-12-11, 1400m, Heavy, Race 4, Hcp (58), RB58, $12000, ($250), J R Todd, 1, Cd 58.0-0.0, (53), 1::27.35, (), 13/2, Settled- 1200- 800- Turn-, 1-Mallaig 56.0 Disappointed for a run."]
["","4-12 4.3L, P'ham, 2011-12-02, 1414m, Dead, Race 9, Hcp (58), RB58, $12200, ($525), Thomas Sadler, 11, Cd 55.0--3.0, (53), 1::26.84, (), 6/1, Settled-11 1200- 800-11 Turn-5, 1-Yuka Joy 55.5"]
["","2-9 0.4L, Wodong, 2011-11-06, 1400m, Dead, Race 6, Hcp (62), RB62, $12000, ($2100), Damian Lane, 6, Cd 55.0-0.0, (53), 1::26.24, (), 13/2, Settled-6 1200- 800-7 Turn-6, 1-Thetoppie 55.5 Hung in during race."]
["","2-10 0.3L, Tatura, 2011-10-22, 1400m, Dead, Race 6, Hcp (58), RB58, $7000, ($1196), M Pegus, 7, Cd 56.0-0.0, (54), 1::25.24, (), 13/2, Settled- 1200- 800- Turn-, 1-Kaned 54.0"]
["","4-9 1.5L, Manang, 2011-10-08, 1175m, Good, Race 3, Hcp (62), RB62, $7000, ($299), T Barry, 7, Cd 54.5-0.0, (54), 1::10.51, (), 10/1, Settled- 1200- 800- Turn-, 1-Turn Of Faith 58.5"]
[{"$f":"IF(AND(B261=\"Career::\",B260=\"\"),IF(C259=\"\",\"\",IF(ISERROR(MID(C259,FIND(\" \",C259,1)+1,FIND(\"(\",C259,1)-FIND(\" \",C259,1)-2)),\"\",MID(C259,FIND(\" \",C259,1)+1,FIND(\"(\",C259,1)-FIND(\" \",C259,1)-2))),IF(C258=\"\",\"\",IF(ISERROR(MID(C258,FIND(\" \",C258,1)+1,FIND(\"(\",C258,1)-FIND(\" \",C258,1)-2)),\"\",MID(C258,FIND(\" \",C258,1)+1,FIND(\"(\",C258,1)-FIND(\" \",C258,1)-2))))","v":""},"2-8 0.5L, Bend, 2011-09-26, 1000m, Dead, Race 13, Barrier Trl, Btria 3+, $0, ($0), Jacob Rule, 2, Cd 0.0-0.0, (CWT), 0::59.80, (), , Settled- 1200- 800- Turn-, 1-Peace Treaty 0.0"]
["","11-11 32.0L, W'bool, 2011-07-31, 1700m, Heavy, Race 1, Hwt (62), RB62, $15000, ($0), Robert Molloy, 2, Cd 65.0-0.0, (64), 1::52.08, (), 16/1, Settled-1 1200-2 800-2 Turn-7, 1-Tezza's Way 65.5 Vet examination."]
["","12-13 7.6L, M.Brge, 2011-07-14, 1406m, Dead, Race 7, Hcp (59), RB59, $10000, ($0), Ms C Lindop, 3, Cd 57.0-0.0, (53), 1::27.30, (36.78), 7/1, Settled-5 1200- 800-6 Turn-8, 1-Copper Arch 56.5"]
["",null,"15 Glory Man (17) 57.5kg 3yo br g",null,null,"Trainer:: G A Osborne at Kyneton",null,null,"Jockey:: Dean Holland"]
["Glory Man",null,"Owners:: Ms S L Adams",null,null,"Breeding:: Manton - Interlagos by Quest For Fame"]
["","Comments:: Resumed from spell with hd nk 3rd Zero To Sixty, Secret Mojo where struck interference near 800m 1212m K'ton 3Yo+ Mdn Dead trk Dec 06 . Then 5-3/4 len 5th Tsar Of Russia 1200m K'ton 3Yo+ Mdn Slow trk Jan 08 . Where failed to make ground."]
["","Career::","Earnings::","Win:: 0.0%","Place::","API::","First Up::","Second Up::","Distance::","Track::"]
["","4::0-0-1",3550,null,0.25,0.9,"2::0-0-1","2::0-0-0","4::0-0-1","3::0-0-1"]
["","Fast::","Good::","Dead::","Slow::","Heavy::","Distance/Track::","Win Distances::"]
["","0::0-0-0","0::0-0-0","2::0-0-1","1::0-0-0","1::0-0-0","3::0-0-1"]
["","1-12 1.0L, Cran., 2012-04-16, 990m, Dead, Race 14, Barrier Trl, Btria 2+, $0, ($0), Dean Holland, 1, Cd 0.0-0.0, (CWT), 0::58.60, (), , Settled- 1200- 800- Turn-, 2-Belseye 0.0"]
["","5-8 5.9L, K'ton, 2012-01-08, 1200m, Slow, Race 2, 3yo+ Mdn, Mdn 3+, $12000, ($250), Dean Holland, 8, Cd 57.0-0.0, (SW), 1::14.26, (), 15/4, Settled-3 1200- 800- Turn-3, 1-Tsar Of Russia 58.5"]
["","3-8 0.5L, K'ton, 2011-12-06, 1212m, Dead, Race 1, 3yo+ Mdn, Mdn 3+, $12000, ($1050), Dean Holland, 3, Cd 56.5-0.0, (SW), 1::12.69, (), 14/1, Settled-2 1200- 800- Turn-2, 1-Zero To Sixty 58.0 Struck interference near 800m."]
["","8-9 0.0L, Cran., 2011-11-14, 990m, Slow, Race 12, Barrier Trl, Btria, $0, ($0), N Callow, 8, Cd 0.0-0.0, (CWT), 1::01.45, (), , Settled- 1200- 800- Turn-, 1-Night Chat 0.0"]
["","5-8 11.4L, K'ton, 2011-05-24, 1225m, Heavy, Race 2, 2yo Mdn Plate, Mdn 2, $12000, ($250), B Rawiller, 1, Cd 57.0-0.0, (SW), 1::17.54, (), 10/1, Settled-7 1200- 800- Turn-6, 1-Hludowig 57.0 Struck interference at start. Bucked at start. Checked near 400m."]
["","5-11 5.3L, Seymor, 2011-04-19, 1200m, Dead, Race 5, 2yo Inglis Plte, Spec 2, $102000, ($2000), J Maskiell, 5, Cd 57.0-0.0, (SW), 1::11.64, (), 10/1, Settled-6 1200- 800- Turn-8, 1-Blue Beret 55.0 Raced Greenly."]
["","7-8 0.0L, Cran., 2011-04-04, 800m, Good, Race 5, Barrier Trl, Btria 2 cg, $0, ($0), J R Todd, 7, Cd 0.0-0.0, (CWT), 0::47.37, (), , Settled- 1200- 800- Turn-, 1-Phaedo 0.0"]
["",null,"16 Lost Chord (15) 55.5kg 4yo ch m",null,null,"Trainer:: Paul Maher at Seymour",null,null,"Jockey:: "]
["Lost Chord",null,"Owners:: C Collins, W Speechley, G Speechley, B Speechley, J Collins, B Speechley, W Zandona, K Sayers, A Hickey & S Waddell",null,null,"Breeding:: Distant Music - Misdirection by Our Maizcay"]
["","Comments:: Continued good form with lg nk 2nd Mr Butterscotch 1300m Alexan Trophy Race Mar 31 . Then nose len 3rd Brahmose, Rouen 1300m Tocumw (Bm45) Apr 07 . Has good record in the wet."]
["","Career::","Earnings::","Win:: 5.9%","Place::","API::","First Up::","Second Up::","Distance::","Track::"]
["","17::1-2-2",23330,null,0.29399999999999998,1.4,"5::0-1-0","3::1-0-0","3::0-0-0","0::0-0-0"]
["","Fast::","Good::","Dead::","Slow::","Heavy::","Distance/Track::","Win Distances::"]
["","0::0-0-0","9::0-1-1","6::1-1-0","0::0-0-0","2::0-0-1","0::0-0-0","1 (1100)"]
["","9-9 6.1L, K'more, 2012-05-12, 1207m, Good, Race 7, Hcp (62), RB62, $12000, ($250), C Quilty, 9, Cd 54.0-0.0, (54), 1::12.28, (), 25/1, Settled- 1200- 800- Turn-, 1-Madame De Lago 57.5"]
["","3-11 0.6L, Tocumw, 2012-04-07, 1300m, Good, Race 4, (Bm45), BM45, $6200, ($600), C Quilty, 2, Cd 59.0-0.0, (54), 1::16.40, (), 4/1, Settled- 1200- 800- Turn-, 1-Brahmose 58.0"]
["","2-10 0.4L, Alexan, 2012-03-31, 1300m, Good, Race 4, Trophy Race, Open, $2500, ($380), Ms M Nicholls, 1, Cd 60.0--3.0, (63), 1::15.64, (), 9/2, Settled- 1200- 800- Turn-, 1-Mr Butterscotch 65.5"]
["","6-13 1.8L, Corowa, 2012-03-11, 1300m, Good, Race 8, (Bm50), BM50, $10000, ($0), C Quilty, 3, Cd 57.0-0.0, (54), 1::17.60, (), 12/1, Settled- 1200- 800- Turn-, 1-Xarmoss 56.5"]
["","10-13 8.9L, Wang, 2012-02-20, 1100m, Heavy, Race 7, Hcp (58), RB58, $12000, ($250), Ms R Williams, 12, Cd 55.5--2.0, (54), 1::08.79, (), 6/1, Settled-12 1200- 800- Turn-11, 1-Mon Coeur 53.5"]
["","7-8 6.4L, W'bee, 2012-02-09, 1005m, Good, Race 1, Hcp (62), RB62, $15000, ($250), Ms R Williams, 3, Cd 54.0--2.0, (54), 0::58.72, (), 20/1, Settled-3 1200- 800- Turn-6, 1-Gold Rust 57.5"]
["","6-10 3.1L, Echuca, 2011-09-17, 1416m, Dead, Race 5, Hcp (62), RB62, $12000, ($250), Dale Smith, 2, Cd 55.0-0.0, (53), 1::29.24, (), 7/1, Settled-4 1200- 800-4 Turn-4, 1-Grief 54.5"]
["","4-10 3.7L, Wang, 2011-09-04, 1170m, Dead, Race 7, Hcp (62), RB62, $12000, ($525), Dale Smith, 10, Cd 55.0-0.0, (53), 1::10.46, (), 7/1, Settled-10 1200- 800- Turn-10, 1-Undercurrent 58.5 Disappointed for a run. Struck interference near turn."]
["","3-9 1.3L, Wang, 2011-08-14, 1100m, Heavy, Race 7, Hcp (62), RB62, $12000, ($1050), Dale Smith, 7, Cd 55.0-0.0, (53), 1::10.37, (), 9/2, Settled-9 1200- 800- Turn-8, 1-Prussian Knockout 56.5 Disappointed for a run."]
["","6-7 5.8L, GeeSyn, 2011-07-26, 1200m, Good, Race 4, Hcp (68), RB68, $12000, ($250), Katelyn Mallyon, 3, Cd 52.0--2.0, (53), 1::12.63, (34.65), 15/8F, Settled-5 1200- 800- Turn-6, 1-Show Stealer 57.0 Struck interference near 400m. Vet examination."]
["",null,"17 Rulesto (6) 55.0kg 5yo b g",null,null,"Trainer:: J K Blacker at Seymour",null,null,"Jockey:: "]
["Rulesto",null,"Owners:: D J Simmonds, P J Scott, M T Kelly, B R & Mrs S E Tuson, S A May & G W Skelton",null,null,"Breeding:: Telesto - Blue Recall by Acidity"]
["","Comments:: Followed 4-3/4 len 2-3/4 len 3rd Blonde Brigade, Yougopowpow 1107m K'more Hcp (58) Mar 27 with 8-3/4 len 8th Club Command 1200m Echuca Hcp (C1) Apr 15 . Battled home from 9th on turn at latest outing."]
["","Career::","Earnings::","Win:: 3.2%","Place::","API::","First Up::","Second Up::","Distance::","Track::"]
["","31::1-1-5",18380,null,0.22600000000000001,0.6,"3::0-0-2","3::0-0-0","7::1-0-0","0::0-0-0"]
["","Fast::","Good::","Dead::","Slow::","Heavy::","Distance/Track::","Win Distances::"]
["","0::0-0-0","11::0-1-3","16::1-0-2","1::0-0-0","3::0-0-0","0::0-0-0","1 (1200)"]
["","8-9 8.8L, Echuca, 2012-04-15, 1200m, Good, Race 7, Hcp (C1), Cls 1, $12000, ($250), J Lyon, 5, Cd 54.0-0.0, (54), 1::10.81, (), 30/1, Settled-9 1200- 800- Turn-9, 1-Club Command 60.0"]
["","3-13 7.6L, K'more, 2012-03-27, 1107m, Good, Race 8, Hcp (58), RB58, $12000, ($1050), Jarrod Fry, 1, Cd 55.5-0.0, (54), 1::04.77, (), 12/1, Settled-9 1200- 800- Turn-8, 1-Blonde Brigade 57.5"]
["","12-12 7.9L, Echuca, 2012-03-10, 1000m, Dead, Race 7, Hcp (62), RB62, $12000, ($0), T Barry, 11, Cd 54.5-0.0, (54), 0::58.75, (), 20/1, Settled-12 1200- 800- Turn-12, 1-Aces And Angels 56.0"]
["","2-8 0.2L, Corowa, 2012-02-18, 1000m, Good, Race 2, (Bm50), BM50, $4000, ($800), Ms R Williams, 2, Cd 52.5--1.5, (54), 0::57.44, (), 10/1, Settled- 1200- 800- Turn-, 1-Lightburgh 51.0"]
["","8-9 6.9L, Donald, 2012-01-28, 1350m, Good, Race 6, Hcp (58), RB58, $12000, ($250), M Pumpa, 3, Cd 57.5-0.0, (54), 1::21.73, (), 6/1, Settled- 1200- 800- Turn-, 1-Coco Command 58.0"]
["","3-8 5.1L, Longfd, 2012-01-01, 1400m, Good, Race 6, Hcp (C1), Cls 1, $10000, ($1000), E Brennen, 4, Cd 56.0-0.0, (54), 1::22.60, (), 14/1, Settled- 1200- 800- Turn-, 1-Another Concerto 53.5"]
["","11-12 5.5L, Launc., 2011-12-14, 1200m, Dead, Race 6, Hcp (C1), Cls 1, $12500, ($0), Lee Smith, 4, Cd 55.5-0.0, (54.5), 1::11.89, (47.45), 60/1, Settled- 1200- 800- Turn-, 1-Double Unique 56.5"]
["","10-12 8.5L, Hobart, 2011-12-04, 1100m, Dead, Race 6, Hcp (C1), Cls 1, $12500, ($0), M Guthrie, 2, Cd 57.0-0.0, (54.5), 1::09.17, (36.14), 14/1, Settled- 1200- 800- Turn-, 1-Los Skybo 57.5 Slowly away."]
["","1-5 0.3L, Launc., 2011-11-10, 800m, Slow, Race 6, Barrier Trl, Btria, $0, ($0), J Nevin, 1, Cd 0.0-0.0, (CWT), 0::49.22, (), , Settled- 1200- 800- Turn-, 2-Iowna Gold 0.0"]
["","10-14 11.7L, Launc., 2011-05-05, 1600m, Dead, Race 1, Plate (C1), Cls 1, $12100, ($0), Rasit Yetimova, 11, Cd 54.0--4.0, (SW), 1::38.84, (49.60), 30/1, Settled- 1200- 800- Turn-, 1-Captain Albert 58.0 Rider lost whip."]
[""]
[""]
[""]
[""]
[""]
[""]
[""]
[""]
[""]
[""]
[""]
[""]
[""]
[{"$f":"IF(AND(B325=\"Career::\",B324=\"\"),IF(C323=\"\",\"\",IF(ISERROR(MID(C323,FIND(\" \",C323,1)+1,FIND(\"(\",C323,1)-FIND(\" \",C323,1)-2)),\"\",MID(C323,FIND(\" \",C323,1)+1,FIND(\"(\",C323,1)-FIND(\" \",C323,1)-2))),IF(C322=\"\",\"\",IF(ISERROR(MID(C322,FIND(\" \",C322,1)+1,FIND(\"(\",C322,1)-FIND(\" \",C322,1)-2)),\"\",MID(C322,FIND(\" \",C322,1)+1,FIND(\"(\",C322,1)-FIND(\" \",C322,1)-2))))","v":""}]
[""]
[""]
[""]
[""]
[""]
[""]
[""]
[""]
[""]
[""]
[""]
[""]
[""]
[""]
[""]
[""]
[""]
[""]
[""]
[""]
[""]
[""]
[""]
[""]
[""]
[""]
[""]
[""]
[""]
[""]
[""]
[""]
[""]
[""]
[""]
[""]
[""]
[""]
[""]
[""]
[""]
[""]
[""]
[""]
[""]
[""]
[""]
[""]
[""]
[""]
[""]
[""]
[""]
[""]
[""]
[""]
[""]
[""]
[""]
[""]
[""]
[""]
[""]
[{"$f":"IF(AND(B389=\"Career::\",B388=\"\"),IF(C387=\"\",\"\",IF(ISERROR(MID(C387,FIND(\" \",C387,1)+1,FIND(\"(\",C387,1)-FIND(\" \",C387,1)-2)),\"\",MID(C387,FIND(\" \",C387,1)+1,FIND(\"(\",C387,1)-FIND(\" \",C387,1)-2))),IF(C386=\"\",\"\",IF(ISERROR(MID(C386,FIND(\" \",C386,1)+1,FIND(\"(\",C386,1)-FIND(\" \",C386,1)-2)),\"\",MID(C386,FIND(\" \",C386,1)+1,FIND(\"(\",C386,1)-FIND(\" \",C386,1)-2))))","v":""}]
[""]
[""]
[""]
[""]
[""]
[""]
[""]
[""]
[""]
[""]
[""]
[""]
[""]
[""]
[""]
[""]
[""]
[""]
[""]
[""]
[""]
[""]
[""]
[""]
[""]
[""]
[""]
[""]
[""]
[""]
[""]
[""]
[""]
[""]
[""]
[""]
[""]
[""]
[""]
[""]
[""]
[""]
[""]
[""]
[""]
[""]
[""]
[""]
[""]
[""]
[""]
[""]
[""]
[""]
[""]
[""]
[""]
[""]
[""]
[""]
[""]
[""]
[""]
[{"$f":"IF(AND(B453=\"Career::\",B452=\"\"),IF(C451=\"\",\"\",IF(ISERROR(MID(C451,FIND(\" \",C451,1)+1,FIND(\"(\",C451,1)-FIND(\" \",C451,1)-2)),\"\",MID(C451,FIND(\" \",C451,1)+1,FIND(\"(\",C451,1)-FIND(\" \",C451,1)-2))),IF(C450=\"\",\"\",IF(ISERROR(MID(C450,FIND(\" \",C450,1)+1,FIND(\"(\",C450,1)-FIND(\" \",C450,1)-2)),\"\",MID(C450,FIND(\" \",C450,1)+1,FIND(\"(\",C450,1)-FIND(\" \",C450,1)-2))))","v":""}]
[""]
[""]
[""]
[""]
[""]
[""]
[""]
[""]
[""]
[""]
[""]
[""]
[""]
[""]
[""]
[""]
[""]
[""]
[""]
[""]
[""]
[""]
[""]
[""]
[""]
[""]
[""]
[""]
[""]
[""]
[""]
[""]
[""]
[""]
[""]
[""]
[""]
[""]
[""]
[""]
[""]
[""]
[""]
[""]
[""]
[""]
[""]
[""]
[""]
[""]
[""]
[""]
[""]
[""]
[""]
[""]
[""]
[""]
[""]
[""]
[""]
[""]
[""]
[{"$f":"IF(AND(B517=\"Career::\",B516=\"\"),IF(C515=\"\",\"\",IF(ISERROR(MID(C515,FIND(\" \",C515,1)+1,FIND(\"(\",C515,1)-FIND(\" \",C515,1)-2)),\"\",MID(C515,FIND(\" \",C515,1)+1,FIND(\"(\",C515,1)-FIND(\" \",C515,1)-2))),IF(C514=\"\",\"\",IF(ISERROR(MID(C514,FIND(\" \",C514,1)+1,FIND(\"(\",C514,1)-FIND(\" \",C514,1)-2)),\"\",MID(C514,FIND(\" \",C514,1)+1,FIND(\"(\",C514,1)-FIND(\" \",C514,1)-2))))","v":""}]
[""]
[""]
[""]
[""]
[""]
[""]
[""]
[""]
[""]
[""]
[""]
[""]
[""]
[""]
[""]
[""]
[""]
[""]
[""]
[""]
[""]
[""]
[""]
[""]
[""]
[""]
[""]
[""]
[""]
[""]
[""]
[""]
[""]
[""]
[""]
[""]
[""]
[""]
[""]
[""]
[""]
[""]
[""]
[""]
[""]
[""]
[""]
[""]
[""]
[""]
[""]
[""]
[""]
[""]
[""]
[""]
[""]
[""]
[""]
[""]
[""]
[""]
[""]
[{"$f":"IF(AND(B581=\"Career::\",B580=\"\"),IF(C579=\"\",\"\",IF(ISERROR(MID(C579,FIND(\" \",C579,1)+1,FIND(\"(\",C579,1)-FIND(\" \",C579,1)-2)),\"\",MID(C579,FIND(\" \",C579,1)+1,FIND(\"(\",C579,1)-FIND(\" \",C579,1)-2))),IF(C578=\"\",\"\",IF(ISERROR(MID(C578,FIND(\" \",C578,1)+1,FIND(\"(\",C578,1)-FIND(\" \",C578,1)-2)),\"\",MID(C578,FIND(\" \",C578,1)+1,FIND(\"(\",C578,1)-FIND(\" \",C578,1)-2))))","v":""}]
[""]
[""]
[""]
[""]
[""]
[""]
[""]
[""]
[""]
[""]
[""]
[""]
[""]
[""]
[""]
[""]
[""]
[""]
[""]
[""]
[""]
[""]
[""]
[""]
[""]
[""]
[""]
[""]
[""]
[""]
[""]
[""]
[""]
[""]
[""]
[""]
[""]
[""]
[""]
[""]
[""]
[""]
[""]
[""]
[""]
[""]
[""]
[""]
[""]
[""]
[""]
[""]
[""]
[""]
[""]
[""]
[""]
[""]
[""]
[""]
[""]
[""]
[""]
[{"$f":"IF(AND(B645=\"Career::\",B644=\"\"),IF(C643=\"\",\"\",IF(ISERROR(MID(C643,FIND(\" \",C643,1)+1,FIND(\"(\",C643,1)-FIND(\" \",C643,1)-2)),\"\",MID(C643,FIND(\" \",C643,1)+1,FIND(\"(\",C643,1)-FIND(\" \",C643,1)-2))),IF(C642=\"\",\"\",IF(ISERROR(MID(C642,FIND(\" \",C642,1)+1,FIND(\"(\",C642,1)-FIND(\" \",C642,1)-2)),\"\",MID(C642,FIND(\" \",C642,1)+1,FIND(\"(\",C642,1)-FIND(\" \",C642,1)-2))))","v":""}]
[""]
[""]
[""]
[""]
[""]
[""]
[""]
[""]
[""]
[""]
[""]
[""]
[""]
[""]
[""]
[""]
[""]
[""]
[""]
[""]
[""]
[""]
[""]
[""]
[""]
[""]
[""]
[""]
[""]
[""]
[""]
[""]
[""]
[""]
[""]
[""]
[""]
[""]
[""]
[""]
[""]
[""]
[""]
[""]
[""]
[""]
[""]
[""]
[""]
[""]
[""]
[""]

{"sheet":"Race","index":5,"n_rows":33,"n_cols":14,"rows_kept":33,"cut":false,"hidden":false,"merged":[]}
[]
["KYNETON",null,"VR 9","Jump","04:22:00"]
[null,null,null,"Odds","11:59:00"]
["2012-05-14","0 - 58 HANDICAP",null,null,"Fixed Price"]
["RADIO TAB","3-4-10-1","MAL JAMES",{"$f":"3-7-2-4","v":-10},"Late Mail 3","1218M","OVERCAST","DEAD(4)"]
["No.",null,"Name","10:59:00","Win","Plc",null,"Rider  ","Bar","Wght",null,"Form","L3S","Rtng"]
[1,null,"AGASHA",18.8,20.3,8.6999999999999993,null,"J TODD",7,60,null,null,30,96]
[2,null,"HANDLE ON A STAR",10.6,21.8,20,null,"Z SCULLIE(A)",16,60,null,"WT",921,95]
[3,null,"WATASHAM",5,3.8,2,null,"D LANE(A)",8,60,null,"D",332,97]
[4,null,"ETTORE",11.4,12,3.4,null,"G BOSS",10,59.5,null,null,"5X7",95]
[5,null,"RYOLLY",83.6,22.1,4.5999999999999996,null,"R CROSS(A)",9,59.5,null,"DW","90X",95]
[6,null,"MITCHENER",195.2,58.5,18,null,"E KACMAZ(A)",13,59,null,"DW",39,94]
[7,null,"VOPOP",10.199999999999999,16.600000000000001,6.6,null,"C NICOLL",12,59,null,"T",373,94]
[8,null,"NORTHERN SHIFT",45,27.9,6.5,null,"J KEATING",11,58,null,"W",306,92]
[9,null,"ELITE EBONY",6.5,7.5,2.4,null,"B RAWILLER",1,57.5,null,"DW","59X",97]
[10,null,"HOAKSTESS",13.3,13.3,2.2999999999999998,null,"I GUNDOGDU(A)",4,57.5,null,"W","X03",96]
[11,null,"MIDNIGHT PEARL",11.9,9.4,3.5,null,"N MCLEAN",5,57.5,null,"WT",728,93]
[12,null,"MON COEUR",{"$nulls":4},"SCRATCHED",2]
[13,null,"REMEDIA",4.5,5,1.5,null,"D GAUCI",3,56.5,null,"D","X33",97]
[14,null,"DR SCHIMMELL",14.2,15.7,4.7,null,"N CALLOW",14,58,null,"DW","6X6",91]
[15,null,"GLORY MAN",{"$nulls":4},"SCRATCHED",17]
[16,null,"LOST CHORD",{"$nulls":4},"SCRATCHED",15]
[17,null,"RULESTO",{"$nulls":4},"SCRATCHED",6]
[]
["UNiTAB Pool Totals"]
["WN",2122,"QN",426,"TF",781,"DD(8,9) "]
["PL",1260,"EX",193,"F4",24,"TT(7,8,9) "]
[null,null,"A2",83,null,null,"QD(6,7,8,9) "]
[]
["<< VR  1  2  3  4  5  6  7  8  9  DD/TT/QD  XD Riders  Fixed Price >>"]
[]
["Help","Gambling Advice","TAB Home","Refresh"]
["© Copyright UNiTAB Ltd","Created: Mon, 14 May 2012 12:09:10 Aust EST"]

{"sheet":"Tables","index":6,"n_rows":28,"n_cols":20,"rows_kept":28,"cut":false,"hidden":false,"merged":[]}
[{"$nulls":8},"Track",{"$f":"Data!N2","v":"DEAD"},{"$f":"IF(J1=\"SLOW\",1,IF(J1=\"HEAVY\",2,0))","v":0}]
[]
["Exclude",null,"Exclude",null,"Exclude",null,"Exclude",null,"Exclude",null,"Exclude",null,"Exclude",null,"Exclude",null,"Exclude",null,"Exclude"]
["API",null,"Win&Place%",null,"Dist/Trk",null,"Slow",null,"Heavy",null,"Fitness",null,"Class",null,"Form",null,"Qld Tab Rating",null,"PPP"]
[{"$f":"IF(B$3<>\"\",\"\",1)","v":1},10,{"$f":"IF(D$3<>\"\",\"\",1)","v":1},10,{"$f":"IF(F$3<>\"\",\"\",1)","v":1},10,{"$f":"IF($K$1=1,IF(H$3<>\"\",\"\",1),\"\")","v":""},10,{"$f":"IF($K$1=2,IF(J$3<>\"\",\"\",1),\"\")","v":""},10,{"$f":"IF(L$3<>\"\",\"\",1)","v":1},10,{"$f":"IF(N$3<>\"\",\"\",1)","v":1},10,{"$f":"IF(P$3<>\"\",\"\",1)","v":1},10,{"$f":"IF(R$3<>\"\",\"\",1)","v":1},10,{"$f":"IF(T$3<>\"\",\"\",1)","v":1},10]
[{"$f":"IF(B$3<>\"\",\"\",A5+1)","v":2},8,{"$f":"IF(D$3<>\"\",\"\",C5+1)","v":2},8,{"$f":"IF(F$3<>\"\",\"\",E5+1)","v":2},8,{"$f":"IF($K$1=1,IF(H$3<>\"\",\"\",G5+1),\"\")","v":""},8,{"$f":"IF($K$1=2,IF(J$3<>\"\",\"\",I5+1),\"\")","v":""},8,{"$f":"IF(L$3<>\"\",\"\",K5+1)","v":2},8,{"$f":"IF(N$3<>\"\",\"\",M5+1)","v":2},8,{"$f":"IF(P$3<>\"\",\"\",O5+1)","v":2},8,{"$f":"IF(R$3<>\"\",\"\",Q5+1)","v":2},8,{"$f":"IF(T$3<>\"\",\"\",S5+1)","v":2},8]
[{"$f":"IF(B$3<>\"\",\"\",A6+1)","v":3},6,3,6,{"$f":"IF(F$3<>\"\",\"\",E6+1)","v":3},6,{"$f":"IF($K$1=1,IF(H$3<>\"\",\"\",G6+1),\"\")","v":""},6,{"$f":"IF($K$1=2,IF(J$3<>\"\",\"\",I6+1),\"\")","v":""},6,{"$f":"IF(L$3<>\"\",\"\",K6+1)","v":3},6,{"$f":"IF(N$3<>\"\",\"\",M6+1)","v":3},6,{"$f":"IF(P$3<>\"\",\"\",O6+1)","v":3},6,{"$f":"IF(R$3<>\"\",\"\",Q6+1)","v":3},6,{"$f":"IF(T$3<>\"\",\"\",S6+1)","v":3},6]
[4,4,4,4,4,4,"",4,"",4,4,4,4,4,4,4,4,4,4,4]
[5,2,5,2,5,2,"",2,"",2,5,2,5,2,5,2,5,2,5,2]
[6,0,6,0,6,0,"",0,"",0,6,0,6,0,6,0,6,0,6,0]
[7,0,7,0,7,0,"",0,"",0,7,0,7,0,7,0,7,0,7,0]
[8,0,8,0,8,0,"",0,"",0,8,0,8,0,8,0,8,0,8,0]
[9,0,9,0,9,0,"",0,"",0,9,0,9,0,9,0,9,0,9,0]
[10,0,10,0,10,0,"",0,"",0,10,0,10,0,10,0,10,0,10,0]
[11,0,11,0,11,0,"",0,"",0,11,0,11,0,11,0,11,0,11,0]
[12,0,12,0,12,0,"",0,"",0,12,0,12,0,12,0,12,0,12,0]
[13,0,13,0,13,0,"",0,"",0,13,0,13,0,13,0,13,0,13,0]
[14,0,14,0,14,0,"",0,"",0,14,0,14,0,14,0,14,0,14,0]
[15,0,15,0,15,0,"",0,"",0,15,0,15,0,15,0,15,0,15,0]
[16,0,16,0,16,0,"",0,"",0,16,0,16,0,16,0,16,0,16,0]
[17,0,17,0,17,0,"",0,"",0,17,0,17,0,17,0,17,0,17,0]
[18,0,18,0,18,0,"",0,"",0,18,0,18,0,18,0,18,0,18,0]
[19,0,19,0,19,0,"",0,"",0,19,0,19,0,19,0,19,0,19,0]
[20,0,20,0,20,0,"",0,"",0,20,0,20,0,20,0,20,0,20,0]
[21,0,21,0,21,0,"",0,"",0,21,0,21,0,21,0,21,0,21,0]
[22,0,22,0,22,0,"",0,"",0,22,0,22,0,22,0,22,0,22,0]
[23,0,23,0,23,0,"",0,"",0,23,0,23,0,23,0,23,0,23,0]
[24,0,24,0,24,0,"",0,"",0,24,0,24,0,24,0,24,0,24,0]

{"sheet":"Data","index":7,"n_rows":1162,"n_cols":163,"rows_kept":1162,"cut":false,"hidden":false,"merged":[[7,55,7,56],[8,55,8,56],[9,55,9,56],[1,55,1,56],[2,55,2,56],[3,55,3,56],[4,55,4,56],[5,55,5,56],[6,55,6,56],[10,55,10,56],[11,55,11,56],[12,55,12,56],[24,55,24,56],[13,55,13,56],[14,55,14,56],[15,55,15,56],[16,55,16,56],[17,55,17,56],[18,55,18,56],[19,55,19,56],[20,55,20,56],[21,55,21,56],[22,55,22,56],[23,55,23,56]]}
[{"$nulls":11},"END",{"$f":"IF(Form!B1=\"\",\"\",LEFT(Form!B1,FIND(\"/\",Form!B1)-3))","v":"Form - Kyneton "},{"$f":"IF(M1=\"\",\"\",CLEAN(TRIM(MID(M1,7,20))))","v":"Kyneton"},{"$f":"IF(ISNA(CLEAN(TRIM(VLOOKUP(N1,RaceList!O9:'RaceList'!Q41,3,FALSE)))),\"\",CLEAN(TRIM(VLOOKUP(N1,RaceList!O9:'RaceList'!Q41,3,FALSE))))","v":"mr"},{"$f":"TRIM(CLEAN(LEFT(O1,1)))","v":"m"},{"$f":"TRIM(CLEAN(RIGHT(O1,1)))","v":"r"},{"$f":"IF(0+O2<10,\"0\"&0+O2,0+O2)","v":"09"},{"$f":"IF(O1=\"\",\"\",\"http://www.tab.com.au/Racing/Information/Results/DisplayDetailedView.aspx?State=1&MeetingCode=\"&$P$1&\"&RacingCode=\"&Q1&\"&FromDate=\"&TEXT(M2,\"yyyy-mm-dd\")&\"T00:00:00&DisplayType=FinalDividendView&RaceNumber=\"&R1)","v":"http://www.tab.com.au/Racing/Information/Results/DisplayDetailedView.aspx?State=1&MeetingCode=m&RacingCode=r&FromDate=2012-05-14T00:00:00&DisplayType=FinalDividendView&RaceNumber=09"},null,null,{"$f":"A35","v":""},{"$nulls":4},"Form - Kyneton 14/05/12",{"$nulls":20},"Select Date",{"$f":"IF(AV1=\"\",\"\",IF(ISNUMBER(AV1),\"\",IF(AV1=\"Select Date\",\"\",AV1)))","v":""},{"$f":"IF(Race!J1<>\"\",Race!C1,\"\")","v":""},{"$f":"IF(AX1<>\"\",Race!N1,\"\")","v":""},{"$f":"IF(AX1<>\"\",Race!I1,\"\")","v":""},{"$f":"IF(AX1<>\"\",Race!L1,\"\")","v":""},null,null,"Name",null,"Tab No","Barrier","Weight","API",null,null,"API","Win%","Place%","Win&Place%",null,"Win&Place","Distance"," ",{"$nulls":5},"Track"," ",{"$nulls":7},"Dist/Trk","Slow"," ",{"$nulls":7},"Slow","Heavy"," ",{"$nulls":7},"Heavy",null,"Days LS",null,null,"Days 2ndLS",null,null,null,"Fitness","Class",null,null,"Class","LS Margin",{"$nulls":5},"2nd Last Mrg",{"$nulls":5},"3rd Last Mrg",{"$nulls":7},"Form",null,"Qld Rtg",null,"Qld Rtg","PPP",{"$nulls":5},"PPP","Rating",{"$f":"MIN(EV2:EV26)","v":2},99,{"$f":"MAX(EW2:EW26)","v":42},1,{"$f":"SUM(FA2:FA26)","v":210.49122807017542},{"$f":"SUM(EX2:EX26)","v":303.33333333333331}]
[{"$nulls":11},{"$f":"IF(N5=\"\",\"\",1)","v":1},"2012-05-14",{"$f":"IF(Race!H5=\"\",\"\",IF(ISERROR(LEFT(Race!H5,FIND(\"(\",Race!H5)-1)),Race!H5,LEFT(Race!H5,FIND(\"(\",Race!H5)-1)))","v":"DEAD"},{"$f":"IF(Form!B3=\"\",\"\",TRIM(MID(Form!B3,5,3)))","v":"9"},{"$f":"IF(ISNA(CLEAN(TRIM(VLOOKUP(N1,M3:Y100,$O$2+2,FALSE)))),\"invalid\",CLEAN(TRIM(VLOOKUP(N1,M3:Y100,$O$2+2,FALSE))))","v":"http://www.tabonline.com.au/2012/05/14/VR09.html"},{"$nulls":5},{"$f":"A36","v":"END"},{"$nulls":25},"Paeroa",{"$f":"IF(AV2=\"\",\"\",IF(ISNUMBER(AV2),\"\",IF(AV2=\"Select Date\",\"\",AV2)))","v":"Paeroa"},{"$f":"IF(Race!J2<>\"\",Race!C2,\"\")","v":""},{"$f":"IF(AX2<>\"\",Race!N2,\"\")","v":""},{"$f":"IF(AX2<>\"\",Race!I2,\"\")","v":""},{"$f":"IF(AX2<>\"\",Race!L2,\"\")","v":""},null,{"$f":"IF(BD2=\"\",\"\",BF2&\"  \"&BD2)","v":"1  Agasha"},{"$f":"IF(ISNUMBER(Form!J6),LEFT(Form!D6,FIND(\"(\",Form!D6)-2),\"\")","v":"Agasha"},null,{"$f":"IF(BD2=\"\",\"\",Form!B6)","v":1},{"$f":"IF($BD2=\"\",\"\",IF(ISNA(VLOOKUP(BD2,AX1:AZ100,3,FALSE)),\"\",VLOOKUP(BD2,AX1:AZ100,3,FALSE)))","v":7},{"$f":"IF(BG2=\"\",\"\",Form!G6)","v":60},{"$f":"IF($BG2=\"\",\"\",IF(MainSheet!G16=\"\",\"\",Form!H6))","v":1.7},{"$f":"IF(BG2=\"\",\"\",1-(BI2/1000))","v":0.99829999999999997},{"$f":"IF(BG2=\"\",\"\",COUNT($BJ$2:$BJ$26)-(RANK(BJ2,$BJ$2:$BJ$26)+COUNTIF($BJ$2:BJ2,BJ2)-1)+1)","v":3},{"$f":"IF($BG2=\"\",\"\",IF(ISNA(VLOOKUP(BK2,Tables!A$5:B$28,2,FALSE)),0,VLOOKUP(BK2,Tables!A$5:B$28,2,FALSE)))","v":6},{"$f":"IF(BG2=\"\",\"\",Form!I6)","v":11.1},{"$f":"IF(BG2=\"\",\"\",Form!J6)","v":44.4},{"$f":"IF($BG2=\"\",\"\",(BM2+BN2))","v":55.5},{"$f":"IF(BG2=\"\",\"\",COUNT($BO$2:$BO$26)-(RANK(BO2,$BO$2:$BO$26,1)+COUNTIF($BO$2:BO2,BO2)-1)+1)","v":3},{"$f":"IF($BG2=\"\",\"\",IF(ISNA(VLOOKUP(BP2,Tables!C$5:D$28,2,FALSE)),0,VLOOKUP(BP2,Tables!C$5:D$28,2,FALSE)))","v":6},{"$f":"IF(BG2=\"\",\"\",INDEX(Form!$B$1:'Form'!$J$1000,MATCH($BD2,Form!$A$1:'Form'!$A$1000,0)+3,8))","v":"0::0-0-0"},{"$f":"IF(BR2=\"\",\"\",IF(BR2=0,\"\",0+TRIM(CLEAN(LEFT(BR2,FIND(\":\",BR2)-1)))))","v":0},{"$f":"IF(BS2=\"\",\"\",RIGHT(BR2,LEN(BR2)-SEARCH(\"::\",BR2,2)))","v":":0-0-0"},{"$f":"IF(BT2=\"\",\"\",SUBSTITUTE(SUBSTITUTE(BT2,\":\",\"\"),\"-\",\" \"))","v":"0 0 0"},{"$f":"IF(BU2=\"\",\"\",0+TRIM(CLEAN(LEFT(BU2,FIND(\" \",BU2)-1))))","v":0},{"$f":"IF(BS2=\"\",\"\",MID(BU2,SEARCH(\" \",BU2,1)+1,SEARCH(\" \",BU2,SEARCH(\" \",BU2,1)+1)-SEARCH(\" \",BU2,1)))","v":"0 "},{"$f":"IF(BS2=\"\",\"\",RIGHT(BU2,LEN(BU2)-SEARCH(\" \",BU2,SEARCH(\" \",BU2,1)+1)))","v":"0"},{"$f":"IF(BG2=\"\",\"\",INDEX(Form!$B$1:'Form'!$J$1000,MATCH($BD2,Form!$A$1:'Form'!$A$1000,0)+3,9))","v":"0::0-0-0"},{"$f":"IF(BY2=\"\",\"\",IF(BY2=0,\"\",0+TRIM(CLEAN(LEFT(BY2,FIND(\":\",BY2)-1)))))","v":0},{"$f":"IF(BZ2=\"\",\"\",RIGHT(BY2,LEN(BY2)-SEARCH(\"::\",BY2,2)))","v":":0-0-0"},{"$f":"IF(CA2=\"\",\"\",SUBSTITUTE(SUBSTITUTE(CA2,\":\",\"\"),\"-\",\" \"))","v":"0 0 0"},{"$f":"IF(CB2=\"\",\"\",0+TRIM(CLEAN(LEFT(CB2,FIND(\" \",CB2)-1))))","v":0},{"$f":"IF(BZ2=\"\",\"\",MID(CB2,SEARCH(\" \",CB2,1)+1,SEARCH(\" \",CB2,SEARCH(\" \",CB2,1)+1)-SEARCH(\" \",CB2,1)))","v":"0 "},{"$f":"IF(BZ2=\"\",\"\",RIGHT(CB2,LEN(CB2)-SEARCH(\" \",CB2,SEARCH(\" \",CB2,1)+1)))","v":"0"},{"$f":"IF(BR2=\"\",\"\",IF(BR2=0,\"\",((BV2+CC2)*3)+(BW2+CD2)+BX2+CE2))","v":0},{"$f":"IF(MainSheet!G16=\"\",\"\",IF(CF2=\"\",\"\",COUNT($CF$2:$CF$26)-(RANK(CF2,$CF$2:$CF$26,1)+COUNTIF($CF$2:CF2,CF2)-1)+1))","v":13},{"$f":"IF($BY2=\"\",\"\",IF(Tables!$F$3<>\"\",0,IF(ISNA(VLOOKUP(CG2,Tables!E$5:F$28,2,FALSE)),0,VLOOKUP(CG2,Tables!E$5:F$28,2,FALSE))))","v":0},{"$f":"IF(BG2=\"\",\"\",INDEX(Form!$B$1:'Form'!$J$1000,MATCH($BD2,Form!$A$1:'Form'!$A$1000,0)+5,4))","v":"0::0-0-0"},{"$f":"IF(CI2=\"\",\"\",IF(CI2=0,\"\",0+TRIM(CLEAN(LEFT(CI2,FIND(\":\",CI2)-1)))))","v":0},{"$f":"IF(CJ2=\"\",\"\",RIGHT(CI2,LEN(CI2)-SEARCH(\"::\",CI2,2)))","v":":0-0-0"},{"$f":"IF(CK2=\"\",\"\",SUBSTITUTE(SUBSTITUTE(CK2,\":\",\"\"),\"-\",\" \"))","v":"0 0 0"},{"$f":"IF(CL2=\"\",\"\",0+TRIM(CLEAN(LEFT(CL2,FIND(\" \",CL2)-1))))","v":0},{"$f":"IF(CJ2=\"\",\"\",MID(CL2,SEARCH(\" \",CL2,1)+1,SEARCH(\" \",CL2,SEARCH(\" \",CL2,1)+1)-SEARCH(\" \",CL2,1)))","v":"0 "},{"$f":"IF(CJ2=\"\",\"\",RIGHT(CL2,LEN(CL2)-SEARCH(\" \",CL2,SEARCH(\" \",CL2,1)+1)))","v":"0"},{"$f":"IF(CJ2=\"\",\"\",(CM2*3)+CN2+CO2)","v":0},{"$f":"IF(BG2=\"\",\"\",IF(CI2=0,0,COUNT($CP$2:$CP$26)-(RANK(CP2,$CP$2:$CP$26,1)+COUNTIF($CP$2:CP2,CP2)-1)+1))","v":13},{"$f":"IF($CI2=\"\",\"\",IF(Tables!$H$3<>\"\",0,IF(ISNA(VLOOKUP(CQ2,Tables!G$5:H$28,2,FALSE)),0,VLOOKUP(CQ2,Tables!G$5:H$28,2,FALSE))))","v":0},{"$f":"IF(BG2=\"\",\"\",INDEX(Form!$B$1:'Form'!$J$1000,MATCH($BD2,Form!$A$1:'Form'!$A$1000,0)+5,5))","v":"0::0-0-0"},{"$f":"IF(CS2=\"\",\"\",IF(CS2=0,\"\",0+TRIM(CLEAN(LEFT(CS2,FIND(\":\",CS2)-1)))))","v":0},{"$f":"IF(CT2=\"\",\"\",RIGHT(CS2,LEN(CS2)-SEARCH(\"::\",CS2,2)))","v":":0-0-0"},{"$f":"IF(CU2=\"\",\"\",SUBSTITUTE(SUBSTITUTE(CU2,\":\",\"\"),\"-\",\" \"))","v":"0 0 0"},{"$f":"IF(CV2=\"\",\"\",0+TRIM(CLEAN(LEFT(CV2,FIND(\" \",CV2)-1))))","v":0},{"$f":"IF(CT2=\"\",\"\",0+MID(CV2,SEARCH(\" \",CV2,1)+1,SEARCH(\" \",CV2,SEARCH(\" \",CV2,1)+1)-SEARCH(\" \",CV2,1)))","v":0},{"$f":"IF(CT2=\"\",\"\",0+RIGHT(CV2,LEN(CV2)-SEARCH(\" \",CV2,SEARCH(\" \",CV2,1)+1)))","v":0},{"$f":"IF(CT2=\"\",\"\",(CW2*3)+CX2+CY2)","v":0},{"$f":"IF(BG2=\"\",\"\",IF(CS2=0,0,COUNT($CZ$2:$CZ$26)-(RANK(CZ2,$CZ$2:$CZ$26,1)+COUNTIF($CZ$2:CZ2,CZ2)-1)+1))","v":13},{"$f":"IF($CS2=\"\",\"\",IF(Tables!$J$3<>\"\",0,IF(Tables!$K$1=0,0,IF(ISNA(VLOOKUP(DA2,Tables!$I$5:$J$28,2,FALSE)),\"0\",VLOOKUP(DA2,Tables!$I$5:$J$28,2,FALSE)))))","v":0},{"$f":"IF($BG2=\"\",\"\",IF(INDEX($AA$1:$AT$499,MATCH($BD2,$Z$1:$Z$499,0)+4,9)=0,0,INDEX($AA$1:$AT$499,MATCH($BD2,$Z$1:$Z$499,0)+4,3)))","v":"2012-05-06"},{"$f":"IF(DC2=\"\",\"\",IF($M$2-DC2>100,100,$M$2-DC2))","v":8},{"$f":"IF(DD2=\"\",\"\",IF(DD2>100,100,200-DD2))","v":192},{"$f":"IF($BG2=\"\",\"\",IF(INDEX($AA$1:$AT$499,MATCH($BD2,$Z$1:$Z$499,0)+5,9)=0,0,IF(DE2<-1000,0,INDEX($AA$1:$AT$499,MATCH($BD2,$Z$1:$Z$499,0)+6,3))))","v":"2012-04-01"},{"$f":"IF(DF2=\"\",\"\",IF($M$2-DF2>100,100,$M$2-DF2))","v":43},{"$f":"IF(DG2=\"\",\"\",IF(DG2>100,100,200-DG2))","v":157},{"$f":"IF(BG2=\"\",\"\",DE2+DH2)","v":349},{"$f":"IF(BG2=\"\",\"\",COUNT($DI$2:$DI$26)-(RANK(DI2,$DI$2:$DI$26,1)+COUNTIF($DI$2:DI2,DI2)-1)+1)","v":4},{"$f":"IF($BG2=\"\",\"\",IF(ISNA(VLOOKUP(DJ2,Tables!K$5:L$28,2,FALSE)),\"0\",VLOOKUP(DJ2,Tables!K$5:L$28,2,FALSE)))","v":4},{"$f":"IF($BG2=\"\",\"\",IF(INDEX($AA$1:$AT$499,MATCH($BD2,$Z$1:$Z$499,0)+4,9)=0,INDEX($AA$1:$AT$499,MATCH($BD2,$Z$1:$Z$499,0)+5,9),INDEX($AA$1:$AT$499,MATCH($BD2,$Z$1:$Z$499,0)+4,9)))","v":12000},{"$f":"IF(BG2=\"\",\"\",(DL2-Form!$I$4))","v":0},{"$f":"IF(BG2=\"\",\"\",COUNT($DM$2:$DM$26)-(RANK(DM2,$DM$2:$DM$26,1)+COUNTIF($DM$2:DM2,DM2)-1)+1)","v":13},{"$f":"IF($BG2=\"\",\"\",IF(ISERROR(DN2),1,IF(ISNA(VLOOKUP(DN2,Tables!M$5:N$28,2,FALSE)),\"0\",VLOOKUP(DN2,Tables!M$5:N$28,2,FALSE))))","v":0},{"$f":"IF(BG2=\"\",\"\",IF(INDEX($AA$1:$AT$499,MATCH($BD2,$Z$1:$Z$499,0)+4,9)=0,0,IF(ISERROR(INDEX($AA$1:$AT$499,MATCH($BD2,$Z$1:$Z$499,0)+4,1)),0,INDEX($AA$1:$AT$499,MATCH($BD2,$Z$1:$Z$499,0)+4,1))))","v":"12-14 10.5L"},{"$f":"IF($DP2=\"\",\"\",IF(ISERROR(0+CLEAN(LEFT(DP2,FIND(\"-\",DP2)-1))),100,0+CLEAN(LEFT(DP2,FIND(\"-\",DP2)-1))))","v":12},{"$f":"IF(DP2=\"\",\"\",MID(DP2,FIND(CHAR(22),SUBSTITUTE(DP2,\" \",CHAR(22),LEN(DP2)-LEN(SUBSTITUTE(DP2,\" \",\"\"))))+1,255))","v":"10.5L"},{"$f":"IF(BG2=\"\",\"\",IF(DQ2=100,5,(LEFT(DR2,FIND(\"L\",DR2)-1))))","v":"10.5"},{"$f":"IF(MainSheet!$G16=\"\",\"\",IF(DS2=\"\",\"\",IF(ISERROR(DS2),\"\",ROUND(0+DS2/0.5,0)*0.5)))","v":10.5},{"$f":"IF(DQ2=\"\",\"\",IF(DQ2=1,100-0,IF(DT2>10,90,100-DT2)))","v":90},{"$f":"IF(BG2=\"\",\"\",IF(INDEX($AA$1:$AT$499,MATCH($BD2,$Z$1:$Z$499,0)+5,9)=0,0,IF(ISERROR(INDEX($AA$1:$AT$499,MATCH($BD2,$Z$1:$Z$499,0)+5,1)),0,INDEX($AA$1:$AT$499,MATCH($BD2,$Z$1:$Z$499,0)+5,1))))","v":"3-10 1.3L"},{"$f":"IF($DP2=\"\",\"\",IF(ISERROR(0+CLEAN(LEFT(DV2,FIND(\"-\",DV2)-1))),100,0+CLEAN(LEFT(DV2,FIND(\"-\",DV2)-1))))","v":3},{"$f":"IF(DV2=\"\",\"\",MID(DV2,FIND(CHAR(22),SUBSTITUTE(DV2,\" \",CHAR(22),LEN(DV2)-LEN(SUBSTITUTE(DV2,\" \",\"\"))))+1,255))","v":"1.3L"},{"$f":"IF(BG2=\"\",\"\",IF(DW2=100,5,(LEFT(DX2,FIND(\"L\",DX2)-1))))","v":"1.3"},{"$f":"IF(MainSheet!$G16=\"\",\"\",IF(DY2=\"\",\"\",IF(ISERROR(DY2),\"\",ROUND(0+DY2/0.5,0)*0.5)))","v":1.5},{"$f":"IF(DW2=\"\",\"\",IF(DW2=1,100-0,IF(DZ2>10,90,100-DZ2)))","v":98.5},{"$f":"IF(BG2=\"\",\"\",IF(INDEX($AA$1:$AT$499,MATCH($BD2,$Z$1:$Z$499,0)+6,9)=0,0,IF(ISERROR(INDEX($AA$1:$AT$499,MATCH($BD2,$Z$1:$Z$499,0)+6,1)),0,INDEX($AA$1:$AT$499,MATCH($BD2,$Z$1:$Z$499,0)+6,1))))","v":"10-11 10.7L"},{"$f":"IF($DP2=\"\",\"\",IF(ISERROR(0+CLEAN(LEFT(EB2,FIND(\"-\",EB2)-1))),100,0+CLEAN(LEFT(EB2,FIND(\"-\",EB2)-1))))","v":10},{"$f":"IF(EB2=\"\",\"\",MID(EB2,FIND(CHAR(22),SUBSTITUTE(EB2,\" \",CHAR(22),LEN(EB2)-LEN(SUBSTITUTE(EB2,\" \",\"\"))))+1,255))","v":"10.7L"},{"$f":"IF(BG2=\"\",\"\",IF(EC2=100,5,(LEFT(ED2,FIND(\"L\",ED2)-1))))","v":"10.7"},{"$f":"IF(MainSheet!$G16=\"\",\"\",IF(EE2=\"\",\"\",IF(ISERROR(EE2),\"\",ROUND(0+EE2/0.5,0)*0.5)))","v":10.5},{"$f":"IF(EC2=\"\",\"\",IF(EC2=1,100-0,IF(EF2>10,90,100-EF2)))","v":90},{"$f":"IF(BG2=\"\",\"\",DU2+EA2+EG2)","v":278.5},{"$f":"IF(BG2=\"\",\"\",COUNT($EH$2:$EH$26)-(RANK(EH2,$EH$2:$EH$26,1)+COUNTIF($EH$2:EH2,EH2)-1)+1)","v":13},{"$f":"IF($BG2=\"\",\"\",IF(ISNA(VLOOKUP(EI2,Tables!O$5:P$28,2,FALSE)),\"0\",VLOOKUP(EI2,Tables!O$5:P$28,2,FALSE)))","v":0},{"$f":"IF(BD2=\"\",\"\",IF(ISNA(VLOOKUP(BD2,$AX$1:$AY$100,2,FALSE)),\"\",VLOOKUP(BD2,$AX$1:$AY$100,2,FALSE)))","v":96},{"$f":"IF(EK2=\"\",\"\",0+EK2)","v":96},{"$f":"IF(BG2=\"\",\"\",IF(EL2=0,0,COUNT($EL$2:$EL$26)-(RANK(EL2,$EL$2:$EL$26,1)+COUNTIF($EL$2:EL2,EL2)-1)+1))","v":5},{"$f":"IF($BG2=\"\",\"\",IF(ISNA(VLOOKUP(EM2,Tables!Q$5:R$26,2,FALSE)),\"0\",VLOOKUP(EM2,Tables!Q$5:R$26,2,FALSE)))","v":2},{"$f":"IF(BG2=\"\",\"\",Form!K6)","v":"10/1"},{"$f":"IF($EO2=\"\",\"\",IF(ISERROR(0+CLEAN(LEFT(EO2,FIND(\"/\",EO2)-1))),10,0+CLEAN(LEFT(EO2,FIND(\"/\",EO2)-1))))","v":10},{"$f":"IF(EO2=\"\",\"\",RIGHT(EO2,LEN(EO2)-SEARCH(\"/\",EO2,2)))","v":"1"},{"$f":"IF(EO2=\"\",\"\",1+(0+EP2)/(0+EQ2))","v":11},{"$f":"IF(EO2=\"\",\"\",500-ER2)","v":489},{"$f":"IF(BG2=\"\",\"\",IF(ES2=0,0,COUNT($ES$2:$ES$26)-(RANK(ES2,$ES$2:$ES$26,1)+COUNTIF($ES$2:ES2,ES2)-1)+1))","v":8},{"$f":"IF($BG2=\"\",\"\",IF(ISERROR(ET2),0,IF(ISNA(VLOOKUP(ET2,Tables!S$5:T$26,2,FALSE)),\"0\",VLOOKUP(ET2,Tables!S$5:T$26,2,FALSE))))","v":0},{"$f":"IF(BF2=\"\",\"\",IF(MainSheet!D16=\"Scratched\",\"\",IF(ISERROR(BL2+BQ2+CH2+CR2+DB2+DK2+DO2+EJ2+EN2+EU2),\"\",BL2+BQ2+CH2+CR2+DB2+DK2+DO2+EJ2+EN2+EU2)))","v":18},{"$f":"IF(EV2=\"\",\"\",IF(EV2=$EW$1,0,EV2-$EW$1))","v":16},{"$f":"IF(EW2=\"\",\"\",IF(EW2=0,0,EW2+((EW2*EW2*$EZ$1)/($EX$1-$EY$1))))","v":20.491228070175438},{"$f":"IF(EX2=\"\",\"\",COUNT($EX$2:$EX$26)-(RANK(EX2,$EX$2:$EX$26)+COUNTIF($EX$2:EX2,EX2)-1)+1)","v":7},{"$f":"IF(EY2=\"\",\"\",RANK(EY2,$EY$2:$EY$26))","v":7},{"$f":"IF(EZ2=\"\",\"\",IF(EZ2<6,EX2,\"\"))","v":""},{"$f":"IF(FA2=\"\",\"\",FA2/$FA$1)","v":""},{"$f":"IF(EX2=0,0.01,IF(AND(EX2=\"\",FA2=\"\"),\"\",IF(FB2=\"\",EX2/$FB$1,FB2)))","v":6.7553499132446501E-2},{"$f":"IF(FC2=\"\",\"\",IF(1/FC2*MainSheet!$R$11>100,100,1/FC2*MainSheet!$R$11))","v":12.582619863013699},null,{"$f":"IF(EX2=\"\",\"\",IF(EX2=0,0.01,EX2/$FB$1))","v":6.7553499132446501E-2},{"$f":"IF(FF2=\"\",\"\",IF(1/FF2*MainSheet!$R$11>100,100,1/FF2*MainSheet!$R$11))","v":12.582619863013699}]
[{"$f":"IF(Meetings1!A3=\"\",\"\",IF(Meetings1!A3=\"END\",\"END\",IF(Meetings1!B3=\"\",\"\",getAddress(Meetings1!E3))))","v":""},{"$nulls":11},{"$f":"IF(ISERROR(N3),\"\",IF(ISNA(VLOOKUP(N3,RaceList!$M$9:$O$41,3,FALSE)),\"\",VLOOKUP(N3,RaceList!$M$9:$O$41,3,FALSE)))","v":"Dubbo"},{"$f":"IF(Meetings2!$B3=\"\",\"\",Meetings2!$B3)","v":"DUBBO (NR)"},{"$f":"IF(Meetings2!D3=\"\",\"\",getAddress(Meetings2!D3))","v":"http://www.tabonline.com.au/2012/05/14/NR01.html"},{"$f":"IF(Meetings2!E3=\"\",\"\",getAddress(Meetings2!E3))","v":"http://www.tabonline.com.au/2012/05/14/NR02.html"},{"$f":"IF(Meetings2!F3=\"\",\"\",getAddress(Meetings2!F3))","v":"http://www.tabonline.com.au/2012/05/14/NR03.html"},{"$f":"IF(Meetings2!G3=\"\",\"\",getAddress(Meetings2!G3))","v":"http://www.tabonline.com.au/2012/05/14/NR04.html"},{"$f":"IF(Meetings2!H3=\"\",\"\",getAddress(Meetings2!H3))","v":"http://www.tabonline.com.au/2012/05/14/NR05.html"},{"$f":"IF(Meetings2!I3=\"\",\"\",getAddress(Meetings2!I3))","v":"http://www.tabonline.com.au/2012/05/14/NR06.html"},{"$f":"IF(Meetings2!J3=\"\",\"\",getAddress(Meetings2!J3))","v":"http://www.tabonline.com.au/2012/05/14/NR07.html"},{"$f":"IF(Meetings2!K3=\"\",\"\",getAddress(Meetings2!K3))","v":""},{"$f":"IF(Meetings2!L3=\"\",\"\",getAddress(Meetings2!L3))","v":""},{"$f":"IF(Meetings2!M3=\"\",\"\",getAddress(Meetings2!M3))","v":""},{"$f":"IF(Meetings2!AA3=\"\",\"\",getAddress(Meetings2!AA3))","v":""},null,"Race 9",{"$nulls":20},"Kyneton","Kyneton",{"$f":"IF(Race!J3<>\"\",Race!C3,\"\")","v":""},{"$f":"IF(AX3<>\"\",Race!N3,\"\")","v":""},{"$f":"IF(AX3<>\"\",Race!I3,\"\")","v":""},{"$f":"IF(AX3<>\"\",Race!L3,\"\")","v":""},null,{"$f":"IF(BD3=\"\",\"\",BF3&\"  \"&BD3)","v":"2  Handle On A Star"},{"$f":"IF(ISNUMBER(Form!J7),LEFT(Form!D7,FIND(\"(\",Form!D7)-2),\"\")","v":"Handle On A Star"},null,{"$f":"IF(BD3=\"\",\"\",Form!B7)","v":2},16,{"$f":"IF(BG3=\"\",\"\",Form!G7)","v":60},{"$f":"IF($BG3=\"\",\"\",IF(MainSheet!G17=\"\",\"\",Form!H7))","v":0.9},{"$f":"IF(BG3=\"\",\"\",1-(BI3/1000))","v":0.99909999999999999},{"$f":"IF(BG3=\"\",\"\",COUNT($BJ$2:$BJ$26)-(RANK(BJ3,$BJ$2:$BJ$26)+COUNTIF($BJ$2:BJ3,BJ3)-1)+1)","v":12},{"$f":"IF($BG3=\"\",\"\",IF(ISNA(VLOOKUP(BK3,Tables!A$5:B$28,2,FALSE)),0,VLOOKUP(BK3,Tables!A$5:B$28,2,FALSE)))","v":0},{"$f":"IF(BG3=\"\",\"\",Form!I7)","v":6.7},{"$f":"IF(BG3=\"\",\"\",Form!J7)","v":33.299999999999997},{"$f":"IF($BG3=\"\",\"\",(BM3+BN3))","v":40},{"$f":"IF(BG3=\"\",\"\",COUNT($BO$2:$BO$26)-(RANK(BO3,$BO$2:$BO$26,1)+COUNTIF($BO$2:BO3,BO3)-1)+1)","v":9},{"$f":"IF($BG3=\"\",\"\",IF(ISNA(VLOOKUP(BP3,Tables!C$5:D$28,2,FALSE)),0,VLOOKUP(BP3,Tables!C$5:D$28,2,FALSE)))","v":0},{"$f":"IF(BG3=\"\",\"\",INDEX(Form!$B$1:'Form'!$J$1000,MATCH($BD3,Form!$A$1:'Form'!$A$1000,0)+3,8))","v":"2::0-0-0"},{"$f":"IF(BR3=\"\",\"\",IF(BR3=0,\"\",0+TRIM(CLEAN(LEFT(BR3,FIND(\":\",BR3)-1)))))","v":2},{"$f":"IF(BS3=\"\",\"\",RIGHT(BR3,LEN(BR3)-SEARCH(\":\",BR3,1)))","v":":0-0-0"},{"$f":"IF(BT3=\"\",\"\",SUBSTITUTE(SUBSTITUTE(BT3,\":\",\"\"),\"-\",\" \"))","v":"0 0 0"},{"$f":"IF(BU3=\"\",\"\",0+TRIM(CLEAN(LEFT(BU3,FIND(\" \",BU3)-1))))","v":0},{"$f":"IF(BS3=\"\",\"\",MID(BU3,SEARCH(\" \",BU3,1)+1,SEARCH(\" \",BU3,SEARCH(\" \",BU3,1)+1)-SEARCH(\" \",BU3,1)))","v":"0 "},{"$f":"IF(BS3=\"\",\"\",RIGHT(BU3,LEN(BU3)-SEARCH(\" \",BU3,SEARCH(\" \",BU3,1)+1)))","v":"0"},{"$f":"IF(BG3=\"\",\"\",INDEX(Form!$B$1:'Form'!$J$1000,MATCH($BD3,Form!$A$1:'Form'!$A$1000,0)+3,9))","v":"2::1-0-0"},{"$f":"IF(BY3=\"\",\"\",IF(BY3=0,\"\",0+TRIM(CLEAN(LEFT(BY3,FIND(\":\",BY3)-1)))))","v":2},{"$f":"IF(BZ3=\"\",\"\",RIGHT(BY3,LEN(BY3)-SEARCH(\"::\",BY3,2)))","v":":1-0-0"},{"$f":"IF(CA3=\"\",\"\",SUBSTITUTE(SUBSTITUTE(CA3,\":\",\"\"),\"-\",\" \"))","v":"1 0 0"},{"$f":"IF(CB3=\"\",\"\",0+TRIM(CLEAN(LEFT(CB3,FIND(\" \",CB3)-1))))","v":1},{"$f":"IF(BZ3=\"\",\"\",MID(CB3,SEARCH(\" \",CB3,1)+1,SEARCH(\" \",CB3,SEARCH(\" \",CB3,1)+1)-SEARCH(\" \",CB3,1)))","v":"0 "},{"$f":"IF(BZ3=\"\",\"\",RIGHT(CB3,LEN(CB3)-SEARCH(\" \",CB3,SEARCH(\" \",CB3,1)+1)))","v":"0"},{"$f":"IF(BR3=\"\",\"\",IF(BR3=0,\"\",((BV3+CC3)*3)+(BW3+CD3)+BX3+CE3))","v":3},{"$f":"IF(MainSheet!G17=\"\",\"\",IF(CF3=\"\",\"\",COUNT($CF$2:$CF$26)-(RANK(CF3,$CF$2:$CF$26,1)+COUNTIF($CF$2:CF3,CF3)-1)+1))","v":9},{"$f":"IF($BY3=\"\",\"\",IF(Tables!$F$3<>\"\",0,IF(ISNA(VLOOKUP(CG3,Tables!E$5:F$28,2,FALSE)),0,VLOOKUP(CG3,Tables!E$5:F$28,2,FALSE))))","v":0},{"$f":"IF(BG3=\"\",\"\",INDEX(Form!$B$1:'Form'!$J$1000,MATCH($BD3,Form!$A$1:'Form'!$A$1000,0)+5,4))","v":"4::1-0-1"},{"$f":"IF(CI3=\"\",\"\",IF(CI3=0,\"\",0+TRIM(CLEAN(LEFT(CI3,FIND(\":\",CI3)-1)))))","v":4},{"$f":"IF(CJ3=\"\",\"\",RIGHT(CI3,LEN(CI3)-SEARCH(\"::\",CI3,2)))","v":":1-0-1"},{"$f":"IF(CK3=\"\",\"\",SUBSTITUTE(SUBSTITUTE(CK3,\":\",\"\"),\"-\",\" \"))","v":"1 0 1"},{"$f":"IF(CL3=\"\",\"\",0+TRIM(CLEAN(LEFT(CL3,FIND(\" \",CL3)-1))))","v":1},{"$f":"IF(CJ3=\"\",\"\",MID(CL3,SEARCH(\" \",CL3,1)+1,SEARCH(\" \",CL3,SEARCH(\" \",CL3,1)+1)-SEARCH(\" \",CL3,1)))","v":"0 "},{"$f":"IF(CJ3=\"\",\"\",RIGHT(CL3,LEN(CL3)-SEARCH(\" \",CL3,SEARCH(\" \",CL3,1)+1)))","v":"1"},{"$f":"IF(CJ3=\"\",\"\",(CM3*3)+CN3+CO3)","v":4},{"$f":"IF(BG3=\"\",\"\",IF(CI3=0,0,COUNT($CP$2:$CP$26)-(RANK(CP3,$CP$2:$CP$26,1)+COUNTIF($CP$2:CP3,CP3)-1)+1))","v":5},{"$f":"IF($CI3=\"\",\"\",IF(Tables!$H$3<>\"\",0,IF(ISNA(VLOOKUP(CQ3,Tables!G$5:H$28,2,FALSE)),0,VLOOKUP(CQ3,Tables!G$5:H$28,2,FALSE))))","v":0},{"$f":"IF(BG3=\"\",\"\",INDEX(Form!$B$1:'Form'!$J$1000,MATCH($BD3,Form!$A$1:'Form'!$A$1000,0)+5,5))","v":"1::0-0-0"},{"$f":"IF(CS3=\"\",\"\",IF(CS3=0,\"\",0+TRIM(CLEAN(LEFT(CS3,FIND(\":\",CS3)-1)))))","v":1},{"$f":"IF(CT3=\"\",\"\",RIGHT(CS3,LEN(CS3)-SEARCH(\"::\",CS3,2)))","v":":0-0-0"},{"$f":"IF(CU3=\"\",\"\",SUBSTITUTE(SUBSTITUTE(CU3,\":\",\"\"),\"-\",\" \"))","v":"0 0 0"},{"$f":"IF(CV3=\"\",\"\",0+TRIM(CLEAN(LEFT(CV3,FIND(\" \",CV3)-1))))","v":0},{"$f":"IF(CT3=\"\",\"\",0+MID(CV3,SEARCH(\" \",CV3,1)+1,SEARCH(\" \",CV3,SEARCH(\" \",CV3,1)+1)-SEARCH(\" \",CV3,1)))","v":0},{"$f":"IF(CT3=\"\",\"\",0+RIGHT(CV3,LEN(CV3)-SEARCH(\" \",CV3,SEARCH(\" \",CV3,1)+1)))","v":0},{"$f":"IF(CT3=\"\",\"\",(CW3*3)+CX3+CY3)","v":0},{"$f":"IF(BG3=\"\",\"\",IF(CS3=0,0,COUNT($CZ$2:$CZ$26)-(RANK(CZ3,$CZ$2:$CZ$26,1)+COUNTIF($CZ$2:CZ3,CZ3)-1)+1))","v":12},{"$f":"IF($CS3=\"\",\"\",IF(Tables!$J$3<>\"\",0,IF(Tables!$K$1=0,0,IF(ISNA(VLOOKUP(DA3,Tables!$I$5:$J$28,2,FALSE)),\"0\",VLOOKUP(DA3,Tables!$I$5:$J$28,2,FALSE)))))","v":0},{"$f":"IF($BG3=\"\",\"\",IF(INDEX($AA$1:$AT$499,MATCH($BD3,$Z$1:$Z$499,0)+4,9)=0,0,INDEX($AA$1:$AT$499,MATCH($BD3,$Z$1:$Z$499,0)+4,3)))","v":"2012-04-23"},{"$f":"IF(DC3=\"\",\"\",IF($M$2-DC3>100,100,$M$2-DC3))","v":21},{"$f":"IF(DD3=\"\",\"\",IF(DD3>100,100,200-DD3))","v":179},{"$f":"IF($BG3=\"\",\"\",IF(INDEX($AA$1:$AT$499,MATCH($BD3,$Z$1:$Z$499,0)+5,9)=0,0,IF(DE3<-1000,0,INDEX($AA$1:$AT$499,MATCH($BD3,$Z$1:$Z$499,0)+6,3))))","v":"2012-03-11"},{"$f":"IF(DF3=\"\",\"\",IF($M$2-DF3>100,100,$M$2-DF3))","v":64},{"$f":"IF(DG3=\"\",\"\",IF(DG3>100,100,200-DG3))","v":136},{"$f":"IF(BG3=\"\",\"\",DE3+DH3)","v":315},{"$f":"IF(BG3=\"\",\"\",COUNT($DI$2:$DI$26)-(RANK(DI3,$DI$2:$DI$26,1)+COUNTIF($DI$2:DI3,DI3)-1)+1)","v":6},{"$f":"IF($BG3=\"\",\"\",IF(ISNA(VLOOKUP(DJ3,Tables!K$5:L$28,2,FALSE)),\"0\",VLOOKUP(DJ3,Tables!K$5:L$28,2,FALSE)))","v":0},{"$f":"IF($BG3=\"\",\"\",IF(INDEX($AA$1:$AT$499,MATCH($BD3,$Z$1:$Z$499,0)+4,9)=0,INDEX($AA$1:$AT$499,MATCH($BD3,$Z$1:$Z$499,0)+5,9),INDEX($AA$1:$AT$499,MATCH($BD3,$Z$1:$Z$499,0)+4,9)))","v":12000},{"$f":"IF(BG3=\"\",\"\",(DL3-Form!$I$4))","v":0},{"$f":"IF(BG3=\"\",\"\",COUNT($DM$2:$DM$26)-(RANK(DM3,$DM$2:$DM$26,1)+COUNTIF($DM$2:DM3,DM3)-1)+1)","v":12},{"$f":"IF($BG3=\"\",\"\",IF(ISERROR(DN3),1,IF(ISNA(VLOOKUP(DN3,Tables!M$5:N$28,2,FALSE)),\"0\",VLOOKUP(DN3,Tables!M$5:N$28,2,FALSE))))","v":0},{"$f":"IF(BG3=\"\",\"\",IF(INDEX($AA$1:$AT$499,MATCH($BD3,$Z$1:$Z$499,0)+4,9)=0,0,IF(ISERROR(INDEX($AA$1:$AT$499,MATCH($BD3,$Z$1:$Z$499,0)+4,1)),0,INDEX($AA$1:$AT$499,MATCH($BD3,$Z$1:$Z$499,0)+4,1))))","v":"1-7 0.8L"},{"$f":"IF($DP3=\"\",\"\",IF(ISERROR(0+CLEAN(LEFT(DP3,FIND(\"-\",DP3)-1))),100,0+CLEAN(LEFT(DP3,FIND(\"-\",DP3)-1))))","v":1},{"$f":"IF(DP3=\"\",\"\",MID(DP3,FIND(CHAR(22),SUBSTITUTE(DP3,\" \",CHAR(22),LEN(DP3)-LEN(SUBSTITUTE(DP3,\" \",\"\"))))+1,255))","v":"0.8L"},{"$f":"IF(BG3=\"\",\"\",IF(DQ3=100,5,(LEFT(DR3,FIND(\"L\",DR3)-1))))","v":"0.8"},{"$f":"IF(MainSheet!$G17=\"\",\"\",IF(DS3=\"\",\"\",IF(ISERROR(DS3),\"\",ROUND(0+DS3/0.5,0)*0.5)))","v":1},{"$f":"IF(DQ3=\"\",\"\",IF(DQ3=1,100-0,IF(DT3>10,90,100-DT3)))","v":100},{"$f":"IF(BG3=\"\",\"\",IF(INDEX($AA$1:$AT$499,MATCH($BD3,$Z$1:$Z$499,0)+5,9)=0,0,IF(ISERROR(INDEX($AA$1:$AT$499,MATCH($BD3,$Z$1:$Z$499,0)+5,1)),0,INDEX($AA$1:$AT$499,MATCH($BD3,$Z$1:$Z$499,0)+5,1))))","v":"2-9 0.1L"},{"$f":"IF($DP3=\"\",\"\",IF(ISERROR(0+CLEAN(LEFT(DV3,FIND(\"-\",DV3)-1))),100,0+CLEAN(LEFT(DV3,FIND(\"-\",DV3)-1))))","v":2},{"$f":"IF(DV3=\"\",\"\",MID(DV3,FIND(CHAR(22),SUBSTITUTE(DV3,\" \",CHAR(22),LEN(DV3)-LEN(SUBSTITUTE(DV3,\" \",\"\"))))+1,255))","v":"0.1L"},{"$f":"IF(BG3=\"\",\"\",IF(DW3=100,5,(LEFT(DX3,FIND(\"L\",DX3)-1))))","v":"0.1"},{"$f":"IF(MainSheet!$G17=\"\",\"\",IF(DY3=\"\",\"\",IF(ISERROR(DY3),\"\",ROUND(0+DY3/0.5,0)*0.5)))","v":0},{"$f":"IF(DW3=\"\",\"\",IF(DW3=1,100-0,IF(DZ3>10,90,100-DZ3)))","v":100},{"$f":"IF(BG3=\"\",\"\",IF(INDEX($AA$1:$AT$499,MATCH($BD3,$Z$1:$Z$499,0)+6,9)=0,0,IF(ISERROR(INDEX($AA$1:$AT$499,MATCH($BD3,$Z$1:$Z$499,0)+6,1)),0,INDEX($AA$1:$AT$499,MATCH($BD3,$Z$1:$Z$499,0)+6,1))))","v":"9-12 6.6L"},{"$f":"IF($DP3=\"\",\"\",IF(ISERROR(0+CLEAN(LEFT(EB3,FIND(\"-\",EB3)-1))),100,0+CLEAN(LEFT(EB3,FIND(\"-\",EB3)-1))))","v":9},{"$f":"IF(EB3=\"\",\"\",MID(EB3,FIND(CHAR(22),SUBSTITUTE(EB3,\" \",CHAR(22),LEN(EB3)-LEN(SUBSTITUTE(EB3,\" \",\"\"))))+1,255))","v":"6.6L"},{"$f":"IF(BG3=\"\",\"\",IF(EC3=100,5,(LEFT(ED3,FIND(\"L\",ED3)-1))))","v":"6.6"},{"$f":"IF(MainSheet!$G17=\"\",\"\",IF(EE3=\"\",\"\",IF(ISERROR(EE3),\"\",ROUND(0+EE3/0.5,0)*0.5)))","v":6.5},{"$f":"IF(EC3=\"\",\"\",IF(EC3=1,100-0,IF(EF3>10,90,100-EF3)))","v":93.5},{"$f":"IF(BG3=\"\",\"\",DU3+EA3+EG3)","v":293.5},{"$f":"IF(BG3=\"\",\"\",COUNT($EH$2:$EH$26)-(RANK(EH3,$EH$2:$EH$26,1)+COUNTIF($EH$2:EH3,EH3)-1)+1)","v":2},{"$f":"IF($BG3=\"\",\"\",IF(ISNA(VLOOKUP(EI3,Tables!O$5:P$28,2,FALSE)),\"0\",VLOOKUP(EI3,Tables!O$5:P$28,2,FALSE)))","v":8},95,{"$f":"IF(EK3=\"\",\"\",0+EK3)","v":95},{"$f":"IF(BG3=\"\",\"\",IF(EL3=0,0,COUNT($EL$2:$EL$26)-(RANK(EL3,$EL$2:$EL$26,1)+COUNTIF($EL$2:EL3,EL3)-1)+1))","v":8},{"$f":"IF($BG3=\"\",\"\",IF(ISNA(VLOOKUP(EM3,Tables!Q$5:R$26,2,FALSE)),\"0\",VLOOKUP(EM3,Tables!Q$5:R$26,2,FALSE)))","v":0},{"$f":"IF(BG3=\"\",\"\",Form!K7)","v":"6/1"},{"$f":"IF($EO3=\"\",\"\",IF(ISERROR(0+CLEAN(LEFT(EO3,FIND(\"/\",EO3)-1))),10,0+CLEAN(LEFT(EO3,FIND(\"/\",EO3)-1))))","v":6},{"$f":"IF(EO3=\"\",\"\",RIGHT(EO3,LEN(EO3)-SEARCH(\"/\",EO3,2)))","v":"1"},{"$f":"IF(EO3=\"\",\"\",1+(0+EP3)/(0+EQ3))","v":7},{"$f":"IF(EO3=\"\",\"\",500-ER3)","v":493},{"$f":"IF(BG3=\"\",\"\",IF(ES3=0,0,COUNT($ES$2:$ES$26)-(RANK(ES3,$ES$2:$ES$26,1)+COUNTIF($ES$2:ES3,ES3)-1)+1))","v":3},{"$f":"IF($BG3=\"\",\"\",IF(ISERROR(ET3),0,IF(ISNA(VLOOKUP(ET3,Tables!S$5:T$26,2,FALSE)),\"0\",VLOOKUP(ET3,Tables!S$5:T$26,2,FALSE))))","v":6},{"$f":"IF(BF3=\"\",\"\",IF(MainSheet!D17=\"Scratched\",\"\",IF(ISERROR(BL3+BQ3+CH3+CR3+DB3+DK3+DO3+EJ3+EN3+EU3),\"\",BL3+BQ3+CH3+CR3+DB3+DK3+DO3+EJ3+EN3+EU3)))","v":14},{"$f":"IF(EV3=\"\",\"\",IF(EV3=$EW$1,0,EV3-$EW$1))","v":12},{"$f":"IF(EW3=\"\",\"\",IF(EW3=0,0,EW3+((EW3*EW3*$EZ$1)/($EX$1-$EY$1))))","v":14.526315789473685},{"$f":"IF(EX3=\"\",\"\",COUNT($EX$2:$EX$26)-(RANK(EX3,$EX$2:$EX$26)+COUNTIF($EX$2:EX3,EX3)-1)+1)","v":6},{"$f":"IF(EY3=\"\",\"\",RANK(EY3,$EY$2:$EY$26))","v":8},{"$f":"IF(EZ3=\"\",\"\",IF(EZ3<6,EX3,\"\"))","v":""},{"$f":"IF(FA3=\"\",\"\",FA3/$FA$1)","v":""},{"$f":"IF(EX3=0,0.01,IF(AND(EX3=\"\",FA3=\"\"),\"\",IF(FB3=\"\",EX3/$FB$1,FB3)))","v":4.7888953152111051E-2},{"$f":"IF(FC3=\"\",\"\",IF(1/FC3*MainSheet!$R$11>100,100,1/FC3*MainSheet!$R$11))","v":17.749396135265698},null,{"$f":"IF(EX3=\"\",\"\",IF(EX3=0,0.01,EX3/$FB$1))","v":4.7888953152111051E-2},{"$f":"IF(FF3=\"\",\"\",IF(1/FF3*MainSheet!$R$11>100,100,1/FF3*MainSheet!$R$11))","v":17.749396135265698}]
[{"$f":"IF(Meetings1!A4=\"\",\"\",IF(Meetings1!A4=\"END\",\"END\",IF(Meetings1!B4=\"\",\"\",getAddress(Meetings1!E4))))","v":""},{"$nulls":11},{"$f":"IF(ISERROR(N4),\"\",IF(ISNA(VLOOKUP(N4,RaceList!$M$9:$O$41,3,FALSE)),\"\",VLOOKUP(N4,RaceList!$M$9:$O$41,3,FALSE)))","v":"Kyneton"},{"$f":"IF(O4=\"\",\"\",IF(Meetings2!$B4=\"\",\"\",Meetings2!$B4))","v":"KYNETON (VR)"},{"$f":"IF(Meetings2!D4=\"\",\"\",getAddress(Meetings2!D4))","v":"http://www.tabonline.com.au/2012/05/14/VR01.html"},{"$f":"IF(Meetings2!E4=\"\",\"\",getAddress(Meetings2!E4))","v":"http://www.tabonline.com.au/2012/05/14/VR02.html"},{"$f":"IF(Meetings2!F4=\"\",\"\",getAddress(Meetings2!F4))","v":"http://www.tabonline.com.au/2012/05/14/VR03.html"},{"$f":"IF(Meetings2!G4=\"\",\"\",getAddress(Meetings2!G4))","v":"http://www.tabonline.com.au/2012/05/14/VR04.html"},{"$f":"IF(Meetings2!H4=\"\",\"\",getAddress(Meetings2!H4))","v":"http://www.tabonline.com.au/2012/05/14/VR05.html"},{"$f":"IF(Meetings2!I4=\"\",\"\",getAddress(Meetings2!I4))","v":"http://www.tabonline.com.au/2012/05/14/VR06.html"},{"$f":"IF(Meetings2!J4=\"\",\"\",getAddress(Meetings2!J4))","v":"http://www.tabonline.com.au/2012/05/14/VR07.html"},{"$f":"IF(Meetings2!K4=\"\",\"\",getAddress(Meetings2!K4))","v":"http://www.tabonline.com.au/2012/05/14/VR08.html"},{"$f":"IF(Meetings2!L4=\"\",\"\",getAddress(Meetings2!L4))","v":"http://www.tabonline.com.au/2012/05/14/VR09.html"},{"$f":"IF(Meetings2!M4=\"\",\"\",getAddress(Meetings2!M4))","v":""},{"$f":"IF(Meetings2!AA4=\"\",\"\",getAddress(Meetings2!AA4))","v":""},{"$f":"IF(AA4=\"\",\"\",IF(AA4=\"Career::\",Form!A2,\"\"))","v":""},"04::22",{"$nulls":20},"Dubbo","Dubbo",{"$f":"IF(Race!J4<>\"\",Race!C4,\"\")","v":""},{"$f":"IF(AX4<>\"\",Race!N4,\"\")","v":""},{"$f":"IF(AX4<>\"\",Race!I4,\"\")","v":""},{"$f":"IF(AX4<>\"\",Race!L4,\"\")","v":""},null,"3  Watasham",{"$f":"IF(ISNUMBER(Form!J8),LEFT(Form!D8,FIND(\"(\",Form!D8)-2),\"\")","v":"Watasham"},null,{"$f":"IF(BD4=\"\",\"\",Form!B8)","v":3},8,{"$f":"IF(BG4=\"\",\"\",Form!G8)","v":60},{"$f":"IF($BG4=\"\",\"\",IF(MainSheet!G18=\"\",\"\",Form!H8))","v":1.5},0.99850000000000005,{"$f":"IF(BG4=\"\",\"\",COUNT($BJ$2:$BJ$26)-(RANK(BJ4,$BJ$2:$BJ$26)+COUNTIF($BJ$2:BJ4,BJ4)-1)+1)","v":6},{"$f":"IF($BG4=\"\",\"\",IF(ISNA(VLOOKUP(BK4,Tables!A$5:B$28,2,FALSE)),0,VLOOKUP(BK4,Tables!A$5:B$28,2,FALSE)))","v":0},{"$f":"IF(BG4=\"\",\"\",Form!I8)","v":6.7},{"$f":"IF(BG4=\"\",\"\",Form!J8)","v":46.7},53.400000000000006,{"$f":"IF(BG4=\"\",\"\",COUNT($BO$2:$BO$26)-(RANK(BO4,$BO$2:$BO$26,1)+COUNTIF($BO$2:BO4,BO4)-1)+1)","v":5},{"$f":"IF($BG4=\"\",\"\",IF(ISNA(VLOOKUP(BP4,Tables!C$5:D$28,2,FALSE)),0,VLOOKUP(BP4,Tables!C$5:D$28,2,FALSE)))","v":2},{"$f":"IF(BG4=\"\",\"\",INDEX(Form!$B$1:'Form'!$J$1000,MATCH($BD4,Form!$A$1:'Form'!$A$1000,0)+3,8))","v":"6::1-1-1"},6,":1-1-1",{"$f":"IF(BT4=\"\",\"\",SUBSTITUTE(SUBSTITUTE(BT4,\":\",\"\"),\"-\",\" \"))","v":"1 1 1"},1,"1 ","1",{"$f":"IF(BG4=\"\",\"\",INDEX(Form!$B$1:'Form'!$J$1000,MATCH($BD4,Form!$A$1:'Form'!$A$1000,0)+3,9))","v":"0::0-0-0"},0,":0-0-0","0 0 0",0,"0 ","0",5,{"$f":"IF(MainSheet!G18=\"\",\"\",IF(CF4=\"\",\"\",COUNT($CF$2:$CF$26)-(RANK(CF4,$CF$2:$CF$26,1)+COUNTIF($CF$2:CF4,CF4)-1)+1))","v":8},{"$f":"IF($BY4=\"\",\"\",IF(Tables!$F$3<>\"\",0,IF(ISNA(VLOOKUP(CG4,Tables!E$5:F$28,2,FALSE)),0,VLOOKUP(CG4,Tables!E$5:F$28,2,FALSE))))","v":0},{"$f":"IF(BG4=\"\",\"\",INDEX(Form!$B$1:'Form'!$J$1000,MATCH($BD4,Form!$A$1:'Form'!$A$1000,0)+5,4))","v":"0::0-0-0"},0,":0-0-0","0 0 0",0,"0 ","0",0,{"$f":"IF(BG4=\"\",\"\",IF(CI4=0,0,COUNT($CP$2:$CP$26)-(RANK(CP4,$CP$2:$CP$26,1)+COUNTIF($CP$2:CP4,CP4)-1)+1))","v":12},{"$f":"IF($CI4=\"\",\"\",IF(Tables!$H$3<>\"\",0,IF(ISNA(VLOOKUP(CQ4,Tables!G$5:H$28,2,FALSE)),0,VLOOKUP(CQ4,Tables!G$5:H$28,2,FALSE))))","v":0},{"$f":"IF(BG4=\"\",\"\",INDEX(Form!$B$1:'Form'!$J$1000,MATCH($BD4,Form!$A$1:'Form'!$A$1000,0)+5,5))","v":"2::0-0-1"},2,":0-0-1","0 0 1",0,0,1,1,{"$f":"IF(BG4=\"\",\"\",IF(CS4=0,0,COUNT($CZ$2:$CZ$26)-(RANK(CZ4,$CZ$2:$CZ$26,1)+COUNTIF($CZ$2:CZ4,CZ4)-1)+1))","v":6},{"$f":"IF($CS4=\"\",\"\",IF(Tables!$J$3<>\"\",0,IF(Tables!$K$1=0,0,IF(ISNA(VLOOKUP(DA4,Tables!$I$5:$J$28,2,FALSE)),\"0\",VLOOKUP(DA4,Tables!$I$5:$J$28,2,FALSE)))))","v":0},"2012-04-27",17,183,"2012-03-15",60,140,323,{"$f":"IF(BG4=\"\",\"\",COUNT($DI$2:$DI$26)-(RANK(DI4,$DI$2:$DI$26,1)+COUNTIF($DI$2:DI4,DI4)-1)+1)","v":5},{"$f":"IF($BG4=\"\",\"\",IF(ISNA(VLOOKUP(DJ4,Tables!K$5:L$28,2,FALSE)),\"0\",VLOOKUP(DJ4,Tables!K$5:L$28,2,FALSE)))","v":2},12000,{"$f":"IF(BG4=\"\",\"\",(DL4-Form!$I$4))","v":0},{"$f":"IF(BG4=\"\",\"\",COUNT($DM$2:$DM$26)-(RANK(DM4,$DM$2:$DM$26,1)+COUNTIF($DM$2:DM4,DM4)-1)+1)","v":11},{"$f":"IF($BG4=\"\",\"\",IF(ISERROR(DN4),1,IF(ISNA(VLOOKUP(DN4,Tables!M$5:N$28,2,FALSE)),\"0\",VLOOKUP(DN4,Tables!M$5:N$28,2,FALSE))))","v":0},"2-11 0.8L",2,"0.8L","0.8",{"$f":"IF(MainSheet!$G18=\"\",\"\",IF(DS4=\"\",\"\",IF(ISERROR(DS4),\"\",ROUND(0+DS4/0.5,0)*0.5)))","v":1},99,"3-12 2.0L",3,"2.0L","2.0",{"$f":"IF(MainSheet!$G18=\"\",\"\",IF(DY4=\"\",\"\",IF(ISERROR(DY4),\"\",ROUND(0+DY4/0.5,0)*0.5)))","v":2},98,"3-12 0.9L",3,"0.9L","0.9",{"$f":"IF(MainSheet!$G18=\"\",\"\",IF(EE4=\"\",\"\",IF(ISERROR(EE4),\"\",ROUND(0+EE4/0.5,0)*0.5)))","v":1},99,296,{"$f":"IF(BG4=\"\",\"\",COUNT($EH$2:$EH$26)-(RANK(EH4,$EH$2:$EH$26,1)+COUNTIF($EH$2:EH4,EH4)-1)+1)","v":1},{"$f":"IF($BG4=\"\",\"\",IF(ISNA(VLOOKUP(EI4,Tables!O$5:P$28,2,FALSE)),\"0\",VLOOKUP(EI4,Tables!O$5:P$28,2,FALSE)))","v":10},97,97,{"$f":"IF(BG4=\"\",\"\",IF(EL4=0,0,COUNT($EL$2:$EL$26)-(RANK(EL4,$EL$2:$EL$26,1)+COUNTIF($EL$2:EL4,EL4)-1)+1))","v":3},{"$f":"IF($BG4=\"\",\"\",IF(ISNA(VLOOKUP(EM4,Tables!Q$5:R$26,2,FALSE)),\"0\",VLOOKUP(EM4,Tables!Q$5:R$26,2,FALSE)))","v":6},{"$f":"IF(BG4=\"\",\"\",Form!K8)","v":"4/1"},4,"1",5,495,{"$f":"IF(BG4=\"\",\"\",IF(ES4=0,0,COUNT($ES$2:$ES$26)-(RANK(ES4,$ES$2:$ES$26,1)+COUNTIF($ES$2:ES4,ES4)-1)+1))","v":1},{"$f":"IF($BG4=\"\",\"\",IF(ISERROR(ET4),0,IF(ISNA(VLOOKUP(ET4,Tables!S$5:T$26,2,FALSE)),\"0\",VLOOKUP(ET4,Tables!S$5:T$26,2,FALSE))))","v":10},{"$f":"IF(BF4=\"\",\"\",IF(MainSheet!D18=\"Scratched\",\"\",IF(ISERROR(BL4+BQ4+CH4+CR4+DB4+DK4+DO4+EJ4+EN4+EU4),\"\",BL4+BQ4+CH4+CR4+DB4+DK4+DO4+EJ4+EN4+EU4)))","v":30},28,41.754385964912281,{"$f":"IF(EX4=\"\",\"\",COUNT($EX$2:$EX$26)-(RANK(EX4,$EX$2:$EX$26)+COUNTIF($EX$2:EX4,EX4)-1)+1)","v":12},2,41.754385964912281,0.19836639439906653,0.19836639439906653,{"$f":"IF(FC4=\"\",\"\",IF(1/FC4*MainSheet!$R$11>100,100,1/FC4*MainSheet!$R$11))","v":4.2850000000000001},null,0.1376518218623482,{"$f":"IF(FF4=\"\",\"\",IF(1/FF4*MainSheet!$R$11>100,100,1/FF4*MainSheet!$R$11))","v":6.1749999999999989}]
[{"$f":"IF(Meetings1!A5=\"\",\"\",IF(Meetings1!A5=\"END\",\"END\",IF(Meetings1!B5=\"\",\"\",getAddress(Meetings1!E5))))","v":""},{"$nulls":11},{"$f":"IF(ISERROR(N5),\"\",IF(ISNA(VLOOKUP(N5,RaceList!$M$9:$O$41,3,FALSE)),\"\",VLOOKUP(N5,RaceList!$M$9:$O$41,3,FALSE)))","v":"Albury"},{"$f":"IF(O5=\"\",\"\",IF(Meetings2!$B5=\"\",\"\",Meetings2!$B5))","v":"ALBURY (CR)"},{"$f":"IF(Meetings2!D5=\"\",\"\",getAddress(Meetings2!D5))","v":"http://www.tabonline.com.au/2012/05/14/CR01.html"},{"$f":"IF(Meetings2!E5=\"\",\"\",getAddress(Meetings2!E5))","v":"http://www.tabonline.com.au/2012/05/14/CR02.html"},{"$f":"IF(Meetings2!F5=\"\",\"\",getAddress(Meetings2!F5))","v":"http://www.tabonline.com.au/2012/05/14/CR03.html"},{"$f":"IF(Meetings2!G5=\"\",\"\",getAddress(Meetings2!G5))","v":"http://www.tabonline.com.au/2012/05/14/CR04.html"},{"$f":"IF(Meetings2!H5=\"\",\"\",getAddress(Meetings2!H5))","v":"http://www.tabonline.com.au/2012/05/14/CR05.html"},{"$f":"IF(Meetings2!I5=\"\",\"\",getAddress(Meetings2!I5))","v":"http://www.tabonline.com.au/2012/05/14/CR06.html"},{"$f":"IF(Meetings2!J5=\"\",\"\",getAddress(Meetings2!J5))","v":"http://www.tabonline.com.au/2012/05/14/CR07.html"},{"$f":"IF(Meetings2!K5=\"\",\"\",getAddress(Meetings2!K5))","v":""},{"$f":"IF(Meetings2!L5=\"\",\"\",getAddress(Meetings2!L5))","v":""},{"$f":"IF(Meetings2!M5=\"\",\"\",getAddress(Meetings2!M5))","v":""},{"$f":"IF(Meetings2!AA5=\"\",\"\",getAddress(Meetings2!AA5))","v":""},{"$f":"IF(AA5=\"\",\"\",IF(AA5=\"Career::\",Form!A3,\"\"))","v":""},"#",{"$nulls":20},"Albury","Albury",{"$f":"IF(Race!J5<>\"\",Race!C5,\"\")","v":""},{"$f":"IF(AX5<>\"\",Race!N5,\"\")","v":""},{"$f":"IF(AX5<>\"\",Race!I5,\"\")","v":""},{"$f":"IF(AX5<>\"\",Race!L5,\"\")","v":""},null,"4  Ettore",{"$f":"IF(ISNUMBER(Form!J9),LEFT(Form!D9,FIND(\"(\",Form!D9)-2),\"\")","v":"Ettore"},null,{"$f":"IF(BD5=\"\",\"\",Form!B9)","v":4},10,{"$f":"IF(BG5=\"\",\"\",Form!G9)","v":59.5},{"$f":"IF($BG5=\"\",\"\",IF(MainSheet!G19=\"\",\"\",Form!H9))","v":1.8},0.99819999999999998,{"$f":"IF(BG5=\"\",\"\",COUNT($BJ$2:$BJ$26)-(RANK(BJ5,$BJ$2:$BJ$26)+COUNTIF($BJ$2:BJ5,BJ5)-1)+1)","v":2},{"$f":"IF($BG5=\"\",\"\",IF(ISNA(VLOOKUP(BK5,Tables!A$5:B$28,2,FALSE)),0,VLOOKUP(BK5,Tables!A$5:B$28,2,FALSE)))","v":8},{"$f":"IF(BG5=\"\",\"\",Form!I9)","v":8.3000000000000007},{"$f":"IF(BG5=\"\",\"\",Form!J9)","v":41.7},50,{"$f":"IF(BG5=\"\",\"\",COUNT($BO$2:$BO$26)-(RANK(BO5,$BO$2:$BO$26,1)+COUNTIF($BO$2:BO5,BO5)-1)+1)","v":6},{"$f":"IF($BG5=\"\",\"\",IF(ISNA(VLOOKUP(BP5,Tables!C$5:D$28,2,FALSE)),0,VLOOKUP(BP5,Tables!C$5:D$28,2,FALSE)))","v":0},{"$f":"IF(BG5=\"\",\"\",INDEX(Form!$B$1:'Form'!$J$1000,MATCH($BD5,Form!$A$1:'Form'!$A$1000,0)+3,8))","v":"1::0-0-0"},1,":0-0-0","0 0 0",0,"0 ","0",{"$f":"IF(BG5=\"\",\"\",INDEX(Form!$B$1:'Form'!$J$1000,MATCH($BD5,Form!$A$1:'Form'!$A$1000,0)+3,9))","v":"1::0-1-0"},1,":0-1-0","0 1 0",0,"1 ","0",1,{"$f":"IF(MainSheet!G19=\"\",\"\",IF(CF5=\"\",\"\",COUNT($CF$2:$CF$26)-(RANK(CF5,$CF$2:$CF$26,1)+COUNTIF($CF$2:CF5,CF5)-1)+1))","v":11},{"$f":"IF($BY5=\"\",\"\",IF(Tables!$F$3<>\"\",0,IF(ISNA(VLOOKUP(CG5,Tables!E$5:F$28,2,FALSE)),0,VLOOKUP(CG5,Tables!E$5:F$28,2,FALSE))))","v":0},{"$f":"IF(BG5=\"\",\"\",INDEX(Form!$B$1:'Form'!$J$1000,MATCH($BD5,Form!$A$1:'Form'!$A$1000,0)+5,4))","v":"1::0-0-0"},1,":0-0-0","0 0 0",0,"0 ","0",0,{"$f":"IF(BG5=\"\",\"\",IF(CI5=0,0,COUNT($CP$2:$CP$26)-(RANK(CP5,$CP$2:$CP$26,1)+COUNTIF($CP$2:CP5,CP5)-1)+1))","v":11},{"$f":"IF($CI5=\"\",\"\",IF(Tables!$H$3<>\"\",0,IF(ISNA(VLOOKUP(CQ5,Tables!G$5:H$28,2,FALSE)),0,VLOOKUP(CQ5,Tables!G$5:H$28,2,FALSE))))","v":0},{"$f":"IF(BG5=\"\",\"\",INDEX(Form!$B$1:'Form'!$J$1000,MATCH($BD5,Form!$A$1:'Form'!$A$1000,0)+5,5))","v":"0::0-0-0"},0,":0-0-0","0 0 0",0,0,0,0,{"$f":"IF(BG5=\"\",\"\",IF(CS5=0,0,COUNT($CZ$2:$CZ$26)-(RANK(CZ5,$CZ$2:$CZ$26,1)+COUNTIF($CZ$2:CZ5,CZ5)-1)+1))","v":11},{"$f":"IF($CS5=\"\",\"\",IF(Tables!$J$3<>\"\",0,IF(Tables!$K$1=0,0,IF(ISNA(VLOOKUP(DA5,Tables!$I$5:$J$28,2,FALSE)),\"0\",VLOOKUP(DA5,Tables!$I$5:$J$28,2,FALSE)))))","v":0},"2012-04-20",24,176,"00:00:00",100,100,276,{"$f":"IF(BG5=\"\",\"\",COUNT($DI$2:$DI$26)-(RANK(DI5,$DI$2:$DI$26,1)+COUNTIF($DI$2:DI5,DI5)-1)+1)","v":11},{"$f":"IF($BG5=\"\",\"\",IF(ISNA(VLOOKUP(DJ5,Tables!K$5:L$28,2,FALSE)),\"0\",VLOOKUP(DJ5,Tables!K$5:L$28,2,FALSE)))","v":0},12000,{"$f":"IF(BG5=\"\",\"\",(DL5-Form!$I$4))","v":0},{"$f":"IF(BG5=\"\",\"\",COUNT($DM$2:$DM$26)-(RANK(DM5,$DM$2:$DM$26,1)+COUNTIF($DM$2:DM5,DM5)-1)+1)","v":10},{"$f":"IF($BG5=\"\",\"\",IF(ISERROR(DN5),1,IF(ISNA(VLOOKUP(DN5,Tables!M$5:N$28,2,FALSE)),\"0\",VLOOKUP(DN5,Tables!M$5:N$28,2,FALSE))))","v":0},"7-12 6.9L",7,"6.9L","6.9",{"$f":"IF(MainSheet!$G19=\"\",\"\",IF(DS5=\"\",\"\",IF(ISERROR(DS5),\"\",ROUND(0+DS5/0.5,0)*0.5)))","v":7},93,0,100,{"$error":"#VALUE!"},5,{"$f":"IF(MainSheet!$G19=\"\",\"\",IF(DY5=\"\",\"\",IF(ISERROR(DY5),\"\",ROUND(0+DY5/0.5,0)*0.5)))","v":5},95,0,100,{"$error":"#VALUE!"},5,{"$f":"IF(MainSheet!$G19=\"\",\"\",IF(EE5=\"\",\"\",IF(ISERROR(EE5),\"\",ROUND(0+EE5/0.5,0)*0.5)))","v":5},95,283,{"$f":"IF(BG5=\"\",\"\",COUNT($EH$2:$EH$26)-(RANK(EH5,$EH$2:$EH$26,1)+COUNTIF($EH$2:EH5,EH5)-1)+1)","v":8},{"$f":"IF($BG5=\"\",\"\",IF(ISNA(VLOOKUP(EI5,Tables!O$5:P$28,2,FALSE)),\"0\",VLOOKUP(EI5,Tables!O$5:P$28,2,FALSE)))","v":0},95,95,{"$f":"IF(BG5=\"\",\"\",IF(EL5=0,0,COUNT($EL$2:$EL$26)-(RANK(EL5,$EL$2:$EL$26,1)+COUNTIF($EL$2:EL5,EL5)-1)+1))","v":7},{"$f":"IF($BG5=\"\",\"\",IF(ISNA(VLOOKUP(EM5,Tables!Q$5:R$26,2,FALSE)),\"0\",VLOOKUP(EM5,Tables!Q$5:R$26,2,FALSE)))","v":0},{"$f":"IF(BG5=\"\",\"\",Form!K9)","v":"8/1"},8,"1",9,491,{"$f":"IF(BG5=\"\",\"\",IF(ES5=0,0,COUNT($ES$2:$ES$26)-(RANK(ES5,$ES$2:$ES$26,1)+COUNTIF($ES$2:ES5,ES5)-1)+1))","v":6},{"$f":"IF($BG5=\"\",\"\",IF(ISERROR(ET5),0,IF(ISNA(VLOOKUP(ET5,Tables!S$5:T$26,2,FALSE)),\"0\",VLOOKUP(ET5,Tables!S$5:T$26,2,FALSE))))","v":0},{"$f":"IF(BF5=\"\",\"\",IF(MainSheet!D19=\"Scratched\",\"\",IF(ISERROR(BL5+BQ5+CH5+CR5+DB5+DK5+DO5+EJ5+EN5+EU5),\"\",BL5+BQ5+CH5+CR5+DB5+DK5+DO5+EJ5+EN5+EU5)))","v":8},6,6.6315789473684212,{"$f":"IF(EX5=\"\",\"\",COUNT($EX$2:$EX$26)-(RANK(EX5,$EX$2:$EX$26)+COUNTIF($EX$2:EX5,EX5)-1)+1)","v":3},11,"","",2.1862348178137654E-2,{"$f":"IF(FC5=\"\",\"\",IF(1/FC5*MainSheet!$R$11>100,100,1/FC5*MainSheet!$R$11))","v":38.879629629629619},null,2.1862348178137654E-2,{"$f":"IF(FF5=\"\",\"\",IF(1/FF5*MainSheet!$R$11>100,100,1/FF5*MainSheet!$R$11))","v":38.879629629629619}]
[{"$f":"IF(Meetings1!A6=\"\",\"\",IF(Meetings1!A6=\"END\",\"END\",IF(Meetings1!B6=\"\",\"\",getAddress(Meetings1!E6))))","v":"http://formguide.cyberhorse.com.au/Form/form.html?formdate=2012-05-14&track=Albury&raceno=4"},{"$nulls":11},{"$f":"IF(ISERROR(N6),\"\",IF(ISNA(VLOOKUP(N6,RaceList!$M$9:$O$41,3,FALSE)),\"\",VLOOKUP(N6,RaceList!$M$9:$O$41,3,FALSE)))","v":""},{"$f":"IF(O6=\"\",\"\",IF(Meetings2!$B6=\"\",\"\",Meetings2!$B6))","v":"PAEROA (ZS)"},{"$f":"IF(Meetings2!D6=\"\",\"\",getAddress(Meetings2!D6))","v":"http://www.tabonline.com.au/2012/05/14/ZS01.html"},{"$f":"IF(Meetings2!E6=\"\",\"\",getAddress(Meetings2!E6))","v":"http://www.tabonline.com.au/2012/05/14/ZS02.html"},{"$f":"IF(Meetings2!F6=\"\",\"\",getAddress(Meetings2!F6))","v":"http://www.tabonline.com.au/2012/05/14/ZS03.html"},{"$f":"IF(Meetings2!G6=\"\",\"\",getAddress(Meetings2!G6))","v":"http://www.tabonline.com.au/2012/05/14/ZS04.html"},{"$f":"IF(Meetings2!H6=\"\",\"\",getAddress(Meetings2!H6))","v":"http://www.tabonline.com.au/2012/05/14/ZS05.html"},{"$f":"IF(Meetings2!I6=\"\",\"\",getAddress(Meetings2!I6))","v":"http://www.tabonline.com.au/2012/05/14/ZS06.html"},{"$f":"IF(Meetings2!J6=\"\",\"\",getAddress(Meetings2!J6))","v":"http://www.tabonline.com.au/2012/05/14/ZS07.html"},{"$f":"IF(Meetings2!K6=\"\",\"\",getAddress(Meetings2!K6))","v":""},{"$f":"IF(Meetings2!L6=\"\",\"\",getAddress(Meetings2!L6))","v":""},{"$f":"IF(Meetings2!M6=\"\",\"\",getAddress(Meetings2!M6))","v":""},{"$f":"IF(Meetings2!AA6=\"\",\"\",getAddress(Meetings2!AA6))","v":""},{"$f":"IF(AA6=\"\",\"\",IF(AA6=\"Career::\",Form!A4,\"\"))","v":""},1,{"$nulls":20},9,"",{"$f":"IF(Race!J6<>\"\",Race!C6,\"\")","v":"Name"},{"$f":"IF(AX6<>\"\",Race!N6,\"\")","v":"Rtng"},{"$f":"IF(AX6<>\"\",Race!I6,\"\")","v":"Bar"},{"$f":"IF(AX6<>\"\",Race!L6,\"\")","v":"Form"},null,"5  Ryolly",{"$f":"IF(ISNUMBER(Form!J10),LEFT(Form!D10,FIND(\"(\",Form!D10)-2),\"\")","v":"Ryolly"},null,{"$f":"IF(BD6=\"\",\"\",Form!B10)","v":5},9,{"$f":"IF(BG6=\"\",\"\",Form!G10)","v":59.5},{"$f":"IF($BG6=\"\",\"\",IF(MainSheet!G20=\"\",\"\",Form!H10))","v":1.4},0.99860000000000004,{"$f":"IF(BG6=\"\",\"\",COUNT($BJ$2:$BJ$26)-(RANK(BJ6,$BJ$2:$BJ$26)+COUNTIF($BJ$2:BJ6,BJ6)-1)+1)","v":7},{"$f":"IF($BG6=\"\",\"\",IF(ISNA(VLOOKUP(BK6,Tables!A$5:B$28,2,FALSE)),0,VLOOKUP(BK6,Tables!A$5:B$28,2,FALSE)))","v":0},{"$f":"IF(BG6=\"\",\"\",Form!I10)","v":18.2},{"$f":"IF(BG6=\"\",\"\",Form!J10)","v":27.3},45.5,{"$f":"IF(BG6=\"\",\"\",COUNT($BO$2:$BO$26)-(RANK(BO6,$BO$2:$BO$26,1)+COUNTIF($BO$2:BO6,BO6)-1)+1)","v":7},{"$f":"IF($BG6=\"\",\"\",IF(ISNA(VLOOKUP(BP6,Tables!C$5:D$28,2,FALSE)),0,VLOOKUP(BP6,Tables!C$5:D$28,2,FALSE)))","v":0},{"$f":"IF(BG6=\"\",\"\",INDEX(Form!$B$1:'Form'!$J$1000,MATCH($BD6,Form!$A$1:'Form'!$A$1000,0)+3,8))","v":"10::2-0-0"},10,":2-0-0","2 0 0",2,"0 ","0",{"$f":"IF(BG6=\"\",\"\",INDEX(Form!$B$1:'Form'!$J$1000,MATCH($BD6,Form!$A$1:'Form'!$A$1000,0)+3,9))","v":"0::0-0-0"},0,":0-0-0","0 0 0",0,"0 ","0",6,{"$f":"IF(MainSheet!G20=\"\",\"\",IF(CF6=\"\",\"\",COUNT($CF$2:$CF$26)-(RANK(CF6,$CF$2:$CF$26,1)+COUNTIF($CF$2:CF6,CF6)-1)+1))","v":5},{"$f":"IF($BY6=\"\",\"\",IF(Tables!$F$3<>\"\",0,IF(ISNA(VLOOKUP(CG6,Tables!E$5:F$28,2,FALSE)),0,VLOOKUP(CG6,Tables!E$5:F$28,2,FALSE))))","v":2},{"$f":"IF(BG6=\"\",\"\",INDEX(Form!$B$1:'Form'!$J$1000,MATCH($BD6,Form!$A$1:'Form'!$A$1000,0)+5,4))","v":"5::2-0-0"},5,":2-0-0","2 0 0",2,"0 ","0",6,{"$f":"IF(BG6=\"\",\"\",IF(CI6=0,0,COUNT($CP$2:$CP$26)-(RANK(CP6,$CP$2:$CP$26,1)+COUNTIF($CP$2:CP6,CP6)-1)+1))","v":1},{"$f":"IF($CI6=\"\",\"\",IF(Tables!$H$3<>\"\",0,IF(ISNA(VLOOKUP(CQ6,Tables!G$5:H$28,2,FALSE)),0,VLOOKUP(CQ6,Tables!G$5:H$28,2,FALSE))))","v":0},{"$f":"IF(BG6=\"\",\"\",INDEX(Form!$B$1:'Form'!$J$1000,MATCH($BD6,Form!$A$1:'Form'!$A$1000,0)+5,5))","v":"4::2-0-1"},4,":2-0-1","2 0 1",2,0,1,7,{"$f":"IF(BG6=\"\",\"\",IF(CS6=0,0,COUNT($CZ$2:$CZ$26)-(RANK(CZ6,$CZ$2:$CZ$26,1)+COUNTIF($CZ$2:CZ6,CZ6)-1)+1))","v":1},{"$f":"IF($CS6=\"\",\"\",IF(Tables!$J$3<>\"\",0,IF(Tables!$K$1=0,0,IF(ISNA(VLOOKUP(DA6,Tables!$I$5:$J$28,2,FALSE)),\"0\",VLOOKUP(DA6,Tables!$I$5:$J$28,2,FALSE)))))","v":0},"2011-11-14",100,100,"2011-10-15",100,100,200,{"$f":"IF(BG6=\"\",\"\",COUNT($DI$2:$DI$26)-(RANK(DI6,$DI$2:$DI$26,1)+COUNTIF($DI$2:DI6,DI6)-1)+1)","v":13},{"$f":"IF($BG6=\"\",\"\",IF(ISNA(VLOOKUP(DJ6,Tables!K$5:L$28,2,FALSE)),\"0\",VLOOKUP(DJ6,Tables!K$5:L$28,2,FALSE)))","v":0},12000,{"$f":"IF(BG6=\"\",\"\",(DL6-Form!$I$4))","v":0},{"$f":"IF(BG6=\"\",\"\",COUNT($DM$2:$DM$26)-(RANK(DM6,$DM$2:$DM$26,1)+COUNTIF($DM$2:DM6,DM6)-1)+1)","v":9},{"$f":"IF($BG6=\"\",\"\",IF(ISERROR(DN6),1,IF(ISNA(VLOOKUP(DN6,Tables!M$5:N$28,2,FALSE)),\"0\",VLOOKUP(DN6,Tables!M$5:N$28,2,FALSE))))","v":0},"11-11 12.7L",11,"12.7L","12.7",{"$f":"IF(MainSheet!$G20=\"\",\"\",IF(DS6=\"\",\"\",IF(ISERROR(DS6),\"\",ROUND(0+DS6/0.5,0)*0.5)))","v":12.5},90,"9-10 13.9L",9,"13.9L","13.9",{"$f":"IF(MainSheet!$G20=\"\",\"\",IF(DY6=\"\",\"\",IF(ISERROR(DY6),\"\",ROUND(0+DY6/0.5,0)*0.5)))","v":14},90,"2-12 0.2L",2,"0.2L","0.2",{"$f":"IF(MainSheet!$G20=\"\",\"\",IF(EE6=\"\",\"\",IF(ISERROR(EE6),\"\",ROUND(0+EE6/0.5,0)*0.5)))","v":0},100,280,{"$f":"IF(BG6=\"\",\"\",COUNT($EH$2:$EH$26)-(RANK(EH6,$EH$2:$EH$26,1)+COUNTIF($EH$2:EH6,EH6)-1)+1)","v":12},{"$f":"IF($BG6=\"\",\"\",IF(ISNA(VLOOKUP(EI6,Tables!O$5:P$28,2,FALSE)),\"0\",VLOOKUP(EI6,Tables!O$5:P$28,2,FALSE)))","v":0},95,95,{"$f":"IF(BG6=\"\",\"\",IF(EL6=0,0,COUNT($EL$2:$EL$26)-(RANK(EL6,$EL$2:$EL$26,1)+COUNTIF($EL$2:EL6,EL6)-1)+1))","v":6},{"$f":"IF($BG6=\"\",\"\",IF(ISNA(VLOOKUP(EM6,Tables!Q$5:R$26,2,FALSE)),\"0\",VLOOKUP(EM6,Tables!Q$5:R$26,2,FALSE)))","v":0},{"$f":"IF(BG6=\"\",\"\",Form!K10)","v":"10/1"},10,"1",11,489,{"$f":"IF(BG6=\"\",\"\",IF(ES6=0,0,COUNT($ES$2:$ES$26)-(RANK(ES6,$ES$2:$ES$26,1)+COUNTIF($ES$2:ES6,ES6)-1)+1))","v":7},{"$f":"IF($BG6=\"\",\"\",IF(ISERROR(ET6),0,IF(ISNA(VLOOKUP(ET6,Tables!S$5:T$26,2,FALSE)),\"0\",VLOOKUP(ET6,Tables!S$5:T$26,2,FALSE))))","v":0},{"$f":"IF(BF6=\"\",\"\",IF(MainSheet!D20=\"Scratched\",\"\",IF(ISERROR(BL6+BQ6+CH6+CR6+DB6+DK6+DO6+EJ6+EN6+EU6),\"\",BL6+BQ6+CH6+CR6+DB6+DK6+DO6+EJ6+EN6+EU6)))","v":2},0,0,{"$f":"IF(EX6=\"\",\"\",COUNT($EX$2:$EX$26)-(RANK(EX6,$EX$2:$EX$26)+COUNTIF($EX$2:EX6,EX6)-1)+1)","v":1},13,"","",0.01,{"$f":"IF(FC6=\"\",\"\",IF(1/FC6*MainSheet!$R$11>100,100,1/FC6*MainSheet!$R$11))","v":85},null,0.01,{"$f":"IF(FF6=\"\",\"\",IF(1/FF6*MainSheet!$R$11>100,100,1/FF6*MainSheet!$R$11))","v":85}]
[{"$f":"IF(Meetings1!A7=\"\",\"\",IF(Meetings1!A7=\"END\",\"END\",IF(Meetings1!B7=\"\",\"\",getAddress(Meetings1!E7))))","v":"http://formguide.cyberhorse.com.au/Form/form.html?formdate=2012-05-14&track=Albury&raceno=5"},{"$nulls":11},{"$f":"IF(ISERROR(N7),\"\",IF(ISNA(VLOOKUP(N7,RaceList!$M$9:$O$41,3,FALSE)),\"\",VLOOKUP(N7,RaceList!$M$9:$O$41,3,FALSE)))","v":""},{"$f":"IF(O7=\"\",\"\",IF(Meetings2!$B7=\"\",\"\",Meetings2!$B7))","v":{"$error":"#VALUE!"}},{"$f":"IF(Meetings2!D7=\"\",\"\",getAddress(Meetings2!D7))","v":{"$error":"#VALUE!"}},{"$f":"IF(Meetings2!E7=\"\",\"\",getAddress(Meetings2!E7))","v":{"$error":"#VALUE!"}},{"$f":"IF(Meetings2!F7=\"\",\"\",getAddress(Meetings2!F7))","v":{"$error":"#VALUE!"}},{"$f":"IF(Meetings2!G7=\"\",\"\",getAddress(Meetings2!G7))","v":{"$error":"#VALUE!"}},{"$f":"IF(Meetings2!H7=\"\",\"\",getAddress(Meetings2!H7))","v":{"$error":"#VALUE!"}},{"$f":"IF(Meetings2!I7=\"\",\"\",getAddress(Meetings2!I7))","v":{"$error":"#VALUE!"}},{"$f":"IF(Meetings2!J7=\"\",\"\",getAddress(Meetings2!J7))","v":{"$error":"#VALUE!"}},{"$f":"IF(Meetings2!K7=\"\",\"\",getAddress(Meetings2!K7))","v":{"$error":"#VALUE!"}},{"$f":"IF(Meetings2!L7=\"\",\"\",getAddress(Meetings2!L7))","v":{"$error":"#VALUE!"}},{"$f":"IF(Meetings2!M7=\"\",\"\",getAddress(Meetings2!M7))","v":{"$error":"#VALUE!"}},{"$f":"IF(Meetings2!AA7=\"\",\"\",getAddress(Meetings2!AA7))","v":""},{"$f":"IF(AA7=\"\",\"\",IF(AA7=\"Career::\",Form!A5,\"\"))","v":""},2,{"$nulls":20},8,"",{"$f":"IF(Race!J7<>\"\",Race!C7,\"\")","v":"AGASHA"},{"$f":"IF(AX7<>\"\",Race!N7,\"\")","v":96},{"$f":"IF(AX7<>\"\",Race!I7,\"\")","v":7},{"$f":"IF(AX7<>\"\",Race!L7,\"\")","v":0},null,"6  Mitchener",{"$f":"IF(ISNUMBER(Form!J11),LEFT(Form!D11,FIND(\"(\",Form!D11)-2),\"\")","v":"Mitchener"},null,{"$f":"IF(BD7=\"\",\"\",Form!B11)","v":6},13,{"$f":"IF(BG7=\"\",\"\",Form!G11)","v":59},{"$f":"IF($BG7=\"\",\"\",IF(MainSheet!G21=\"\",\"\",Form!H11))","v":1.1000000000000001},0.99890000000000001,{"$f":"IF(BG7=\"\",\"\",COUNT($BJ$2:$BJ$26)-(RANK(BJ7,$BJ$2:$BJ$26)+COUNTIF($BJ$2:BJ7,BJ7)-1)+1)","v":9},{"$f":"IF($BG7=\"\",\"\",IF(ISNA(VLOOKUP(BK7,Tables!A$5:B$28,2,FALSE)),0,VLOOKUP(BK7,Tables!A$5:B$28,2,FALSE)))","v":0},{"$f":"IF(BG7=\"\",\"\",Form!I11)","v":8.3000000000000007},{"$f":"IF(BG7=\"\",\"\",Form!J11)","v":25},33.299999999999997,{"$f":"IF(BG7=\"\",\"\",COUNT($BO$2:$BO$26)-(RANK(BO7,$BO$2:$BO$26,1)+COUNTIF($BO$2:BO7,BO7)-1)+1)","v":12},{"$f":"IF($BG7=\"\",\"\",IF(ISNA(VLOOKUP(BP7,Tables!C$5:D$28,2,FALSE)),0,VLOOKUP(BP7,Tables!C$5:D$28,2,FALSE)))","v":0},{"$f":"IF(BG7=\"\",\"\",INDEX(Form!$B$1:'Form'!$J$1000,MATCH($BD7,Form!$A$1:'Form'!$A$1000,0)+3,8))","v":"13::1-0-2"},13,":1-0-2","1 0 2",1,"0 ","2",{"$f":"IF(BG7=\"\",\"\",INDEX(Form!$B$1:'Form'!$J$1000,MATCH($BD7,Form!$A$1:'Form'!$A$1000,0)+3,9))","v":"0::0-0-0"},0,":0-0-0","0 0 0",0,"0 ","0",5,{"$f":"IF(MainSheet!G21=\"\",\"\",IF(CF7=\"\",\"\",COUNT($CF$2:$CF$26)-(RANK(CF7,$CF$2:$CF$26,1)+COUNTIF($CF$2:CF7,CF7)-1)+1))","v":7},{"$f":"IF($BY7=\"\",\"\",IF(Tables!$F$3<>\"\",0,IF(ISNA(VLOOKUP(CG7,Tables!E$5:F$28,2,FALSE)),0,VLOOKUP(CG7,Tables!E$5:F$28,2,FALSE))))","v":0},{"$f":"IF(BG7=\"\",\"\",INDEX(Form!$B$1:'Form'!$J$1000,MATCH($BD7,Form!$A$1:'Form'!$A$1000,0)+5,4))","v":"4::0-0-1"},4,":0-0-1","0 0 1",0,"0 ","1",1,{"$f":"IF(BG7=\"\",\"\",IF(CI7=0,0,COUNT($CP$2:$CP$26)-(RANK(CP7,$CP$2:$CP$26,1)+COUNTIF($CP$2:CP7,CP7)-1)+1))","v":10},{"$f":"IF($CI7=\"\",\"\",IF(Tables!$H$3<>\"\",0,IF(ISNA(VLOOKUP(CQ7,Tables!G$5:H$28,2,FALSE)),0,VLOOKUP(CQ7,Tables!G$5:H$28,2,FALSE))))","v":0},{"$f":"IF(BG7=\"\",\"\",INDEX(Form!$B$1:'Form'!$J$1000,MATCH($BD7,Form!$A$1:'Form'!$A$1000,0)+5,5))","v":"2::1-0-0"},2,":1-0-0","1 0 0",1,0,0,3,{"$f":"IF(BG7=\"\",\"\",IF(CS7=0,0,COUNT($CZ$2:$CZ$26)-(RANK(CZ7,$CZ$2:$CZ$26,1)+COUNTIF($CZ$2:CZ7,CZ7)-1)+1))","v":2},{"$f":"IF($CS7=\"\",\"\",IF(Tables!$J$3<>\"\",0,IF(Tables!$K$1=0,0,IF(ISNA(VLOOKUP(DA7,Tables!$I$5:$J$28,2,FALSE)),\"0\",VLOOKUP(DA7,Tables!$I$5:$J$28,2,FALSE)))))","v":0},"2012-05-04",10,190,"2012-04-21",23,177,367,{"$f":"IF(BG7=\"\",\"\",COUNT($DI$2:$DI$26)-(RANK(DI7,$DI$2:$DI$26,1)+COUNTIF($DI$2:DI7,DI7)-1)+1)","v":1},{"$f":"IF($BG7=\"\",\"\",IF(ISNA(VLOOKUP(DJ7,Tables!K$5:L$28,2,FALSE)),\"0\",VLOOKUP(DJ7,Tables!K$5:L$28,2,FALSE)))","v":10},12000,{"$f":"IF(BG7=\"\",\"\",(DL7-Form!$I$4))","v":0},{"$f":"IF(BG7=\"\",\"\",COUNT($DM$2:$DM$26)-(RANK(DM7,$DM$2:$DM$26,1)+COUNTIF($DM$2:DM7,DM7)-1)+1)","v":8},{"$f":"IF($BG7=\"\",\"\",IF(ISERROR(DN7),1,IF(ISNA(VLOOKUP(DN7,Tables!M$5:N$28,2,FALSE)),\"0\",VLOOKUP(DN7,Tables!M$5:N$28,2,FALSE))))","v":0},"9-12 7.6L",9,"7.6L","7.6",{"$f":"IF(MainSheet!$G21=\"\",\"\",IF(DS7=\"\",\"\",IF(ISERROR(DS7),\"\",ROUND(0+DS7/0.5,0)*0.5)))","v":7.5},92.5,"3-6 1.5L",3,"1.5L","1.5",{"$f":"IF(MainSheet!$G21=\"\",\"\",IF(DY7=\"\",\"\",IF(ISERROR(DY7),\"\",ROUND(0+DY7/0.5,0)*0.5)))","v":1.5},98.5,"11-11 11.9L",11,"11.9L","11.9",{"$f":"IF(MainSheet!$G21=\"\",\"\",IF(EE7=\"\",\"\",IF(ISERROR(EE7),\"\",ROUND(0+EE7/0.5,0)*0.5)))","v":12},90,281,{"$f":"IF(BG7=\"\",\"\",COUNT($EH$2:$EH$26)-(RANK(EH7,$EH$2:$EH$26,1)+COUNTIF($EH$2:EH7,EH7)-1)+1)","v":10},{"$f":"IF($BG7=\"\",\"\",IF(ISNA(VLOOKUP(EI7,Tables!O$5:P$28,2,FALSE)),\"0\",VLOOKUP(EI7,Tables!O$5:P$28,2,FALSE)))","v":0},94,94,{"$f":"IF(BG7=\"\",\"\",IF(EL7=0,0,COUNT($EL$2:$EL$26)-(RANK(EL7,$EL$2:$EL$26,1)+COUNTIF($EL$2:EL7,EL7)-1)+1))","v":10},{"$f":"IF($BG7=\"\",\"\",IF(ISNA(VLOOKUP(EM7,Tables!Q$5:R$26,2,FALSE)),\"0\",VLOOKUP(EM7,Tables!Q$5:R$26,2,FALSE)))","v":0},{"$f":"IF(BG7=\"\",\"\",Form!K11)","v":"12/1"},12,"1",13,487,{"$f":"IF(BG7=\"\",\"\",IF(ES7=0,0,COUNT($ES$2:$ES$26)-(RANK(ES7,$ES$2:$ES$26,1)+COUNTIF($ES$2:ES7,ES7)-1)+1))","v":11},{"$f":"IF($BG7=\"\",\"\",IF(ISERROR(ET7),0,IF(ISNA(VLOOKUP(ET7,Tables!S$5:T$26,2,FALSE)),\"0\",VLOOKUP(ET7,Tables!S$5:T$26,2,FALSE))))","v":0},{"$f":"IF(BF7=\"\",\"\",IF(MainSheet!D21=\"Scratched\",\"\",IF(ISERROR(BL7+BQ7+CH7+CR7+DB7+DK7+DO7+EJ7+EN7+EU7),\"\",BL7+BQ7+CH7+CR7+DB7+DK7+DO7+EJ7+EN7+EU7)))","v":10},8,9.1228070175438596,{"$f":"IF(EX7=\"\",\"\",COUNT($EX$2:$EX$26)-(RANK(EX7,$EX$2:$EX$26)+COUNTIF($EX$2:EX7,EX7)-1)+1)","v":4},10,"","",3.0075187969924814E-2,{"$f":"IF(FC7=\"\",\"\",IF(1/FC7*MainSheet!$R$11>100,100,1/FC7*MainSheet!$R$11))","v":28.262499999999999},null,3.0075187969924814E-2,{"$f":"IF(FF7=\"\",\"\",IF(1/FF7*MainSheet!$R$11>100,100,1/FF7*MainSheet!$R$11))","v":28.262499999999999}]
[{"$f":"IF(Meetings1!A8=\"\",\"\",IF(Meetings1!A8=\"END\",\"END\",IF(Meetings1!B8=\"\",\"\",getAddress(Meetings1!E8))))","v":"http://formguide.cyberhorse.com.au/Form/form.html?formdate=2012-05-14&track=Albury&raceno=6"},{"$nulls":11},{"$f":"IF(ISERROR(N8),\"\",IF(ISNA(VLOOKUP(N8,RaceList!$M$9:$O$41,3,FALSE)),\"\",VLOOKUP(N8,RaceList!$M$9:$O$41,3,FALSE)))","v":""},{"$f":"IF(O8=\"\",\"\",IF(Meetings2!$B8=\"\",\"\",Meetings2!$B8))","v":"GOULBURN (NT)"},{"$f":"IF(Meetings2!D8=\"\",\"\",getAddress(Meetings2!D8))","v":"http://www.tabonline.com.au/2012/05/14/NT01.html"},{"$f":"IF(Meetings2!E8=\"\",\"\",getAddress(Meetings2!E8))","v":"http://www.tabonline.com.au/2012/05/14/NT02.html"},{"$f":"IF(Meetings2!F8=\"\",\"\",getAddress(Meetings2!F8))","v":"http://www.tabonline.com.au/2012/05/14/NT03.html"},{"$f":"IF(Meetings2!G8=\"\",\"\",getAddress(Meetings2!G8))","v":"http://www.tabonline.com.au/2012/05/14/NT04.html"},{"$f":"IF(Meetings2!H8=\"\",\"\",getAddress(Meetings2!H8))","v":"http://www.tabonline.com.au/2012/05/14/NT05.html"},{"$f":"IF(Meetings2!I8=\"\",\"\",getAddress(Meetings2!I8))","v":"http://www.tabonline.com.au/2012/05/14/NT06.html"},{"$f":"IF(Meetings2!J8=\"\",\"\",getAddress(Meetings2!J8))","v":"http://www.tabonline.com.au/2012/05/14/NT07.html"},{"$f":"IF(Meetings2!K8=\"\",\"\",getAddress(Meetings2!K8))","v":"http://www.tabonline.com.au/2012/05/14/NT08.html"},{"$f":"IF(Meetings2!L8=\"\",\"\",getAddress(Meetings2!L8))","v":"http://www.tabonline.com.au/2012/05/14/NT09.html"},{"$f":"IF(Meetings2!M8=\"\",\"\",getAddress(Meetings2!M8))","v":"http://www.tabonline.com.au/2012/05/14/NT10.html"},{"$f":"IF(Meetings2!AA8=\"\",\"\",getAddress(Meetings2!AA8))","v":""},{"$f":"IF(AA8=\"\",\"\",IF(AA8=\"Career::\",Form!A6,\"\"))","v":""},3,{"$nulls":20},7,"",{"$f":"IF(Race!J8<>\"\",Race!C8,\"\")","v":"HANDLE ON A STAR"},{"$f":"IF(AX8<>\"\",Race!N8,\"\")","v":95},{"$f":"IF(AX8<>\"\",Race!I8,\"\")","v":16},{"$f":"IF(AX8<>\"\",Race!L8,\"\")","v":"WT"},null,"7  Vopop",{"$f":"IF(ISNUMBER(Form!J12),LEFT(Form!D12,FIND(\"(\",Form!D12)-2),\"\")","v":"Vopop"},null,{"$f":"IF(BD8=\"\",\"\",Form!B12)","v":7},12,{"$f":"IF(BG8=\"\",\"\",Form!G12)","v":59},{"$f":"IF($BG8=\"\",\"\",IF(MainSheet!G22=\"\",\"\",Form!H12))","v":0.7},0.99929999999999997,{"$f":"IF(BG8=\"\",\"\",COUNT($BJ$2:$BJ$26)-(RANK(BJ8,$BJ$2:$BJ$26)+COUNTIF($BJ$2:BJ8,BJ8)-1)+1)","v":13},{"$f":"IF($BG8=\"\",\"\",IF(ISNA(VLOOKUP(BK8,Tables!A$5:B$28,2,FALSE)),0,VLOOKUP(BK8,Tables!A$5:B$28,2,FALSE)))","v":0},{"$f":"IF(BG8=\"\",\"\",Form!I12)","v":6.2},{"$f":"IF(BG8=\"\",\"\",Form!J12)","v":37.5},43.7,{"$f":"IF(BG8=\"\",\"\",COUNT($BO$2:$BO$26)-(RANK(BO8,$BO$2:$BO$26,1)+COUNTIF($BO$2:BO8,BO8)-1)+1)","v":8},{"$f":"IF($BG8=\"\",\"\",IF(ISNA(VLOOKUP(BP8,Tables!C$5:D$28,2,FALSE)),0,VLOOKUP(BP8,Tables!C$5:D$28,2,FALSE)))","v":0},{"$f":"IF(BG8=\"\",\"\",INDEX(Form!$B$1:'Form'!$J$1000,MATCH($BD8,Form!$A$1:'Form'!$A$1000,0)+3,8))","v":"3::0-0-1"},3,":0-0-1","0 0 1",0,"0 ",{"$f":"IF(BS8=\"\",\"\",RIGHT(BU8,LEN(BU8)-SEARCH(\" \",BU8,SEARCH(\" \",BU8,1)+1)))","v":"1"},{"$f":"IF(BG8=\"\",\"\",INDEX(Form!$B$1:'Form'!$J$1000,MATCH($BD8,Form!$A$1:'Form'!$A$1000,0)+3,9))","v":"2::1-0-1"},2,":1-0-1","1 0 1",1,"0 ","1",5,{"$f":"IF(MainSheet!G22=\"\",\"\",IF(CF8=\"\",\"\",COUNT($CF$2:$CF$26)-(RANK(CF8,$CF$2:$CF$26,1)+COUNTIF($CF$2:CF8,CF8)-1)+1))","v":6},{"$f":"IF($BY8=\"\",\"\",IF(Tables!$F$3<>\"\",0,IF(ISNA(VLOOKUP(CG8,Tables!E$5:F$28,2,FALSE)),0,VLOOKUP(CG8,Tables!E$5:F$28,2,FALSE))))","v":0},{"$f":"IF(BG8=\"\",\"\",INDEX(Form!$B$1:'Form'!$J$1000,MATCH($BD8,Form!$A$1:'Form'!$A$1000,0)+5,4))","v":"2::0-0-1"},2,":0-0-1","0 0 1",0,"0 ","1",1,{"$f":"IF(BG8=\"\",\"\",IF(CI8=0,0,COUNT($CP$2:$CP$26)-(RANK(CP8,$CP$2:$CP$26,1)+COUNTIF($CP$2:CP8,CP8)-1)+1))","v":9},{"$f":"IF($CI8=\"\",\"\",IF(Tables!$H$3<>\"\",0,IF(ISNA(VLOOKUP(CQ8,Tables!G$5:H$28,2,FALSE)),0,VLOOKUP(CQ8,Tables!G$5:H$28,2,FALSE))))","v":0},{"$f":"IF(BG8=\"\",\"\",INDEX(Form!$B$1:'Form'!$J$1000,MATCH($BD8,Form!$A$1:'Form'!$A$1000,0)+5,5))","v":"0::0-0-0"},0,":0-0-0","0 0 0",0,0,0,0,{"$f":"IF(BG8=\"\",\"\",IF(CS8=0,0,COUNT($CZ$2:$CZ$26)-(RANK(CZ8,$CZ$2:$CZ$26,1)+COUNTIF($CZ$2:CZ8,CZ8)-1)+1))","v":10},{"$f":"IF($CS8=\"\",\"\",IF(Tables!$J$3<>\"\",0,IF(Tables!$K$1=0,0,IF(ISNA(VLOOKUP(DA8,Tables!$I$5:$J$28,2,FALSE)),\"0\",VLOOKUP(DA8,Tables!$I$5:$J$28,2,FALSE)))))","v":0},"2012-04-29",15,185,"2012-04-13",31,169,354,{"$f":"IF(BG8=\"\",\"\",COUNT($DI$2:$DI$26)-(RANK(DI8,$DI$2:$DI$26,1)+COUNTIF($DI$2:DI8,DI8)-1)+1)","v":2},{"$f":"IF($BG8=\"\",\"\",IF(ISNA(VLOOKUP(DJ8,Tables!K$5:L$28,2,FALSE)),\"0\",VLOOKUP(DJ8,Tables!K$5:L$28,2,FALSE)))","v":8},12000,{"$f":"IF(BG8=\"\",\"\",(DL8-Form!$I$4))","v":0},{"$f":"IF(BG8=\"\",\"\",COUNT($DM$2:$DM$26)-(RANK(DM8,$DM$2:$DM$26,1)+COUNTIF($DM$2:DM8,DM8)-1)+1)","v":7},{"$f":"IF($BG8=\"\",\"\",IF(ISERROR(DN8),1,IF(ISNA(VLOOKUP(DN8,Tables!M$5:N$28,2,FALSE)),\"0\",VLOOKUP(DN8,Tables!M$5:N$28,2,FALSE))))","v":0},"3-9 1.7L",3,"1.7L","1.7",{"$f":"IF(MainSheet!$G22=\"\",\"\",IF(DS8=\"\",\"\",IF(ISERROR(DS8),\"\",ROUND(0+DS8/0.5,0)*0.5)))","v":1.5},98.5,"7-10 6.5L",7,"6.5L","6.5",{"$f":"IF(MainSheet!$G22=\"\",\"\",IF(DY8=\"\",\"\",IF(ISERROR(DY8),\"\",ROUND(0+DY8/0.5,0)*0.5)))","v":6.5},93.5,"3-11 1.9L",3,"1.9L","1.9",{"$f":"IF(MainSheet!$G22=\"\",\"\",IF(EE8=\"\",\"\",IF(ISERROR(EE8),\"\",ROUND(0+EE8/0.5,0)*0.5)))","v":2},98,290,{"$f":"IF(BG8=\"\",\"\",COUNT($EH$2:$EH$26)-(RANK(EH8,$EH$2:$EH$26,1)+COUNTIF($EH$2:EH8,EH8)-1)+1)","v":3},{"$f":"IF($BG8=\"\",\"\",IF(ISNA(VLOOKUP(EI8,Tables!O$5:P$28,2,FALSE)),\"0\",VLOOKUP(EI8,Tables!O$5:P$28,2,FALSE)))","v":6},94,94,{"$f":"IF(BG8=\"\",\"\",IF(EL8=0,0,COUNT($EL$2:$EL$26)-(RANK(EL8,$EL$2:$EL$26,1)+COUNTIF($EL$2:EL8,EL8)-1)+1))","v":9},{"$f":"IF($BG8=\"\",\"\",IF(ISNA(VLOOKUP(EM8,Tables!Q$5:R$26,2,FALSE)),\"0\",VLOOKUP(EM8,Tables!Q$5:R$26,2,FALSE)))","v":0},{"$f":"IF(BG8=\"\",\"\",Form!K12)","v":"6/1"},6,"1",7,493,{"$f":"IF(BG8=\"\",\"\",IF(ES8=0,0,COUNT($ES$2:$ES$26)-(RANK(ES8,$ES$2:$ES$26,1)+COUNTIF($ES$2:ES8,ES8)-1)+1))","v":2},{"$f":"IF($BG8=\"\",\"\",IF(ISERROR(ET8),0,IF(ISNA(VLOOKUP(ET8,Tables!S$5:T$26,2,FALSE)),\"0\",VLOOKUP(ET8,Tables!S$5:T$26,2,FALSE))))","v":8},{"$f":"IF(BF8=\"\",\"\",IF(MainSheet!D22=\"Scratched\",\"\",IF(ISERROR(BL8+BQ8+CH8+CR8+DB8+DK8+DO8+EJ8+EN8+EU8),\"\",BL8+BQ8+CH8+CR8+DB8+DK8+DO8+EJ8+EN8+EU8)))","v":22},20,27.017543859649123,{"$f":"IF(EX8=\"\",\"\",COUNT($EX$2:$EX$26)-(RANK(EX8,$EX$2:$EX$26)+COUNTIF($EX$2:EX8,EX8)-1)+1)","v":10},4,27.017543859649123,0.1283547257876313,0.1283547257876313,{"$f":"IF(FC8=\"\",\"\",IF(1/FC8*MainSheet!$R$11>100,100,1/FC8*MainSheet!$R$11))","v":6.6222727272727253},null,8.9068825910931182E-2,{"$f":"IF(FF8=\"\",\"\",IF(1/FF8*MainSheet!$R$11>100,100,1/FF8*MainSheet!$R$11))","v":9.543181818181818}]
[{"$f":"IF(Meetings1!A9=\"\",\"\",IF(Meetings1!A9=\"END\",\"END\",IF(Meetings1!B9=\"\",\"\",getAddress(Meetings1!E9))))","v":"http://formguide.cyberhorse.com.au/Form/form.html?formdate=2012-05-14&track=Albury&raceno=7"},{"$nulls":11},{"$f":"IF(ISERROR(N9),\"\",IF(ISNA(VLOOKUP(N9,RaceList!$M$9:$O$41,3,FALSE)),\"\",VLOOKUP(N9,RaceList!$M$9:$O$41,3,FALSE)))","v":""},{"$f":"IF(O9=\"\",\"\",IF(Meetings2!$B9=\"\",\"\",Meetings2!$B9))","v":"HAMILTON (VT)"},{"$f":"IF(Meetings2!D9=\"\",\"\",getAddress(Meetings2!D9))","v":"http://www.tabonline.com.au/2012/05/14/VT01.html"},{"$f":"IF(Meetings2!E9=\"\",\"\",getAddress(Meetings2!E9))","v":"http://www.tabonline.com.au/2012/05/14/VT02.html"},{"$f":"IF(Meetings2!F9=\"\",\"\",getAddress(Meetings2!F9))","v":"http://www.tabonline.com.au/2012/05/14/VT03.html"},{"$f":"IF(Meetings2!G9=\"\",\"\",getAddress(Meetings2!G9))","v":"http://www.tabonline.com.au/2012/05/14/VT04.html"},{"$f":"IF(Meetings2!H9=\"\",\"\",getAddress(Meetings2!H9))","v":"http://www.tabonline.com.au/2012/05/14/VT05.html"},{"$f":"IF(Meetings2!I9=\"\",\"\",getAddress(Meetings2!I9))","v":"http://www.tabonline.com.au/2012/05/14/VT06.html"},{"$f":"IF(Meetings2!J9=\"\",\"\",getAddress(Meetings2!J9))","v":"http://www.tabonline.com.au/2012/05/14/VT07.html"},{"$f":"IF(Meetings2!K9=\"\",\"\",getAddress(Meetings2!K9))","v":"http://www.tabonline.com.au/2012/05/14/VT08.html"},{"$f":"IF(Meetings2!L9=\"\",\"\",getAddress(Meetings2!L9))","v":""},{"$f":"IF(Meetings2!M9=\"\",\"\",getAddress(Meetings2!M9))","v":""},{"$f":"IF(Meetings2!AA9=\"\",\"\",getAddress(Meetings2!AA9))","v":""},{"$f":"IF(AA9=\"\",\"\",IF(AA9=\"Career::\",Form!A7,\"\"))","v":""},4,{"$nulls":20},7,"",{"$f":"IF(Race!J9<>\"\",Race!C9,\"\")","v":"WATASHAM"},{"$f":"IF(AX9<>\"\",Race!N9,\"\")","v":97},{"$f":"IF(AX9<>\"\",Race!I9,\"\")","v":8},{"$f":"IF(AX9<>\"\",Race!L9,\"\")","v":"D"},null,"8  Northern Shift",{"$f":"IF(ISNUMBER(Form!J13),LEFT(Form!D13,FIND(\"(\",Form!D13)-2),\"\")","v":"Northern Shift"},null,{"$f":"IF(BD9=\"\",\"\",Form!B13)","v":8},11,{"$f":"IF(BG9=\"\",\"\",Form!G13)","v":58},{"$f":"IF($BG9=\"\",\"\",IF(MainSheet!G23=\"\",\"\",Form!H13))","v":0.9},0.99909999999999999,{"$f":"IF(BG9=\"\",\"\",COUNT($BJ$2:$BJ$26)-(RANK(BJ9,$BJ$2:$BJ$26)+COUNTIF($BJ$2:BJ9,BJ9)-1)+1)","v":11},{"$f":"IF($BG9=\"\",\"\",IF(ISNA(VLOOKUP(BK9,Tables!A$5:B$28,2,FALSE)),0,VLOOKUP(BK9,Tables!A$5:B$28,2,FALSE)))","v":0},{"$f":"IF(BG9=\"\",\"\",Form!I13)","v":5},{"$f":"IF(BG9=\"\",\"\",Form!J13)","v":30},35,{"$f":"IF(BG9=\"\",\"\",COUNT($BO$2:$BO$26)-(RANK(BO9,$BO$2:$BO$26,1)+COUNTIF($BO$2:BO9,BO9)-1)+1)","v":11},{"$f":"IF($BG9=\"\",\"\",IF(ISNA(VLOOKUP(BP9,Tables!C$5:D$28,2,FALSE)),0,VLOOKUP(BP9,Tables!C$5:D$28,2,FALSE)))","v":0},{"$f":"IF(BG9=\"\",\"\",INDEX(Form!$B$1:'Form'!$J$1000,MATCH($BD9,Form!$A$1:'Form'!$A$1000,0)+3,8))","v":"3::0-2-0"},3,":0-2-0","0 2 0",0,"2 ","0",{"$f":"IF(BG9=\"\",\"\",INDEX(Form!$B$1:'Form'!$J$1000,MATCH($BD9,Form!$A$1:'Form'!$A$1000,0)+3,9))","v":"1::0-0-0"},1,":0-0-0","0 0 0",0,"0 ","0",2,{"$f":"IF(MainSheet!G23=\"\",\"\",IF(CF9=\"\",\"\",COUNT($CF$2:$CF$26)-(RANK(CF9,$CF$2:$CF$26,1)+COUNTIF($CF$2:CF9,CF9)-1)+1))","v":10},{"$f":"IF($BY9=\"\",\"\",IF(Tables!$F$3<>\"\",0,IF(ISNA(VLOOKUP(CG9,Tables!E$5:F$28,2,FALSE)),0,VLOOKUP(CG9,Tables!E$5:F$28,2,FALSE))))","v":0},{"$f":"IF(BG9=\"\",\"\",INDEX(Form!$B$1:'Form'!$J$1000,MATCH($BD9,Form!$A$1:'Form'!$A$1000,0)+5,4))","v":"2::1-1-0"},2,":1-1-0","1 1 0",1,"1 ","0",4,{"$f":"IF(BG9=\"\",\"\",IF(CI9=0,0,COUNT($CP$2:$CP$26)-(RANK(CP9,$CP$2:$CP$26,1)+COUNTIF($CP$2:CP9,CP9)-1)+1))","v":4},{"$f":"IF($CI9=\"\",\"\",IF(Tables!$H$3<>\"\",0,IF(ISNA(VLOOKUP(CQ9,Tables!G$5:H$28,2,FALSE)),0,VLOOKUP(CQ9,Tables!G$5:H$28,2,FALSE))))","v":0},{"$f":"IF(BG9=\"\",\"\",INDEX(Form!$B$1:'Form'!$J$1000,MATCH($BD9,Form!$A$1:'Form'!$A$1000,0)+5,5))","v":"3::0-0-0"},3,":0-0-0","0 0 0",0,0,0,0,{"$f":"IF(BG9=\"\",\"\",IF(CS9=0,0,COUNT($CZ$2:$CZ$26)-(RANK(CZ9,$CZ$2:$CZ$26,1)+COUNTIF($CZ$2:CZ9,CZ9)-1)+1))","v":9},{"$f":"IF($CS9=\"\",\"\",IF(Tables!$J$3<>\"\",0,IF(Tables!$K$1=0,0,IF(ISNA(VLOOKUP(DA9,Tables!$I$5:$J$28,2,FALSE)),\"0\",VLOOKUP(DA9,Tables!$I$5:$J$28,2,FALSE)))))","v":0},"2012-04-30",14,186,"2012-04-07",37,163,349,{"$f":"IF(BG9=\"\",\"\",COUNT($DI$2:$DI$26)-(RANK(DI9,$DI$2:$DI$26,1)+COUNTIF($DI$2:DI9,DI9)-1)+1)","v":3},{"$f":"IF($BG9=\"\",\"\",IF(ISNA(VLOOKUP(DJ9,Tables!K$5:L$28,2,FALSE)),\"0\",VLOOKUP(DJ9,Tables!K$5:L$28,2,FALSE)))","v":6},12000,{"$f":"IF(BG9=\"\",\"\",(DL9-Form!$I$4))","v":0},{"$f":"IF(BG9=\"\",\"\",COUNT($DM$2:$DM$26)-(RANK(DM9,$DM$2:$DM$26,1)+COUNTIF($DM$2:DM9,DM9)-1)+1)","v":6},{"$f":"IF($BG9=\"\",\"\",IF(ISERROR(DN9),1,IF(ISNA(VLOOKUP(DN9,Tables!M$5:N$28,2,FALSE)),\"0\",VLOOKUP(DN9,Tables!M$5:N$28,2,FALSE))))","v":0},"6-12 3.0L",6,"3.0L","3.0",{"$f":"IF(MainSheet!$G23=\"\",\"\",IF(DS9=\"\",\"\",IF(ISERROR(DS9),\"\",ROUND(0+DS9/0.5,0)*0.5)))","v":3},97,"12-16 7.3L",12,"7.3L","7.3",{"$f":"IF(MainSheet!$G23=\"\",\"\",IF(DY9=\"\",\"\",IF(ISERROR(DY9),\"\",ROUND(0+DY9/0.5,0)*0.5)))","v":7.5},92.5,"3-12 1.6L",3,"1.6L","1.6",{"$f":"IF(MainSheet!$G23=\"\",\"\",IF(EE9=\"\",\"\",IF(ISERROR(EE9),\"\",ROUND(0+EE9/0.5,0)*0.5)))","v":1.5},98.5,288,{"$f":"IF(BG9=\"\",\"\",COUNT($EH$2:$EH$26)-(RANK(EH9,$EH$2:$EH$26,1)+COUNTIF($EH$2:EH9,EH9)-1)+1)","v":6},{"$f":"IF($BG9=\"\",\"\",IF(ISNA(VLOOKUP(EI9,Tables!O$5:P$28,2,FALSE)),\"0\",VLOOKUP(EI9,Tables!O$5:P$28,2,FALSE)))","v":0},92,92,{"$f":"IF(BG9=\"\",\"\",IF(EL9=0,0,COUNT($EL$2:$EL$26)-(RANK(EL9,$EL$2:$EL$26,1)+COUNTIF($EL$2:EL9,EL9)-1)+1))","v":12},{"$f":"IF($BG9=\"\",\"\",IF(ISNA(VLOOKUP(EM9,Tables!Q$5:R$26,2,FALSE)),\"0\",VLOOKUP(EM9,Tables!Q$5:R$26,2,FALSE)))","v":0},{"$f":"IF(BG9=\"\",\"\",Form!K13)","v":"7/1"},7,"1",8,492,{"$f":"IF(BG9=\"\",\"\",IF(ES9=0,0,COUNT($ES$2:$ES$26)-(RANK(ES9,$ES$2:$ES$26,1)+COUNTIF($ES$2:ES9,ES9)-1)+1))","v":5},{"$f":"IF($BG9=\"\",\"\",IF(ISERROR(ET9),0,IF(ISNA(VLOOKUP(ET9,Tables!S$5:T$26,2,FALSE)),\"0\",VLOOKUP(ET9,Tables!S$5:T$26,2,FALSE))))","v":2},{"$f":"IF(BF9=\"\",\"\",IF(MainSheet!D23=\"Scratched\",\"\",IF(ISERROR(BL9+BQ9+CH9+CR9+DB9+DK9+DO9+EJ9+EN9+EU9),\"\",BL9+BQ9+CH9+CR9+DB9+DK9+DO9+EJ9+EN9+EU9)))","v":8},6,6.6315789473684212,{"$f":"IF(EX9=\"\",\"\",COUNT($EX$2:$EX$26)-(RANK(EX9,$EX$2:$EX$26)+COUNTIF($EX$2:EX9,EX9)-1)+1)","v":2},12,"","",2.1862348178137654E-2,{"$f":"IF(FC9=\"\",\"\",IF(1/FC9*MainSheet!$R$11>100,100,1/FC9*MainSheet!$R$11))","v":38.879629629629619},null,2.1862348178137654E-2,{"$f":"IF(FF9=\"\",\"\",IF(1/FF9*MainSheet!$R$11>100,100,1/FF9*MainSheet!$R$11))","v":38.879629629629619}]
[{"$f":"IF(Meetings1!A10=\"\",\"\",IF(Meetings1!A10=\"END\",\"END\",IF(Meetings1!B10=\"\",\"\",getAddress(Meetings1!E10))))","v":""},{"$nulls":11},{"$f":"IF(ISERROR(N10),\"\",IF(ISNA(VLOOKUP(N10,RaceList!$M$9:$O$41,3,FALSE)),\"\",VLOOKUP(N10,RaceList!$M$9:$O$41,3,FALSE)))","v":""},{"$f":"IF(O10=\"\",\"\",IF(Meetings2!$B10=\"\",\"\",Meetings2!$B10))","v":"GLOBE DERBY (AT)"},{"$f":"IF(Meetings2!D10=\"\",\"\",getAddress(Meetings2!D10))","v":"http://www.tabonline.com.au/2012/05/14/AT01.html"},{"$f":"IF(Meetings2!E10=\"\",\"\",getAddress(Meetings2!E10))","v":"http://www.tabonline.com.au/2012/05/14/AT02.html"},{"$f":"IF(Meetings2!F10=\"\",\"\",getAddress(Meetings2!F10))","v":"http://www.tabonline.com.au/2012/05/14/AT03.html"},{"$f":"IF(Meetings2!G10=\"\",\"\",getAddress(Meetings2!G10))","v":"http://www.tabonline.com.au/2012/05/14/AT04.html"},{"$f":"IF(Meetings2!H10=\"\",\"\",getAddress(Meetings2!H10))","v":"http://www.tabonline.com.au/2012/05/14/AT05.html"},{"$f":"IF(Meetings2!I10=\"\",\"\",getAddress(Meetings2!I10))","v":"http://www.tabonline.com.au/2012/05/14/AT06.html"},{"$f":"IF(Meetings2!J10=\"\",\"\",getAddress(Meetings2!J10))","v":"http://www.tabonline.com.au/2012/05/14/AT07.html"},{"$f":"IF(Meetings2!K10=\"\",\"\",getAddress(Meetings2!K10))","v":"http://www.tabonline.com.au/2012/05/14/AT08.html"},{"$f":"IF(Meetings2!L10=\"\",\"\",getAddress(Meetings2!L10))","v":""},{"$f":"IF(Meetings2!M10=\"\",\"\",getAddress(Meetings2!M10))","v":""},{"$f":"IF(Meetings2!AA10=\"\",\"\",getAddress(Meetings2!AA10))","v":""},{"$f":"IF(AA10=\"\",\"\",IF(AA10=\"Career::\",Form!A8,\"\"))","v":""},5,{"$nulls":20},7,"",{"$f":"IF(Race!J10<>\"\",Race!C10,\"\")","v":"ETTORE"},{"$f":"IF(AX10<>\"\",Race!N10,\"\")","v":95},{"$f":"IF(AX10<>\"\",Race!I10,\"\")","v":10},{"$f":"IF(AX10<>\"\",Race!L10,\"\")","v":0},null,"9  Elite Ebony",{"$f":"IF(ISNUMBER(Form!J14),LEFT(Form!D14,FIND(\"(\",Form!D14)-2),\"\")","v":"Elite Ebony"},null,{"$f":"IF(BD10=\"\",\"\",Form!B14)","v":9},1,{"$f":"IF(BG10=\"\",\"\",Form!G14)","v":57.5},{"$f":"IF($BG10=\"\",\"\",IF(MainSheet!G24=\"\",\"\",Form!H14))","v":2.6},0.99739999999999995,{"$f":"IF(BG10=\"\",\"\",COUNT($BJ$2:$BJ$26)-(RANK(BJ10,$BJ$2:$BJ$26)+COUNTIF($BJ$2:BJ10,BJ10)-1)+1)","v":1},{"$f":"IF($BG10=\"\",\"\",IF(ISNA(VLOOKUP(BK10,Tables!A$5:B$28,2,FALSE)),0,VLOOKUP(BK10,Tables!A$5:B$28,2,FALSE)))","v":10},{"$f":"IF(BG10=\"\",\"\",Form!I14)","v":11.8},{"$f":"IF(BG10=\"\",\"\",Form!J14)","v":17.600000000000001},29.400000000000002,{"$f":"IF(BG10=\"\",\"\",COUNT($BO$2:$BO$26)-(RANK(BO10,$BO$2:$BO$26,1)+COUNTIF($BO$2:BO10,BO10)-1)+1)","v":13},{"$f":"IF($BG10=\"\",\"\",IF(ISNA(VLOOKUP(BP10,Tables!C$5:D$28,2,FALSE)),0,VLOOKUP(BP10,Tables!C$5:D$28,2,FALSE)))","v":0},{"$f":"IF(BG10=\"\",\"\",INDEX(Form!$B$1:'Form'!$J$1000,MATCH($BD10,Form!$A$1:'Form'!$A$1000,0)+3,8))","v":"5::2-0-0"},5,":2-0-0","2 0 0",2,"0 ","0",{"$f":"IF(BG10=\"\",\"\",INDEX(Form!$B$1:'Form'!$J$1000,MATCH($BD10,Form!$A$1:'Form'!$A$1000,0)+3,9))","v":"0::0-0-0"},0,":0-0-0","0 0 0",0,"0 ","0",6,{"$f":"IF(MainSheet!G24=\"\",\"\",IF(CF10=\"\",\"\",COUNT($CF$2:$CF$26)-(RANK(CF10,$CF$2:$CF$26,1)+COUNTIF($CF$2:CF10,CF10)-1)+1))","v":4},{"$f":"IF($BY10=\"\",\"\",IF(Tables!$F$3<>\"\",0,IF(ISNA(VLOOKUP(CG10,Tables!E$5:F$28,2,FALSE)),0,VLOOKUP(CG10,Tables!E$5:F$28,2,FALSE))))","v":4},{"$f":"IF(BG10=\"\",\"\",INDEX(Form!$B$1:'Form'!$J$1000,MATCH($BD10,Form!$A$1:'Form'!$A$1000,0)+5,4))","v":"3::1-0-0"},3,":1-0-0","1 0 0",1,"0 ","0",3,{"$f":"IF(BG10=\"\",\"\",IF(CI10=0,0,COUNT($CP$2:$CP$26)-(RANK(CP10,$CP$2:$CP$26,1)+COUNTIF($CP$2:CP10,CP10)-1)+1))","v":8},{"$f":"IF($CI10=\"\",\"\",IF(Tables!$H$3<>\"\",0,IF(ISNA(VLOOKUP(CQ10,Tables!G$5:H$28,2,FALSE)),0,VLOOKUP(CQ10,Tables!G$5:H$28,2,FALSE))))","v":0},{"$f":"IF(BG10=\"\",\"\",INDEX(Form!$B$1:'Form'!$J$1000,MATCH($BD10,Form!$A$1:'Form'!$A$1000,0)+5,5))","v":"2::0-0-0"},2,":0-0-0","0 0 0",0,0,0,0,{"$f":"IF(BG10=\"\",\"\",IF(CS10=0,0,COUNT($CZ$2:$CZ$26)-(RANK(CZ10,$CZ$2:$CZ$26,1)+COUNTIF($CZ$2:CZ10,CZ10)-1)+1))","v":8},{"$f":"IF($CS10=\"\",\"\",IF(Tables!$J$3<>\"\",0,IF(Tables!$K$1=0,0,IF(ISNA(VLOOKUP(DA10,Tables!$I$5:$J$28,2,FALSE)),\"0\",VLOOKUP(DA10,Tables!$I$5:$J$28,2,FALSE)))))","v":0},"2011-09-25",100,100,"2011-09-10",100,100,200,{"$f":"IF(BG10=\"\",\"\",COUNT($DI$2:$DI$26)-(RANK(DI10,$DI$2:$DI$26,1)+COUNTIF($DI$2:DI10,DI10)-1)+1)","v":12},{"$f":"IF($BG10=\"\",\"\",IF(ISNA(VLOOKUP(DJ10,Tables!K$5:L$28,2,FALSE)),\"0\",VLOOKUP(DJ10,Tables!K$5:L$28,2,FALSE)))","v":0},15000,{"$f":"IF(BG10=\"\",\"\",(DL10-Form!$I$4))","v":3000},{"$f":"IF(BG10=\"\",\"\",COUNT($DM$2:$DM$26)-(RANK(DM10,$DM$2:$DM$26,1)+COUNTIF($DM$2:DM10,DM10)-1)+1)","v":2},{"$f":"IF($BG10=\"\",\"\",IF(ISERROR(DN10),1,IF(ISNA(VLOOKUP(DN10,Tables!M$5:N$28,2,FALSE)),\"0\",VLOOKUP(DN10,Tables!M$5:N$28,2,FALSE))))","v":8},"9-11 9.6L",9,"9.6L","9.6",{"$f":"IF(MainSheet!$G24=\"\",\"\",IF(DS10=\"\",\"\",IF(ISERROR(DS10),\"\",ROUND(0+DS10/0.5,0)*0.5)))","v":9.5},90.5,"5-11 8.0L",5,"8.0L","8.0",{"$f":"IF(MainSheet!$G24=\"\",\"\",IF(DY10=\"\",\"\",IF(ISERROR(DY10),\"\",ROUND(0+DY10/0.5,0)*0.5)))","v":8},92,"8-16 2.3L",8,"2.3L","2.3",{"$f":"IF(MainSheet!$G24=\"\",\"\",IF(EE10=\"\",\"\",IF(ISERROR(EE10),\"\",ROUND(0+EE10/0.5,0)*0.5)))","v":2.5},97.5,280,{"$f":"IF(BG10=\"\",\"\",COUNT($EH$2:$EH$26)-(RANK(EH10,$EH$2:$EH$26,1)+COUNTIF($EH$2:EH10,EH10)-1)+1)","v":11},{"$f":"IF($BG10=\"\",\"\",IF(ISNA(VLOOKUP(EI10,Tables!O$5:P$28,2,FALSE)),\"0\",VLOOKUP(EI10,Tables!O$5:P$28,2,FALSE)))","v":0},97,97,{"$f":"IF(BG10=\"\",\"\",IF(EL10=0,0,COUNT($EL$2:$EL$26)-(RANK(EL10,$EL$2:$EL$26,1)+COUNTIF($EL$2:EL10,EL10)-1)+1))","v":2},{"$f":"IF($BG10=\"\",\"\",IF(ISNA(VLOOKUP(EM10,Tables!Q$5:R$26,2,FALSE)),\"0\",VLOOKUP(EM10,Tables!Q$5:R$26,2,FALSE)))","v":8},{"$f":"IF(BG10=\"\",\"\",Form!K14)","v":"12/1"},12,"1",13,487,{"$f":"IF(BG10=\"\",\"\",IF(ES10=0,0,COUNT($ES$2:$ES$26)-(RANK(ES10,$ES$2:$ES$26,1)+COUNTIF($ES$2:ES10,ES10)-1)+1))","v":10},{"$f":"IF($BG10=\"\",\"\",IF(ISERROR(ET10),0,IF(ISNA(VLOOKUP(ET10,Tables!S$5:T$26,2,FALSE)),\"0\",VLOOKUP(ET10,Tables!S$5:T$26,2,FALSE))))","v":0},{"$f":"IF(BF10=\"\",\"\",IF(MainSheet!D24=\"Scratched\",\"\",IF(ISERROR(BL10+BQ10+CH10+CR10+DB10+DK10+DO10+EJ10+EN10+EU10),\"\",BL10+BQ10+CH10+CR10+DB10+DK10+DO10+EJ10+EN10+EU10)))","v":30},28,41.754385964912281,{"$f":"IF(EX10=\"\",\"\",COUNT($EX$2:$EX$26)-(RANK(EX10,$EX$2:$EX$26)+COUNTIF($EX$2:EX10,EX10)-1)+1)","v":11},3,41.754385964912281,0.19836639439906653,0.19836639439906653,{"$f":"IF(FC10=\"\",\"\",IF(1/FC10*MainSheet!$R$11>100,100,1/FC10*MainSheet!$R$11))","v":4.2850000000000001},null,0.1376518218623482,{"$f":"IF(FF10=\"\",\"\",IF(1/FF10*MainSheet!$R$11>100,100,1/FF10*MainSheet!$R$11))","v":6.1749999999999989}]
[{"$f":"IF(Meetings1!A11=\"\",\"\",IF(Meetings1!A11=\"END\",\"END\",IF(Meetings1!B11=\"\",\"\",getAddress(Meetings1!E11))))","v":""},{"$nulls":11},{"$f":"IF(ISERROR(N11),\"\",IF(ISNA(VLOOKUP(N11,RaceList!$M$9:$O$41,3,FALSE)),\"\",VLOOKUP(N11,RaceList!$M$9:$O$41,3,FALSE)))","v":""},{"$f":"IF(O11=\"\",\"\",IF(Meetings2!$B11=\"\",\"\",Meetings2!$B11))","v":"GLOUCESTER PARK (PT)"},{"$f":"IF(Meetings2!D11=\"\",\"\",getAddress(Meetings2!D11))","v":"http://www.tabonline.com.au/2012/05/14/PT01.html"},{"$f":"IF(Meetings2!E11=\"\",\"\",getAddress(Meetings2!E11))","v":"http://www.tabonline.com.au/2012/05/14/PT02.html"},{"$f":"IF(Meetings2!F11=\"\",\"\",getAddress(Meetings2!F11))","v":"http://www.tabonline.com.au/2012/05/14/PT03.html"},{"$f":"IF(Meetings2!G11=\"\",\"\",getAddress(Meetings2!G11))","v":"http://www.tabonline.com.au/2012/05/14/PT04.html"},{"$f":"IF(Meetings2!H11=\"\",\"\",getAddress(Meetings2!H11))","v":"http://www.tabonline.com.au/2012/05/14/PT05.html"},{"$f":"IF(Meetings2!I11=\"\",\"\",getAddress(Meetings2!I11))","v":"http://www.tabonline.com.au/2012/05/14/PT06.html"},{"$f":"IF(Meetings2!J11=\"\",\"\",getAddress(Meetings2!J11))","v":"http://www.tabonline.com.au/2012/05/14/PT07.html"},{"$f":"IF(Meetings2!K11=\"\",\"\",getAddress(Meetings2!K11))","v":"http://www.tabonline.com.au/2012/05/14/PT08.html"},{"$f":"IF(Meetings2!L11=\"\",\"\",getAddress(Meetings2!L11))","v":""},{"$f":"IF(Meetings2!M11=\"\",\"\",getAddress(Meetings2!M11))","v":""},{"$f":"IF(Meetings2!AA11=\"\",\"\",getAddress(Meetings2!AA11))","v":""},{"$f":"IF(AA11=\"\",\"\",IF(AA11=\"Career::\",Form!A9,\"\"))","v":""},6,{"$nulls":20},7,"",{"$f":"IF(Race!J11<>\"\",Race!C11,\"\")","v":"RYOLLY"},{"$f":"IF(AX11<>\"\",Race!N11,\"\")","v":95},{"$f":"IF(AX11<>\"\",Race!I11,\"\")","v":9},{"$f":"IF(AX11<>\"\",Race!L11,\"\")","v":"DW"},null,"10  Hoakstess",{"$f":"IF(ISNUMBER(Form!J15),LEFT(Form!D15,FIND(\"(\",Form!D15)-2),\"\")","v":"Hoakstess"},null,{"$f":"IF(BD11=\"\",\"\",Form!B15)","v":10},4,{"$f":"IF(BG11=\"\",\"\",Form!G15)","v":57.5},{"$f":"IF($BG11=\"\",\"\",IF(MainSheet!G25=\"\",\"\",Form!H15))","v":1.5},0.99850000000000005,{"$f":"IF(BG11=\"\",\"\",COUNT($BJ$2:$BJ$26)-(RANK(BJ11,$BJ$2:$BJ$26)+COUNTIF($BJ$2:BJ11,BJ11)-1)+1)","v":5},{"$f":"IF($BG11=\"\",\"\",IF(ISNA(VLOOKUP(BK11,Tables!A$5:B$28,2,FALSE)),0,VLOOKUP(BK11,Tables!A$5:B$28,2,FALSE)))","v":2},{"$f":"IF(BG11=\"\",\"\",Form!I15)","v":11.1},{"$f":"IF(BG11=\"\",\"\",Form!J15)","v":44.4},55.5,{"$f":"IF(BG11=\"\",\"\",COUNT($BO$2:$BO$26)-(RANK(BO11,$BO$2:$BO$26,1)+COUNTIF($BO$2:BO11,BO11)-1)+1)","v":2},{"$f":"IF($BG11=\"\",\"\",IF(ISNA(VLOOKUP(BP11,Tables!C$5:D$28,2,FALSE)),0,VLOOKUP(BP11,Tables!C$5:D$28,2,FALSE)))","v":8},{"$f":"IF(BG11=\"\",\"\",INDEX(Form!$B$1:'Form'!$J$1000,MATCH($BD11,Form!$A$1:'Form'!$A$1000,0)+3,8))","v":"1::0-0-0"},1,":0-0-0","0 0 0",0,"0 ","0",{"$f":"IF(BG11=\"\",\"\",INDEX(Form!$B$1:'Form'!$J$1000,MATCH($BD11,Form!$A$1:'Form'!$A$1000,0)+3,9))","v":"0::0-0-0"},0,":0-0-0","0 0 0",0,"0 ","0",0,{"$f":"IF(MainSheet!G25=\"\",\"\",IF(CF11=\"\",\"\",COUNT($CF$2:$CF$26)-(RANK(CF11,$CF$2:$CF$26,1)+COUNTIF($CF$2:CF11,CF11)-1)+1))","v":12},{"$f":"IF($BY11=\"\",\"\",IF(Tables!$F$3<>\"\",0,IF(ISNA(VLOOKUP(CG11,Tables!E$5:F$28,2,FALSE)),0,VLOOKUP(CG11,Tables!E$5:F$28,2,FALSE))))","v":0},{"$f":"IF(BG11=\"\",\"\",INDEX(Form!$B$1:'Form'!$J$1000,MATCH($BD11,Form!$A$1:'Form'!$A$1000,0)+5,4))","v":"1::1-0-0"},1,":1-0-0","1 0 0",1,"0 ","0",3,{"$f":"IF(BG11=\"\",\"\",IF(CI11=0,0,COUNT($CP$2:$CP$26)-(RANK(CP11,$CP$2:$CP$26,1)+COUNTIF($CP$2:CP11,CP11)-1)+1))","v":7},{"$f":"IF($CI11=\"\",\"\",IF(Tables!$H$3<>\"\",0,IF(ISNA(VLOOKUP(CQ11,Tables!G$5:H$28,2,FALSE)),0,VLOOKUP(CQ11,Tables!G$5:H$28,2,FALSE))))","v":0},{"$f":"IF(BG11=\"\",\"\",INDEX(Form!$B$1:'Form'!$J$1000,MATCH($BD11,Form!$A$1:'Form'!$A$1000,0)+5,5))","v":"2::0-0-1"},2,":0-0-1","0 0 1",0,0,1,1,{"$f":"IF(BG11=\"\",\"\",IF(CS11=0,0,COUNT($CZ$2:$CZ$26)-(RANK(CZ11,$CZ$2:$CZ$26,1)+COUNTIF($CZ$2:CZ11,CZ11)-1)+1))","v":5},{"$f":"IF($CS11=\"\",\"\",IF(Tables!$J$3<>\"\",0,IF(Tables!$K$1=0,0,IF(ISNA(VLOOKUP(DA11,Tables!$I$5:$J$28,2,FALSE)),\"0\",VLOOKUP(DA11,Tables!$I$5:$J$28,2,FALSE)))))","v":0},"2012-05-07",7,193,"2011-11-11",100,100,293,{"$f":"IF(BG11=\"\",\"\",COUNT($DI$2:$DI$26)-(RANK(DI11,$DI$2:$DI$26,1)+COUNTIF($DI$2:DI11,DI11)-1)+1)","v":7},{"$f":"IF($BG11=\"\",\"\",IF(ISNA(VLOOKUP(DJ11,Tables!K$5:L$28,2,FALSE)),\"0\",VLOOKUP(DJ11,Tables!K$5:L$28,2,FALSE)))","v":0},12000,{"$f":"IF(BG11=\"\",\"\",(DL11-Form!$I$4))","v":0},{"$f":"IF(BG11=\"\",\"\",COUNT($DM$2:$DM$26)-(RANK(DM11,$DM$2:$DM$26,1)+COUNTIF($DM$2:DM11,DM11)-1)+1)","v":5},{"$f":"IF($BG11=\"\",\"\",IF(ISERROR(DN11),1,IF(ISNA(VLOOKUP(DN11,Tables!M$5:N$28,2,FALSE)),\"0\",VLOOKUP(DN11,Tables!M$5:N$28,2,FALSE))))","v":2},"3-8 3.8L",3,"3.8L","3.8",{"$f":"IF(MainSheet!$G25=\"\",\"\",IF(DS11=\"\",\"\",IF(ISERROR(DS11),\"\",ROUND(0+DS11/0.5,0)*0.5)))","v":4},96,"10-13 7.8L",10,"7.8L","7.8",{"$f":"IF(MainSheet!$G25=\"\",\"\",IF(DY11=\"\",\"\",IF(ISERROR(DY11),\"\",ROUND(0+DY11/0.5,0)*0.5)))","v":8},92,"1-10 0.2L",1,"0.2L","0.2",{"$f":"IF(MainSheet!$G25=\"\",\"\",IF(EE11=\"\",\"\",IF(ISERROR(EE11),\"\",ROUND(0+EE11/0.5,0)*0.5)))","v":0},100,288,{"$f":"IF(BG11=\"\",\"\",COUNT($EH$2:$EH$26)-(RANK(EH11,$EH$2:$EH$26,1)+COUNTIF($EH$2:EH11,EH11)-1)+1)","v":5},{"$f":"IF($BG11=\"\",\"\",IF(ISNA(VLOOKUP(EI11,Tables!O$5:P$28,2,FALSE)),\"0\",VLOOKUP(EI11,Tables!O$5:P$28,2,FALSE)))","v":2},96,96,{"$f":"IF(BG11=\"\",\"\",IF(EL11=0,0,COUNT($EL$2:$EL$26)-(RANK(EL11,$EL$2:$EL$26,1)+COUNTIF($EL$2:EL11,EL11)-1)+1))","v":4},{"$f":"IF($BG11=\"\",\"\",IF(ISNA(VLOOKUP(EM11,Tables!Q$5:R$26,2,FALSE)),\"0\",VLOOKUP(EM11,Tables!Q$5:R$26,2,FALSE)))","v":4},{"$f":"IF(BG11=\"\",\"\",Form!K15)","v":"7/1"},7,"1",8,492,{"$f":"IF(BG11=\"\",\"\",IF(ES11=0,0,COUNT($ES$2:$ES$26)-(RANK(ES11,$ES$2:$ES$26,1)+COUNTIF($ES$2:ES11,ES11)-1)+1))","v":4},{"$f":"IF($BG11=\"\",\"\",IF(ISERROR(ET11),0,IF(ISNA(VLOOKUP(ET11,Tables!S$5:T$26,2,FALSE)),\"0\",VLOOKUP(ET11,Tables!S$5:T$26,2,FALSE))))","v":4},{"$f":"IF(BF11=\"\",\"\",IF(MainSheet!D25=\"Scratched\",\"\",IF(ISERROR(BL11+BQ11+CH11+CR11+DB11+DK11+DO11+EJ11+EN11+EU11),\"\",BL11+BQ11+CH11+CR11+DB11+DK11+DO11+EJ11+EN11+EU11)))","v":22},20,27.017543859649123,{"$f":"IF(EX11=\"\",\"\",COUNT($EX$2:$EX$26)-(RANK(EX11,$EX$2:$EX$26)+COUNTIF($EX$2:EX11,EX11)-1)+1)","v":9},5,27.017543859649123,0.1283547257876313,0.1283547257876313,{"$f":"IF(FC11=\"\",\"\",IF(1/FC11*MainSheet!$R$11>100,100,1/FC11*MainSheet!$R$11))","v":6.6222727272727253},null,8.9068825910931182E-2,{"$f":"IF(FF11=\"\",\"\",IF(1/FF11*MainSheet!$R$11>100,100,1/FF11*MainSheet!$R$11))","v":9.543181818181818}]
[{"$f":"IF(Meetings1!A12=\"\",\"\",IF(Meetings1!A12=\"END\",\"END\",IF(Meetings1!B12=\"\",\"\",getAddress(Meetings1!E12))))","v":""},{"$nulls":11},{"$f":"IF(ISERROR(N12),\"\",IF(ISNA(VLOOKUP(N12,RaceList!$M$9:$O$41,3,FALSE)),\"\",VLOOKUP(N12,RaceList!$M$9:$O$41,3,FALSE)))","v":""},{"$f":"IF(O12=\"\",\"\",IF(Meetings2!$B12=\"\",\"\",Meetings2!$B12))","v":"DEVONPORT (TT)"},{"$f":"IF(Meetings2!D12=\"\",\"\",getAddress(Meetings2!D12))","v":"http://www.tabonline.com.au/2012/05/14/TT01.html"},{"$f":"IF(Meetings2!E12=\"\",\"\",getAddress(Meetings2!E12))","v":"http://www.tabonline.com.au/2012/05/14/TT02.html"},{"$f":"IF(Meetings2!F12=\"\",\"\",getAddress(Meetings2!F12))","v":"http://www.tabonline.com.au/2012/05/14/TT03.html"},{"$f":"IF(Meetings2!G12=\"\",\"\",getAddress(Meetings2!G12))","v":"http://www.tabonline.com.au/2012/05/14/TT04.html"},{"$f":"IF(Meetings2!H12=\"\",\"\",getAddress(Meetings2!H12))","v":"http://www.tabonline.com.au/2012/05/14/TT05.html"},{"$f":"IF(Meetings2!I12=\"\",\"\",getAddress(Meetings2!I12))","v":"http://www.tabonline.com.au/2012/05/14/TT06.html"},{"$f":"IF(Meetings2!J12=\"\",\"\",getAddress(Meetings2!J12))","v":"http://www.tabonline.com.au/2012/05/14/TT07.html"},{"$f":"IF(Meetings2!K12=\"\",\"\",getAddress(Meetings2!K12))","v":"http://www.tabonline.com.au/2012/05/14/TT08.html"},{"$f":"IF(Meetings2!L12=\"\",\"\",getAddress(Meetings2!L12))","v":""},{"$f":"IF(Meetings2!M12=\"\",\"\",getAddress(Meetings2!M12))","v":""},{"$f":"IF(Meetings2!AA12=\"\",\"\",getAddress(Meetings2!AA12))","v":""},{"$f":"IF(AA12=\"\",\"\",IF(AA12=\"Career::\",Form!A10,\"\"))","v":""},7,{"$nulls":20},6,"",{"$f":"IF(Race!J12<>\"\",Race!C12,\"\")","v":"MITCHENER"},{"$f":"IF(AX12<>\"\",Race!N12,\"\")","v":94},{"$f":"IF(AX12<>\"\",Race!I12,\"\")","v":13},{"$f":"IF(AX12<>\"\",Race!L12,\"\")","v":"DW"},null,"11  Midnight Pearl",{"$f":"IF(ISNUMBER(Form!J16),LEFT(Form!D16,FIND(\"(\",Form!D16)-2),\"\")","v":"Midnight Pearl"},null,{"$f":"IF(BD12=\"\",\"\",Form!B16)","v":11},5,{"$f":"IF(BG12=\"\",\"\",Form!G16)","v":57.5},{"$f":"IF($BG12=\"\",\"\",IF(MainSheet!G26=\"\",\"\",Form!H16))","v":1.6},0.99839999999999995,{"$f":"IF(BG12=\"\",\"\",COUNT($BJ$2:$BJ$26)-(RANK(BJ12,$BJ$2:$BJ$26)+COUNTIF($BJ$2:BJ12,BJ12)-1)+1)","v":4},{"$f":"IF($BG12=\"\",\"\",IF(ISNA(VLOOKUP(BK12,Tables!A$5:B$28,2,FALSE)),0,VLOOKUP(BK12,Tables!A$5:B$28,2,FALSE)))","v":4},{"$f":"IF(BG12=\"\",\"\",Form!I16)","v":7.9},{"$f":"IF(BG12=\"\",\"\",Form!J16)","v":47.4},55.3,{"$f":"IF(BG12=\"\",\"\",COUNT($BO$2:$BO$26)-(RANK(BO12,$BO$2:$BO$26,1)+COUNTIF($BO$2:BO12,BO12)-1)+1)","v":4},{"$f":"IF($BG12=\"\",\"\",IF(ISNA(VLOOKUP(BP12,Tables!C$5:D$28,2,FALSE)),0,VLOOKUP(BP12,Tables!C$5:D$28,2,FALSE)))","v":4},{"$f":"IF(BG12=\"\",\"\",INDEX(Form!$B$1:'Form'!$J$1000,MATCH($BD12,Form!$A$1:'Form'!$A$1000,0)+3,8))","v":"12::0-3-1"},12,":0-3-1","0 3 1",0,"3 ","1",{"$f":"IF(BG12=\"\",\"\",INDEX(Form!$B$1:'Form'!$J$1000,MATCH($BD12,Form!$A$1:'Form'!$A$1000,0)+3,9))","v":"4::1-2-0"},4,":1-2-0","1 2 0",1,"2 ","0",9,{"$f":"IF(MainSheet!G26=\"\",\"\",IF(CF12=\"\",\"\",COUNT($CF$2:$CF$26)-(RANK(CF12,$CF$2:$CF$26,1)+COUNTIF($CF$2:CF12,CF12)-1)+1))","v":2},{"$f":"IF($BY12=\"\",\"\",IF(Tables!$F$3<>\"\",0,IF(ISNA(VLOOKUP(CG12,Tables!E$5:F$28,2,FALSE)),0,VLOOKUP(CG12,Tables!E$5:F$28,2,FALSE))))","v":8},{"$f":"IF(BG12=\"\",\"\",INDEX(Form!$B$1:'Form'!$J$1000,MATCH($BD12,Form!$A$1:'Form'!$A$1000,0)+5,4))","v":"5::1-2-0"},5,":1-2-0","1 2 0",1,"2 ","0",5,{"$f":"IF(BG12=\"\",\"\",IF(CI12=0,0,COUNT($CP$2:$CP$26)-(RANK(CP12,$CP$2:$CP$26,1)+COUNTIF($CP$2:CP12,CP12)-1)+1))","v":2},{"$f":"IF($CI12=\"\",\"\",IF(Tables!$H$3<>\"\",0,IF(ISNA(VLOOKUP(CQ12,Tables!G$5:H$28,2,FALSE)),0,VLOOKUP(CQ12,Tables!G$5:H$28,2,FALSE))))","v":0},{"$f":"IF(BG12=\"\",\"\",INDEX(Form!$B$1:'Form'!$J$1000,MATCH($BD12,Form!$A$1:'Form'!$A$1000,0)+5,5))","v":"3::0-0-2"},3,":0-0-2","0 0 2",0,0,2,2,{"$f":"IF(BG12=\"\",\"\",IF(CS12=0,0,COUNT($CZ$2:$CZ$26)-(RANK(CZ12,$CZ$2:$CZ$26,1)+COUNTIF($CZ$2:CZ12,CZ12)-1)+1))","v":3},{"$f":"IF($CS12=\"\",\"\",IF(Tables!$J$3<>\"\",0,IF(Tables!$K$1=0,0,IF(ISNA(VLOOKUP(DA12,Tables!$I$5:$J$28,2,FALSE)),\"0\",VLOOKUP(DA12,Tables!$I$5:$J$28,2,FALSE)))))","v":0},"2012-04-21",23,177,"2012-02-16",88,112,289,{"$f":"IF(BG12=\"\",\"\",COUNT($DI$2:$DI$26)-(RANK(DI12,$DI$2:$DI$26,1)+COUNTIF($DI$2:DI12,DI12)-1)+1)","v":8},{"$f":"IF($BG12=\"\",\"\",IF(ISNA(VLOOKUP(DJ12,Tables!K$5:L$28,2,FALSE)),\"0\",VLOOKUP(DJ12,Tables!K$5:L$28,2,FALSE)))","v":0},12000,{"$f":"IF(BG12=\"\",\"\",(DL12-Form!$I$4))","v":0},{"$f":"IF(BG12=\"\",\"\",COUNT($DM$2:$DM$26)-(RANK(DM12,$DM$2:$DM$26,1)+COUNTIF($DM$2:DM12,DM12)-1)+1)","v":4},{"$f":"IF($BG12=\"\",\"\",IF(ISERROR(DN12),1,IF(ISNA(VLOOKUP(DN12,Tables!M$5:N$28,2,FALSE)),\"0\",VLOOKUP(DN12,Tables!M$5:N$28,2,FALSE))))","v":4},"8-16 5.9L",8,"5.9L","5.9",{"$f":"IF(MainSheet!$G26=\"\",\"\",IF(DS12=\"\",\"\",IF(ISERROR(DS12),\"\",ROUND(0+DS12/0.5,0)*0.5)))","v":6},94,"2-12 1.5L",2,"1.5L","1.5",{"$f":"IF(MainSheet!$G26=\"\",\"\",IF(DY12=\"\",\"\",IF(ISERROR(DY12),\"\",ROUND(0+DY12/0.5,0)*0.5)))","v":1.5},98.5,"7-11 5.3L",7,"5.3L","5.3",{"$f":"IF(MainSheet!$G26=\"\",\"\",IF(EE12=\"\",\"\",IF(ISERROR(EE12),\"\",ROUND(0+EE12/0.5,0)*0.5)))","v":5.5},94.5,287,{"$f":"IF(BG12=\"\",\"\",COUNT($EH$2:$EH$26)-(RANK(EH12,$EH$2:$EH$26,1)+COUNTIF($EH$2:EH12,EH12)-1)+1)","v":7},{"$f":"IF($BG12=\"\",\"\",IF(ISNA(VLOOKUP(EI12,Tables!O$5:P$28,2,FALSE)),\"0\",VLOOKUP(EI12,Tables!O$5:P$28,2,FALSE)))","v":0},93,93,{"$f":"IF(BG12=\"\",\"\",IF(EL12=0,0,COUNT($EL$2:$EL$26)-(RANK(EL12,$EL$2:$EL$26,1)+COUNTIF($EL$2:EL12,EL12)-1)+1))","v":11},{"$f":"IF($BG12=\"\",\"\",IF(ISNA(VLOOKUP(EM12,Tables!Q$5:R$26,2,FALSE)),\"0\",VLOOKUP(EM12,Tables!Q$5:R$26,2,FALSE)))","v":0},{"$f":"IF(BG12=\"\",\"\",Form!K16)","v":"12/1"},12,"1",13,487,{"$f":"IF(BG12=\"\",\"\",IF(ES12=0,0,COUNT($ES$2:$ES$26)-(RANK(ES12,$ES$2:$ES$26,1)+COUNTIF($ES$2:ES12,ES12)-1)+1))","v":9},{"$f":"IF($BG12=\"\",\"\",IF(ISERROR(ET12),0,IF(ISNA(VLOOKUP(ET12,Tables!S$5:T$26,2,FALSE)),\"0\",VLOOKUP(ET12,Tables!S$5:T$26,2,FALSE))))","v":0},{"$f":"IF(BF12=\"\",\"\",IF(MainSheet!D26=\"Scratched\",\"\",IF(ISERROR(BL12+BQ12+CH12+CR12+DB12+DK12+DO12+EJ12+EN12+EU12),\"\",BL12+BQ12+CH12+CR12+DB12+DK12+DO12+EJ12+EN12+EU12)))","v":20},18,23.684210526315788,{"$f":"IF(EX12=\"\",\"\",COUNT($EX$2:$EX$26)-(RANK(EX12,$EX$2:$EX$26)+COUNTIF($EX$2:EX12,EX12)-1)+1)","v":8},6,"","",7.807981492192019E-2,{"$f":"IF(FC12=\"\",\"\",IF(1/FC12*MainSheet!$R$11>100,100,1/FC12*MainSheet!$R$11))","v":10.886296296296296},null,7.807981492192019E-2,{"$f":"IF(FF12=\"\",\"\",IF(1/FF12*MainSheet!$R$11>100,100,1/FF12*MainSheet!$R$11))","v":10.886296296296296}]
[{"$f":"IF(Meetings1!A13=\"\",\"\",IF(Meetings1!A13=\"END\",\"END\",IF(Meetings1!B13=\"\",\"\",getAddress(Meetings1!E13))))","v":""},{"$nulls":11},{"$f":"IF(ISERROR(N13),\"\",IF(ISNA(VLOOKUP(N13,RaceList!$M$9:$O$41,3,FALSE)),\"\",VLOOKUP(N13,RaceList!$M$9:$O$41,3,FALSE)))","v":""},{"$f":"IF(O13=\"\",\"\",IF(Meetings2!$B13=\"\",\"\",Meetings2!$B13))","v":{"$error":"#VALUE!"}},{"$f":"IF(Meetings2!D13=\"\",\"\",getAddress(Meetings2!D13))","v":{"$error":"#VALUE!"}},{"$f":"IF(Meetings2!E13=\"\",\"\",getAddress(Meetings2!E13))","v":{"$error":"#VALUE!"}},{"$f":"IF(Meetings2!F13=\"\",\"\",getAddress(Meetings2!F13))","v":{"$error":"#VALUE!"}},{"$f":"IF(Meetings2!G13=\"\",\"\",getAddress(Meetings2!G13))","v":{"$error":"#VALUE!"}},{"$f":"IF(Meetings2!H13=\"\",\"\",getAddress(Meetings2!H13))","v":{"$error":"#VALUE!"}},{"$f":"IF(Meetings2!I13=\"\",\"\",getAddress(Meetings2!I13))","v":{"$error":"#VALUE!"}},{"$f":"IF(Meetings2!J13=\"\",\"\",getAddress(Meetings2!J13))","v":{"$error":"#VALUE!"}},{"$f":"IF(Meetings2!K13=\"\",\"\",getAddress(Meetings2!K13))","v":{"$error":"#VALUE!"}},{"$f":"IF(Meetings2!L13=\"\",\"\",getAddress(Meetings2!L13))","v":{"$error":"#VALUE!"}},{"$f":"IF(Meetings2!M13=\"\",\"\",getAddress(Meetings2!M13))","v":{"$error":"#VALUE!"}},{"$f":"IF(Meetings2!AA13=\"\",\"\",getAddress(Meetings2!AA13))","v":""},{"$f":"IF(AA13=\"\",\"\",IF(AA13=\"Career::\",Form!A11,\"\"))","v":""},8,{"$nulls":20},6,"",{"$f":"IF(Race!J13<>\"\",Race!C13,\"\")","v":"VOPOP"},{"$f":"IF(AX13<>\"\",Race!N13,\"\")","v":94},{"$f":"IF(AX13<>\"\",Race!I13,\"\")","v":12},{"$f":"IF(AX13<>\"\",Race!L13,\"\")","v":"T"},null,"12  Mon Coeur",{"$f":"IF(ISNUMBER(Form!J17),LEFT(Form!D17,FIND(\"(\",Form!D17)-2),\"\")","v":"Mon Coeur"},null,{"$f":"IF(BD13=\"\",\"\",Form!B17)","v":12},"",{"$f":"IF(BG13=\"\",\"\",Form!G17)","v":""},{"$f":"IF($BG13=\"\",\"\",IF(MainSheet!G27=\"\",\"\",Form!H17))","v":""},"",{"$f":"IF(BG13=\"\",\"\",COUNT($BJ$2:$BJ$26)-(RANK(BJ13,$BJ$2:$BJ$26)+COUNTIF($BJ$2:BJ13,BJ13)-1)+1)","v":""},{"$f":"IF($BG13=\"\",\"\",IF(ISNA(VLOOKUP(BK13,Tables!A$5:B$28,2,FALSE)),0,VLOOKUP(BK13,Tables!A$5:B$28,2,FALSE)))","v":""},{"$f":"IF(BG13=\"\",\"\",Form!I17)","v":""},{"$f":"IF(BG13=\"\",\"\",Form!J17)","v":""},"",{"$f":"IF(BG13=\"\",\"\",COUNT($BO$2:$BO$26)-(RANK(BO13,$BO$2:$BO$26,1)+COUNTIF($BO$2:BO13,BO13)-1)+1)","v":""},{"$f":"IF($BG13=\"\",\"\",IF(ISNA(VLOOKUP(BP13,Tables!C$5:D$28,2,FALSE)),0,VLOOKUP(BP13,Tables!C$5:D$28,2,FALSE)))","v":""},{"$f":"IF(BG13=\"\",\"\",INDEX(Form!$B$1:'Form'!$J$1000,MATCH($BD13,Form!$A$1:'Form'!$A$1000,0)+3,8))","v":""},"","","","","","",{"$f":"IF(BG13=\"\",\"\",INDEX(Form!$B$1:'Form'!$J$1000,MATCH($BD13,Form!$A$1:'Form'!$A$1000,0)+3,9))","v":""},"","","","","","","",{"$f":"IF(MainSheet!G27=\"\",\"\",IF(CF13=\"\",\"\",COUNT($CF$2:$CF$26)-(RANK(CF13,$CF$2:$CF$26,1)+COUNTIF($CF$2:CF13,CF13)-1)+1))","v":""},{"$f":"IF($BY13=\"\",\"\",IF(Tables!$F$3<>\"\",0,IF(ISNA(VLOOKUP(CG13,Tables!E$5:F$28,2,FALSE)),0,VLOOKUP(CG13,Tables!E$5:F$28,2,FALSE))))","v":""},{"$f":"IF(BG13=\"\",\"\",INDEX(Form!$B$1:'Form'!$J$1000,MATCH($BD13,Form!$A$1:'Form'!$A$1000,0)+5,4))","v":""},"","","","","","","",{"$f":"IF(BG13=\"\",\"\",IF(CI13=0,0,COUNT($CP$2:$CP$26)-(RANK(CP13,$CP$2:$CP$26,1)+COUNTIF($CP$2:CP13,CP13)-1)+1))","v":""},{"$f":"IF($CI13=\"\",\"\",IF(Tables!$H$3<>\"\",0,IF(ISNA(VLOOKUP(CQ13,Tables!G$5:H$28,2,FALSE)),0,VLOOKUP(CQ13,Tables!G$5:H$28,2,FALSE))))","v":""},{"$f":"IF(BG13=\"\",\"\",INDEX(Form!$B$1:'Form'!$J$1000,MATCH($BD13,Form!$A$1:'Form'!$A$1000,0)+5,5))","v":""},"","","","","","","",{"$f":"IF(BG13=\"\",\"\",IF(CS13=0,0,COUNT($CZ$2:$CZ$26)-(RANK(CZ13,$CZ$2:$CZ$26,1)+COUNTIF($CZ$2:CZ13,CZ13)-1)+1))","v":""},{"$f":"IF($CS13=\"\",\"\",IF(Tables!$J$3<>\"\",0,IF(Tables!$K$1=0,0,IF(ISNA(VLOOKUP(DA13,Tables!$I$5:$J$28,2,FALSE)),\"0\",VLOOKUP(DA13,Tables!$I$5:$J$28,2,FALSE)))))","v":""},"","","","","","","",{"$f":"IF(BG13=\"\",\"\",COUNT($DI$2:$DI$26)-(RANK(DI13,$DI$2:$DI$26,1)+COUNTIF($DI$2:DI13,DI13)-1)+1)","v":""},{"$f":"IF($BG13=\"\",\"\",IF(ISNA(VLOOKUP(DJ13,Tables!K$5:L$28,2,FALSE)),\"0\",VLOOKUP(DJ13,Tables!K$5:L$28,2,FALSE)))","v":""},"",{"$f":"IF(BG13=\"\",\"\",(DL13-Form!$I$4))","v":""},{"$f":"IF(BG13=\"\",\"\",COUNT($DM$2:$DM$26)-(RANK(DM13,$DM$2:$DM$26,1)+COUNTIF($DM$2:DM13,DM13)-1)+1)","v":""},{"$f":"IF($BG13=\"\",\"\",IF(ISERROR(DN13),1,IF(ISNA(VLOOKUP(DN13,Tables!M$5:N$28,2,FALSE)),\"0\",VLOOKUP(DN13,Tables!M$5:N$28,2,FALSE))))","v":""},"","","","",{"$f":"IF(MainSheet!$G27=\"\",\"\",IF(DS13=\"\",\"\",IF(ISERROR(DS13),\"\",ROUND(0+DS13/0.5,0)*0.5)))","v":""},"","","","","",{"$f":"IF(MainSheet!$G27=\"\",\"\",IF(DY13=\"\",\"\",IF(ISERROR(DY13),\"\",ROUND(0+DY13/0.5,0)*0.5)))","v":""},"","","","","",{"$f":"IF(MainSheet!$G27=\"\",\"\",IF(EE13=\"\",\"\",IF(ISERROR(EE13),\"\",ROUND(0+EE13/0.5,0)*0.5)))","v":""},"","",{"$f":"IF(BG13=\"\",\"\",COUNT($EH$2:$EH$26)-(RANK(EH13,$EH$2:$EH$26,1)+COUNTIF($EH$2:EH13,EH13)-1)+1)","v":""},{"$f":"IF($BG13=\"\",\"\",IF(ISNA(VLOOKUP(EI13,Tables!O$5:P$28,2,FALSE)),\"0\",VLOOKUP(EI13,Tables!O$5:P$28,2,FALSE)))","v":""},"","",{"$f":"IF(BG13=\"\",\"\",IF(EL13=0,0,COUNT($EL$2:$EL$26)-(RANK(EL13,$EL$2:$EL$26,1)+COUNTIF($EL$2:EL13,EL13)-1)+1))","v":""},{"$f":"IF($BG13=\"\",\"\",IF(ISNA(VLOOKUP(EM13,Tables!Q$5:R$26,2,FALSE)),\"0\",VLOOKUP(EM13,Tables!Q$5:R$26,2,FALSE)))","v":""},{"$f":"IF(BG13=\"\",\"\",Form!K17)","v":""},"","","","",{"$f":"IF(BG13=\"\",\"\",IF(ES13=0,0,COUNT($ES$2:$ES$26)-(RANK(ES13,$ES$2:$ES$26,1)+COUNTIF($ES$2:ES13,ES13)-1)+1))","v":""},{"$f":"IF($BG13=\"\",\"\",IF(ISERROR(ET13),0,IF(ISNA(VLOOKUP(ET13,Tables!S$5:T$26,2,FALSE)),\"0\",VLOOKUP(ET13,Tables!S$5:T$26,2,FALSE))))","v":""},{"$f":"IF(BF13=\"\",\"\",IF(MainSheet!D27=\"Scratched\",\"\",IF(ISERROR(BL13+BQ13+CH13+CR13+DB13+DK13+DO13+EJ13+EN13+EU13),\"\",BL13+BQ13+CH13+CR13+DB13+DK13+DO13+EJ13+EN13+EU13)))","v":""},"","",{"$f":"IF(EX13=\"\",\"\",COUNT($EX$2:$EX$26)-(RANK(EX13,$EX$2:$EX$26)+COUNTIF($EX$2:EX13,EX13)-1)+1)","v":""},"","","","",{"$f":"IF(FC13=\"\",\"\",IF(1/FC13*MainSheet!$R$11>100,100,1/FC13*MainSheet!$R$11))","v":""},null,"",{"$f":"IF(FF13=\"\",\"\",IF(1/FF13*MainSheet!$R$11>100,100,1/FF13*MainSheet!$R$11))","v":""}]
[{"$f":"IF(Meetings1!A14=\"\",\"\",IF(Meetings1!A14=\"END\",\"END\",IF(Meetings1!B14=\"\",\"\",getAddress(Meetings1!E14))))","v":"http://formguide.cyberhorse.com.au/Form/form.html?formdate=2012-05-14&track=Dubbo&raceno=4"},{"$nulls":11},{"$f":"IF(ISERROR(N14),\"\",IF(ISNA(VLOOKUP(N14,RaceList!$M$9:$O$41,3,FALSE)),\"\",VLOOKUP(N14,RaceList!$M$9:$O$41,3,FALSE)))","v":""},{"$f":"IF(O14=\"\",\"\",IF(Meetings2!$B14=\"\",\"\",Meetings2!$B14))","v":"ALBION PARK (BG)"},{"$f":"IF(Meetings2!D14=\"\",\"\",getAddress(Meetings2!D14))","v":"http://www.tabonline.com.au/2012/05/14/BG01.html"},{"$f":"IF(Meetings2!E14=\"\",\"\",getAddress(Meetings2!E14))","v":"http://www.tabonline.com.au/2012/05/14/BG02.html"},{"$f":"IF(Meetings2!F14=\"\",\"\",getAddress(Meetings2!F14))","v":"http://www.tabonline.com.au/2012/05/14/BG03.html"},{"$f":"IF(Meetings2!G14=\"\",\"\",getAddress(Meetings2!G14))","v":"http://www.tabonline.com.au/2012/05/14/BG04.html"},{"$f":"IF(Meetings2!H14=\"\",\"\",getAddress(Meetings2!H14))","v":"http://www.tabonline.com.au/2012/05/14/BG05.html"},{"$f":"IF(Meetings2!I14=\"\",\"\",getAddress(Meetings2!I14))","v":"http://www.tabonline.com.au/2012/05/14/BG06.html"},{"$f":"IF(Meetings2!J14=\"\",\"\",getAddress(Meetings2!J14))","v":"http://www.tabonline.com.au/2012/05/14/BG07.html"},{"$f":"IF(Meetings2!K14=\"\",\"\",getAddress(Meetings2!K14))","v":"http://www.tabonline.com.au/2012/05/14/BG08.html"},{"$f":"IF(Meetings2!L14=\"\",\"\",getAddress(Meetings2!L14))","v":"http://www.tabonline.com.au/2012/05/14/BG09.html"},{"$f":"IF(Meetings2!M14=\"\",\"\",getAddress(Meetings2!M14))","v":"http://www.tabonline.com.au/2012/05/14/BG10.html"},{"$f":"IF(Meetings2!AA14=\"\",\"\",getAddress(Meetings2!AA14))","v":""},{"$f":"IF(AA14=\"\",\"\",IF(AA14=\"Career::\",Form!A12,\"\"))","v":""},"1900-01-09",{"$nulls":20},6,"",{"$f":"IF(Race!J14<>\"\",Race!C14,\"\")","v":"NORTHERN SHIFT"},{"$f":"IF(AX14<>\"\",Race!N14,\"\")","v":92},{"$f":"IF(AX14<>\"\",Race!I14,\"\")","v":11},{"$f":"IF(AX14<>\"\",Race!L14,\"\")","v":"W"},null,"13  Remedia",{"$f":"IF(ISNUMBER(Form!J18),LEFT(Form!D18,FIND(\"(\",Form!D18)-2),\"\")","v":"Remedia"},null,{"$f":"IF(BD14=\"\",\"\",Form!B18)","v":13},3,{"$f":"IF(BG14=\"\",\"\",Form!G18)","v":56.5},{"$f":"IF($BG14=\"\",\"\",IF(MainSheet!G28=\"\",\"\",Form!H18))","v":1},0.999,{"$f":"IF(BG14=\"\",\"\",COUNT($BJ$2:$BJ$26)-(RANK(BJ14,$BJ$2:$BJ$26)+COUNTIF($BJ$2:BJ14,BJ14)-1)+1)","v":10},{"$f":"IF($BG14=\"\",\"\",IF(ISNA(VLOOKUP(BK14,Tables!A$5:B$28,2,FALSE)),0,VLOOKUP(BK14,Tables!A$5:B$28,2,FALSE)))","v":0},{"$f":"IF(BG14=\"\",\"\",Form!I18)","v":11.1},{"$f":"IF(BG14=\"\",\"\",Form!J18)","v":44.4},55.5,{"$f":"IF(BG14=\"\",\"\",COUNT($BO$2:$BO$26)-(RANK(BO14,$BO$2:$BO$26,1)+COUNTIF($BO$2:BO14,BO14)-1)+1)","v":1},{"$f":"IF($BG14=\"\",\"\",IF(ISNA(VLOOKUP(BP14,Tables!C$5:D$28,2,FALSE)),0,VLOOKUP(BP14,Tables!C$5:D$28,2,FALSE)))","v":10},{"$f":"IF(BG14=\"\",\"\",INDEX(Form!$B$1:'Form'!$J$1000,MATCH($BD14,Form!$A$1:'Form'!$A$1000,0)+3,8))","v":"18::2-2-5"},18,":2-2-5","2 2 5",2,"2 ","5",{"$f":"IF(BG14=\"\",\"\",INDEX(Form!$B$1:'Form'!$J$1000,MATCH($BD14,Form!$A$1:'Form'!$A$1000,0)+3,9))","v":"1::0-0-0"},1,":0-0-0","0 0 0",0,"0 ","0",13,{"$f":"IF(MainSheet!G28=\"\",\"\",IF(CF14=\"\",\"\",COUNT($CF$2:$CF$26)-(RANK(CF14,$CF$2:$CF$26,1)+COUNTIF($CF$2:CF14,CF14)-1)+1))","v":1},{"$f":"IF($BY14=\"\",\"\",IF(Tables!$F$3<>\"\",0,IF(ISNA(VLOOKUP(CG14,Tables!E$5:F$28,2,FALSE)),0,VLOOKUP(CG14,Tables!E$5:F$28,2,FALSE))))","v":10},{"$f":"IF(BG14=\"\",\"\",INDEX(Form!$B$1:'Form'!$J$1000,MATCH($BD14,Form!$A$1:'Form'!$A$1000,0)+5,4))","v":"4::0-2-1"},4,":0-2-1","0 2 1",0,"2 ","1",3,{"$f":"IF(BG14=\"\",\"\",IF(CI14=0,0,COUNT($CP$2:$CP$26)-(RANK(CP14,$CP$2:$CP$26,1)+COUNTIF($CP$2:CP14,CP14)-1)+1))","v":6},{"$f":"IF($CI14=\"\",\"\",IF(Tables!$H$3<>\"\",0,IF(ISNA(VLOOKUP(CQ14,Tables!G$5:H$28,2,FALSE)),0,VLOOKUP(CQ14,Tables!G$5:H$28,2,FALSE))))","v":0},{"$f":"IF(BG14=\"\",\"\",INDEX(Form!$B$1:'Form'!$J$1000,MATCH($BD14,Form!$A$1:'Form'!$A$1000,0)+5,5))","v":"1::0-0-0"},1,":0-0-0","0 0 0",0,0,0,0,{"$f":"IF(BG14=\"\",\"\",IF(CS14=0,0,COUNT($CZ$2:$CZ$26)-(RANK(CZ14,$CZ$2:$CZ$26,1)+COUNTIF($CZ$2:CZ14,CZ14)-1)+1))","v":7},{"$f":"IF($CS14=\"\",\"\",IF(Tables!$J$3<>\"\",0,IF(Tables!$K$1=0,0,IF(ISNA(VLOOKUP(DA14,Tables!$I$5:$J$28,2,FALSE)),\"0\",VLOOKUP(DA14,Tables!$I$5:$J$28,2,FALSE)))))","v":0},"2012-05-01",13,187,"2011-12-26",100,100,287,{"$f":"IF(BG14=\"\",\"\",COUNT($DI$2:$DI$26)-(RANK(DI14,$DI$2:$DI$26,1)+COUNTIF($DI$2:DI14,DI14)-1)+1)","v":9},{"$f":"IF($BG14=\"\",\"\",IF(ISNA(VLOOKUP(DJ14,Tables!K$5:L$28,2,FALSE)),\"0\",VLOOKUP(DJ14,Tables!K$5:L$28,2,FALSE)))","v":0},16000,{"$f":"IF(BG14=\"\",\"\",(DL14-Form!$I$4))","v":4000},{"$f":"IF(BG14=\"\",\"\",COUNT($DM$2:$DM$26)-(RANK(DM14,$DM$2:$DM$26,1)+COUNTIF($DM$2:DM14,DM14)-1)+1)","v":1},{"$f":"IF($BG14=\"\",\"\",IF(ISERROR(DN14),1,IF(ISNA(VLOOKUP(DN14,Tables!M$5:N$28,2,FALSE)),\"0\",VLOOKUP(DN14,Tables!M$5:N$28,2,FALSE))))","v":10},"3-7 2.8L",3,"2.8L","2.8",{"$f":"IF(MainSheet!$G28=\"\",\"\",IF(DS14=\"\",\"\",IF(ISERROR(DS14),\"\",ROUND(0+DS14/0.5,0)*0.5)))","v":3},97,"3-10 2.0L",3,"2.0L","2.0",{"$f":"IF(MainSheet!$G28=\"\",\"\",IF(DY14=\"\",\"\",IF(ISERROR(DY14),\"\",ROUND(0+DY14/0.5,0)*0.5)))","v":2},98,"5-10 6.9L",5,"6.9L","6.9",{"$f":"IF(MainSheet!$G28=\"\",\"\",IF(EE14=\"\",\"\",IF(ISERROR(EE14),\"\",ROUND(0+EE14/0.5,0)*0.5)))","v":7},93,288,{"$f":"IF(BG14=\"\",\"\",COUNT($EH$2:$EH$26)-(RANK(EH14,$EH$2:$EH$26,1)+COUNTIF($EH$2:EH14,EH14)-1)+1)","v":4},{"$f":"IF($BG14=\"\",\"\",IF(ISNA(VLOOKUP(EI14,Tables!O$5:P$28,2,FALSE)),\"0\",VLOOKUP(EI14,Tables!O$5:P$28,2,FALSE)))","v":4},97,97,{"$f":"IF(BG14=\"\",\"\",IF(EL14=0,0,COUNT($EL$2:$EL$26)-(RANK(EL14,$EL$2:$EL$26,1)+COUNTIF($EL$2:EL14,EL14)-1)+1))","v":1},{"$f":"IF($BG14=\"\",\"\",IF(ISNA(VLOOKUP(EM14,Tables!Q$5:R$26,2,FALSE)),\"0\",VLOOKUP(EM14,Tables!Q$5:R$26,2,FALSE)))","v":10},{"$f":"IF(BG14=\"\",\"\",Form!K18)","v":"14/1"},14,"1",15,485,{"$f":"IF(BG14=\"\",\"\",IF(ES14=0,0,COUNT($ES$2:$ES$26)-(RANK(ES14,$ES$2:$ES$26,1)+COUNTIF($ES$2:ES14,ES14)-1)+1))","v":13},{"$f":"IF($BG14=\"\",\"\",IF(ISERROR(ET14),0,IF(ISNA(VLOOKUP(ET14,Tables!S$5:T$26,2,FALSE)),\"0\",VLOOKUP(ET14,Tables!S$5:T$26,2,FALSE))))","v":0},{"$f":"IF(BF14=\"\",\"\",IF(MainSheet!D28=\"Scratched\",\"\",IF(ISERROR(BL14+BQ14+CH14+CR14+DB14+DK14+DO14+EJ14+EN14+EU14),\"\",BL14+BQ14+CH14+CR14+DB14+DK14+DO14+EJ14+EN14+EU14)))","v":44},42,72.94736842105263,{"$f":"IF(EX14=\"\",\"\",COUNT($EX$2:$EX$26)-(RANK(EX14,$EX$2:$EX$26)+COUNTIF($EX$2:EX14,EX14)-1)+1)","v":13},1,72.94736842105263,0.34655775962660446,0.34655775962660446,{"$f":"IF(FC14=\"\",\"\",IF(1/FC14*MainSheet!$R$11>100,100,1/FC14*MainSheet!$R$11))","v":2.4526936026936026},null,0.24048582995951417,{"$f":"IF(FF14=\"\",\"\",IF(1/FF14*MainSheet!$R$11>100,100,1/FF14*MainSheet!$R$11))","v":3.5345117845117846}]
[{"$f":"IF(Meetings1!A15=\"\",\"\",IF(Meetings1!A15=\"END\",\"END\",IF(Meetings1!B15=\"\",\"\",getAddress(Meetings1!E15))))","v":"http://formguide.cyberhorse.com.au/Form/form.html?formdate=2012-05-14&track=Dubbo&raceno=5"},{"$nulls":11},{"$f":"IF(ISERROR(N15),\"\",IF(ISNA(VLOOKUP(N15,RaceList!$M$9:$O$41,3,FALSE)),\"\",VLOOKUP(N15,RaceList!$M$9:$O$41,3,FALSE)))","v":""},{"$f":"IF(O15=\"\",\"\",IF(Meetings2!$B15=\"\",\"\",Meetings2!$B15))","v":"BULLI (SG)"},{"$f":"IF(Meetings2!D15=\"\",\"\",getAddress(Meetings2!D15))","v":"http://www.tabonline.com.au/2012/05/14/SG01.html"},{"$f":"IF(Meetings2!E15=\"\",\"\",getAddress(Meetings2!E15))","v":"http://www.tabonline.com.au/2012/05/14/SG02.html"},{"$f":"IF(Meetings2!F15=\"\",\"\",getAddress(Meetings2!F15))","v":"http://www.tabonline.com.au/2012/05/14/SG03.html"},{"$f":"IF(Meetings2!G15=\"\",\"\",getAddress(Meetings2!G15))","v":"http://www.tabonline.com.au/2012/05/14/SG04.html"},{"$f":"IF(Meetings2!H15=\"\",\"\",getAddress(Meetings2!H15))","v":"http://www.tabonline.com.au/2012/05/14/SG05.html"},{"$f":"IF(Meetings2!I15=\"\",\"\",getAddress(Meetings2!I15))","v":"http://www.tabonline.com.au/2012/05/14/SG06.html"},{"$f":"IF(Meetings2!J15=\"\",\"\",getAddress(Meetings2!J15))","v":"http://www.tabonline.com.au/2012/05/14/SG07.html"},{"$f":"IF(Meetings2!K15=\"\",\"\",getAddress(Meetings2!K15))","v":"http://www.tabonline.com.au/2012/05/14/SG08.html"},{"$f":"IF(Meetings2!L15=\"\",\"\",getAddress(Meetings2!L15))","v":"http://www.tabonline.com.au/2012/05/14/SG09.html"},{"$f":"IF(Meetings2!M15=\"\",\"\",getAddress(Meetings2!M15))","v":"http://www.tabonline.com.au/2012/05/14/SG10.html"},{"$f":"IF(Meetings2!AA15=\"\",\"\",getAddress(Meetings2!AA15))","v":""},{"$f":"IF(AA15=\"\",\"\",IF(AA15=\"Career::\",Form!A13,\"\"))","v":""},10,{"$nulls":20},6,"",{"$f":"IF(Race!J15<>\"\",Race!C15,\"\")","v":"ELITE EBONY"},{"$f":"IF(AX15<>\"\",Race!N15,\"\")","v":97},{"$f":"IF(AX15<>\"\",Race!I15,\"\")","v":1},{"$f":"IF(AX15<>\"\",Race!L15,\"\")","v":"DW"},null,"14  Dr Schimmell",{"$f":"IF(ISNUMBER(Form!J19),LEFT(Form!D19,FIND(\"(\",Form!D19)-2),\"\")","v":"Dr Schimmell"},null,{"$f":"IF(BD15=\"\",\"\",Form!B19)","v":14},14,{"$f":"IF(BG15=\"\",\"\",Form!G19)","v":58},{"$f":"IF($BG15=\"\",\"\",IF(MainSheet!G29=\"\",\"\",Form!H19))","v":1.2},0.99880000000000002,{"$f":"IF(BG15=\"\",\"\",COUNT($BJ$2:$BJ$26)-(RANK(BJ15,$BJ$2:$BJ$26)+COUNTIF($BJ$2:BJ15,BJ15)-1)+1)","v":8},{"$f":"IF($BG15=\"\",\"\",IF(ISNA(VLOOKUP(BK15,Tables!A$5:B$28,2,FALSE)),0,VLOOKUP(BK15,Tables!A$5:B$28,2,FALSE)))","v":0},{"$f":"IF(BG15=\"\",\"\",Form!I19)","v":9.3000000000000007},{"$f":"IF(BG15=\"\",\"\",Form!J19)","v":27.9},37.200000000000003,{"$f":"IF(BG15=\"\",\"\",COUNT($BO$2:$BO$26)-(RANK(BO15,$BO$2:$BO$26,1)+COUNTIF($BO$2:BO15,BO15)-1)+1)","v":10},{"$f":"IF($BG15=\"\",\"\",IF(ISNA(VLOOKUP(BP15,Tables!C$5:D$28,2,FALSE)),0,VLOOKUP(BP15,Tables!C$5:D$28,2,FALSE)))","v":0},{"$f":"IF(BG15=\"\",\"\",INDEX(Form!$B$1:'Form'!$J$1000,MATCH($BD15,Form!$A$1:'Form'!$A$1000,0)+3,8))","v":"15::1-2-3"},15,":1-2-3","1 2 3",1,"2 ","3",{"$f":"IF(BG15=\"\",\"\",INDEX(Form!$B$1:'Form'!$J$1000,MATCH($BD15,Form!$A$1:'Form'!$A$1000,0)+3,9))","v":"0::0-0-0"},0,":0-0-0","0 0 0",0,"0 ","0",8,{"$f":"IF(MainSheet!G29=\"\",\"\",IF(CF15=\"\",\"\",COUNT($CF$2:$CF$26)-(RANK(CF15,$CF$2:$CF$26,1)+COUNTIF($CF$2:CF15,CF15)-1)+1))","v":3},{"$f":"IF($BY15=\"\",\"\",IF(Tables!$F$3<>\"\",0,IF(ISNA(VLOOKUP(CG15,Tables!E$5:F$28,2,FALSE)),0,VLOOKUP(CG15,Tables!E$5:F$28,2,FALSE))))","v":6},{"$f":"IF(BG15=\"\",\"\",INDEX(Form!$B$1:'Form'!$J$1000,MATCH($BD15,Form!$A$1:'Form'!$A$1000,0)+5,4))","v":"8::1-1-0"},8,":1-1-0","1 1 0",1,"1 ","0",4,{"$f":"IF(BG15=\"\",\"\",IF(CI15=0,0,COUNT($CP$2:$CP$26)-(RANK(CP15,$CP$2:$CP$26,1)+COUNTIF($CP$2:CP15,CP15)-1)+1))","v":3},{"$f":"IF($CI15=\"\",\"\",IF(Tables!$H$3<>\"\",0,IF(ISNA(VLOOKUP(CQ15,Tables!G$5:H$28,2,FALSE)),0,VLOOKUP(CQ15,Tables!G$5:H$28,2,FALSE))))","v":0},{"$f":"IF(BG15=\"\",\"\",INDEX(Form!$B$1:'Form'!$J$1000,MATCH($BD15,Form!$A$1:'Form'!$A$1000,0)+5,5))","v":"5::0-0-1"},5,":0-0-1","0 0 1",0,0,1,1,{"$f":"IF(BG15=\"\",\"\",IF(CS15=0,0,COUNT($CZ$2:$CZ$26)-(RANK(CZ15,$CZ$2:$CZ$26,1)+COUNTIF($CZ$2:CZ15,CZ15)-1)+1))","v":4},{"$f":"IF($CS15=\"\",\"\",IF(Tables!$J$3<>\"\",0,IF(Tables!$K$1=0,0,IF(ISNA(VLOOKUP(DA15,Tables!$I$5:$J$28,2,FALSE)),\"0\",VLOOKUP(DA15,Tables!$I$5:$J$28,2,FALSE)))))","v":0},"2012-04-21",23,177,"2011-12-11",100,100,277,{"$f":"IF(BG15=\"\",\"\",COUNT($DI$2:$DI$26)-(RANK(DI15,$DI$2:$DI$26,1)+COUNTIF($DI$2:DI15,DI15)-1)+1)","v":10},{"$f":"IF($BG15=\"\",\"\",IF(ISNA(VLOOKUP(DJ15,Tables!K$5:L$28,2,FALSE)),\"0\",VLOOKUP(DJ15,Tables!K$5:L$28,2,FALSE)))","v":0},12000,{"$f":"IF(BG15=\"\",\"\",(DL15-Form!$I$4))","v":0},{"$f":"IF(BG15=\"\",\"\",COUNT($DM$2:$DM$26)-(RANK(DM15,$DM$2:$DM$26,1)+COUNTIF($DM$2:DM15,DM15)-1)+1)","v":3},{"$f":"IF($BG15=\"\",\"\",IF(ISERROR(DN15),1,IF(ISNA(VLOOKUP(DN15,Tables!M$5:N$28,2,FALSE)),\"0\",VLOOKUP(DN15,Tables!M$5:N$28,2,FALSE))))","v":6},"6-16 2.3L",6,"2.3L","2.3",{"$f":"IF(MainSheet!$G29=\"\",\"\",IF(DS15=\"\",\"\",IF(ISERROR(DS15),\"\",ROUND(0+DS15/0.5,0)*0.5)))","v":2.5},97.5,"6-9 8.3L",6,"8.3L","8.3",{"$f":"IF(MainSheet!$G29=\"\",\"\",IF(DY15=\"\",\"\",IF(ISERROR(DY15),\"\",ROUND(0+DY15/0.5,0)*0.5)))","v":8.5},91.5,"5-12 7.3L",5,"7.3L","7.3",{"$f":"IF(MainSheet!$G29=\"\",\"\",IF(EE15=\"\",\"\",IF(ISERROR(EE15),\"\",ROUND(0+EE15/0.5,0)*0.5)))","v":7.5},92.5,281.5,{"$f":"IF(BG15=\"\",\"\",COUNT($EH$2:$EH$26)-(RANK(EH15,$EH$2:$EH$26,1)+COUNTIF($EH$2:EH15,EH15)-1)+1)","v":9},{"$f":"IF($BG15=\"\",\"\",IF(ISNA(VLOOKUP(EI15,Tables!O$5:P$28,2,FALSE)),\"0\",VLOOKUP(EI15,Tables!O$5:P$28,2,FALSE)))","v":0},91,91,{"$f":"IF(BG15=\"\",\"\",IF(EL15=0,0,COUNT($EL$2:$EL$26)-(RANK(EL15,$EL$2:$EL$26,1)+COUNTIF($EL$2:EL15,EL15)-1)+1))","v":13},{"$f":"IF($BG15=\"\",\"\",IF(ISNA(VLOOKUP(EM15,Tables!Q$5:R$26,2,FALSE)),\"0\",VLOOKUP(EM15,Tables!Q$5:R$26,2,FALSE)))","v":0},{"$f":"IF(BG15=\"\",\"\",Form!K19)","v":"14/1"},14,"1",15,485,{"$f":"IF(BG15=\"\",\"\",IF(ES15=0,0,COUNT($ES$2:$ES$26)-(RANK(ES15,$ES$2:$ES$26,1)+COUNTIF($ES$2:ES15,ES15)-1)+1))","v":12},{"$f":"IF($BG15=\"\",\"\",IF(ISERROR(ET15),0,IF(ISNA(VLOOKUP(ET15,Tables!S$5:T$26,2,FALSE)),\"0\",VLOOKUP(ET15,Tables!S$5:T$26,2,FALSE))))","v":0},{"$f":"IF(BF15=\"\",\"\",IF(MainSheet!D29=\"Scratched\",\"\",IF(ISERROR(BL15+BQ15+CH15+CR15+DB15+DK15+DO15+EJ15+EN15+EU15),\"\",BL15+BQ15+CH15+CR15+DB15+DK15+DO15+EJ15+EN15+EU15)))","v":12},10,11.754385964912281,{"$f":"IF(EX15=\"\",\"\",COUNT($EX$2:$EX$26)-(RANK(EX15,$EX$2:$EX$26)+COUNTIF($EX$2:EX15,EX15)-1)+1)","v":5},9,"","",3.8750722961249283E-2,{"$f":"IF(FC15=\"\",\"\",IF(1/FC15*MainSheet!$R$11>100,100,1/FC15*MainSheet!$R$11))","v":21.935074626865667},null,3.8750722961249283E-2,{"$f":"IF(FF15=\"\",\"\",IF(1/FF15*MainSheet!$R$11>100,100,1/FF15*MainSheet!$R$11))","v":21.935074626865667}]
[{"$f":"IF(Meetings1!A16=\"\",\"\",IF(Meetings1!A16=\"END\",\"END\",IF(Meetings1!B16=\"\",\"\",getAddress(Meetings1!E16))))","v":"http://formguide.cyberhorse.com.au/Form/form.html?formdate=2012-05-14&track=Dubbo&raceno=6"},{"$nulls":11},{"$f":"IF(ISERROR(N16),\"\",IF(ISNA(VLOOKUP(N16,RaceList!$M$9:$O$41,3,FALSE)),\"\",VLOOKUP(N16,RaceList!$M$9:$O$41,3,FALSE)))","v":""},{"$f":"IF(O16=\"\",\"\",IF(Meetings2!$B16=\"\",\"\",Meetings2!$B16))","v":"SANDOWN PARK (MG)"},{"$f":"IF(Meetings2!D16=\"\",\"\",getAddress(Meetings2!D16))","v":"http://www.tabonline.com.au/2012/05/14/MG01.html"},{"$f":"IF(Meetings2!E16=\"\",\"\",getAddress(Meetings2!E16))","v":"http://www.tabonline.com.au/2012/05/14/MG02.html"},{"$f":"IF(Meetings2!F16=\"\",\"\",getAddress(Meetings2!F16))","v":"http://www.tabonline.com.au/2012/05/14/MG03.html"},{"$f":"IF(Meetings2!G16=\"\",\"\",getAddress(Meetings2!G16))","v":"http://www.tabonline.com.au/2012/05/14/MG04.html"},{"$f":"IF(Meetings2!H16=\"\",\"\",getAddress(Meetings2!H16))","v":"http://www.tabonline.com.au/2012/05/14/MG05.html"},{"$f":"IF(Meetings2!I16=\"\",\"\",getAddress(Meetings2!I16))","v":"http://www.tabonline.com.au/2012/05/14/MG06.html"},{"$f":"IF(Meetings2!J16=\"\",\"\",getAddress(Meetings2!J16))","v":"http://www.tabonline.com.au/2012/05/14/MG07.html"},{"$f":"IF(Meetings2!K16=\"\",\"\",getAddress(Meetings2!K16))","v":"http://www.tabonline.com.au/2012/05/14/MG08.html"},{"$f":"IF(Meetings2!L16=\"\",\"\",getAddress(Meetings2!L16))","v":"http://www.tabonline.com.au/2012/05/14/MG09.html"},{"$f":"IF(Meetings2!M16=\"\",\"\",getAddress(Meetings2!M16))","v":"http://www.tabonline.com.au/2012/05/14/MG10.html"},{"$f":"IF(Meetings2!AA16=\"\",\"\",getAddress(Meetings2!AA16))","v":""},{"$f":"IF(AA16=\"\",\"\",IF(AA16=\"Career::\",Form!A14,\"\"))","v":""},"1900-01-11",{"$nulls":20},5,"",{"$f":"IF(Race!J16<>\"\",Race!C16,\"\")","v":"HOAKSTESS"},{"$f":"IF(AX16<>\"\",Race!N16,\"\")","v":96},{"$f":"IF(AX16<>\"\",Race!I16,\"\")","v":4},{"$f":"IF(AX16<>\"\",Race!L16,\"\")","v":"W"},null,"15  Glory Man",{"$f":"IF(ISNUMBER(Form!J20),LEFT(Form!D20,FIND(\"(\",Form!D20)-2),\"\")","v":"Glory Man"},null,{"$f":"IF(BD16=\"\",\"\",Form!B20)","v":15},"",{"$f":"IF(BG16=\"\",\"\",Form!G20)","v":""},{"$f":"IF($BG16=\"\",\"\",IF(MainSheet!G30=\"\",\"\",Form!H20))","v":""},"",{"$f":"IF(BG16=\"\",\"\",COUNT($BJ$2:$BJ$26)-(RANK(BJ16,$BJ$2:$BJ$26)+COUNTIF($BJ$2:BJ16,BJ16)-1)+1)","v":""},{"$f":"IF($BG16=\"\",\"\",IF(ISNA(VLOOKUP(BK16,Tables!A$5:B$28,2,FALSE)),0,VLOOKUP(BK16,Tables!A$5:B$28,2,FALSE)))","v":""},{"$f":"IF(BG16=\"\",\"\",Form!I20)","v":""},{"$f":"IF(BG16=\"\",\"\",Form!J20)","v":""},"",{"$f":"IF(BG16=\"\",\"\",COUNT($BO$2:$BO$26)-(RANK(BO16,$BO$2:$BO$26,1)+COUNTIF($BO$2:BO16,BO16)-1)+1)","v":""},{"$f":"IF($BG16=\"\",\"\",IF(ISNA(VLOOKUP(BP16,Tables!C$5:D$28,2,FALSE)),0,VLOOKUP(BP16,Tables!C$5:D$28,2,FALSE)))","v":""},{"$f":"IF(BG16=\"\",\"\",INDEX(Form!$B$1:'Form'!$J$1000,MATCH($BD16,Form!$A$1:'Form'!$A$1000,0)+3,8))","v":""},"","","","","","",{"$f":"IF(BG16=\"\",\"\",INDEX(Form!$B$1:'Form'!$J$1000,MATCH($BD16,Form!$A$1:'Form'!$A$1000,0)+3,9))","v":""},"","","","","","","",{"$f":"IF(MainSheet!G30=\"\",\"\",IF(CF16=\"\",\"\",COUNT($CF$2:$CF$26)-(RANK(CF16,$CF$2:$CF$26,1)+COUNTIF($CF$2:CF16,CF16)-1)+1))","v":""},{"$f":"IF($BY16=\"\",\"\",IF(Tables!$F$3<>\"\",0,IF(ISNA(VLOOKUP(CG16,Tables!E$5:F$28,2,FALSE)),0,VLOOKUP(CG16,Tables!E$5:F$28,2,FALSE))))","v":""},{"$f":"IF(BG16=\"\",\"\",INDEX(Form!$B$1:'Form'!$J$1000,MATCH($BD16,Form!$A$1:'Form'!$A$1000,0)+5,4))","v":""},"","","","","","","",{"$f":"IF(BG16=\"\",\"\",IF(CI16=0,0,COUNT($CP$2:$CP$26)-(RANK(CP16,$CP$2:$CP$26,1)+COUNTIF($CP$2:CP16,CP16)-1)+1))","v":""},{"$f":"IF($CI16=\"\",\"\",IF(Tables!$H$3<>\"\",0,IF(ISNA(VLOOKUP(CQ16,Tables!G$5:H$28,2,FALSE)),0,VLOOKUP(CQ16,Tables!G$5:H$28,2,FALSE))))","v":""},{"$f":"IF(BG16=\"\",\"\",INDEX(Form!$B$1:'Form'!$J$1000,MATCH($BD16,Form!$A$1:'Form'!$A$1000,0)+5,5))","v":""},"","","","","","","",{"$f":"IF(BG16=\"\",\"\",IF(CS16=0,0,COUNT($CZ$2:$CZ$26)-(RANK(CZ16,$CZ$2:$CZ$26,1)+COUNTIF($CZ$2:CZ16,CZ16)-1)+1))","v":""},{"$f":"IF($CS16=\"\",\"\",IF(Tables!$J$3<>\"\",0,IF(Tables!$K$1=0,0,IF(ISNA(VLOOKUP(DA16,Tables!$I$5:$J$28,2,FALSE)),\"0\",VLOOKUP(DA16,Tables!$I$5:$J$28,2,FALSE)))))","v":""},"","","","","","","",{"$f":"IF(BG16=\"\",\"\",COUNT($DI$2:$DI$26)-(RANK(DI16,$DI$2:$DI$26,1)+COUNTIF($DI$2:DI16,DI16)-1)+1)","v":""},{"$f":"IF($BG16=\"\",\"\",IF(ISNA(VLOOKUP(DJ16,Tables!K$5:L$28,2,FALSE)),\"0\",VLOOKUP(DJ16,Tables!K$5:L$28,2,FALSE)))","v":""},"",{"$f":"IF(BG16=\"\",\"\",(DL16-Form!$I$4))","v":""},{"$f":"IF(BG16=\"\",\"\",COUNT($DM$2:$DM$26)-(RANK(DM16,$DM$2:$DM$26,1)+COUNTIF($DM$2:DM16,DM16)-1)+1)","v":""},{"$f":"IF($BG16=\"\",\"\",IF(ISERROR(DN16),1,IF(ISNA(VLOOKUP(DN16,Tables!M$5:N$28,2,FALSE)),\"0\",VLOOKUP(DN16,Tables!M$5:N$28,2,FALSE))))","v":""},"","","","",{"$f":"IF(MainSheet!$G30=\"\",\"\",IF(DS16=\"\",\"\",IF(ISERROR(DS16),\"\",ROUND(0+DS16/0.5,0)*0.5)))","v":""},"","","","","",{"$f":"IF(MainSheet!$G30=\"\",\"\",IF(DY16=\"\",\"\",IF(ISERROR(DY16),\"\",ROUND(0+DY16/0.5,0)*0.5)))","v":""},"","","","","",{"$f":"IF(MainSheet!$G30=\"\",\"\",IF(EE16=\"\",\"\",IF(ISERROR(EE16),\"\",ROUND(0+EE16/0.5,0)*0.5)))","v":""},"","",{"$f":"IF(BG16=\"\",\"\",COUNT($EH$2:$EH$26)-(RANK(EH16,$EH$2:$EH$26,1)+COUNTIF($EH$2:EH16,EH16)-1)+1)","v":""},{"$f":"IF($BG16=\"\",\"\",IF(ISNA(VLOOKUP(EI16,Tables!O$5:P$28,2,FALSE)),\"0\",VLOOKUP(EI16,Tables!O$5:P$28,2,FALSE)))","v":""},"","",{"$f":"IF(BG16=\"\",\"\",IF(EL16=0,0,COUNT($EL$2:$EL$26)-(RANK(EL16,$EL$2:$EL$26,1)+COUNTIF($EL$2:EL16,EL16)-1)+1))","v":""},{"$f":"IF($BG16=\"\",\"\",IF(ISNA(VLOOKUP(EM16,Tables!Q$5:R$26,2,FALSE)),\"0\",VLOOKUP(EM16,Tables!Q$5:R$26,2,FALSE)))","v":""},{"$f":"IF(BG16=\"\",\"\",Form!K20)","v":""},"","","","",{"$f":"IF(BG16=\"\",\"\",IF(ES16=0,0,COUNT($ES$2:$ES$26)-(RANK(ES16,$ES$2:$ES$26,1)+COUNTIF($ES$2:ES16,ES16)-1)+1))","v":""},{"$f":"IF($BG16=\"\",\"\",IF(ISERROR(ET16),0,IF(ISNA(VLOOKUP(ET16,Tables!S$5:T$26,2,FALSE)),\"0\",VLOOKUP(ET16,Tables!S$5:T$26,2,FALSE))))","v":""},{"$f":"IF(BF16=\"\",\"\",IF(MainSheet!D30=\"Scratched\",\"\",IF(ISERROR(BL16+BQ16+CH16+CR16+DB16+DK16+DO16+EJ16+EN16+EU16),\"\",BL16+BQ16+CH16+CR16+DB16+DK16+DO16+EJ16+EN16+EU16)))","v":""},"","",{"$f":"IF(EX16=\"\",\"\",COUNT($EX$2:$EX$26)-(RANK(EX16,$EX$2:$EX$26)+COUNTIF($EX$2:EX16,EX16)-1)+1)","v":""},"","","","",{"$f":"IF(FC16=\"\",\"\",IF(1/FC16*MainSheet!$R$11>100,100,1/FC16*MainSheet!$R$11))","v":""},null,"",{"$f":"IF(FF16=\"\",\"\",IF(1/FF16*MainSheet!$R$11>100,100,1/FF16*MainSheet!$R$11))","v":""}]
[{"$f":"IF(Meetings1!A17=\"\",\"\",IF(Meetings1!A17=\"END\",\"END\",IF(Meetings1!B17=\"\",\"\",getAddress(Meetings1!E17))))","v":"http://formguide.cyberhorse.com.au/Form/form.html?formdate=2012-05-14&track=Dubbo&raceno=7"},{"$nulls":11},{"$f":"IF(ISERROR(N17),\"\",IF(ISNA(VLOOKUP(N17,RaceList!$M$9:$O$41,3,FALSE)),\"\",VLOOKUP(N17,RaceList!$M$9:$O$41,3,FALSE)))","v":""},{"$f":"IF(O17=\"\",\"\",IF(Meetings2!$B17=\"\",\"\",Meetings2!$B17))","v":"BATHURST (NG)"},{"$f":"IF(Meetings2!D17=\"\",\"\",getAddress(Meetings2!D17))","v":"http://www.tabonline.com.au/2012/05/14/NG01.html"},{"$f":"IF(Meetings2!E17=\"\",\"\",getAddress(Meetings2!E17))","v":"http://www.tabonline.com.au/2012/05/14/NG02.html"},{"$f":"IF(Meetings2!F17=\"\",\"\",getAddress(Meetings2!F17))","v":"http://www.tabonline.com.au/2012/05/14/NG03.html"},{"$f":"IF(Meetings2!G17=\"\",\"\",getAddress(Meetings2!G17))","v":"http://www.tabonline.com.au/2012/05/14/NG04.html"},{"$f":"IF(Meetings2!H17=\"\",\"\",getAddress(Meetings2!H17))","v":"http://www.tabonline.com.au/2012/05/14/NG05.html"},{"$f":"IF(Meetings2!I17=\"\",\"\",getAddress(Meetings2!I17))","v":"http://www.tabonline.com.au/2012/05/14/NG06.html"},{"$f":"IF(Meetings2!J17=\"\",\"\",getAddress(Meetings2!J17))","v":"http://www.tabonline.com.au/2012/05/14/NG07.html"},{"$f":"IF(Meetings2!K17=\"\",\"\",getAddress(Meetings2!K17))","v":"http://www.tabonline.com.au/2012/05/14/NG08.html"},{"$f":"IF(Meetings2!L17=\"\",\"\",getAddress(Meetings2!L17))","v":"http://www.tabonline.com.au/2012/05/14/NG09.html"},{"$f":"IF(Meetings2!M17=\"\",\"\",getAddress(Meetings2!M17))","v":"http://www.tabonline.com.au/2012/05/14/NG10.html"},{"$f":"IF(Meetings2!AA17=\"\",\"\",getAddress(Meetings2!AA17))","v":""},{"$f":"IF(AA17=\"\",\"\",IF(AA17=\"Career::\",Form!A15,\"\"))","v":""},"1900-01-12",{"$nulls":20},5,"",{"$f":"IF(Race!J17<>\"\",Race!C17,\"\")","v":"MIDNIGHT PEARL"},{"$f":"IF(AX17<>\"\",Race!N17,\"\")","v":93},{"$f":"IF(AX17<>\"\",Race!I17,\"\")","v":5},{"$f":"IF(AX17<>\"\",Race!L17,\"\")","v":"WT"},null,"16  Lost Chord",{"$f":"IF(ISNUMBER(Form!J21),LEFT(Form!D21,FIND(\"(\",Form!D21)-2),\"\")","v":"Lost Chord"},null,{"$f":"IF(BD17=\"\",\"\",Form!B21)","v":16},"",{"$f":"IF(BG17=\"\",\"\",Form!G21)","v":""},{"$f":"IF($BG17=\"\",\"\",IF(MainSheet!G31=\"\",\"\",Form!H21))","v":""},"",{"$f":"IF(BG17=\"\",\"\",COUNT($BJ$2:$BJ$26)-(RANK(BJ17,$BJ$2:$BJ$26)+COUNTIF($BJ$2:BJ17,BJ17)-1)+1)","v":""},{"$f":"IF($BG17=\"\",\"\",IF(ISNA(VLOOKUP(BK17,Tables!A$5:B$28,2,FALSE)),0,VLOOKUP(BK17,Tables!A$5:B$28,2,FALSE)))","v":""},{"$f":"IF(BG17=\"\",\"\",Form!I21)","v":""},{"$f":"IF(BG17=\"\",\"\",Form!J21)","v":""},"",{"$f":"IF(BG17=\"\",\"\",COUNT($BO$2:$BO$26)-(RANK(BO17,$BO$2:$BO$26,1)+COUNTIF($BO$2:BO17,BO17)-1)+1)","v":""},{"$f":"IF($BG17=\"\",\"\",IF(ISNA(VLOOKUP(BP17,Tables!C$5:D$28,2,FALSE)),0,VLOOKUP(BP17,Tables!C$5:D$28,2,FALSE)))","v":""},{"$f":"IF(BG17=\"\",\"\",INDEX(Form!$B$1:'Form'!$J$1000,MATCH($BD17,Form!$A$1:'Form'!$A$1000,0)+3,8))","v":""},"","","","","","",{"$f":"IF(BG17=\"\",\"\",INDEX(Form!$B$1:'Form'!$J$1000,MATCH($BD17,Form!$A$1:'Form'!$A$1000,0)+3,9))","v":""},"","","","","","","",{"$f":"IF(MainSheet!G31=\"\",\"\",IF(CF17=\"\",\"\",COUNT($CF$2:$CF$26)-(RANK(CF17,$CF$2:$CF$26,1)+COUNTIF($CF$2:CF17,CF17)-1)+1))","v":""},{"$f":"IF($BY17=\"\",\"\",IF(Tables!$F$3<>\"\",0,IF(ISNA(VLOOKUP(CG17,Tables!E$5:F$28,2,FALSE)),0,VLOOKUP(CG17,Tables!E$5:F$28,2,FALSE))))","v":""},{"$f":"IF(BG17=\"\",\"\",INDEX(Form!$B$1:'Form'!$J$1000,MATCH($BD17,Form!$A$1:'Form'!$A$1000,0)+5,4))","v":""},"","","","","","","",{"$f":"IF(BG17=\"\",\"\",IF(CI17=0,0,COUNT($CP$2:$CP$26)-(RANK(CP17,$CP$2:$CP$26,1)+COUNTIF($CP$2:CP17,CP17)-1)+1))","v":""},{"$f":"IF($CI17=\"\",\"\",IF(Tables!$H$3<>\"\",0,IF(ISNA(VLOOKUP(CQ17,Tables!G$5:H$28,2,FALSE)),0,VLOOKUP(CQ17,Tables!G$5:H$28,2,FALSE))))","v":""},{"$f":"IF(BG17=\"\",\"\",INDEX(Form!$B$1:'Form'!$J$1000,MATCH($BD17,Form!$A$1:'Form'!$A$1000,0)+5,5))","v":""},"","","","","","","",{"$f":"IF(BG17=\"\",\"\",IF(CS17=0,0,COUNT($CZ$2:$CZ$26)-(RANK(CZ17,$CZ$2:$CZ$26,1)+COUNTIF($CZ$2:CZ17,CZ17)-1)+1))","v":""},{"$f":"IF($CS17=\"\",\"\",IF(Tables!$J$3<>\"\",0,IF(Tables!$K$1=0,0,IF(ISNA(VLOOKUP(DA17,Tables!$I$5:$J$28,2,FALSE)),\"0\",VLOOKUP(DA17,Tables!$I$5:$J$28,2,FALSE)))))","v":""},"","","","","","","",{"$f":"IF(BG17=\"\",\"\",COUNT($DI$2:$DI$26)-(RANK(DI17,$DI$2:$DI$26,1)+COUNTIF($DI$2:DI17,DI17)-1)+1)","v":""},{"$f":"IF($BG17=\"\",\"\",IF(ISNA(VLOOKUP(DJ17,Tables!K$5:L$28,2,FALSE)),\"0\",VLOOKUP(DJ17,Tables!K$5:L$28,2,FALSE)))","v":""},"",{"$f":"IF(BG17=\"\",\"\",(DL17-Form!$I$4))","v":""},{"$f":"IF(BG17=\"\",\"\",COUNT($DM$2:$DM$26)-(RANK(DM17,$DM$2:$DM$26,1)+COUNTIF($DM$2:DM17,DM17)-1)+1)","v":""},{"$f":"IF($BG17=\"\",\"\",IF(ISERROR(DN17),1,IF(ISNA(VLOOKUP(DN17,Tables!M$5:N$28,2,FALSE)),\"0\",VLOOKUP(DN17,Tables!M$5:N$28,2,FALSE))))","v":""},"","","","",{"$f":"IF(MainSheet!$G31=\"\",\"\",IF(DS17=\"\",\"\",IF(ISERROR(DS17),\"\",ROUND(0+DS17/0.5,0)*0.5)))","v":""},"","","","","",{"$f":"IF(MainSheet!$G31=\"\",\"\",IF(DY17=\"\",\"\",IF(ISERROR(DY17),\"\",ROUND(0+DY17/0.5,0)*0.5)))","v":""},"","","","","",{"$f":"IF(MainSheet!$G31=\"\",\"\",IF(EE17=\"\",\"\",IF(ISERROR(EE17),\"\",ROUND(0+EE17/0.5,0)*0.5)))","v":""},"","",{"$f":"IF(BG17=\"\",\"\",COUNT($EH$2:$EH$26)-(RANK(EH17,$EH$2:$EH$26,1)+COUNTIF($EH$2:EH17,EH17)-1)+1)","v":""},{"$f":"IF($BG17=\"\",\"\",IF(ISNA(VLOOKUP(EI17,Tables!O$5:P$28,2,FALSE)),\"0\",VLOOKUP(EI17,Tables!O$5:P$28,2,FALSE)))","v":""},"","",{"$f":"IF(BG17=\"\",\"\",IF(EL17=0,0,COUNT($EL$2:$EL$26)-(RANK(EL17,$EL$2:$EL$26,1)+COUNTIF($EL$2:EL17,EL17)-1)+1))","v":""},{"$f":"IF($BG17=\"\",\"\",IF(ISNA(VLOOKUP(EM17,Tables!Q$5:R$26,2,FALSE)),\"0\",VLOOKUP(EM17,Tables!Q$5:R$26,2,FALSE)))","v":""},{"$f":"IF(BG17=\"\",\"\",Form!K21)","v":""},"","","","",{"$f":"IF(BG17=\"\",\"\",IF(ES17=0,0,COUNT($ES$2:$ES$26)-(RANK(ES17,$ES$2:$ES$26,1)+COUNTIF($ES$2:ES17,ES17)-1)+1))","v":""},{"$f":"IF($BG17=\"\",\"\",IF(ISERROR(ET17),0,IF(ISNA(VLOOKUP(ET17,Tables!S$5:T$26,2,FALSE)),\"0\",VLOOKUP(ET17,Tables!S$5:T$26,2,FALSE))))","v":""},{"$f":"IF(BF17=\"\",\"\",IF(MainSheet!D31=\"Scratched\",\"\",IF(ISERROR(BL17+BQ17+CH17+CR17+DB17+DK17+DO17+EJ17+EN17+EU17),\"\",BL17+BQ17+CH17+CR17+DB17+DK17+DO17+EJ17+EN17+EU17)))","v":""},"","",{"$f":"IF(EX17=\"\",\"\",COUNT($EX$2:$EX$26)-(RANK(EX17,$EX$2:$EX$26)+COUNTIF($EX$2:EX17,EX17)-1)+1)","v":""},"","","","",{"$f":"IF(FC17=\"\",\"\",IF(1/FC17*MainSheet!$R$11>100,100,1/FC17*MainSheet!$R$11))","v":""},null,"",{"$f":"IF(FF17=\"\",\"\",IF(1/FF17*MainSheet!$R$11>100,100,1/FF17*MainSheet!$R$11))","v":""}]
[{"$f":"IF(Meetings1!A18=\"\",\"\",IF(Meetings1!A18=\"END\",\"END\",IF(Meetings1!B18=\"\",\"\",getAddress(Meetings1!E18))))","v":""},{"$nulls":11},{"$f":"IF(ISERROR(N18),\"\",IF(ISNA(VLOOKUP(N18,RaceList!$M$9:$O$41,3,FALSE)),\"\",VLOOKUP(N18,RaceList!$M$9:$O$41,3,FALSE)))","v":""},{"$f":"IF(O18=\"\",\"\",IF(Meetings2!$B18=\"\",\"\",Meetings2!$B18))","v":"SHEPPARTON (VG)"},{"$f":"IF(Meetings2!D18=\"\",\"\",getAddress(Meetings2!D18))","v":"http://www.tabonline.com.au/2012/05/14/VG01.html"},{"$f":"IF(Meetings2!E18=\"\",\"\",getAddress(Meetings2!E18))","v":"http://www.tabonline.com.au/2012/05/14/VG02.html"},{"$f":"IF(Meetings2!F18=\"\",\"\",getAddress(Meetings2!F18))","v":"http://www.tabonline.com.au/2012/05/14/VG03.html"},{"$f":"IF(Meetings2!G18=\"\",\"\",getAddress(Meetings2!G18))","v":"http://www.tabonline.com.au/2012/05/14/VG04.html"},{"$f":"IF(Meetings2!H18=\"\",\"\",getAddress(Meetings2!H18))","v":"http://www.tabonline.com.au/2012/05/14/VG05.html"},{"$f":"IF(Meetings2!I18=\"\",\"\",getAddress(Meetings2!I18))","v":"http://www.tabonline.com.au/2012/05/14/VG06.html"},{"$f":"IF(Meetings2!J18=\"\",\"\",getAddress(Meetings2!J18))","v":"http://www.tabonline.com.au/2012/05/14/VG07.html"},{"$f":"IF(Meetings2!K18=\"\",\"\",getAddress(Meetings2!K18))","v":"http://www.tabonline.com.au/2012/05/14/VG08.html"},{"$f":"IF(Meetings2!L18=\"\",\"\",getAddress(Meetings2!L18))","v":"http://www.tabonline.com.au/2012/05/14/VG09.html"},{"$f":"IF(Meetings2!M18=\"\",\"\",getAddress(Meetings2!M18))","v":"http://www.tabonline.com.au/2012/05/14/VG10.html"},{"$f":"IF(Meetings2!AA18=\"\",\"\",getAddress(Meetings2!AA18))","v":""},{"$f":"IF(AA18=\"\",\"\",IF(AA18=\"Career::\",Form!A16,\"\"))","v":""},"1900-01-13",{"$nulls":20},5,"",{"$f":"IF(Race!J18<>\"\",Race!C18,\"\")","v":""},{"$f":"IF(AX18<>\"\",Race!N18,\"\")","v":""},{"$f":"IF(AX18<>\"\",Race!I18,\"\")","v":""},{"$f":"IF(AX18<>\"\",Race!L18,\"\")","v":""},null,"17  Rulesto",{"$f":"IF(ISNUMBER(Form!J22),LEFT(Form!D22,FIND(\"(\",Form!D22)-2),\"\")","v":"Rulesto"},null,{"$f":"IF(BD18=\"\",\"\",Form!B22)","v":17},"",{"$f":"IF(BG18=\"\",\"\",Form!G22)","v":""},{"$f":"IF($BG18=\"\",\"\",IF(MainSheet!G32=\"\",\"\",Form!H22))","v":""},"",{"$f":"IF(BG18=\"\",\"\",COUNT($BJ$2:$BJ$26)-(RANK(BJ18,$BJ$2:$BJ$26)+COUNTIF($BJ$2:BJ18,BJ18)-1)+1)","v":""},{"$f":"IF($BG18=\"\",\"\",IF(ISNA(VLOOKUP(BK18,Tables!A$5:B$28,2,FALSE)),0,VLOOKUP(BK18,Tables!A$5:B$28,2,FALSE)))","v":""},{"$f":"IF(BG18=\"\",\"\",Form!I22)","v":""},{"$f":"IF(BG18=\"\",\"\",Form!J22)","v":""},"",{"$f":"IF(BG18=\"\",\"\",COUNT($BO$2:$BO$26)-(RANK(BO18,$BO$2:$BO$26,1)+COUNTIF($BO$2:BO18,BO18)-1)+1)","v":""},{"$f":"IF($BG18=\"\",\"\",IF(ISNA(VLOOKUP(BP18,Tables!C$5:D$28,2,FALSE)),0,VLOOKUP(BP18,Tables!C$5:D$28,2,FALSE)))","v":""},{"$f":"IF(BG18=\"\",\"\",INDEX(Form!$B$1:'Form'!$J$1000,MATCH($BD18,Form!$A$1:'Form'!$A$1000,0)+3,8))","v":""},"","","","","","",{"$f":"IF(BG18=\"\",\"\",INDEX(Form!$B$1:'Form'!$J$1000,MATCH($BD18,Form!$A$1:'Form'!$A$1000,0)+3,9))","v":""},"","","","","","","",{"$f":"IF(MainSheet!G32=\"\",\"\",IF(CF18=\"\",\"\",COUNT($CF$2:$CF$26)-(RANK(CF18,$CF$2:$CF$26,1)+COUNTIF($CF$2:CF18,CF18)-1)+1))","v":""},{"$f":"IF($BY18=\"\",\"\",IF(Tables!$F$3<>\"\",0,IF(ISNA(VLOOKUP(CG18,Tables!E$5:F$28,2,FALSE)),0,VLOOKUP(CG18,Tables!E$5:F$28,2,FALSE))))","v":""},{"$f":"IF(BG18=\"\",\"\",INDEX(Form!$B$1:'Form'!$J$1000,MATCH($BD18,Form!$A$1:'Form'!$A$1000,0)+5,4))","v":""},"","","","","","","",{"$f":"IF(BG18=\"\",\"\",IF(CI18=0,0,COUNT($CP$2:$CP$26)-(RANK(CP18,$CP$2:$CP$26,1)+COUNTIF($CP$2:CP18,CP18)-1)+1))","v":""},{"$f":"IF($CI18=\"\",\"\",IF(Tables!$H$3<>\"\",0,IF(ISNA(VLOOKUP(CQ18,Tables!G$5:H$28,2,FALSE)),0,VLOOKUP(CQ18,Tables!G$5:H$28,2,FALSE))))","v":""},{"$f":"IF(BG18=\"\",\"\",INDEX(Form!$B$1:'Form'!$J$1000,MATCH($BD18,Form!$A$1:'Form'!$A$1000,0)+5,5))","v":""},"","","","","","","",{"$f":"IF(BG18=\"\",\"\",IF(CS18=0,0,COUNT($CZ$2:$CZ$26)-(RANK(CZ18,$CZ$2:$CZ$26,1)+COUNTIF($CZ$2:CZ18,CZ18)-1)+1))","v":""},{"$f":"IF($CS18=\"\",\"\",IF(Tables!$J$3<>\"\",0,IF(Tables!$K$1=0,0,IF(ISNA(VLOOKUP(DA18,Tables!$I$5:$J$28,2,FALSE)),\"0\",VLOOKUP(DA18,Tables!$I$5:$J$28,2,FALSE)))))","v":""},"","","","","","","",{"$f":"IF(BG18=\"\",\"\",COUNT($DI$2:$DI$26)-(RANK(DI18,$DI$2:$DI$26,1)+COUNTIF($DI$2:DI18,DI18)-1)+1)","v":""},{"$f":"IF($BG18=\"\",\"\",IF(ISNA(VLOOKUP(DJ18,Tables!K$5:L$28,2,FALSE)),\"0\",VLOOKUP(DJ18,Tables!K$5:L$28,2,FALSE)))","v":""},"",{"$f":"IF(BG18=\"\",\"\",(DL18-Form!$I$4))","v":""},{"$f":"IF(BG18=\"\",\"\",COUNT($DM$2:$DM$26)-(RANK(DM18,$DM$2:$DM$26,1)+COUNTIF($DM$2:DM18,DM18)-1)+1)","v":""},{"$f":"IF($BG18=\"\",\"\",IF(ISERROR(DN18),1,IF(ISNA(VLOOKUP(DN18,Tables!M$5:N$28,2,FALSE)),\"0\",VLOOKUP(DN18,Tables!M$5:N$28,2,FALSE))))","v":""},"","","","",{"$f":"IF(MainSheet!$G32=\"\",\"\",IF(DS18=\"\",\"\",IF(ISERROR(DS18),\"\",ROUND(0+DS18/0.5,0)*0.5)))","v":""},"","","","","",{"$f":"IF(MainSheet!$G32=\"\",\"\",IF(DY18=\"\",\"\",IF(ISERROR(DY18),\"\",ROUND(0+DY18/0.5,0)*0.5)))","v":""},"","","","","",{"$f":"IF(MainSheet!$G32=\"\",\"\",IF(EE18=\"\",\"\",IF(ISERROR(EE18),\"\",ROUND(0+EE18/0.5,0)*0.5)))","v":""},"","",{"$f":"IF(BG18=\"\",\"\",COUNT($EH$2:$EH$26)-(RANK(EH18,$EH$2:$EH$26,1)+COUNTIF($EH$2:EH18,EH18)-1)+1)","v":""},{"$f":"IF($BG18=\"\",\"\",IF(ISNA(VLOOKUP(EI18,Tables!O$5:P$28,2,FALSE)),\"0\",VLOOKUP(EI18,Tables!O$5:P$28,2,FALSE)))","v":""},"","",{"$f":"IF(BG18=\"\",\"\",IF(EL18=0,0,COUNT($EL$2:$EL$26)-(RANK(EL18,$EL$2:$EL$26,1)+COUNTIF($EL$2:EL18,EL18)-1)+1))","v":""},{"$f":"IF($BG18=\"\",\"\",IF(ISNA(VLOOKUP(EM18,Tables!Q$5:R$26,2,FALSE)),\"0\",VLOOKUP(EM18,Tables!Q$5:R$26,2,FALSE)))","v":""},{"$f":"IF(BG18=\"\",\"\",Form!K22)","v":""},"","","","",{"$f":"IF(BG18=\"\",\"\",IF(ES18=0,0,COUNT($ES$2:$ES$26)-(RANK(ES18,$ES$2:$ES$26,1)+COUNTIF($ES$2:ES18,ES18)-1)+1))","v":""},{"$f":"IF($BG18=\"\",\"\",IF(ISERROR(ET18),0,IF(ISNA(VLOOKUP(ET18,Tables!S$5:T$26,2,FALSE)),\"0\",VLOOKUP(ET18,Tables!S$5:T$26,2,FALSE))))","v":""},{"$f":"IF(BF18=\"\",\"\",IF(MainSheet!D32=\"Scratched\",\"\",IF(ISERROR(BL18+BQ18+CH18+CR18+DB18+DK18+DO18+EJ18+EN18+EU18),\"\",BL18+BQ18+CH18+CR18+DB18+DK18+DO18+EJ18+EN18+EU18)))","v":""},"","",{"$f":"IF(EX18=\"\",\"\",COUNT($EX$2:$EX$26)-(RANK(EX18,$EX$2:$EX$26)+COUNTIF($EX$2:EX18,EX18)-1)+1)","v":""},"","","","",{"$f":"IF(FC18=\"\",\"\",IF(1/FC18*MainSheet!$R$11>100,100,1/FC18*MainSheet!$R$11))","v":""},null,"",{"$f":"IF(FF18=\"\",\"\",IF(1/FF18*MainSheet!$R$11>100,100,1/FF18*MainSheet!$R$11))","v":""}]
[{"$f":"IF(Meetings1!A19=\"\",\"\",IF(Meetings1!A19=\"END\",\"END\",IF(Meetings1!B19=\"\",\"\",getAddress(Meetings1!E19))))","v":""},{"$nulls":11},{"$f":"IF(ISERROR(N19),\"\",IF(ISNA(VLOOKUP(N19,RaceList!$M$9:$O$41,3,FALSE)),\"\",VLOOKUP(N19,RaceList!$M$9:$O$41,3,FALSE)))","v":""},{"$f":"IF(O19=\"\",\"\",IF(Meetings2!$B19=\"\",\"\",Meetings2!$B19))","v":"ANGLE PARK (AG)"},{"$f":"IF(Meetings2!D19=\"\",\"\",getAddress(Meetings2!D19))","v":"http://www.tabonline.com.au/2012/05/14/AG01.html"},{"$f":"IF(Meetings2!E19=\"\",\"\",getAddress(Meetings2!E19))","v":"http://www.tabonline.com.au/2012/05/14/AG02.html"},{"$f":"IF(Meetings2!F19=\"\",\"\",getAddress(Meetings2!F19))","v":"http://www.tabonline.com.au/2012/05/14/AG03.html"},{"$f":"IF(Meetings2!G19=\"\",\"\",getAddress(Meetings2!G19))","v":"http://www.tabonline.com.au/2012/05/14/AG04.html"},{"$f":"IF(Meetings2!H19=\"\",\"\",getAddress(Meetings2!H19))","v":"http://www.tabonline.com.au/2012/05/14/AG05.html"},{"$f":"IF(Meetings2!I19=\"\",\"\",getAddress(Meetings2!I19))","v":"http://www.tabonline.com.au/2012/05/14/AG06.html"},{"$f":"IF(Meetings2!J19=\"\",\"\",getAddress(Meetings2!J19))","v":"http://www.tabonline.com.au/2012/05/14/AG07.html"},{"$f":"IF(Meetings2!K19=\"\",\"\",getAddress(Meetings2!K19))","v":"http://www.tabonline.com.au/2012/05/14/AG08.html"},{"$f":"IF(Meetings2!L19=\"\",\"\",getAddress(Meetings2!L19))","v":"http://www.tabonline.com.au/2012/05/14/AG09.html"},{"$f":"IF(Meetings2!M19=\"\",\"\",getAddress(Meetings2!M19))","v":"http://www.tabonline.com.au/2012/05/14/AG10.html"},{"$f":"IF(Meetings2!AA19=\"\",\"\",getAddress(Meetings2!AA19))","v":""},{"$f":"IF(AA19=\"\",\"\",IF(AA19=\"Career::\",Form!A17,\"\"))","v":""},"1900-01-14",{"$nulls":20},5,"",{"$f":"IF(Race!J19<>\"\",Race!C19,\"\")","v":"REMEDIA"},{"$f":"IF(AX19<>\"\",Race!N19,\"\")","v":97},{"$f":"IF(AX19<>\"\",Race!I19,\"\")","v":3},{"$f":"IF(AX19<>\"\",Race!L19,\"\")","v":"D"},null,"",{"$f":"IF(ISNUMBER(Form!J23),LEFT(Form!D23,FIND(\"(\",Form!D23)-2),\"\")","v":""},null,{"$f":"IF(BD19=\"\",\"\",Form!B23)","v":""},{"$f":"IF($BD19=\"\",\"\",IF(ISNA(VLOOKUP(BD19,AX1:AZ117,3,FALSE)),\"\",VLOOKUP(BD19,AX1:AZ117,3,FALSE)))","v":""},{"$f":"IF(BG19=\"\",\"\",Form!G23)","v":""},{"$f":"IF($BG19=\"\",\"\",IF(MainSheet!G33=\"\",\"\",Form!H23))","v":""},"",{"$f":"IF(BG19=\"\",\"\",COUNT($BJ$2:$BJ$26)-(RANK(BJ19,$BJ$2:$BJ$26)+COUNTIF($BJ$2:BJ19,BJ19)-1)+1)","v":""},{"$f":"IF($BG19=\"\",\"\",IF(ISNA(VLOOKUP(BK19,Tables!A$5:B$28,2,FALSE)),0,VLOOKUP(BK19,Tables!A$5:B$28,2,FALSE)))","v":""},{"$f":"IF(BG19=\"\",\"\",Form!I23)","v":""},{"$f":"IF(BG19=\"\",\"\",Form!J23)","v":""},"",{"$f":"IF(BG19=\"\",\"\",COUNT($BO$2:$BO$26)-(RANK(BO19,$BO$2:$BO$26,1)+COUNTIF($BO$2:BO19,BO19)-1)+1)","v":""},{"$f":"IF($BG19=\"\",\"\",IF(ISNA(VLOOKUP(BP19,Tables!C$5:D$28,2,FALSE)),0,VLOOKUP(BP19,Tables!C$5:D$28,2,FALSE)))","v":""},{"$f":"IF(BG19=\"\",\"\",INDEX(Form!$B$1:'Form'!$J$1000,MATCH($BD19,Form!$A$1:'Form'!$A$1000,0)+3,8))","v":""},"","","","","","",{"$f":"IF(BG19=\"\",\"\",INDEX(Form!$B$1:'Form'!$J$1000,MATCH($BD19,Form!$A$1:'Form'!$A$1000,0)+3,9))","v":""},"","","","","","","",{"$f":"IF(MainSheet!G33=\"\",\"\",IF(CF19=\"\",\"\",COUNT($CF$2:$CF$26)-(RANK(CF19,$CF$2:$CF$26,1)+COUNTIF($CF$2:CF19,CF19)-1)+1))","v":""},{"$f":"IF($BY19=\"\",\"\",IF(Tables!$F$3<>\"\",0,IF(ISNA(VLOOKUP(CG19,Tables!E$5:F$28,2,FALSE)),0,VLOOKUP(CG19,Tables!E$5:F$28,2,FALSE))))","v":""},{"$f":"IF(BG19=\"\",\"\",INDEX(Form!$B$1:'Form'!$J$1000,MATCH($BD19,Form!$A$1:'Form'!$A$1000,0)+5,4))","v":""},"","","","","","","",{"$f":"IF(BG19=\"\",\"\",IF(CI19=0,0,COUNT($CP$2:$CP$26)-(RANK(CP19,$CP$2:$CP$26,1)+COUNTIF($CP$2:CP19,CP19)-1)+1))","v":""},{"$f":"IF($CI19=\"\",\"\",IF(Tables!$H$3<>\"\",0,IF(ISNA(VLOOKUP(CQ19,Tables!G$5:H$28,2,FALSE)),0,VLOOKUP(CQ19,Tables!G$5:H$28,2,FALSE))))","v":""},{"$f":"IF(BG19=\"\",\"\",INDEX(Form!$B$1:'Form'!$J$1000,MATCH($BD19,Form!$A$1:'Form'!$A$1000,0)+5,5))","v":""},"","","","","","","",{"$f":"IF(BG19=\"\",\"\",IF(CS19=0,0,COUNT($CZ$2:$CZ$26)-(RANK(CZ19,$CZ$2:$CZ$26,1)+COUNTIF($CZ$2:CZ19,CZ19)-1)+1))","v":""},{"$f":"IF($CS19=\"\",\"\",IF(Tables!$J$3<>\"\",0,IF(Tables!$K$1=0,0,IF(ISNA(VLOOKUP(DA19,Tables!$I$5:$J$28,2,FALSE)),\"0\",VLOOKUP(DA19,Tables!$I$5:$J$28,2,FALSE)))))","v":""},"","","","","","","",{"$f":"IF(BG19=\"\",\"\",COUNT($DI$2:$DI$26)-(RANK(DI19,$DI$2:$DI$26,1)+COUNTIF($DI$2:DI19,DI19)-1)+1)","v":""},{"$f":"IF($BG19=\"\",\"\",IF(ISNA(VLOOKUP(DJ19,Tables!K$5:L$28,2,FALSE)),\"0\",VLOOKUP(DJ19,Tables!K$5:L$28,2,FALSE)))","v":""},"",{"$f":"IF(BG19=\"\",\"\",(DL19-Form!$I$4))","v":""},{"$f":"IF(BG19=\"\",\"\",COUNT($DM$2:$DM$26)-(RANK(DM19,$DM$2:$DM$26,1)+COUNTIF($DM$2:DM19,DM19)-1)+1)","v":""},{"$f":"IF($BG19=\"\",\"\",IF(ISERROR(DN19),1,IF(ISNA(VLOOKUP(DN19,Tables!M$5:N$28,2,FALSE)),\"0\",VLOOKUP(DN19,Tables!M$5:N$28,2,FALSE))))","v":""},"","","","",{"$f":"IF(MainSheet!$G33=\"\",\"\",IF(DS19=\"\",\"\",IF(ISERROR(DS19),\"\",ROUND(0+DS19/0.5,0)*0.5)))","v":""},"","","","","",{"$f":"IF(MainSheet!$G33=\"\",\"\",IF(DY19=\"\",\"\",IF(ISERROR(DY19),\"\",ROUND(0+DY19/0.5,0)*0.5)))","v":""},"","","","","",{"$f":"IF(MainSheet!$G33=\"\",\"\",IF(EE19=\"\",\"\",IF(ISERROR(EE19),\"\",ROUND(0+EE19/0.5,0)*0.5)))","v":""},"","",{"$f":"IF(BG19=\"\",\"\",COUNT($EH$2:$EH$26)-(RANK(EH19,$EH$2:$EH$26,1)+COUNTIF($EH$2:EH19,EH19)-1)+1)","v":""},{"$f":"IF($BG19=\"\",\"\",IF(ISNA(VLOOKUP(EI19,Tables!O$5:P$28,2,FALSE)),\"0\",VLOOKUP(EI19,Tables!O$5:P$28,2,FALSE)))","v":""},"","",{"$f":"IF(BG19=\"\",\"\",IF(EL19=0,0,COUNT($EL$2:$EL$26)-(RANK(EL19,$EL$2:$EL$26,1)+COUNTIF($EL$2:EL19,EL19)-1)+1))","v":""},{"$f":"IF($BG19=\"\",\"\",IF(ISNA(VLOOKUP(EM19,Tables!Q$5:R$26,2,FALSE)),\"0\",VLOOKUP(EM19,Tables!Q$5:R$26,2,FALSE)))","v":""},{"$f":"IF(BG19=\"\",\"\",Form!K23)","v":""},"","","","",{"$f":"IF(BG19=\"\",\"\",IF(ES19=0,0,COUNT($ES$2:$ES$26)-(RANK(ES19,$ES$2:$ES$26,1)+COUNTIF($ES$2:ES19,ES19)-1)+1))","v":""},{"$f":"IF($BG19=\"\",\"\",IF(ISERROR(ET19),0,IF(ISNA(VLOOKUP(ET19,Tables!S$5:T$26,2,FALSE)),\"0\",VLOOKUP(ET19,Tables!S$5:T$26,2,FALSE))))","v":""},{"$f":"IF(BF19=\"\",\"\",IF(MainSheet!D33=\"Scratched\",\"\",IF(ISERROR(BL19+BQ19+CH19+CR19+DB19+DK19+DO19+EJ19+EN19+EU19),\"\",BL19+BQ19+CH19+CR19+DB19+DK19+DO19+EJ19+EN19+EU19)))","v":""},"","",{"$f":"IF(EX19=\"\",\"\",COUNT($EX$2:$EX$26)-(RANK(EX19,$EX$2:$EX$26)+COUNTIF($EX$2:EX19,EX19)-1)+1)","v":""},"","","","",{"$f":"IF(FC19=\"\",\"\",IF(1/FC19*MainSheet!$R$11>100,100,1/FC19*MainSheet!$R$11))","v":""},null,"",{"$f":"IF(FF19=\"\",\"\",IF(1/FF19*MainSheet!$R$11>100,100,1/FF19*MainSheet!$R$11))","v":""}]
[{"$f":"IF(Meetings1!A20=\"\",\"\",IF(Meetings1!A20=\"END\",\"END\",IF(Meetings1!B20=\"\",\"\",getAddress(Meetings1!E20))))","v":""},{"$nulls":11},{"$f":"IF(ISERROR(N20),\"\",IF(ISNA(VLOOKUP(N20,RaceList!$M$9:$O$41,3,FALSE)),\"\",VLOOKUP(N20,RaceList!$M$9:$O$41,3,FALSE)))","v":""},{"$f":"IF(O20=\"\",\"\",IF(Meetings2!$B20=\"\",\"\",Meetings2!$B20))","v":"NORTHAM (PG)"},{"$f":"IF(Meetings2!D20=\"\",\"\",getAddress(Meetings2!D20))","v":"http://www.tabonline.com.au/2012/05/14/PG01.html"},{"$f":"IF(Meetings2!E20=\"\",\"\",getAddress(Meetings2!E20))","v":"http://www.tabonline.com.au/2012/05/14/PG02.html"},{"$f":"IF(Meetings2!F20=\"\",\"\",getAddress(Meetings2!F20))","v":"http://www.tabonline.com.au/2012/05/14/PG03.html"},{"$f":"IF(Meetings2!G20=\"\",\"\",getAddress(Meetings2!G20))","v":"http://www.tabonline.com.au/2012/05/14/PG04.html"},{"$f":"IF(Meetings2!H20=\"\",\"\",getAddress(Meetings2!H20))","v":"http://www.tabonline.com.au/2012/05/14/PG05.html"},{"$f":"IF(Meetings2!I20=\"\",\"\",getAddress(Meetings2!I20))","v":"http://www.tabonline.com.au/2012/05/14/PG06.html"},{"$f":"IF(Meetings2!J20=\"\",\"\",getAddress(Meetings2!J20))","v":"http://www.tabonline.com.au/2012/05/14/PG07.html"},{"$f":"IF(Meetings2!K20=\"\",\"\",getAddress(Meetings2!K20))","v":"http://www.tabonline.com.au/2012/05/14/PG08.html"},{"$f":"IF(Meetings2!L20=\"\",\"\",getAddress(Meetings2!L20))","v":"http://www.tabonline.com.au/2012/05/14/PG09.html"},{"$f":"IF(Meetings2!M20=\"\",\"\",getAddress(Meetings2!M20))","v":"http://www.tabonline.com.au/2012/05/14/PG10.html"},{"$f":"IF(Meetings2!AA20=\"\",\"\",getAddress(Meetings2!AA20))","v":""},{"$f":"IF(AA20=\"\",\"\",IF(AA20=\"Career::\",Form!A18,\"\"))","v":""},"1900-01-15",{"$nulls":20},4,"",{"$f":"IF(Race!J20<>\"\",Race!C20,\"\")","v":"DR SCHIMMELL"},{"$f":"IF(AX20<>\"\",Race!N20,\"\")","v":91},{"$f":"IF(AX20<>\"\",Race!I20,\"\")","v":14},{"$f":"IF(AX20<>\"\",Race!L20,\"\")","v":"DW"},null,"",{"$f":"IF(ISNUMBER(Form!J24),LEFT(Form!D24,FIND(\"(\",Form!D24)-2),\"\")","v":""},null,{"$f":"IF(BD20=\"\",\"\",Form!B24)","v":""},{"$f":"IF($BD20=\"\",\"\",IF(ISNA(VLOOKUP(BD20,AX19:AZ118,3,FALSE)),\"\",VLOOKUP(BD20,AX19:AZ118,3,FALSE)))","v":""},{"$f":"IF(BG20=\"\",\"\",Form!G24)","v":""},{"$f":"IF($BG20=\"\",\"\",IF(MainSheet!G34=\"\",\"\",Form!H24))","v":""},"",{"$f":"IF(BG20=\"\",\"\",COUNT($BJ$2:$BJ$26)-(RANK(BJ20,$BJ$2:$BJ$26)+COUNTIF($BJ$2:BJ20,BJ20)-1)+1)","v":""},{"$f":"IF($BG20=\"\",\"\",IF(ISNA(VLOOKUP(BK20,Tables!A$5:B$28,2,FALSE)),0,VLOOKUP(BK20,Tables!A$5:B$28,2,FALSE)))","v":""},{"$f":"IF(BG20=\"\",\"\",Form!I24)","v":""},{"$f":"IF(BG20=\"\",\"\",Form!J24)","v":""},"",{"$f":"IF(BG20=\"\",\"\",COUNT($BO$2:$BO$26)-(RANK(BO20,$BO$2:$BO$26,1)+COUNTIF($BO$2:BO20,BO20)-1)+1)","v":""},{"$f":"IF($BG20=\"\",\"\",IF(ISNA(VLOOKUP(BP20,Tables!C$5:D$28,2,FALSE)),0,VLOOKUP(BP20,Tables!C$5:D$28,2,FALSE)))","v":""},{"$f":"IF(BG20=\"\",\"\",INDEX(Form!$B$1:'Form'!$J$1000,MATCH($BD20,Form!$A$1:'Form'!$A$1000,0)+3,8))","v":""},"","","","","","",{"$f":"IF(BG20=\"\",\"\",INDEX(Form!$B$1:'Form'!$J$1000,MATCH($BD20,Form!$A$1:'Form'!$A$1000,0)+3,9))","v":""},"","","","","","","",{"$f":"IF(MainSheet!G34=\"\",\"\",IF(CF20=\"\",\"\",COUNT($CF$2:$CF$26)-(RANK(CF20,$CF$2:$CF$26,1)+COUNTIF($CF$2:CF20,CF20)-1)+1))","v":""},{"$f":"IF($BY20=\"\",\"\",IF(Tables!$F$3<>\"\",0,IF(ISNA(VLOOKUP(CG20,Tables!E$5:F$28,2,FALSE)),0,VLOOKUP(CG20,Tables!E$5:F$28,2,FALSE))))","v":""},{"$f":"IF(BG20=\"\",\"\",INDEX(Form!$B$1:'Form'!$J$1000,MATCH($BD20,Form!$A$1:'Form'!$A$1000,0)+5,4))","v":""},"","","","","","","",{"$f":"IF(BG20=\"\",\"\",IF(CI20=0,0,COUNT($CP$2:$CP$26)-(RANK(CP20,$CP$2:$CP$26,1)+COUNTIF($CP$2:CP20,CP20)-1)+1))","v":""},{"$f":"IF($CI20=\"\",\"\",IF(Tables!$H$3<>\"\",0,IF(ISNA(VLOOKUP(CQ20,Tables!G$5:H$28,2,FALSE)),0,VLOOKUP(CQ20,Tables!G$5:H$28,2,FALSE))))","v":""},{"$f":"IF(BG20=\"\",\"\",INDEX(Form!$B$1:'Form'!$J$1000,MATCH($BD20,Form!$A$1:'Form'!$A$1000,0)+5,5))","v":""},"","","","","","","",{"$f":"IF(BG20=\"\",\"\",IF(CS20=0,0,COUNT($CZ$2:$CZ$26)-(RANK(CZ20,$CZ$2:$CZ$26,1)+COUNTIF($CZ$2:CZ20,CZ20)-1)+1))","v":""},{"$f":"IF($CS20=\"\",\"\",IF(Tables!$J$3<>\"\",0,IF(Tables!$K$1=0,0,IF(ISNA(VLOOKUP(DA20,Tables!$I$5:$J$28,2,FALSE)),\"0\",VLOOKUP(DA20,Tables!$I$5:$J$28,2,FALSE)))))","v":""},"","","","","","","",{"$f":"IF(BG20=\"\",\"\",COUNT($DI$2:$DI$26)-(RANK(DI20,$DI$2:$DI$26,1)+COUNTIF($DI$2:DI20,DI20)-1)+1)","v":""},{"$f":"IF($BG20=\"\",\"\",IF(ISNA(VLOOKUP(DJ20,Tables!K$5:L$28,2,FALSE)),\"0\",VLOOKUP(DJ20,Tables!K$5:L$28,2,FALSE)))","v":""},"",{"$f":"IF(BG20=\"\",\"\",(DL20-Form!$I$4))","v":""},{"$f":"IF(BG20=\"\",\"\",COUNT($DM$2:$DM$26)-(RANK(DM20,$DM$2:$DM$26,1)+COUNTIF($DM$2:DM20,DM20)-1)+1)","v":""},{"$f":"IF($BG20=\"\",\"\",IF(ISERROR(DN20),1,IF(ISNA(VLOOKUP(DN20,Tables!M$5:N$28,2,FALSE)),\"0\",VLOOKUP(DN20,Tables!M$5:N$28,2,FALSE))))","v":""},"","","","",{"$f":"IF(MainSheet!$G34=\"\",\"\",IF(DS20=\"\",\"\",IF(ISERROR(DS20),\"\",ROUND(0+DS20/0.5,0)*0.5)))","v":""},"","","","","",{"$f":"IF(MainSheet!$G34=\"\",\"\",IF(DY20=\"\",\"\",IF(ISERROR(DY20),\"\",ROUND(0+DY20/0.5,0)*0.5)))","v":""},"","","","","",{"$f":"IF(MainSheet!$G34=\"\",\"\",IF(EE20=\"\",\"\",IF(ISERROR(EE20),\"\",ROUND(0+EE20/0.5,0)*0.5)))","v":""},"","",{"$f":"IF(BG20=\"\",\"\",COUNT($EH$2:$EH$26)-(RANK(EH20,$EH$2:$EH$26,1)+COUNTIF($EH$2:EH20,EH20)-1)+1)","v":""},{"$f":"IF($BG20=\"\",\"\",IF(ISNA(VLOOKUP(EI20,Tables!O$5:P$28,2,FALSE)),\"0\",VLOOKUP(EI20,Tables!O$5:P$28,2,FALSE)))","v":""},"","",{"$f":"IF(BG20=\"\",\"\",IF(EL20=0,0,COUNT($EL$2:$EL$26)-(RANK(EL20,$EL$2:$EL$26,1)+COUNTIF($EL$2:EL20,EL20)-1)+1))","v":""},{"$f":"IF($BG20=\"\",\"\",IF(ISNA(VLOOKUP(EM20,Tables!Q$5:R$26,2,FALSE)),\"0\",VLOOKUP(EM20,Tables!Q$5:R$26,2,FALSE)))","v":""},{"$f":"IF(BG20=\"\",\"\",Form!K24)","v":""},"","","","",{"$f":"IF(BG20=\"\",\"\",IF(ES20=0,0,COUNT($ES$2:$ES$26)-(RANK(ES20,$ES$2:$ES$26,1)+COUNTIF($ES$2:ES20,ES20)-1)+1))","v":""},{"$f":"IF($BG20=\"\",\"\",IF(ISERROR(ET20),0,IF(ISNA(VLOOKUP(ET20,Tables!S$5:T$26,2,FALSE)),\"0\",VLOOKUP(ET20,Tables!S$5:T$26,2,FALSE))))","v":""},{"$f":"IF(BF20=\"\",\"\",IF(MainSheet!D34=\"Scratched\",\"\",IF(ISERROR(BL20+BQ20+CH20+CR20+DB20+DK20+DO20+EJ20+EN20+EU20),\"\",BL20+BQ20+CH20+CR20+DB20+DK20+DO20+EJ20+EN20+EU20)))","v":""},"","",{"$f":"IF(EX20=\"\",\"\",COUNT($EX$2:$EX$26)-(RANK(EX20,$EX$2:$EX$26)+COUNTIF($EX$2:EX20,EX20)-1)+1)","v":""},"","","","",{"$f":"IF(FC20=\"\",\"\",IF(1/FC20*MainSheet!$R$11>100,100,1/FC20*MainSheet!$R$11))","v":""},null,"",{"$f":"IF(FF20=\"\",\"\",IF(1/FF20*MainSheet!$R$11>100,100,1/FF20*MainSheet!$R$11))","v":""}]
[{"$f":"IF(Meetings1!A21=\"\",\"\",IF(Meetings1!A21=\"END\",\"END\",IF(Meetings1!B21=\"\",\"\",getAddress(Meetings1!E21))))","v":""},{"$nulls":11},{"$f":"IF(ISERROR(N21),\"\",IF(ISNA(VLOOKUP(N21,RaceList!$M$9:$O$41,3,FALSE)),\"\",VLOOKUP(N21,RaceList!$M$9:$O$41,3,FALSE)))","v":""},{"$f":"IF(O21=\"\",\"\",IF(Meetings2!$B21=\"\",\"\",Meetings2!$B21))","v":"BENDIGO (EG)"},{"$f":"IF(Meetings2!D21=\"\",\"\",getAddress(Meetings2!D21))","v":"http://www.tabonline.com.au/2012/05/14/EG01.html"},{"$f":"IF(Meetings2!E21=\"\",\"\",getAddress(Meetings2!E21))","v":"http://www.tabonline.com.au/2012/05/14/EG02.html"},{"$f":"IF(Meetings2!F21=\"\",\"\",getAddress(Meetings2!F21))","v":"http://www.tabonline.com.au/2012/05/14/EG03.html"},{"$f":"IF(Meetings2!G21=\"\",\"\",getAddress(Meetings2!G21))","v":"http://www.tabonline.com.au/2012/05/14/EG04.html"},{"$f":"IF(Meetings2!H21=\"\",\"\",getAddress(Meetings2!H21))","v":"http://www.tabonline.com.au/2012/05/14/EG05.html"},{"$f":"IF(Meetings2!I21=\"\",\"\",getAddress(Meetings2!I21))","v":"http://www.tabonline.com.au/2012/05/14/EG06.html"},{"$f":"IF(Meetings2!J21=\"\",\"\",getAddress(Meetings2!J21))","v":"http://www.tabonline.com.au/2012/05/14/EG07.html"},{"$f":"IF(Meetings2!K21=\"\",\"\",getAddress(Meetings2!K21))","v":"http://www.tabonline.com.au/2012/05/14/EG08.html"},{"$f":"IF(Meetings2!L21=\"\",\"\",getAddress(Meetings2!L21))","v":"http://www.tabonline.com.au/2012/05/14/EG09.html"},{"$f":"IF(Meetings2!M21=\"\",\"\",getAddress(Meetings2!M21))","v":"http://www.tabonline.com.au/2012/05/14/EG10.html"},{"$f":"IF(Meetings2!AA21=\"\",\"\",getAddress(Meetings2!AA21))","v":""},{"$f":"IF(AA21=\"\",\"\",IF(AA21=\"Career::\",Form!A19,\"\"))","v":""},"1900-01-16",{"$nulls":20},4,"",{"$f":"IF(Race!J21<>\"\",Race!C21,\"\")","v":""},{"$f":"IF(AX21<>\"\",Race!N21,\"\")","v":""},{"$f":"IF(AX21<>\"\",Race!I21,\"\")","v":""},{"$f":"IF(AX21<>\"\",Race!L21,\"\")","v":""},null,"",{"$f":"IF(ISNUMBER(Form!J25),LEFT(Form!D25,FIND(\"(\",Form!D25)-2),\"\")","v":""},null,{"$f":"IF(BD21=\"\",\"\",Form!B25)","v":""},"",{"$f":"IF(BG21=\"\",\"\",Form!G25)","v":""},{"$f":"IF($BG21=\"\",\"\",IF(MainSheet!G35=\"\",\"\",Form!H25))","v":""},"",{"$f":"IF(BG21=\"\",\"\",COUNT($BJ$2:$BJ$26)-(RANK(BJ21,$BJ$2:$BJ$26)+COUNTIF($BJ$2:BJ21,BJ21)-1)+1)","v":""},{"$f":"IF($BG21=\"\",\"\",IF(ISNA(VLOOKUP(BK21,Tables!A$5:B$28,2,FALSE)),0,VLOOKUP(BK21,Tables!A$5:B$28,2,FALSE)))","v":""},{"$f":"IF(BG21=\"\",\"\",Form!I25)","v":""},{"$f":"IF(BG21=\"\",\"\",Form!J25)","v":""},"",{"$f":"IF(BG21=\"\",\"\",COUNT($BO$2:$BO$26)-(RANK(BO21,$BO$2:$BO$26,1)+COUNTIF($BO$2:BO21,BO21)-1)+1)","v":""},{"$f":"IF($BG21=\"\",\"\",IF(ISNA(VLOOKUP(BP21,Tables!C$5:D$28,2,FALSE)),0,VLOOKUP(BP21,Tables!C$5:D$28,2,FALSE)))","v":""},{"$f":"IF(BG21=\"\",\"\",INDEX(Form!$B$1:'Form'!$J$1000,MATCH($BD21,Form!$A$1:'Form'!$A$1000,0)+3,8))","v":""},"","","","","","",{"$f":"IF(BG21=\"\",\"\",INDEX(Form!$B$1:'Form'!$J$1000,MATCH($BD21,Form!$A$1:'Form'!$A$1000,0)+3,9))","v":""},"","","","","","","",{"$f":"IF(MainSheet!G35=\"\",\"\",IF(CF21=\"\",\"\",COUNT($CF$2:$CF$26)-(RANK(CF21,$CF$2:$CF$26,1)+COUNTIF($CF$2:CF21,CF21)-1)+1))","v":""},{"$f":"IF($BY21=\"\",\"\",IF(Tables!$F$3<>\"\",0,IF(ISNA(VLOOKUP(CG21,Tables!E$5:F$28,2,FALSE)),0,VLOOKUP(CG21,Tables!E$5:F$28,2,FALSE))))","v":""},{"$f":"IF(BG21=\"\",\"\",INDEX(Form!$B$1:'Form'!$J$1000,MATCH($BD21,Form!$A$1:'Form'!$A$1000,0)+5,4))","v":""},"","","","","","","",{"$f":"IF(BG21=\"\",\"\",IF(CI21=0,0,COUNT($CP$2:$CP$26)-(RANK(CP21,$CP$2:$CP$26,1)+COUNTIF($CP$2:CP21,CP21)-1)+1))","v":""},{"$f":"IF($CI21=\"\",\"\",IF(Tables!$H$3<>\"\",0,IF(ISNA(VLOOKUP(CQ21,Tables!G$5:H$28,2,FALSE)),0,VLOOKUP(CQ21,Tables!G$5:H$28,2,FALSE))))","v":""},{"$f":"IF(BG21=\"\",\"\",INDEX(Form!$B$1:'Form'!$J$1000,MATCH($BD21,Form!$A$1:'Form'!$A$1000,0)+5,5))","v":""},"","","","","","","",{"$f":"IF(BG21=\"\",\"\",IF(CS21=0,0,COUNT($CZ$2:$CZ$26)-(RANK(CZ21,$CZ$2:$CZ$26,1)+COUNTIF($CZ$2:CZ21,CZ21)-1)+1))","v":""},{"$f":"IF($CS21=\"\",\"\",IF(Tables!$J$3<>\"\",0,IF(Tables!$K$1=0,0,IF(ISNA(VLOOKUP(DA21,Tables!$I$5:$J$28,2,FALSE)),\"0\",VLOOKUP(DA21,Tables!$I$5:$J$28,2,FALSE)))))","v":""},"","","","","","","",{"$f":"IF(BG21=\"\",\"\",COUNT($DI$2:$DI$26)-(RANK(DI21,$DI$2:$DI$26,1)+COUNTIF($DI$2:DI21,DI21)-1)+1)","v":""},{"$f":"IF($BG21=\"\",\"\",IF(ISNA(VLOOKUP(DJ21,Tables!K$5:L$28,2,FALSE)),\"0\",VLOOKUP(DJ21,Tables!K$5:L$28,2,FALSE)))","v":""},"",{"$f":"IF(BG21=\"\",\"\",(DL21-Form!$I$4))","v":""},{"$f":"IF(BG21=\"\",\"\",COUNT($DM$2:$DM$26)-(RANK(DM21,$DM$2:$DM$26,1)+COUNTIF($DM$2:DM21,DM21)-1)+1)","v":""},{"$f":"IF($BG21=\"\",\"\",IF(ISERROR(DN21),1,IF(ISNA(VLOOKUP(DN21,Tables!M$5:N$28,2,FALSE)),\"0\",VLOOKUP(DN21,Tables!M$5:N$28,2,FALSE))))","v":""},"","","","",{"$f":"IF(MainSheet!$G35=\"\",\"\",IF(DS21=\"\",\"\",IF(ISERROR(DS21),\"\",ROUND(0+DS21/0.5,0)*0.5)))","v":""},"","","","","",{"$f":"IF(MainSheet!$G35=\"\",\"\",IF(DY21=\"\",\"\",IF(ISERROR(DY21),\"\",ROUND(0+DY21/0.5,0)*0.5)))","v":""},"","","","","",{"$f":"IF(MainSheet!$G35=\"\",\"\",IF(EE21=\"\",\"\",IF(ISERROR(EE21),\"\",ROUND(0+EE21/0.5,0)*0.5)))","v":""},"","",{"$f":"IF(BG21=\"\",\"\",COUNT($EH$2:$EH$26)-(RANK(EH21,$EH$2:$EH$26,1)+COUNTIF($EH$2:EH21,EH21)-1)+1)","v":""},{"$f":"IF($BG21=\"\",\"\",IF(ISNA(VLOOKUP(EI21,Tables!O$5:P$28,2,FALSE)),\"0\",VLOOKUP(EI21,Tables!O$5:P$28,2,FALSE)))","v":""},"","",{"$f":"IF(BG21=\"\",\"\",IF(EL21=0,0,COUNT($EL$2:$EL$26)-(RANK(EL21,$EL$2:$EL$26,1)+COUNTIF($EL$2:EL21,EL21)-1)+1))","v":""},{"$f":"IF($BG21=\"\",\"\",IF(ISNA(VLOOKUP(EM21,Tables!Q$5:R$26,2,FALSE)),\"0\",VLOOKUP(EM21,Tables!Q$5:R$26,2,FALSE)))","v":""},{"$f":"IF(BG21=\"\",\"\",Form!K25)","v":""},"","","","",{"$f":"IF(BG21=\"\",\"\",IF(ES21=0,0,COUNT($ES$2:$ES$26)-(RANK(ES21,$ES$2:$ES$26,1)+COUNTIF($ES$2:ES21,ES21)-1)+1))","v":""},{"$f":"IF($BG21=\"\",\"\",IF(ISERROR(ET21),0,IF(ISNA(VLOOKUP(ET21,Tables!S$5:T$26,2,FALSE)),\"0\",VLOOKUP(ET21,Tables!S$5:T$26,2,FALSE))))","v":""},{"$f":"IF(BF21=\"\",\"\",IF(MainSheet!D35=\"Scratched\",\"\",IF(ISERROR(BL21+BQ21+CH21+CR21+DB21+DK21+DO21+EJ21+EN21+EU21),\"\",BL21+BQ21+CH21+CR21+DB21+DK21+DO21+EJ21+EN21+EU21)))","v":""},"","",{"$f":"IF(EX21=\"\",\"\",COUNT($EX$2:$EX$26)-(RANK(EX21,$EX$2:$EX$26)+COUNTIF($EX$2:EX21,EX21)-1)+1)","v":""},"","","","",{"$f":"IF(FC21=\"\",\"\",IF(1/FC21*MainSheet!$R$11>100,100,1/FC21*MainSheet!$R$11))","v":""},null,"",{"$f":"IF(FF21=\"\",\"\",IF(1/FF21*MainSheet!$R$11>100,100,1/FF21*MainSheet!$R$11))","v":""}]
[{"$f":"IF(Meetings1!A22=\"\",\"\",IF(Meetings1!A22=\"END\",\"END\",IF(Meetings1!B22=\"\",\"\",getAddress(Meetings1!E22))))","v":""},{"$nulls":11},{"$f":"IF(ISERROR(N22),\"\",IF(ISNA(VLOOKUP(N22,RaceList!$M$9:$O$41,3,FALSE)),\"\",VLOOKUP(N22,RaceList!$M$9:$O$41,3,FALSE)))","v":""},{"$f":"IF(O22=\"\",\"\",IF(Meetings2!$B22=\"\",\"\",Meetings2!$B22))","v":"MANAWATU (ZG)"},{"$f":"IF(Meetings2!D22=\"\",\"\",getAddress(Meetings2!D22))","v":"http://www.tabonline.com.au/2012/05/14/ZG01.html"},{"$f":"IF(Meetings2!E22=\"\",\"\",getAddress(Meetings2!E22))","v":"http://www.tabonline.com.au/2012/05/14/ZG02.html"},{"$f":"IF(Meetings2!F22=\"\",\"\",getAddress(Meetings2!F22))","v":"http://www.tabonline.com.au/2012/05/14/ZG03.html"},{"$f":"IF(Meetings2!G22=\"\",\"\",getAddress(Meetings2!G22))","v":"http://www.tabonline.com.au/2012/05/14/ZG04.html"},{"$f":"IF(Meetings2!H22=\"\",\"\",getAddress(Meetings2!H22))","v":"http://www.tabonline.com.au/2012/05/14/ZG05.html"},{"$f":"IF(Meetings2!I22=\"\",\"\",getAddress(Meetings2!I22))","v":"http://www.tabonline.com.au/2012/05/14/ZG06.html"},{"$f":"IF(Meetings2!J22=\"\",\"\",getAddress(Meetings2!J22))","v":"http://www.tabonline.com.au/2012/05/14/ZG07.html"},{"$f":"IF(Meetings2!K22=\"\",\"\",getAddress(Meetings2!K22))","v":"http://www.tabonline.com.au/2012/05/14/ZG08.html"},{"$f":"IF(Meetings2!L22=\"\",\"\",getAddress(Meetings2!L22))","v":"http://www.tabonline.com.au/2012/05/14/ZG09.html"},{"$f":"IF(Meetings2!M22=\"\",\"\",getAddress(Meetings2!M22))","v":"http://www.tabonline.com.au/2012/05/14/ZG10.html"},{"$f":"IF(Meetings2!AA22=\"\",\"\",getAddress(Meetings2!AA22))","v":""},{"$f":"IF(AA22=\"\",\"\",IF(AA22=\"Career::\",Form!A20,\"\"))","v":""},"1900-01-17",{"$nulls":20},4,"",{"$f":"IF(Race!J22<>\"\",Race!C22,\"\")","v":""},{"$f":"IF(AX22<>\"\",Race!N22,\"\")","v":""},{"$f":"IF(AX22<>\"\",Race!I22,\"\")","v":""},{"$f":"IF(AX22<>\"\",Race!L22,\"\")","v":""},null,"",{"$f":"IF(ISNUMBER(Form!J26),LEFT(Form!D26,FIND(\"(\",Form!D26)-2),\"\")","v":""},null,{"$f":"IF(BD22=\"\",\"\",Form!B26)","v":""},"",{"$f":"IF(BG22=\"\",\"\",Form!G26)","v":""},{"$f":"IF($BG22=\"\",\"\",IF(MainSheet!G36=\"\",\"\",Form!H26))","v":""},"",{"$f":"IF(BG22=\"\",\"\",COUNT($BJ$2:$BJ$26)-(RANK(BJ22,$BJ$2:$BJ$26)+COUNTIF($BJ$2:BJ22,BJ22)-1)+1)","v":""},{"$f":"IF($BG22=\"\",\"\",IF(ISNA(VLOOKUP(BK22,Tables!A$5:B$28,2,FALSE)),0,VLOOKUP(BK22,Tables!A$5:B$28,2,FALSE)))","v":""},{"$f":"IF(BG22=\"\",\"\",Form!I26)","v":""},{"$f":"IF(BG22=\"\",\"\",Form!J26)","v":""},"",{"$f":"IF(BG22=\"\",\"\",COUNT($BO$2:$BO$26)-(RANK(BO22,$BO$2:$BO$26,1)+COUNTIF($BO$2:BO22,BO22)-1)+1)","v":""},{"$f":"IF($BG22=\"\",\"\",IF(ISNA(VLOOKUP(BP22,Tables!C$5:D$28,2,FALSE)),0,VLOOKUP(BP22,Tables!C$5:D$28,2,FALSE)))","v":""},{"$f":"IF(BG22=\"\",\"\",INDEX(Form!$B$1:'Form'!$J$1000,MATCH($BD22,Form!$A$1:'Form'!$A$1000,0)+3,8))","v":""},"","","","","","",{"$f":"IF(BG22=\"\",\"\",INDEX(Form!$B$1:'Form'!$J$1000,MATCH($BD22,Form!$A$1:'Form'!$A$1000,0)+3,9))","v":""},"","","","","","","",{"$f":"IF(MainSheet!G36=\"\",\"\",IF(CF22=\"\",\"\",COUNT($CF$2:$CF$26)-(RANK(CF22,$CF$2:$CF$26,1)+COUNTIF($CF$2:CF22,CF22)-1)+1))","v":""},{"$f":"IF($BY22=\"\",\"\",IF(Tables!$F$3<>\"\",0,IF(ISNA(VLOOKUP(CG22,Tables!E$5:F$28,2,FALSE)),0,VLOOKUP(CG22,Tables!E$5:F$28,2,FALSE))))","v":""},{"$f":"IF(BG22=\"\",\"\",INDEX(Form!$B$1:'Form'!$J$1000,MATCH($BD22,Form!$A$1:'Form'!$A$1000,0)+5,4))","v":""},"","","","","","","",{"$f":"IF(BG22=\"\",\"\",IF(CI22=0,0,COUNT($CP$2:$CP$26)-(RANK(CP22,$CP$2:$CP$26,1)+COUNTIF($CP$2:CP22,CP22)-1)+1))","v":""},{"$f":"IF($CI22=\"\",\"\",IF(Tables!$H$3<>\"\",0,IF(ISNA(VLOOKUP(CQ22,Tables!G$5:H$28,2,FALSE)),0,VLOOKUP(CQ22,Tables!G$5:H$28,2,FALSE))))","v":""},{"$f":"IF(BG22=\"\",\"\",INDEX(Form!$B$1:'Form'!$J$1000,MATCH($BD22,Form!$A$1:'Form'!$A$1000,0)+5,5))","v":""},"","","","","","","",{"$f":"IF(BG22=\"\",\"\",IF(CS22=0,0,COUNT($CZ$2:$CZ$26)-(RANK(CZ22,$CZ$2:$CZ$26,1)+COUNTIF($CZ$2:CZ22,CZ22)-1)+1))","v":""},{"$f":"IF($CS22=\"\",\"\",IF(Tables!$J$3<>\"\",0,IF(Tables!$K$1=0,0,IF(ISNA(VLOOKUP(DA22,Tables!$I$5:$J$28,2,FALSE)),\"0\",VLOOKUP(DA22,Tables!$I$5:$J$28,2,FALSE)))))","v":""},"","","","","","","",{"$f":"IF(BG22=\"\",\"\",COUNT($DI$2:$DI$26)-(RANK(DI22,$DI$2:$DI$26,1)+COUNTIF($DI$2:DI22,DI22)-1)+1)","v":""},{"$f":"IF($BG22=\"\",\"\",IF(ISNA(VLOOKUP(DJ22,Tables!K$5:L$28,2,FALSE)),\"0\",VLOOKUP(DJ22,Tables!K$5:L$28,2,FALSE)))","v":""},"",{"$f":"IF(BG22=\"\",\"\",(DL22-Form!$I$4))","v":""},{"$f":"IF(BG22=\"\",\"\",COUNT($DM$2:$DM$26)-(RANK(DM22,$DM$2:$DM$26,1)+COUNTIF($DM$2:DM22,DM22)-1)+1)","v":""},{"$f":"IF($BG22=\"\",\"\",IF(ISERROR(DN22),1,IF(ISNA(VLOOKUP(DN22,Tables!M$5:N$28,2,FALSE)),\"0\",VLOOKUP(DN22,Tables!M$5:N$28,2,FALSE))))","v":""},"","","","",{"$f":"IF(MainSheet!$G36=\"\",\"\",IF(DS22=\"\",\"\",IF(ISERROR(DS22),\"\",ROUND(0+DS22/0.5,0)*0.5)))","v":""},"","","","","",{"$f":"IF(MainSheet!$G36=\"\",\"\",IF(DY22=\"\",\"\",IF(ISERROR(DY22),\"\",ROUND(0+DY22/0.5,0)*0.5)))","v":""},"","","","","",{"$f":"IF(MainSheet!$G36=\"\",\"\",IF(EE22=\"\",\"\",IF(ISERROR(EE22),\"\",ROUND(0+EE22/0.5,0)*0.5)))","v":""},"","",{"$f":"IF(BG22=\"\",\"\",COUNT($EH$2:$EH$26)-(RANK(EH22,$EH$2:$EH$26,1)+COUNTIF($EH$2:EH22,EH22)-1)+1)","v":""},{"$f":"IF($BG22=\"\",\"\",IF(ISNA(VLOOKUP(EI22,Tables!O$5:P$28,2,FALSE)),\"0\",VLOOKUP(EI22,Tables!O$5:P$28,2,FALSE)))","v":""},"","",{"$f":"IF(BG22=\"\",\"\",IF(EL22=0,0,COUNT($EL$2:$EL$26)-(RANK(EL22,$EL$2:$EL$26,1)+COUNTIF($EL$2:EL22,EL22)-1)+1))","v":""},{"$f":"IF($BG22=\"\",\"\",IF(ISNA(VLOOKUP(EM22,Tables!Q$5:R$26,2,FALSE)),\"0\",VLOOKUP(EM22,Tables!Q$5:R$26,2,FALSE)))","v":""},{"$f":"IF(BG22=\"\",\"\",Form!K26)","v":""},"","","","",{"$f":"IF(BG22=\"\",\"\",IF(ES22=0,0,COUNT($ES$2:$ES$26)-(RANK(ES22,$ES$2:$ES$26,1)+COUNTIF($ES$2:ES22,ES22)-1)+1))","v":""},{"$f":"IF($BG22=\"\",\"\",IF(ISERROR(ET22),0,IF(ISNA(VLOOKUP(ET22,Tables!S$5:T$26,2,FALSE)),\"0\",VLOOKUP(ET22,Tables!S$5:T$26,2,FALSE))))","v":""},{"$f":"IF(BF22=\"\",\"\",IF(MainSheet!D36=\"Scratched\",\"\",IF(ISERROR(BL22+BQ22+CH22+CR22+DB22+DK22+DO22+EJ22+EN22+EU22),\"\",BL22+BQ22+CH22+CR22+DB22+DK22+DO22+EJ22+EN22+EU22)))","v":""},"","",{"$f":"IF(EX22=\"\",\"\",COUNT($EX$2:$EX$26)-(RANK(EX22,$EX$2:$EX$26)+COUNTIF($EX$2:EX22,EX22)-1)+1)","v":""},"","","","",{"$f":"IF(FC22=\"\",\"\",IF(1/FC22*MainSheet!$R$11>100,100,1/FC22*MainSheet!$R$11))","v":""},null,"",{"$f":"IF(FF22=\"\",\"\",IF(1/FF22*MainSheet!$R$11>100,100,1/FF22*MainSheet!$R$11))","v":""}]
[{"$f":"IF(Meetings1!A23=\"\",\"\",IF(Meetings1!A23=\"END\",\"END\",IF(Meetings1!B23=\"\",\"\",getAddress(Meetings1!E23))))","v":""},{"$nulls":11},{"$f":"IF(ISERROR(N23),\"\",IF(ISNA(VLOOKUP(N23,RaceList!$M$9:$O$41,3,FALSE)),\"\",VLOOKUP(N23,RaceList!$M$9:$O$41,3,FALSE)))","v":""},{"$f":"IF(O23=\"\",\"\",IF(Meetings2!$B23=\"\",\"\",Meetings2!$B23))","v":"LAUNCESTON (TG)"},{"$f":"IF(Meetings2!D23=\"\",\"\",getAddress(Meetings2!D23))","v":"http://www.tabonline.com.au/2012/05/14/TG01.html"},{"$f":"IF(Meetings2!E23=\"\",\"\",getAddress(Meetings2!E23))","v":"http://www.tabonline.com.au/2012/05/14/TG02.html"},{"$f":"IF(Meetings2!F23=\"\",\"\",getAddress(Meetings2!F23))","v":"http://www.tabonline.com.au/2012/05/14/TG03.html"},{"$f":"IF(Meetings2!G23=\"\",\"\",getAddress(Meetings2!G23))","v":"http://www.tabonline.com.au/2012/05/14/TG04.html"},{"$f":"IF(Meetings2!H23=\"\",\"\",getAddress(Meetings2!H23))","v":"http://www.tabonline.com.au/2012/05/14/TG05.html"},{"$f":"IF(Meetings2!I23=\"\",\"\",getAddress(Meetings2!I23))","v":"http://www.tabonline.com.au/2012/05/14/TG06.html"},{"$f":"IF(Meetings2!J23=\"\",\"\",getAddress(Meetings2!J23))","v":"http://www.tabonline.com.au/2012/05/14/TG07.html"},{"$f":"IF(Meetings2!K23=\"\",\"\",getAddress(Meetings2!K23))","v":"http://www.tabonline.com.au/2012/05/14/TG08.html"},{"$f":"IF(Meetings2!L23=\"\",\"\",getAddress(Meetings2!L23))","v":"http://www.tabonline.com.au/2012/05/14/TG09.html"},{"$f":"IF(Meetings2!M23=\"\",\"\",getAddress(Meetings2!M23))","v":"http://www.tabonline.com.au/2012/05/14/TG10.html"},{"$f":"IF(Meetings2!AA23=\"\",\"\",getAddress(Meetings2!AA23))","v":""},{"$f":"IF(AA23=\"\",\"\",IF(AA23=\"Career::\",Form!A21,\"\"))","v":""},{"$nulls":21},4,"",{"$f":"IF(Race!J23<>\"\",Race!C23,\"\")","v":""},{"$f":"IF(AX23<>\"\",Race!N23,\"\")","v":""},{"$f":"IF(AX23<>\"\",Race!I23,\"\")","v":""},{"$f":"IF(AX23<>\"\",Race!L23,\"\")","v":""},null,"",{"$f":"IF(ISNUMBER(Form!J27),LEFT(Form!D27,FIND(\"(\",Form!D27)-2),\"\")","v":""},null,{"$f":"IF(BD23=\"\",\"\",Form!B27)","v":""},"",{"$f":"IF(BG23=\"\",\"\",Form!G27)","v":""},{"$f":"IF($BG23=\"\",\"\",IF(MainSheet!G37=\"\",\"\",Form!H27))","v":""},"",{"$f":"IF(BG23=\"\",\"\",COUNT($BJ$2:$BJ$26)-(RANK(BJ23,$BJ$2:$BJ$26)+COUNTIF($BJ$2:BJ23,BJ23)-1)+1)","v":""},{"$f":"IF($BG23=\"\",\"\",IF(ISNA(VLOOKUP(BK23,Tables!A$5:B$28,2,FALSE)),0,VLOOKUP(BK23,Tables!A$5:B$28,2,FALSE)))","v":""},{"$f":"IF(BG23=\"\",\"\",Form!I27)","v":""},{"$f":"IF(BG23=\"\",\"\",Form!J27)","v":""},"",{"$f":"IF(BG23=\"\",\"\",COUNT($BO$2:$BO$26)-(RANK(BO23,$BO$2:$BO$26,1)+COUNTIF($BO$2:BO23,BO23)-1)+1)","v":""},{"$f":"IF($BG23=\"\",\"\",IF(ISNA(VLOOKUP(BP23,Tables!C$5:D$28,2,FALSE)),0,VLOOKUP(BP23,Tables!C$5:D$28,2,FALSE)))","v":""},{"$f":"IF(BG23=\"\",\"\",INDEX(Form!$B$1:'Form'!$J$1000,MATCH($BD23,Form!$A$1:'Form'!$A$1000,0)+3,8))","v":""},"","","","","","",{"$f":"IF(BG23=\"\",\"\",INDEX(Form!$B$1:'Form'!$J$1000,MATCH($BD23,Form!$A$1:'Form'!$A$1000,0)+3,9))","v":""},"","","","","","","",{"$f":"IF(MainSheet!G37=\"\",\"\",IF(CF23=\"\",\"\",COUNT($CF$2:$CF$26)-(RANK(CF23,$CF$2:$CF$26,1)+COUNTIF($CF$2:CF23,CF23)-1)+1))","v":""},{"$f":"IF($BY23=\"\",\"\",IF(Tables!$F$3<>\"\",0,IF(ISNA(VLOOKUP(CG23,Tables!E$5:F$28,2,FALSE)),0,VLOOKUP(CG23,Tables!E$5:F$28,2,FALSE))))","v":""},{"$f":"IF(BG23=\"\",\"\",INDEX(Form!$B$1:'Form'!$J$1000,MATCH($BD23,Form!$A$1:'Form'!$A$1000,0)+5,4))","v":""},"","","","","","","",{"$f":"IF(BG23=\"\",\"\",IF(CI23=0,0,COUNT($CP$2:$CP$26)-(RANK(CP23,$CP$2:$CP$26,1)+COUNTIF($CP$2:CP23,CP23)-1)+1))","v":""},{"$f":"IF($CI23=\"\",\"\",IF(Tables!$H$3<>\"\",0,IF(ISNA(VLOOKUP(CQ23,Tables!G$5:H$28,2,FALSE)),0,VLOOKUP(CQ23,Tables!G$5:H$28,2,FALSE))))","v":""},{"$f":"IF(BG23=\"\",\"\",INDEX(Form!$B$1:'Form'!$J$1000,MATCH($BD23,Form!$A$1:'Form'!$A$1000,0)+5,5))","v":""},"","","","","","","",{"$f":"IF(BG23=\"\",\"\",IF(CS23=0,0,COUNT($CZ$2:$CZ$26)-(RANK(CZ23,$CZ$2:$CZ$26,1)+COUNTIF($CZ$2:CZ23,CZ23)-1)+1))","v":""},{"$f":"IF($CS23=\"\",\"\",IF(Tables!$J$3<>\"\",0,IF(Tables!$K$1=0,0,IF(ISNA(VLOOKUP(DA23,Tables!$I$5:$J$28,2,FALSE)),\"0\",VLOOKUP(DA23,Tables!$I$5:$J$28,2,FALSE)))))","v":""},"","","","","","","",{"$f":"IF(BG23=\"\",\"\",COUNT($DI$2:$DI$26)-(RANK(DI23,$DI$2:$DI$26,1)+COUNTIF($DI$2:DI23,DI23)-1)+1)","v":""},{"$f":"IF($BG23=\"\",\"\",IF(ISNA(VLOOKUP(DJ23,Tables!K$5:L$28,2,FALSE)),\"0\",VLOOKUP(DJ23,Tables!K$5:L$28,2,FALSE)))","v":""},"",{"$f":"IF(BG23=\"\",\"\",(DL23-Form!$I$4))","v":""},{"$f":"IF(BG23=\"\",\"\",COUNT($DM$2:$DM$26)-(RANK(DM23,$DM$2:$DM$26,1)+COUNTIF($DM$2:DM23,DM23)-1)+1)","v":""},{"$f":"IF($BG23=\"\",\"\",IF(ISERROR(DN23),1,IF(ISNA(VLOOKUP(DN23,Tables!M$5:N$28,2,FALSE)),\"0\",VLOOKUP(DN23,Tables!M$5:N$28,2,FALSE))))","v":""},"","","","",{"$f":"IF(MainSheet!$G37=\"\",\"\",IF(DS23=\"\",\"\",IF(ISERROR(DS23),\"\",ROUND(0+DS23/0.5,0)*0.5)))","v":""},"","","","","",{"$f":"IF(MainSheet!$G37=\"\",\"\",IF(DY23=\"\",\"\",IF(ISERROR(DY23),\"\",ROUND(0+DY23/0.5,0)*0.5)))","v":""},"","","","","",{"$f":"IF(MainSheet!$G37=\"\",\"\",IF(EE23=\"\",\"\",IF(ISERROR(EE23),\"\",ROUND(0+EE23/0.5,0)*0.5)))","v":""},"","",{"$f":"IF(BG23=\"\",\"\",COUNT($EH$2:$EH$26)-(RANK(EH23,$EH$2:$EH$26,1)+COUNTIF($EH$2:EH23,EH23)-1)+1)","v":""},{"$f":"IF($BG23=\"\",\"\",IF(ISNA(VLOOKUP(EI23,Tables!O$5:P$28,2,FALSE)),\"0\",VLOOKUP(EI23,Tables!O$5:P$28,2,FALSE)))","v":""},"","",{"$f":"IF(BG23=\"\",\"\",IF(EL23=0,0,COUNT($EL$2:$EL$26)-(RANK(EL23,$EL$2:$EL$26,1)+COUNTIF($EL$2:EL23,EL23)-1)+1))","v":""},{"$f":"IF($BG23=\"\",\"\",IF(ISNA(VLOOKUP(EM23,Tables!Q$5:R$26,2,FALSE)),\"0\",VLOOKUP(EM23,Tables!Q$5:R$26,2,FALSE)))","v":""},{"$f":"IF(BG23=\"\",\"\",Form!K27)","v":""},"","","","",{"$f":"IF(BG23=\"\",\"\",IF(ES23=0,0,COUNT($ES$2:$ES$26)-(RANK(ES23,$ES$2:$ES$26,1)+COUNTIF($ES$2:ES23,ES23)-1)+1))","v":""},{"$f":"IF($BG23=\"\",\"\",IF(ISERROR(ET23),0,IF(ISNA(VLOOKUP(ET23,Tables!S$5:T$26,2,FALSE)),\"0\",VLOOKUP(ET23,Tables!S$5:T$26,2,FALSE))))","v":""},{"$f":"IF(BF23=\"\",\"\",IF(MainSheet!D37=\"Scratched\",\"\",IF(ISERROR(BL23+BQ23+CH23+CR23+DB23+DK23+DO23+EJ23+EN23+EU23),\"\",BL23+BQ23+CH23+CR23+DB23+DK23+DO23+EJ23+EN23+EU23)))","v":""},"","",{"$f":"IF(EX23=\"\",\"\",COUNT($EX$2:$EX$26)-(RANK(EX23,$EX$2:$EX$26)+COUNTIF($EX$2:EX23,EX23)-1)+1)","v":""},"","","","",{"$f":"IF(FC23=\"\",\"\",IF(1/FC23*MainSheet!$R$11>100,100,1/FC23*MainSheet!$R$11))","v":""},null,"",{"$f":"IF(FF23=\"\",\"\",IF(1/FF23*MainSheet!$R$11>100,100,1/FF23*MainSheet!$R$11))","v":""}]
[{"$f":"IF(Meetings1!A24=\"\",\"\",IF(Meetings1!A24=\"END\",\"END\",IF(Meetings1!B24=\"\",\"\",getAddress(Meetings1!E24))))","v":"http://formguide.cyberhorse.com.au/Form/form.html?formdate=2012-05-14&track=K'ton&raceno=6"},{"$nulls":11},{"$f":"IF(ISERROR(N24),\"\",IF(ISNA(VLOOKUP(N24,RaceList!$M$9:$O$41,3,FALSE)),\"\",VLOOKUP(N24,RaceList!$M$9:$O$41,3,FALSE)))","v":""},{"$f":"IF(O24=\"\",\"\",IF(Meetings2!$B24=\"\",\"\",Meetings2!$B24))","v":""},{"$f":"IF(Meetings2!D24=\"\",\"\",getAddress(Meetings2!D24))","v":""},{"$f":"IF(Meetings2!E24=\"\",\"\",getAddress(Meetings2!E24))","v":""},{"$f":"IF(Meetings2!F24=\"\",\"\",getAddress(Meetings2!F24))","v":""},{"$f":"IF(Meetings2!G24=\"\",\"\",getAddress(Meetings2!G24))","v":""},{"$f":"IF(Meetings2!H24=\"\",\"\",getAddress(Meetings2!H24))","v":""},{"$f":"IF(Meetings2!I24=\"\",\"\",getAddress(Meetings2!I24))","v":""},{"$f":"IF(Meetings2!J24=\"\",\"\",getAddress(Meetings2!J24))","v":""},{"$f":"IF(Meetings2!K24=\"\",\"\",getAddress(Meetings2!K24))","v":""},{"$f":"IF(Meetings2!L24=\"\",\"\",getAddress(Meetings2!L24))","v":""},{"$f":"IF(Meetings2!M24=\"\",\"\",getAddress(Meetings2!M24))","v":""},null,{"$f":"IF(AA24=\"\",\"\",IF(AA24=\"Career::\",Form!A22,\"\"))","v":""},{"$nulls":21},3,"",{"$f":"IF(Race!J24<>\"\",Race!C24,\"\")","v":""},{"$f":"IF(AX24<>\"\",Race!N24,\"\")","v":""},{"$f":"IF(AX24<>\"\",Race!I24,\"\")","v":""},{"$f":"IF(AX24<>\"\",Race!L24,\"\")","v":""},null,"",{"$f":"IF(ISNUMBER(Form!J28),LEFT(Form!D28,FIND(\"(\",Form!D28)-2),\"\")","v":""},null,{"$f":"IF(BD24=\"\",\"\",Form!B28)","v":""},"",{"$f":"IF(BG24=\"\",\"\",Form!G28)","v":""},{"$f":"IF($BG24=\"\",\"\",IF(MainSheet!G38=\"\",\"\",Form!H28))","v":""},"",{"$f":"IF(BG24=\"\",\"\",COUNT($BJ$2:$BJ$26)-(RANK(BJ24,$BJ$2:$BJ$26)+COUNTIF($BJ$2:BJ24,BJ24)-1)+1)","v":""},{"$f":"IF($BG24=\"\",\"\",IF(ISNA(VLOOKUP(BK24,Tables!A$5:B$28,2,FALSE)),0,VLOOKUP(BK24,Tables!A$5:B$28,2,FALSE)))","v":""},null,{"$f":"IF(BG24=\"\",\"\",Form!J28)","v":""},"",{"$f":"IF(BG24=\"\",\"\",COUNT($BO$2:$BO$26)-(RANK(BO24,$BO$2:$BO$26,1)+COUNTIF($BO$2:BO24,BO24)-1)+1)","v":""},{"$f":"IF($BG24=\"\",\"\",IF(ISNA(VLOOKUP(BP24,Tables!C$5:D$28,2,FALSE)),0,VLOOKUP(BP24,Tables!C$5:D$28,2,FALSE)))","v":""},{"$f":"IF(BG24=\"\",\"\",INDEX(Form!$B$1:'Form'!$J$1000,MATCH($BD24,Form!$A$1:'Form'!$A$1000,0)+3,8))","v":""},"","","","","","",{"$f":"IF(BG24=\"\",\"\",INDEX(Form!$B$1:'Form'!$J$1000,MATCH($BD24,Form!$A$1:'Form'!$A$1000,0)+3,9))","v":""},"","","","","","","",{"$f":"IF(MainSheet!G38=\"\",\"\",IF(CF24=\"\",\"\",COUNT($CF$2:$CF$26)-(RANK(CF24,$CF$2:$CF$26,1)+COUNTIF($CF$2:CF24,CF24)-1)+1))","v":""},{"$f":"IF($BY24=\"\",\"\",IF(Tables!$F$3<>\"\",0,IF(ISNA(VLOOKUP(CG24,Tables!E$5:F$28,2,FALSE)),0,VLOOKUP(CG24,Tables!E$5:F$28,2,FALSE))))","v":""},{"$f":"IF(BG24=\"\",\"\",INDEX(Form!$B$1:'Form'!$J$1000,MATCH($BD24,Form!$A$1:'Form'!$A$1000,0)+5,4))","v":""},"","","","","","","",{"$f":"IF(BG24=\"\",\"\",IF(CI24=0,0,COUNT($CP$2:$CP$26)-(RANK(CP24,$CP$2:$CP$26,1)+COUNTIF($CP$2:CP24,CP24)-1)+1))","v":""},{"$f":"IF($CI24=\"\",\"\",IF(Tables!$H$3<>\"\",0,IF(ISNA(VLOOKUP(CQ24,Tables!G$5:H$28,2,FALSE)),0,VLOOKUP(CQ24,Tables!G$5:H$28,2,FALSE))))","v":""},{"$f":"IF(BG24=\"\",\"\",INDEX(Form!$B$1:'Form'!$J$1000,MATCH($BD24,Form!$A$1:'Form'!$A$1000,0)+5,5))","v":""},"","","","","","","",{"$f":"IF(BG24=\"\",\"\",IF(CS24=0,0,COUNT($CZ$2:$CZ$26)-(RANK(CZ24,$CZ$2:$CZ$26,1)+COUNTIF($CZ$2:CZ24,CZ24)-1)+1))","v":""},{"$f":"IF($CS24=\"\",\"\",IF(Tables!$J$3<>\"\",0,IF(Tables!$K$1=0,0,IF(ISNA(VLOOKUP(DA24,Tables!$I$5:$J$28,2,FALSE)),\"0\",VLOOKUP(DA24,Tables!$I$5:$J$28,2,FALSE)))))","v":""},"","","","","","","",{"$f":"IF(BG24=\"\",\"\",COUNT($DI$2:$DI$26)-(RANK(DI24,$DI$2:$DI$26,1)+COUNTIF($DI$2:DI24,DI24)-1)+1)","v":""},{"$f":"IF($BG24=\"\",\"\",IF(ISNA(VLOOKUP(DJ24,Tables!K$5:L$28,2,FALSE)),\"0\",VLOOKUP(DJ24,Tables!K$5:L$28,2,FALSE)))","v":""},"",{"$f":"IF(BG24=\"\",\"\",(DL24-Form!$I$4))","v":""},{"$f":"IF(BG24=\"\",\"\",COUNT($DM$2:$DM$26)-(RANK(DM24,$DM$2:$DM$26,1)+COUNTIF($DM$2:DM24,DM24)-1)+1)","v":""},{"$f":"IF($BG24=\"\",\"\",IF(ISERROR(DN24),1,IF(ISNA(VLOOKUP(DN24,Tables!M$5:N$28,2,FALSE)),\"0\",VLOOKUP(DN24,Tables!M$5:N$28,2,FALSE))))","v":""},"","","","",{"$f":"IF(MainSheet!$G38=\"\",\"\",IF(DS24=\"\",\"\",IF(ISERROR(DS24),\"\",ROUND(0+DS24/0.5,0)*0.5)))","v":""},"","","","","",{"$f":"IF(MainSheet!$G38=\"\",\"\",IF(DY24=\"\",\"\",IF(ISERROR(DY24),\"\",ROUND(0+DY24/0.5,0)*0.5)))","v":""},"","","","","",{"$f":"IF(MainSheet!$G38=\"\",\"\",IF(EE24=\"\",\"\",IF(ISERROR(EE24),\"\",ROUND(0+EE24/0.5,0)*0.5)))","v":""},"","",{"$f":"IF(BG24=\"\",\"\",COUNT($EH$2:$EH$26)-(RANK(EH24,$EH$2:$EH$26,1)+COUNTIF($EH$2:EH24,EH24)-1)+1)","v":""},{"$f":"IF($BG24=\"\",\"\",IF(ISNA(VLOOKUP(EI24,Tables!O$5:P$28,2,FALSE)),\"0\",VLOOKUP(EI24,Tables!O$5:P$28,2,FALSE)))","v":""},"","",{"$f":"IF(BG24=\"\",\"\",IF(EL24=0,0,COUNT($EL$2:$EL$26)-(RANK(EL24,$EL$2:$EL$26,1)+COUNTIF($EL$2:EL24,EL24)-1)+1))","v":""},{"$f":"IF($BG24=\"\",\"\",IF(ISNA(VLOOKUP(EM24,Tables!Q$5:R$26,2,FALSE)),\"0\",VLOOKUP(EM24,Tables!Q$5:R$26,2,FALSE)))","v":""},{"$f":"IF(BG24=\"\",\"\",Form!K28)","v":""},"","","","",{"$f":"IF(BG24=\"\",\"\",IF(ES24=0,0,COUNT($ES$2:$ES$26)-(RANK(ES24,$ES$2:$ES$26,1)+COUNTIF($ES$2:ES24,ES24)-1)+1))","v":""},{"$f":"IF($BG24=\"\",\"\",IF(ISERROR(ET24),0,IF(ISNA(VLOOKUP(ET24,Tables!S$5:T$26,2,FALSE)),\"0\",VLOOKUP(ET24,Tables!S$5:T$26,2,FALSE))))","v":""},{"$f":"IF(BF24=\"\",\"\",IF(MainSheet!D38=\"Scratched\",\"\",IF(ISERROR(BL24+BQ24+CH24+CR24+DB24+DK24+DO24+EJ24+EN24+EU24),\"\",BL24+BQ24+CH24+CR24+DB24+DK24+DO24+EJ24+EN24+EU24)))","v":""},"","",{"$f":"IF(EX24=\"\",\"\",COUNT($EX$2:$EX$26)-(RANK(EX24,$EX$2:$EX$26)+COUNTIF($EX$2:EX24,EX24)-1)+1)","v":""},"","","","",{"$f":"IF(FC24=\"\",\"\",IF(1/FC24*MainSheet!$R$11>100,100,1/FC24*MainSheet!$R$11))","v":""},null,"",{"$f":"IF(FF24=\"\",\"\",IF(1/FF24*MainSheet!$R$11>100,100,1/FF24*MainSheet!$R$11))","v":""}]
[{"$f":"IF(Meetings1!A25=\"\",\"\",IF(Meetings1!A25=\"END\",\"END\",IF(Meetings1!B25=\"\",\"\",getAddress(Meetings1!E25))))","v":"http://formguide.cyberhorse.com.au/Form/form.html?formdate=2012-05-14&track=K'ton&raceno=7"},{"$nulls":11},{"$f":"IF(ISERROR(N25),\"\",IF(ISNA(VLOOKUP(N25,RaceList!$M$9:$O$41,3,FALSE)),\"\",VLOOKUP(N25,RaceList!$M$9:$O$41,3,FALSE)))","v":""},{"$f":"IF(O25=\"\",\"\",IF(Meetings2!$B25=\"\",\"\",Meetings2!$B25))","v":""},{"$f":"IF(Meetings2!D25=\"\",\"\",getAddress(Meetings2!D25))","v":""},{"$f":"IF(Meetings2!E25=\"\",\"\",getAddress(Meetings2!E25))","v":""},{"$f":"IF(Meetings2!F25=\"\",\"\",getAddress(Meetings2!F25))","v":""},{"$f":"IF(Meetings2!G25=\"\",\"\",getAddress(Meetings2!G25))","v":""},{"$f":"IF(Meetings2!H25=\"\",\"\",getAddress(Meetings2!H25))","v":""},{"$f":"IF(Meetings2!I25=\"\",\"\",getAddress(Meetings2!I25))","v":""},{"$f":"IF(Meetings2!J25=\"\",\"\",getAddress(Meetings2!J25))","v":""},{"$f":"IF(Meetings2!K25=\"\",\"\",getAddress(Meetings2!K25))","v":""},{"$f":"IF(Meetings2!L25=\"\",\"\",getAddress(Meetings2!L25))","v":""},{"$f":"IF(Meetings2!M25=\"\",\"\",getAddress(Meetings2!M25))","v":""},{"$f":"IF(Meetings2!AA24=\"\",\"\",getAddress(Meetings2!AA24))","v":""},{"$f":"IF(AA25=\"\",\"\",IF(AA25=\"Career::\",Form!A23,\"\"))","v":""},{"$nulls":21},3,"",{"$f":"IF(Race!J25<>\"\",Race!C25,\"\")","v":""},{"$f":"IF(AX25<>\"\",Race!N25,\"\")","v":""},{"$f":"IF(AX25<>\"\",Race!I25,\"\")","v":""},{"$f":"IF(AX25<>\"\",Race!L25,\"\")","v":""},null,"",{"$f":"IF(ISNUMBER(Form!J29),LEFT(Form!D29,FIND(\"(\",Form!D29)-2),\"\")","v":""},null,{"$f":"IF(BD25=\"\",\"\",Form!B29)","v":""},"",{"$f":"IF(BG25=\"\",\"\",Form!G29)","v":""},{"$f":"IF($BG25=\"\",\"\",IF(MainSheet!G39=\"\",\"\",Form!H29))","v":""},"",{"$f":"IF(BG25=\"\",\"\",COUNT($BJ$2:$BJ$26)-(RANK(BJ25,$BJ$2:$BJ$26)+COUNTIF($BJ$2:BJ25,BJ25)-1)+1)","v":""},{"$f":"IF($BG25=\"\",\"\",IF(ISNA(VLOOKUP(BK25,Tables!A$5:B$28,2,FALSE)),0,VLOOKUP(BK25,Tables!A$5:B$28,2,FALSE)))","v":""},{"$f":"IF($BD25=\"\",\"\",Form!I27)","v":""},{"$f":"IF(BG25=\"\",\"\",Form!J29)","v":""},"",{"$f":"IF(BG25=\"\",\"\",COUNT($BO$2:$BO$26)-(RANK(BO25,$BO$2:$BO$26,1)+COUNTIF($BO$2:BO25,BO25)-1)+1)","v":""},{"$f":"IF($BG25=\"\",\"\",IF(ISNA(VLOOKUP(BP25,Tables!C$5:D$28,2,FALSE)),0,VLOOKUP(BP25,Tables!C$5:D$28,2,FALSE)))","v":""},{"$f":"IF(BG25=\"\",\"\",INDEX(Form!$B$1:'Form'!$J$1000,MATCH($BD25,Form!$A$1:'Form'!$A$1000,0)+3,8))","v":""},"","","","","","",{"$f":"IF(BG25=\"\",\"\",INDEX(Form!$B$1:'Form'!$J$1000,MATCH($BD25,Form!$A$1:'Form'!$A$1000,0)+3,9))","v":""},"","","","","","","",{"$f":"IF(MainSheet!G39=\"\",\"\",IF(CF25=\"\",\"\",COUNT($CF$2:$CF$26)-(RANK(CF25,$CF$2:$CF$26,1)+COUNTIF($CF$2:CF25,CF25)-1)+1))","v":""},{"$f":"IF($BY25=\"\",\"\",IF(Tables!$F$3<>\"\",0,IF(ISNA(VLOOKUP(CG25,Tables!E$5:F$28,2,FALSE)),0,VLOOKUP(CG25,Tables!E$5:F$28,2,FALSE))))","v":""},{"$f":"IF(BG25=\"\",\"\",INDEX(Form!$B$1:'Form'!$J$1000,MATCH($BD25,Form!$A$1:'Form'!$A$1000,0)+5,4))","v":""},"","","","","","","",{"$f":"IF(BG25=\"\",\"\",IF(CI25=0,0,COUNT($CP$2:$CP$26)-(RANK(CP25,$CP$2:$CP$26,1)+COUNTIF($CP$2:CP25,CP25)-1)+1))","v":""},{"$f":"IF($CI25=\"\",\"\",IF(Tables!$H$3<>\"\",0,IF(ISNA(VLOOKUP(CQ25,Tables!G$5:H$28,2,FALSE)),0,VLOOKUP(CQ25,Tables!G$5:H$28,2,FALSE))))","v":""},{"$f":"IF(BG25=\"\",\"\",INDEX(Form!$B$1:'Form'!$J$1000,MATCH($BD25,Form!$A$1:'Form'!$A$1000,0)+5,5))","v":""},"","","","","","","",{"$f":"IF(BG25=\"\",\"\",IF(CS25=0,0,COUNT($CZ$2:$CZ$26)-(RANK(CZ25,$CZ$2:$CZ$26,1)+COUNTIF($CZ$2:CZ25,CZ25)-1)+1))","v":""},{"$f":"IF($CS25=\"\",\"\",IF(Tables!$J$3<>\"\",0,IF(Tables!$K$1=0,0,IF(ISNA(VLOOKUP(DA25,Tables!$I$5:$J$28,2,FALSE)),\"0\",VLOOKUP(DA25,Tables!$I$5:$J$28,2,FALSE)))))","v":""},"","","","","","","",{"$f":"IF(BG25=\"\",\"\",COUNT($DI$2:$DI$26)-(RANK(DI25,$DI$2:$DI$26,1)+COUNTIF($DI$2:DI25,DI25)-1)+1)","v":""},{"$f":"IF($BG25=\"\",\"\",IF(ISNA(VLOOKUP(DJ25,Tables!K$5:L$28,2,FALSE)),\"0\",VLOOKUP(DJ25,Tables!K$5:L$28,2,FALSE)))","v":""},"",{"$f":"IF(BG25=\"\",\"\",(DL25-Form!$I$4))","v":""},{"$f":"IF(BG25=\"\",\"\",COUNT($DM$2:$DM$26)-(RANK(DM25,$DM$2:$DM$26,1)+COUNTIF($DM$2:DM25,DM25)-1)+1)","v":""},{"$f":"IF($BG25=\"\",\"\",IF(ISERROR(DN25),1,IF(ISNA(VLOOKUP(DN25,Tables!M$5:N$28,2,FALSE)),\"0\",VLOOKUP(DN25,Tables!M$5:N$28,2,FALSE))))","v":""},"","","","",{"$f":"IF(MainSheet!$G39=\"\",\"\",IF(DS25=\"\",\"\",IF(ISERROR(DS25),\"\",ROUND(0+DS25/0.5,0)*0.5)))","v":""},"","","","","",{"$f":"IF(MainSheet!$G39=\"\",\"\",IF(DY25=\"\",\"\",IF(ISERROR(DY25),\"\",ROUND(0+DY25/0.5,0)*0.5)))","v":""},"","","","","",{"$f":"IF(MainSheet!$G39=\"\",\"\",IF(EE25=\"\",\"\",IF(ISERROR(EE25),\"\",ROUND(0+EE25/0.5,0)*0.5)))","v":""},"","",{"$f":"IF(BG25=\"\",\"\",COUNT($EH$2:$EH$26)-(RANK(EH25,$EH$2:$EH$26,1)+COUNTIF($EH$2:EH25,EH25)-1)+1)","v":""},{"$f":"IF($BG25=\"\",\"\",IF(ISNA(VLOOKUP(EI25,Tables!O$5:P$28,2,FALSE)),\"0\",VLOOKUP(EI25,Tables!O$5:P$28,2,FALSE)))","v":""},"","",{"$f":"IF(BG25=\"\",\"\",IF(EL25=0,0,COUNT($EL$2:$EL$26)-(RANK(EL25,$EL$2:$EL$26,1)+COUNTIF($EL$2:EL25,EL25)-1)+1))","v":""},{"$f":"IF($BG25=\"\",\"\",IF(ISNA(VLOOKUP(EM25,Tables!Q$5:R$26,2,FALSE)),\"0\",VLOOKUP(EM25,Tables!Q$5:R$26,2,FALSE)))","v":""},{"$f":"IF(BG25=\"\",\"\",Form!K29)","v":""},"","","","",{"$f":"IF(BG25=\"\",\"\",IF(ES25=0,0,COUNT($ES$2:$ES$26)-(RANK(ES25,$ES$2:$ES$26,1)+COUNTIF($ES$2:ES25,ES25)-1)+1))","v":""},{"$f":"IF($BG25=\"\",\"\",IF(ISERROR(ET25),0,IF(ISNA(VLOOKUP(ET25,Tables!S$5:T$26,2,FALSE)),\"0\",VLOOKUP(ET25,Tables!S$5:T$26,2,FALSE))))","v":""},{"$f":"IF(BF25=\"\",\"\",IF(MainSheet!D39=\"Scratched\",\"\",IF(ISERROR(BL25+BQ25+CH25+CR25+DB25+DK25+DO25+EJ25+EN25+EU25),\"\",BL25+BQ25+CH25+CR25+DB25+DK25+DO25+EJ25+EN25+EU25)))","v":""},"","",{"$f":"IF(EX25=\"\",\"\",COUNT($EX$2:$EX$26)-(RANK(EX25,$EX$2:$EX$26)+COUNTIF($EX$2:EX25,EX25)-1)+1)","v":""},"","","","",{"$f":"IF(FC25=\"\",\"\",IF(1/FC25*MainSheet!$R$11>100,100,1/FC25*MainSheet!$R$11))","v":""},null,"",{"$f":"IF(FF25=\"\",\"\",IF(1/FF25*MainSheet!$R$11>100,100,1/FF25*MainSheet!$R$11))","v":""}]
[{"$f":"IF(Meetings1!A26=\"\",\"\",IF(Meetings1!A26=\"END\",\"END\",IF(Meetings1!B26=\"\",\"\",getAddress(Meetings1!E26))))","v":"http://formguide.cyberhorse.com.au/Form/form.html?formdate=2012-05-14&track=K'ton&raceno=8"},{"$nulls":11},{"$f":"IF(ISERROR(N26),\"\",IF(ISNA(VLOOKUP(N26,RaceList!$M$9:$O$41,3,FALSE)),\"\",VLOOKUP(N26,RaceList!$M$9:$O$41,3,FALSE)))","v":""},{"$f":"IF(O26=\"\",\"\",IF(Meetings2!$B26=\"\",\"\",Meetings2!$B26))","v":""},{"$f":"IF(Meetings2!D26=\"\",\"\",getAddress(Meetings2!D26))","v":""},{"$f":"IF(Meetings2!E26=\"\",\"\",getAddress(Meetings2!E26))","v":""},{"$f":"IF(Meetings2!F26=\"\",\"\",getAddress(Meetings2!F26))","v":""},{"$f":"IF(Meetings2!G26=\"\",\"\",getAddress(Meetings2!G26))","v":""},{"$f":"IF(Meetings2!H26=\"\",\"\",getAddress(Meetings2!H26))","v":""},{"$f":"IF(Meetings2!I26=\"\",\"\",getAddress(Meetings2!I26))","v":""},{"$f":"IF(Meetings2!J26=\"\",\"\",getAddress(Meetings2!J26))","v":""},{"$f":"IF(Meetings2!K26=\"\",\"\",getAddress(Meetings2!K26))","v":""},{"$f":"IF(Meetings2!L26=\"\",\"\",getAddress(Meetings2!L26))","v":""},{"$f":"IF(Meetings2!M26=\"\",\"\",getAddress(Meetings2!M26))","v":""},{"$f":"IF(Meetings2!AA25=\"\",\"\",getAddress(Meetings2!AA25))","v":""},{"$f":"IF(AA26=\"\",\"\",IF(AA26=\"Career::\",Form!A24,\"\"))","v":""},"Comments:: Followed len len 3rd I'm Mysterious"," On The Rocks 1300m Geesyn Hcp (62) Apr 24 with 10-1/2 len 12th Gone Skiing 1400m Sale Hcp (62) Dead trk May 06 . Faded from 4th on turn at latest outing.",{"$nulls":19},3,"",{"$f":"IF(Race!J26<>\"\",Race!C26,\"\")","v":""},{"$f":"IF(AX26<>\"\",Race!N26,\"\")","v":""},{"$f":"IF(AX26<>\"\",Race!I26,\"\")","v":""},{"$f":"IF(AX26<>\"\",Race!L26,\"\")","v":""}]
[{"$f":"IF(Meetings1!A27=\"\",\"\",IF(Meetings1!A27=\"END\",\"END\",IF(Meetings1!B27=\"\",\"\",getAddress(Meetings1!E27))))","v":"http://formguide.cyberhorse.com.au/Form/form.html?formdate=2012-05-14&track=K'ton&raceno=9"},{"$nulls":11},{"$f":"IF(ISERROR(N27),\"\",IF(ISNA(VLOOKUP(N27,RaceList!$M$9:$O$41,3,FALSE)),\"\",VLOOKUP(N27,RaceList!$M$9:$O$41,3,FALSE)))","v":""},{"$f":"IF(O27=\"\",\"\",IF(Meetings2!$B27=\"\",\"\",Meetings2!$B27))","v":""},{"$f":"IF(Meetings2!D27=\"\",\"\",getAddress(Meetings2!D27))","v":""},{"$f":"IF(Meetings2!E27=\"\",\"\",getAddress(Meetings2!E27))","v":""},{"$f":"IF(Meetings2!F27=\"\",\"\",getAddress(Meetings2!F27))","v":""},{"$f":"IF(Meetings2!G27=\"\",\"\",getAddress(Meetings2!G27))","v":""},{"$f":"IF(Meetings2!H27=\"\",\"\",getAddress(Meetings2!H27))","v":""},{"$f":"IF(Meetings2!I27=\"\",\"\",getAddress(Meetings2!I27))","v":""},{"$f":"IF(Meetings2!J27=\"\",\"\",getAddress(Meetings2!J27))","v":""},{"$f":"IF(Meetings2!K27=\"\",\"\",getAddress(Meetings2!K27))","v":""},{"$f":"IF(Meetings2!L27=\"\",\"\",getAddress(Meetings2!L27))","v":""},{"$f":"IF(Meetings2!M27=\"\",\"\",getAddress(Meetings2!M27))","v":""},{"$f":"IF(Meetings2!AA26=\"\",\"\",getAddress(Meetings2!AA26))","v":""},{"$f":"IF(AA27=\"\",\"\",IF(AA27=\"Career::\",Form!A25,\"\"))","v":"Agasha"},"Career::",{"$nulls":20},3,"",{"$f":"IF(Race!J27<>\"\",Race!C27,\"\")","v":""},{"$f":"IF(AX27<>\"\",Race!N27,\"\")","v":""},{"$f":"IF(AX27<>\"\",Race!I27,\"\")","v":""},{"$f":"IF(AX27<>\"\",Race!L27,\"\")","v":""},{"$nulls":14},{"$f":"IF(MainSheet!$G41=\"\",\"\",IF(RANK(BM27,$BN$2:$BN$26)<6,RANK(BM27,$BN$2:$BN$26),\"\"))","v":""},null,null,null,"",{"$f":"IF(BT27=\"\",\"\",SUBSTITUTE(BT27,\"-\",\" \"))","v":""},{"$f":"IF(BT27=\"\",\"\",0+TRIM(CLEAN(LEFT(BT27,FIND(\"-\",BT27)-1))))","v":""},"","",null,null,{"$f":"IF(BZ27=\"\",\"\",RIGHT(BY27,LEN(BY27)-SEARCH(\":\",BY27,1)))","v":""},{"$f":"IF(CA27=\"\",\"\",SUBSTITUTE(CA27,\"-\",\" \"))","v":""},{"$f":"IF(CA27=\"\",\"\",0+TRIM(CLEAN(LEFT(CA27,FIND(\"-\",CA27)-1))))","v":""},{"$f":"IF(BZ27=\"\",\"\",MID(CB27,SEARCH(\" \",CB27,1)+1,SEARCH(\" \",CB27,SEARCH(\" \",CB27,1)+1)-SEARCH(\" \",CB27,1)))","v":""},{"$f":"IF(BZ27=\"\",\"\",RIGHT(CB27,LEN(CB27)-SEARCH(\" \",CB27,SEARCH(\" \",CB27,1)+1)))","v":""},{"$f":"IF(CBF27=\"\",\"\",((BV27+CC27)*2)+BW27+BX27+CD27+CE27)","v":""},{"$nulls":4},{"$f":"IF(CJ27=\"\",\"\",RIGHT(CI27,LEN(CI27)-SEARCH(\":\",CI27,1)))","v":""},{"$f":"IF(CK27=\"\",\"\",SUBSTITUTE(CK27,\"-\",\" \"))","v":""},{"$f":"IF(CK27=\"\",\"\",0+TRIM(CLEAN(LEFT(CK27,FIND(\"-\",CK27)-1))))","v":""},{"$f":"IF(CJ27=\"\",\"\",MID(CL27,SEARCH(\" \",CL27,1)+1,SEARCH(\" \",CL27,SEARCH(\" \",CL27,1)+1)-SEARCH(\" \",CL27,1)))","v":""},{"$f":"IF(CJ27=\"\",\"\",RIGHT(CL27,LEN(CL27)-SEARCH(\" \",CL27,SEARCH(\" \",CL27,1)+1)))","v":""},{"$f":"IF(CJ27=\"\",\"\",(CM27*2)+CN27+CO27)","v":""},{"$nulls":4},{"$f":"IF(CS27=\"\",\"\",RIGHT(CS27,LEN(CS27)-SEARCH(\":\",CS27,1)))","v":""},{"$f":"IF(CU27=\"\",\"\",SUBSTITUTE(CU27,\"-\",\" \"))","v":""},{"$f":"IF(CU27=\"\",\"\",0+TRIM(CLEAN(LEFT(CU27,FIND(\"-\",CU27)-1))))","v":""},{"$f":"IF(CS27=\"\",\"\",MID(CV27,SEARCH(\" \",CV27,1)+1,SEARCH(\" \",CV27,SEARCH(\" \",CV27,1)+1)-SEARCH(\" \",CV27,1)))","v":""},{"$f":"IF(CS27=\"\",\"\",RIGHT(CV27,LEN(CV27)-SEARCH(\" \",CV27,SEARCH(\" \",CV27,1)+1)))","v":""},{"$f":"IF(CS27=\"\",\"\",(CW27*2)+CX27+CY27)","v":""},{"$nulls":8},{"$f":"IF(MainSheet!$G41=\"\",\"\",DE27+DH27)","v":""},{"$f":"IF(MainSheet!$G41=\"\",\"\",IF(RANK(DI27,$DI$2:$DI$26)<6,RANK(DI27,$DI$2:$DI$26),\"\"))","v":""},{"$nulls":38},"",{"$f":"IF(EW27=\"\",\"\",IF(EW27=0,1,EW27+((EW27*EW27*$EZ$1)/($EX$1-$EY$1))))","v":""},{"$f":"IF(EX27=\"\",\"\",COUNT($EX$2:$EX$26)-(RANK(EX27,$EX$2:$EX$26)+COUNTIF($EX$2:EX27,EX27)-1)+1)","v":""},"","","",{"$f":"IF(EX27=1,0.02,IF(AND(EX27=\"\",FA27=\"\"),\"\",IF(FB27=\"\",EX27/$FB$1,FB27)))","v":""},{"$f":"IF(FC27=\"\",\"\",1/FC27*MainSheet!$R$11)","v":""}]
[{"$f":"IF(Meetings1!A28=\"\",\"\",IF(Meetings1!A28=\"END\",\"END\",IF(Meetings1!B28=\"\",\"\",getAddress(Meetings1!E28))))","v":""},{"$nulls":11},{"$f":"IF(ISERROR(N28),\"\",IF(ISNA(VLOOKUP(N28,RaceList!$M$9:$O$41,3,FALSE)),\"\",VLOOKUP(N28,RaceList!$M$9:$O$41,3,FALSE)))","v":""},{"$f":"IF(O28=\"\",\"\",IF(Meetings2!$B28=\"\",\"\",Meetings2!$B28))","v":""},{"$f":"IF(Meetings2!D28=\"\",\"\",getAddress(Meetings2!D28))","v":""},{"$f":"IF(Meetings2!E28=\"\",\"\",getAddress(Meetings2!E28))","v":""},{"$f":"IF(Meetings2!F28=\"\",\"\",getAddress(Meetings2!F28))","v":""},{"$f":"IF(Meetings2!G28=\"\",\"\",getAddress(Meetings2!G28))","v":""},{"$f":"IF(Meetings2!H28=\"\",\"\",getAddress(Meetings2!H28))","v":""},{"$f":"IF(Meetings2!I28=\"\",\"\",getAddress(Meetings2!I28))","v":""},{"$f":"IF(Meetings2!J28=\"\",\"\",getAddress(Meetings2!J28))","v":""},{"$f":"IF(Meetings2!K28=\"\",\"\",getAddress(Meetings2!K28))","v":""},{"$f":"IF(Meetings2!L28=\"\",\"\",getAddress(Meetings2!L28))","v":""},{"$f":"IF(Meetings2!M28=\"\",\"\",getAddress(Meetings2!M28))","v":""},{"$f":"IF(Meetings2!AA27=\"\",\"\",getAddress(Meetings2!AA27))","v":""},{"$f":"IF(AA28=\"\",\"\",IF(AA28=\"Career::\",Form!A26,\"\"))","v":""},"9::1-0-3",{"$nulls":20},2,"",{"$f":"IF(Race!J28<>\"\",Race!C28,\"\")","v":""},{"$f":"IF(AX28<>\"\",Race!N28,\"\")","v":""},{"$f":"IF(AX28<>\"\",Race!I28,\"\")","v":""},{"$f":"IF(AX28<>\"\",Race!L28,\"\")","v":""},{"$nulls":14},{"$f":"IF(MainSheet!$G42=\"\",\"\",IF(RANK(BM28,$BN$2:$BN$26)<6,RANK(BM28,$BN$2:$BN$26),\"\"))","v":""},null,null,null,"","","","","",null,null,"","","","","","",{"$nulls":4},"","","","","","",{"$nulls":4},"","","","","","",{"$nulls":8},{"$f":"IF(MainSheet!$G42=\"\",\"\",DE28+DH28)","v":""},{"$f":"IF(MainSheet!$G42=\"\",\"\",IF(RANK(DI28,$DI$2:$DI$26)<6,RANK(DI28,$DI$2:$DI$26),\"\"))","v":""},{"$nulls":38},"","",{"$f":"IF(EX28=\"\",\"\",COUNT($EX$2:$EX$26)-(RANK(EX28,$EX$2:$EX$26)+COUNTIF($EX$2:EX28,EX28)-1)+1)","v":""},"","","","",{"$f":"IF(FC28=\"\",\"\",1/FC28*MainSheet!$R$11)","v":""}]
[{"$f":"IF(Meetings1!A29=\"\",\"\",IF(Meetings1!A29=\"END\",\"END\",IF(Meetings1!B29=\"\",\"\",getAddress(Meetings1!E29))))","v":""},{"$nulls":11},{"$f":"IF(ISERROR(N29),\"\",IF(ISNA(VLOOKUP(N29,RaceList!$M$9:$O$41,3,FALSE)),\"\",VLOOKUP(N29,RaceList!$M$9:$O$41,3,FALSE)))","v":""},{"$f":"IF(O29=\"\",\"\",IF(Meetings2!$B29=\"\",\"\",Meetings2!$B29))","v":""},{"$f":"IF(Meetings2!D29=\"\",\"\",getAddress(Meetings2!D29))","v":""},{"$f":"IF(Meetings2!E29=\"\",\"\",getAddress(Meetings2!E29))","v":""},{"$f":"IF(Meetings2!F29=\"\",\"\",getAddress(Meetings2!F29))","v":""},{"$f":"IF(Meetings2!G29=\"\",\"\",getAddress(Meetings2!G29))","v":""},{"$f":"IF(Meetings2!H29=\"\",\"\",getAddress(Meetings2!H29))","v":""},{"$f":"IF(Meetings2!I29=\"\",\"\",getAddress(Meetings2!I29))","v":""},{"$f":"IF(Meetings2!J29=\"\",\"\",getAddress(Meetings2!J29))","v":""},{"$f":"IF(Meetings2!K29=\"\",\"\",getAddress(Meetings2!K29))","v":""},{"$f":"IF(Meetings2!L29=\"\",\"\",getAddress(Meetings2!L29))","v":""},{"$f":"IF(Meetings2!M29=\"\",\"\",getAddress(Meetings2!M29))","v":""},{"$f":"IF(Meetings2!AA28=\"\",\"\",getAddress(Meetings2!AA28))","v":""},{"$f":"IF(AA29=\"\",\"\",IF(AA29=\"Career::\",Form!A27,\"\"))","v":""},"Fast::",{"$nulls":20},2,"",{"$f":"IF(Race!J29<>\"\",Race!C29,\"\")","v":""},{"$f":"IF(AX29<>\"\",Race!N29,\"\")","v":""},{"$f":"IF(AX29<>\"\",Race!I29,\"\")","v":""},{"$f":"IF(AX29<>\"\",Race!L29,\"\")","v":""},{"$nulls":14},{"$f":"IF(MainSheet!$G43=\"\",\"\",IF(RANK(BM29,$BN$2:$BN$26)<6,RANK(BM29,$BN$2:$BN$26),\"\"))","v":""},null,null,null,"","","","","",null,null,"","","","","","",{"$nulls":4},"","","","","","",{"$nulls":4},"","","","","","",{"$nulls":8},{"$f":"IF(MainSheet!$G43=\"\",\"\",DE29+DH29)","v":""},{"$f":"IF(MainSheet!$G43=\"\",\"\",IF(RANK(DI29,$DI$2:$DI$26)<6,RANK(DI29,$DI$2:$DI$26),\"\"))","v":""},{"$nulls":38},"","",{"$f":"IF(EX29=\"\",\"\",COUNT($EX$2:$EX$26)-(RANK(EX29,$EX$2:$EX$26)+COUNTIF($EX$2:EX29,EX29)-1)+1)","v":""},"","","","",{"$f":"IF(FC29=\"\",\"\",1/FC29*MainSheet!$R$11)","v":""}]
[{"$f":"IF(Meetings1!A30=\"\",\"\",IF(Meetings1!A30=\"END\",\"END\",IF(Meetings1!B30=\"\",\"\",getAddress(Meetings1!E30))))","v":""},{"$nulls":11},{"$f":"IF(ISERROR(N30),\"\",IF(ISNA(VLOOKUP(N30,RaceList!$M$9:$O$41,3,FALSE)),\"\",VLOOKUP(N30,RaceList!$M$9:$O$41,3,FALSE)))","v":""},{"$f":"IF(O30=\"\",\"\",IF(Meetings2!$B30=\"\",\"\",Meetings2!$B30))","v":""},{"$f":"IF(Meetings2!D30=\"\",\"\",getAddress(Meetings2!D30))","v":""},{"$f":"IF(Meetings2!E30=\"\",\"\",getAddress(Meetings2!E30))","v":""},{"$f":"IF(Meetings2!F30=\"\",\"\",getAddress(Meetings2!F30))","v":""},{"$f":"IF(Meetings2!G30=\"\",\"\",getAddress(Meetings2!G30))","v":""},{"$f":"IF(Meetings2!H30=\"\",\"\",getAddress(Meetings2!H30))","v":""},{"$f":"IF(Meetings2!I30=\"\",\"\",getAddress(Meetings2!I30))","v":""},{"$f":"IF(Meetings2!J30=\"\",\"\",getAddress(Meetings2!J30))","v":""},{"$f":"IF(Meetings2!K30=\"\",\"\",getAddress(Meetings2!K30))","v":""},{"$f":"IF(Meetings2!L30=\"\",\"\",getAddress(Meetings2!L30))","v":""},{"$f":"IF(Meetings2!M30=\"\",\"\",getAddress(Meetings2!M30))","v":""},{"$f":"IF(Meetings2!AA29=\"\",\"\",getAddress(Meetings2!AA29))","v":""},{"$f":"IF(AA30=\"\",\"\",IF(AA30=\"Career::\",Form!A28,\"\"))","v":""},"0::0-0-0",{"$nulls":20},2,"",{"$f":"IF(Race!J30<>\"\",Race!C30,\"\")","v":""},{"$f":"IF(AX30<>\"\",Race!N30,\"\")","v":""},{"$f":"IF(AX30<>\"\",Race!I30,\"\")","v":""},{"$f":"IF(AX30<>\"\",Race!L30,\"\")","v":""},{"$nulls":14},{"$f":"IF(MainSheet!$G44=\"\",\"\",IF(RANK(BM30,$BN$2:$BN$26)<6,RANK(BM30,$BN$2:$BN$26),\"\"))","v":""},null,null,null,"","","","","",null,null,"","","","","","",{"$nulls":4},"","","","","","",{"$nulls":4},"","","","","","",{"$nulls":8},{"$f":"IF(MainSheet!$G44=\"\",\"\",DE30+DH30)","v":""},{"$f":"IF(MainSheet!$G44=\"\",\"\",IF(RANK(DI30,$DI$2:$DI$26)<6,RANK(DI30,$DI$2:$DI$26),\"\"))","v":""},{"$nulls":38},"","",{"$f":"IF(EX30=\"\",\"\",COUNT($EX$2:$EX$26)-(RANK(EX30,$EX$2:$EX$26)+COUNTIF($EX$2:EX30,EX30)-1)+1)","v":""},"","","","",{"$f":"IF(FC30=\"\",\"\",1/FC30*MainSheet!$R$11)","v":""}]
[{"$f":"IF(Meetings1!A31=\"\",\"\",IF(Meetings1!A31=\"END\",\"END\",IF(Meetings1!B31=\"\",\"\",getAddress(Meetings1!E31))))","v":""},{"$nulls":11},{"$f":"IF(ISERROR(N31),\"\",IF(ISNA(VLOOKUP(N31,RaceList!$M$9:$O$41,3,FALSE)),\"\",VLOOKUP(N31,RaceList!$M$9:$O$41,3,FALSE)))","v":""},{"$f":"IF(O31=\"\",\"\",IF(Meetings2!$B31=\"\",\"\",Meetings2!$B31))","v":""},{"$f":"IF(Meetings2!D31=\"\",\"\",getAddress(Meetings2!D31))","v":""},{"$f":"IF(Meetings2!E31=\"\",\"\",getAddress(Meetings2!E31))","v":""},{"$f":"IF(Meetings2!F31=\"\",\"\",getAddress(Meetings2!F31))","v":""},{"$f":"IF(Meetings2!G31=\"\",\"\",getAddress(Meetings2!G31))","v":""},{"$f":"IF(Meetings2!H31=\"\",\"\",getAddress(Meetings2!H31))","v":""},{"$f":"IF(Meetings2!I31=\"\",\"\",getAddress(Meetings2!I31))","v":""},{"$f":"IF(Meetings2!J31=\"\",\"\",getAddress(Meetings2!J31))","v":""},{"$f":"IF(Meetings2!K31=\"\",\"\",getAddress(Meetings2!K31))","v":""},{"$f":"IF(Meetings2!L31=\"\",\"\",getAddress(Meetings2!L31))","v":""},{"$f":"IF(Meetings2!M31=\"\",\"\",getAddress(Meetings2!M31))","v":""},{"$f":"IF(Meetings2!AA30=\"\",\"\",getAddress(Meetings2!AA30))","v":""},{"$f":"IF(AA31=\"\",\"\",IF(AA31=\"Career::\",Form!A29,\"\"))","v":""},"12-14 10.5L"," Sale","2012-05-06"," 1400m"," Dead"," Race 6"," Hcp (62)"," RB62",12000,0," J R Todd",11," Cd 59.0-0.0",-54," 1::24.94"," ()"," 11/1"," Settled- 1200- 800- Turn-"," 1-Gone Skiing 60.0",null,null,2,"",{"$f":"IF(Race!J31<>\"\",Race!C31,\"\")","v":""},{"$f":"IF(AX31<>\"\",Race!N31,\"\")","v":""},{"$f":"IF(AX31<>\"\",Race!I31,\"\")","v":""},{"$f":"IF(AX31<>\"\",Race!L31,\"\")","v":""},{"$nulls":14},{"$f":"IF(MainSheet!$G45=\"\",\"\",IF(RANK(BM31,$BN$2:$BN$26)<6,RANK(BM31,$BN$2:$BN$26),\"\"))","v":""},null,null,null,"","","","","",null,null,"","","","","","",{"$nulls":4},"","","","","","",{"$nulls":4},"","","","","","",{"$nulls":8},{"$f":"IF(MainSheet!$G45=\"\",\"\",DE31+DH31)","v":""},{"$f":"IF(MainSheet!$G45=\"\",\"\",IF(RANK(DI31,$DI$2:$DI$26)<6,RANK(DI31,$DI$2:$DI$26),\"\"))","v":""},{"$nulls":38},"","",{"$f":"IF(EX31=\"\",\"\",COUNT($EX$2:$EX$26)-(RANK(EX31,$EX$2:$EX$26)+COUNTIF($EX$2:EX31,EX31)-1)+1)","v":""},"","","","",{"$f":"IF(FC31=\"\",\"\",1/FC31*MainSheet!$R$11)","v":""}]
[{"$f":"IF(Meetings1!A32=\"\",\"\",IF(Meetings1!A32=\"END\",\"END\",IF(Meetings1!B32=\"\",\"\",getAddress(Meetings1!E32))))","v":""},{"$nulls":11},{"$f":"IF(ISERROR(N32),\"\",IF(ISNA(VLOOKUP(N32,RaceList!$M$9:$O$41,3,FALSE)),\"\",VLOOKUP(N32,RaceList!$M$9:$O$41,3,FALSE)))","v":""},{"$f":"IF(O32=\"\",\"\",IF(Meetings2!$B32=\"\",\"\",Meetings2!$B32))","v":""},{"$f":"IF(Meetings2!D32=\"\",\"\",getAddress(Meetings2!D32))","v":""},{"$f":"IF(Meetings2!E32=\"\",\"\",getAddress(Meetings2!E32))","v":""},{"$f":"IF(Meetings2!F32=\"\",\"\",getAddress(Meetings2!F32))","v":""},{"$f":"IF(Meetings2!G32=\"\",\"\",getAddress(Meetings2!G32))","v":""},{"$f":"IF(Meetings2!H32=\"\",\"\",getAddress(Meetings2!H32))","v":""},{"$f":"IF(Meetings2!I32=\"\",\"\",getAddress(Meetings2!I32))","v":""},{"$f":"IF(Meetings2!J32=\"\",\"\",getAddress(Meetings2!J32))","v":""},{"$f":"IF(Meetings2!K32=\"\",\"\",getAddress(Meetings2!K32))","v":""},{"$f":"IF(Meetings2!L32=\"\",\"\",getAddress(Meetings2!L32))","v":""},{"$f":"IF(Meetings2!M32=\"\",\"\",getAddress(Meetings2!M32))","v":""},{"$f":"IF(Meetings2!AA31=\"\",\"\",getAddress(Meetings2!AA31))","v":""},{"$f":"IF(AA32=\"\",\"\",IF(AA32=\"Career::\",Form!A30,\"\"))","v":""},"3-10 1.3L"," GeeSyn","2012-04-24"," 1300m"," Good"," Race 7"," Hcp (62)"," RB62",12000,-1050," J Winks",1," Cd 58.0-0.0",-54," 1::18.31"," ()"," 13/2"," Settled-3 1200- 800- Turn-5"," 1-I'm Mysterious 57.0",null,null,1,"",{"$f":"IF(Race!J32<>\"\",Race!C32,\"\")","v":""},{"$f":"IF(AX32<>\"\",Race!N32,\"\")","v":""},{"$f":"IF(AX32<>\"\",Race!I32,\"\")","v":""},{"$f":"IF(AX32<>\"\",Race!L32,\"\")","v":""},{"$nulls":14},{"$f":"IF(MainSheet!$G46=\"\",\"\",IF(RANK(BM32,$BN$2:$BN$26)<6,RANK(BM32,$BN$2:$BN$26),\"\"))","v":""},null,null,null,"","","","","",null,null,"","","","","","",{"$nulls":4},"","","","","","",{"$nulls":4},"","","","","","",{"$nulls":8},{"$f":"IF(MainSheet!$G46=\"\",\"\",DE32+DH32)","v":""},{"$f":"IF(MainSheet!$G46=\"\",\"\",IF(RANK(DI32,$DI$2:$DI$26)<6,RANK(DI32,$DI$2:$DI$26),\"\"))","v":""},{"$nulls":38},"","",{"$f":"IF(EX32=\"\",\"\",COUNT($EX$2:$EX$26)-(RANK(EX32,$EX$2:$EX$26)+COUNTIF($EX$2:EX32,EX32)-1)+1)","v":""},"","","","",{"$f":"IF(FC32=\"\",\"\",1/FC32*MainSheet!$R$11)","v":""}]
[{"$f":"IF(Meetings1!A33=\"\",\"\",IF(Meetings1!A33=\"END\",\"END\",IF(Meetings1!B33=\"\",\"\",getAddress(Meetings1!E33))))","v":""},{"$nulls":11},{"$f":"IF(ISERROR(N33),\"\",IF(ISNA(VLOOKUP(N33,RaceList!$M$9:$O$41,3,FALSE)),\"\",VLOOKUP(N33,RaceList!$M$9:$O$41,3,FALSE)))","v":""},{"$f":"IF(O33=\"\",\"\",IF(Meetings2!$B33=\"\",\"\",Meetings2!$B33))","v":""},{"$f":"IF(Meetings2!D33=\"\",\"\",getAddress(Meetings2!D33))","v":""},{"$f":"IF(Meetings2!E33=\"\",\"\",getAddress(Meetings2!E33))","v":""},{"$f":"IF(Meetings2!F33=\"\",\"\",getAddress(Meetings2!F33))","v":""},{"$f":"IF(Meetings2!G33=\"\",\"\",getAddress(Meetings2!G33))","v":""},{"$f":"IF(Meetings2!H33=\"\",\"\",getAddress(Meetings2!H33))","v":""},{"$f":"IF(Meetings2!I33=\"\",\"\",getAddress(Meetings2!I33))","v":""},{"$f":"IF(Meetings2!J33=\"\",\"\",getAddress(Meetings2!J33))","v":""},{"$f":"IF(Meetings2!K33=\"\",\"\",getAddress(Meetings2!K33))","v":""},{"$f":"IF(Meetings2!L33=\"\",\"\",getAddress(Meetings2!L33))","v":""},{"$f":"IF(Meetings2!M33=\"\",\"\",getAddress(Meetings2!M33))","v":""},{"$f":"IF(Meetings2!AA32=\"\",\"\",getAddress(Meetings2!AA32))","v":""},{"$f":"IF(AA33=\"\",\"\",IF(AA33=\"Career::\",Form!A31,\"\"))","v":""},"10-11 10.7L"," Sale","2012-04-01"," 1108m"," Dead"," Race 8"," Hcp (C1)"," Cls 1",22500,-250," A Mallyon",10," Cd 57.0-0.0",-54," 1::03.95"," ()"," 14/1"," Settled-7 1200- 800- Turn-8"," 1-Peninsula Dane 55.5 Vet examination.",null,null,1,"",{"$f":"IF(Race!J33<>\"\",Race!C33,\"\")","v":""},{"$f":"IF(AX33<>\"\",Race!N33,\"\")","v":""},{"$f":"IF(AX33<>\"\",Race!I33,\"\")","v":""},{"$f":"IF(AX33<>\"\",Race!L33,\"\")","v":""},{"$nulls":14},{"$f":"IF(MainSheet!$G47=\"\",\"\",IF(RANK(BM33,$BN$2:$BN$26)<6,RANK(BM33,$BN$2:$BN$26),\"\"))","v":""},null,null,null,"","","","","",null,null,"","","","","","",{"$nulls":4},"","","","","","",{"$nulls":4},"","","","","","",{"$nulls":8},{"$f":"IF(MainSheet!$G47=\"\",\"\",DE33+DH33)","v":""},{"$f":"IF(MainSheet!$G47=\"\",\"\",IF(RANK(DI33,$DI$2:$DI$26)<6,RANK(DI33,$DI$2:$DI$26),\"\"))","v":""},{"$nulls":38},"","",{"$f":"IF(EX33=\"\",\"\",COUNT($EX$2:$EX$26)-(RANK(EX33,$EX$2:$EX$26)+COUNTIF($EX$2:EX33,EX33)-1)+1)","v":""},"","","","",{"$f":"IF(FC33=\"\",\"\",1/FC33*MainSheet!$R$11)","v":""}]
[{"$f":"IF(Meetings1!A34=\"\",\"\",IF(Meetings1!A34=\"END\",\"END\",IF(Meetings1!B34=\"\",\"\",getAddress(Meetings1!E34))))","v":""},{"$nulls":11},{"$f":"IF(ISERROR(N34),\"\",IF(ISNA(VLOOKUP(N34,RaceList!$M$9:$O$41,3,FALSE)),\"\",VLOOKUP(N34,RaceList!$M$9:$O$41,3,FALSE)))","v":""},{"$f":"IF(O34=\"\",\"\",IF(Meetings2!$B34=\"\",\"\",Meetings2!$B34))","v":""},{"$f":"IF(Meetings2!D34=\"\",\"\",getAddress(Meetings2!D34))","v":""},{"$f":"IF(Meetings2!E34=\"\",\"\",getAddress(Meetings2!E34))","v":""},{"$f":"IF(Meetings2!F34=\"\",\"\",getAddress(Meetings2!F34))","v":""},{"$f":"IF(Meetings2!G34=\"\",\"\",getAddress(Meetings2!G34))","v":""},{"$f":"IF(Meetings2!H34=\"\",\"\",getAddress(Meetings2!H34))","v":""},{"$f":"IF(Meetings2!I34=\"\",\"\",getAddress(Meetings2!I34))","v":""},{"$f":"IF(Meetings2!J34=\"\",\"\",getAddress(Meetings2!J34))","v":""},{"$f":"IF(Meetings2!K34=\"\",\"\",getAddress(Meetings2!K34))","v":""},{"$f":"IF(Meetings2!L34=\"\",\"\",getAddress(Meetings2!L34))","v":""},{"$f":"IF(Meetings2!M34=\"\",\"\",getAddress(Meetings2!M34))","v":""},{"$f":"IF(Meetings2!AA33=\"\",\"\",getAddress(Meetings2!AA33))","v":""},{"$f":"IF(AA34=\"\",\"\",IF(AA34=\"Career::\",Form!A32,\"\"))","v":""},"3-10 1.0L"," Seymor","2011-10-16"," 1300m"," Dead"," Race 5"," Hcp (62)"," RB62",20200,-1850," M J Walker",8," Cd 56.0-0.0",-53," 1::17.90"," ()"," 5/1"," Settled-8 1200- 800- Turn-6"," 1-Dangarway 58.5",null,null,1,{"$f":"IF(AV34=\"\",\"\",IF(ISNUMBER(AV34),\"\",IF(AV34=\"Select Date\",\"\",AV34)))","v":""},{"$f":"IF(Race!J34<>\"\",Race!C34,\"\")","v":""},{"$f":"IF(AX34<>\"\",Race!N34,\"\")","v":""},{"$f":"IF(AX34<>\"\",Race!I34,\"\")","v":""},{"$f":"IF(AX34<>\"\",Race!L34,\"\")","v":""},{"$nulls":14},{"$f":"IF(MainSheet!$G48=\"\",\"\",IF(RANK(BM34,$BN$2:$BN$26)<6,RANK(BM34,$BN$2:$BN$26),\"\"))","v":""},null,null,null,"","","","","",null,null,"","","","","","",{"$nulls":4},"","","","","","",{"$nulls":4},"","","","","","",{"$nulls":8},{"$f":"IF(MainSheet!$G48=\"\",\"\",DE34+DH34)","v":""},{"$f":"IF(MainSheet!$G48=\"\",\"\",IF(RANK(DI34,$DI$2:$DI$26)<6,RANK(DI34,$DI$2:$DI$26),\"\"))","v":""},{"$nulls":38},"","",{"$f":"IF(EX34=\"\",\"\",COUNT($EX$2:$EX$26)-(RANK(EX34,$EX$2:$EX$26)+COUNTIF($EX$2:EX34,EX34)-1)+1)","v":""},"","","","",{"$f":"IF(FC34=\"\",\"\",1/FC34*MainSheet!$R$11)","v":""}]
[{"$f":"IF(Meetings1!A35=\"\",\"\",IF(Meetings1!A35=\"END\",\"END\",IF(Meetings1!B35=\"\",\"\",getAddress(Meetings1!E35))))","v":""},{"$nulls":13},{"$f":"IF(Meetings2!D35=\"\",\"\",getAddress(Meetings2!D35))","v":""},{"$f":"IF(Meetings2!E35=\"\",\"\",getAddress(Meetings2!E35))","v":""},{"$f":"IF(Meetings2!F35=\"\",\"\",getAddress(Meetings2!F35))","v":""},{"$f":"IF(Meetings2!G35=\"\",\"\",getAddress(Meetings2!G35))","v":""},{"$f":"IF(Meetings2!H35=\"\",\"\",getAddress(Meetings2!H35))","v":""},{"$f":"IF(Meetings2!I35=\"\",\"\",getAddress(Meetings2!I35))","v":""},{"$f":"IF(Meetings2!J35=\"\",\"\",getAddress(Meetings2!J35))","v":""},{"$f":"IF(Meetings2!K35=\"\",\"\",getAddress(Meetings2!K35))","v":""},{"$f":"IF(Meetings2!L35=\"\",\"\",getAddress(Meetings2!L35))","v":""},{"$f":"IF(Meetings2!M35=\"\",\"\",getAddress(Meetings2!M35))","v":""},{"$f":"IF(Meetings2!AA34=\"\",\"\",getAddress(Meetings2!AA34))","v":""},{"$f":"IF(AA35=\"\",\"\",IF(AA35=\"Career::\",Form!A33,\"\"))","v":""},"4-10 0.9L"," Sale","2011-10-07"," 1113m"," Good"," Race 8"," Hcp (62)"," RB62",12000,-525," L Coffey",8," Cd 56.0-0.0",-53," 1::04.86"," ()"," 9/1"," Settled-2 1200- 800- Turn-3"," 1-Ello Ello 57.0",null,null,1,"",{"$f":"IF(Race!J35<>\"\",Race!C35,\"\")","v":""},{"$f":"IF(AX35<>\"\",Race!N35,\"\")","v":""},{"$f":"IF(AX35<>\"\",Race!I35,\"\")","v":""},{"$f":"IF(AX35<>\"\",Race!L35,\"\")","v":""},{"$nulls":14},{"$f":"IF(MainSheet!$G55=\"\",\"\",IF(RANK(BM35,$BN$2:$BN$26)<6,RANK(BM35,$BN$2:$BN$26),\"\"))","v":""},null,null,null,"","","","","",null,null,"","","","","","",{"$nulls":4},"","","","","","",{"$nulls":4},"","","","","","",{"$nulls":8},{"$f":"IF(MainSheet!$G55=\"\",\"\",DE35+DH35)","v":""},{"$f":"IF(MainSheet!$G55=\"\",\"\",IF(RANK(DI35,$DI$2:$DI$26)<6,RANK(DI35,$DI$2:$DI$26),\"\"))","v":""},{"$nulls":38},"","",{"$f":"IF(EX35=\"\",\"\",COUNT($EX$2:$EX$26)-(RANK(EX35,$EX$2:$EX$26)+COUNTIF($EX$2:EX35,EX35)-1)+1)","v":""},"","","","",{"$f":"IF(FC35=\"\",\"\",1/FC35*MainSheet!$R$11)","v":""}]
[{"$f":"IF(Meetings1!A36=\"\",\"\",IF(Meetings1!A36=\"END\",\"END\",IF(Meetings1!B36=\"\",\"\",getAddress(Meetings1!E36))))","v":"END"},{"$nulls":13},{"$f":"IF(Meetings2!D36=\"\",\"\",getAddress(Meetings2!D36))","v":""},{"$f":"IF(Meetings2!E36=\"\",\"\",getAddress(Meetings2!E36))","v":""},{"$f":"IF(Meetings2!F36=\"\",\"\",getAddress(Meetings2!F36))","v":""},{"$f":"IF(Meetings2!G36=\"\",\"\",getAddress(Meetings2!G36))","v":""},{"$f":"IF(Meetings2!H36=\"\",\"\",getAddress(Meetings2!H36))","v":""},{"$f":"IF(Meetings2!I36=\"\",\"\",getAddress(Meetings2!I36))","v":""},{"$f":"IF(Meetings2!J36=\"\",\"\",getAddress(Meetings2!J36))","v":""},{"$f":"IF(Meetings2!K36=\"\",\"\",getAddress(Meetings2!K36))","v":""},{"$f":"IF(Meetings2!L36=\"\",\"\",getAddress(Meetings2!L36))","v":""},{"$f":"IF(Meetings2!M36=\"\",\"\",getAddress(Meetings2!M36))","v":""},{"$f":"IF(Meetings2!AA35=\"\",\"\",getAddress(Meetings2!AA35))","v":""},{"$f":"IF(AA36=\"\",\"\",IF(AA36=\"Career::\",Form!A34,\"\"))","v":""},"8-14 4.8L"," Ball't","2011-09-18"," 1000m"," Dead"," Race 5"," Hcp (62)"," RB62",22500,-250," M J Walker",13," Cd 56.5-0.0",-53," 0::58.87"," ()"," 12/1"," Settled-4 1200- 800- Turn-3"," 1-Tel Onnah 58.5",null,null,null,"",{"$f":"IF(Race!J36<>\"\",Race!C36,\"\")","v":""},{"$f":"IF(AX36<>\"\",Race!N36,\"\")","v":""},{"$f":"IF(AX36<>\"\",Race!I36,\"\")","v":""},{"$f":"IF(AX36<>\"\",Race!L36,\"\")","v":""},{"$nulls":14},{"$f":"IF(MainSheet!$G60=\"\",\"\",IF(RANK(BM36,$BN$2:$BN$26)<6,RANK(BM36,$BN$2:$BN$26),\"\"))","v":""},null,null,null,"","","","","",null,null,"","","","","","",{"$nulls":4},"","","","","","",{"$nulls":4},"","","","","","",{"$nulls":8},{"$f":"IF(MainSheet!$G60=\"\",\"\",DE36+DH36)","v":""},{"$f":"IF(MainSheet!$G60=\"\",\"\",IF(RANK(DI36,$DI$2:$DI$26)<6,RANK(DI36,$DI$2:$DI$26),\"\"))","v":""},{"$nulls":38},"","",{"$f":"IF(EX36=\"\",\"\",COUNT($EX$2:$EX$26)-(RANK(EX36,$EX$2:$EX$26)+COUNTIF($EX$2:EX36,EX36)-1)+1)","v":""},"","","","",{"$f":"IF(FC36=\"\",\"\",1/FC36*MainSheet!$R$11)","v":""}]
[{"$f":"IF(Meetings1!A37=\"\",\"\",IF(Meetings1!A37=\"END\",\"END\",IF(Meetings1!B37=\"\",\"\",getAddress(Meetings1!E37))))","v":""},{"$nulls":13},{"$f":"IF(Meetings2!D37=\"\",\"\",getAddress(Meetings2!D37))","v":""},{"$f":"IF(Meetings2!E37=\"\",\"\",getAddress(Meetings2!E37))","v":""},{"$f":"IF(Meetings2!F37=\"\",\"\",getAddress(Meetings2!F37))","v":""},{"$f":"IF(Meetings2!G37=\"\",\"\",getAddress(Meetings2!G37))","v":""},{"$f":"IF(Meetings2!H37=\"\",\"\",getAddress(Meetings2!H37))","v":""},{"$f":"IF(Meetings2!I37=\"\",\"\",getAddress(Meetings2!I37))","v":""},{"$f":"IF(Meetings2!J37=\"\",\"\",getAddress(Meetings2!J37))","v":""},{"$f":"IF(Meetings2!K37=\"\",\"\",getAddress(Meetings2!K37))","v":""},{"$f":"IF(Meetings2!L37=\"\",\"\",getAddress(Meetings2!L37))","v":""},{"$f":"IF(Meetings2!M37=\"\",\"\",getAddress(Meetings2!M37))","v":""},{"$f":"IF(Meetings2!AA36=\"\",\"\",getAddress(Meetings2!AA36))","v":""},{"$f":"IF(AA37=\"\",\"\",IF(AA37=\"Career::\",Form!A35,\"\"))","v":""},"1-10 0.4L"," Morn.","2011-09-06"," 1000m"," Dead"," Race 1"," 3yo+ Mdn"," Mdn 3+",12000,-6825," M J Walker",3," Cd 55.5-0.0"," (SW)"," 0::59.24"," ()"," 6/1"," Settled-1 1200- 800- Turn-1"," 2-The Fairy's Kiss 53.5",null,null,null,"",{"$f":"IF(Race!J37<>\"\",Race!C37,\"\")","v":""},{"$f":"IF(AX37<>\"\",Race!N37,\"\")","v":""},{"$f":"IF(AX37<>\"\",Race!I37,\"\")","v":""},{"$f":"IF(AX37<>\"\",Race!L37,\"\")","v":""},{"$nulls":14},{"$f":"IF(MainSheet!$G61=\"\",\"\",IF(RANK(BM37,$BN$2:$BN$26)<6,RANK(BM37,$BN$2:$BN$26),\"\"))","v":""},null,null,null,"","","","","",null,null,"","","","","","",{"$nulls":4},"","","","","","",{"$nulls":4},"","","","","","",{"$nulls":8},{"$f":"IF(MainSheet!$G61=\"\",\"\",DE37+DH37)","v":""},{"$f":"IF(MainSheet!$G61=\"\",\"\",IF(RANK(DI37,$DI$2:$DI$26)<6,RANK(DI37,$DI$2:$DI$26),\"\"))","v":""},{"$nulls":38},"","",{"$f":"IF(EX37=\"\",\"\",COUNT($EX$2:$EX$26)-(RANK(EX37,$EX$2:$EX$26)+COUNTIF($EX$2:EX37,EX37)-1)+1)","v":""},"","","","",{"$f":"IF(FC37=\"\",\"\",1/FC37*MainSheet!$R$11)","v":""}]
[{"$f":"IF(Meetings1!A38=\"\",\"\",IF(Meetings1!A38=\"END\",\"END\",IF(Meetings1!B38=\"\",\"\",getAddress(Meetings1!E38))))","v":""},{"$nulls":13},{"$f":"IF(Meetings2!D38=\"\",\"\",getAddress(Meetings2!D38))","v":""},{"$f":"IF(Meetings2!E38=\"\",\"\",getAddress(Meetings2!E38))","v":""},{"$f":"IF(Meetings2!F38=\"\",\"\",getAddress(Meetings2!F38))","v":""},{"$f":"IF(Meetings2!G38=\"\",\"\",getAddress(Meetings2!G38))","v":""},{"$f":"IF(Meetings2!H38=\"\",\"\",getAddress(Meetings2!H38))","v":""},{"$f":"IF(Meetings2!I38=\"\",\"\",getAddress(Meetings2!I38))","v":""},{"$f":"IF(Meetings2!J38=\"\",\"\",getAddress(Meetings2!J38))","v":""},{"$f":"IF(Meetings2!K38=\"\",\"\",getAddress(Meetings2!K38))","v":""},{"$f":"IF(Meetings2!L38=\"\",\"\",getAddress(Meetings2!L38))","v":""},{"$f":"IF(Meetings2!M38=\"\",\"\",getAddress(Meetings2!M38))","v":""},{"$f":"IF(Meetings2!AA37=\"\",\"\",getAddress(Meetings2!AA37))","v":""},{"$f":"IF(AA38=\"\",\"\",IF(AA38=\"Career::\",Form!A36,\"\"))","v":""},"7-10 6.3L"," P'ham","2011-08-28"," 1008m"," Dead"," Race 1"," 3yo Mdn"," Mdn 3",12000,-250," A Mallyon",7," Cd 57.0-0.0"," (SW)"," 0::58.64"," ()"," 5/1"," Settled-7 1200- 800- Turn-7"," 1-Miss Zoom 55.0",null,null,null,"",{"$f":"IF(Race!J38<>\"\",Race!C38,\"\")","v":""},{"$f":"IF(AX38<>\"\",Race!N38,\"\")","v":""},{"$f":"IF(AX38<>\"\",Race!I38,\"\")","v":""},{"$f":"IF(AX38<>\"\",Race!L38,\"\")","v":""},{"$nulls":14},{"$f":"IF(MainSheet!$G62=\"\",\"\",IF(RANK(BM38,$BN$2:$BN$26)<6,RANK(BM38,$BN$2:$BN$26),\"\"))","v":""},null,null,null,"","","","","",null,null,"","","","","","",{"$nulls":4},"","","","","","",{"$nulls":4},"","","","","","",{"$nulls":8},{"$f":"IF(MainSheet!$G62=\"\",\"\",DE38+DH38)","v":""},{"$f":"IF(MainSheet!$G62=\"\",\"\",IF(RANK(DI38,$DI$2:$DI$26)<6,RANK(DI38,$DI$2:$DI$26),\"\"))","v":""},{"$nulls":38},"","",{"$f":"IF(EX38=\"\",\"\",COUNT($EX$2:$EX$26)-(RANK(EX38,$EX$2:$EX$26)+COUNTIF($EX$2:EX38,EX38)-1)+1)","v":""},"","","","",{"$f":"IF(FC38=\"\",\"\",1/FC38*MainSheet!$R$11)","v":""}]
[{"$f":"IF(Meetings1!A39=\"\",\"\",IF(Meetings1!A39=\"END\",\"END\",IF(Meetings1!B39=\"\",\"\",getAddress(Meetings1!E39))))","v":""},{"$nulls":13},{"$f":"IF(Meetings2!D39=\"\",\"\",getAddress(Meetings2!D39))","v":""},{"$f":"IF(Meetings2!E39=\"\",\"\",getAddress(Meetings2!E39))","v":""},{"$f":"IF(Meetings2!F39=\"\",\"\",getAddress(Meetings2!F39))","v":""},{"$f":"IF(Meetings2!G39=\"\",\"\",getAddress(Meetings2!G39))","v":""},{"$f":"IF(Meetings2!H39=\"\",\"\",getAddress(Meetings2!H39))","v":""},{"$f":"IF(Meetings2!I39=\"\",\"\",getAddress(Meetings2!I39))","v":""},{"$f":"IF(Meetings2!J39=\"\",\"\",getAddress(Meetings2!J39))","v":""},{"$f":"IF(Meetings2!K39=\"\",\"\",getAddress(Meetings2!K39))","v":""},{"$f":"IF(Meetings2!L39=\"\",\"\",getAddress(Meetings2!L39))","v":""},{"$f":"IF(Meetings2!M39=\"\",\"\",getAddress(Meetings2!M39))","v":""},{"$f":"IF(Meetings2!AA38=\"\",\"\",getAddress(Meetings2!AA38))","v":""},{"$f":"IF(AA39=\"\",\"\",IF(AA39=\"Career::\",Form!A37,\"\"))","v":""},"3-11 3.3L"," Echuca","2011-08-01"," 1009m"," Dead"," Race 1"," 3yo Mdn"," Mdn 3",12000,-1050," M J Walker",3," Cd 57.0-0.0"," (SW)"," 1::00.38"," ()"," 16/1"," Settled- 1200- 800- Turn-"," 1-Dontmentionthewar 57.0 Disappointed for a run.",null,null,null,"",{"$f":"IF(Race!J39<>\"\",Race!C39,\"\")","v":""},{"$f":"IF(AX39<>\"\",Race!N39,\"\")","v":""},{"$f":"IF(AX39<>\"\",Race!I39,\"\")","v":""},{"$f":"IF(AX39<>\"\",Race!L39,\"\")","v":""},{"$nulls":14},{"$f":"IF(MainSheet!$G63=\"\",\"\",IF(RANK(BM39,$BN$2:$BN$26)<6,RANK(BM39,$BN$2:$BN$26),\"\"))","v":""},null,null,null,"","","","","",null,null,"","","","","","",{"$nulls":4},"","","","","","",{"$nulls":4},"","","","","","",{"$nulls":8},{"$f":"IF(MainSheet!$G63=\"\",\"\",DE39+DH39)","v":""},{"$f":"IF(MainSheet!$G63=\"\",\"\",IF(RANK(DI39,$DI$2:$DI$26)<6,RANK(DI39,$DI$2:$DI$26),\"\"))","v":""},{"$nulls":38},"","",{"$f":"IF(EX39=\"\",\"\",COUNT($EX$2:$EX$26)-(RANK(EX39,$EX$2:$EX$26)+COUNTIF($EX$2:EX39,EX39)-1)+1)","v":""},"","","","",{"$f":"IF(FC39=\"\",\"\",1/FC39*MainSheet!$R$11)","v":""}]
[{"$f":"IF(Meetings1!A40=\"\",\"\",IF(Meetings1!A40=\"END\",\"END\",IF(Meetings1!B40=\"\",\"\",getAddress(Meetings1!E40))))","v":""},{"$nulls":13},{"$f":"IF(Meetings2!D40=\"\",\"\",getAddress(Meetings2!D40))","v":""},{"$f":"IF(Meetings2!E40=\"\",\"\",getAddress(Meetings2!E40))","v":""},{"$f":"IF(Meetings2!F40=\"\",\"\",getAddress(Meetings2!F40))","v":""},{"$f":"IF(Meetings2!G40=\"\",\"\",getAddress(Meetings2!G40))","v":""},{"$f":"IF(Meetings2!H40=\"\",\"\",getAddress(Meetings2!H40))","v":""},{"$f":"IF(Meetings2!I40=\"\",\"\",getAddress(Meetings2!I40))","v":""},{"$f":"IF(Meetings2!J40=\"\",\"\",getAddress(Meetings2!J40))","v":""},{"$f":"IF(Meetings2!K40=\"\",\"\",getAddress(Meetings2!K40))","v":""},{"$f":"IF(Meetings2!L40=\"\",\"\",getAddress(Meetings2!L40))","v":""},{"$f":"IF(Meetings2!M40=\"\",\"\",getAddress(Meetings2!M40))","v":""},{"$f":"IF(Meetings2!AA39=\"\",\"\",getAddress(Meetings2!AA39))","v":""},{"$f":"IF(AA40=\"\",\"\",IF(AA40=\"Career::\",Form!A38,\"\"))","v":""},"5-5 0.0L"," Crasyn","2011-07-18"," 760m"," Good"," Race 8"," Barrier Trl"," Btria 2 cg",0,0," A Mallyon",5," Cd 0.0-0.0"," (CWT)"," 0::45.98"," ()"," "," Settled- 1200- 800- Turn-"," 1-Arctic Command 0.0",null,null,null,"",{"$f":"IF(Race!J40<>\"\",Race!C40,\"\")","v":""},{"$f":"IF(AX40<>\"\",Race!N40,\"\")","v":""},{"$f":"IF(AX40<>\"\",Race!I40,\"\")","v":""},{"$f":"IF(AX40<>\"\",Race!L40,\"\")","v":""},{"$nulls":14},{"$f":"IF(MainSheet!$G64=\"\",\"\",IF(RANK(BM40,$BN$2:$BN$26)<6,RANK(BM40,$BN$2:$BN$26),\"\"))","v":""},null,null,null,"","","","","",null,null,"","","","","","",{"$nulls":4},"","","","","","",{"$nulls":4},"","","","","","",{"$nulls":8},{"$f":"IF(MainSheet!$G64=\"\",\"\",DE40+DH40)","v":""},{"$f":"IF(MainSheet!$G64=\"\",\"\",IF(RANK(DI40,$DI$2:$DI$26)<6,RANK(DI40,$DI$2:$DI$26),\"\"))","v":""},{"$nulls":38},"","",{"$f":"IF(EX40=\"\",\"\",COUNT($EX$2:$EX$26)-(RANK(EX40,$EX$2:$EX$26)+COUNTIF($EX$2:EX40,EX40)-1)+1)","v":""},"","","","",{"$f":"IF(FC40=\"\",\"\",1/FC40*MainSheet!$R$11)","v":""}]
[{"$f":"IF(Meetings1!A41=\"\",\"\",IF(Meetings1!A41=\"END\",\"END\",IF(Meetings1!B41=\"\",\"\",getAddress(Meetings1!E41))))","v":""},{"$nulls":13},{"$f":"IF(Meetings2!D41=\"\",\"\",getAddress(Meetings2!D41))","v":""},{"$f":"IF(Meetings2!E41=\"\",\"\",getAddress(Meetings2!E41))","v":""},{"$f":"IF(Meetings2!F41=\"\",\"\",getAddress(Meetings2!F41))","v":""},{"$f":"IF(Meetings2!G41=\"\",\"\",getAddress(Meetings2!G41))","v":""},{"$f":"IF(Meetings2!H41=\"\",\"\",getAddress(Meetings2!H41))","v":""},{"$f":"IF(Meetings2!I41=\"\",\"\",getAddress(Meetings2!I41))","v":""},{"$f":"IF(Meetings2!J41=\"\",\"\",getAddress(Meetings2!J41))","v":""},{"$f":"IF(Meetings2!K41=\"\",\"\",getAddress(Meetings2!K41))","v":""},{"$f":"IF(Meetings2!L41=\"\",\"\",getAddress(Meetings2!L41))","v":""},{"$f":"IF(Meetings2!M41=\"\",\"\",getAddress(Meetings2!M41))","v":""},{"$f":"IF(Meetings2!AA40=\"\",\"\",getAddress(Meetings2!AA40))","v":""},{"$f":"IF(AA41=\"\",\"\",IF(AA41=\"Career::\",Form!A39,\"\"))","v":""},{"$nulls":22},"",{"$f":"IF(Race!J41<>\"\",Race!C41,\"\")","v":""},{"$f":"IF(AX41<>\"\",Race!N41,\"\")","v":""},{"$f":"IF(AX41<>\"\",Race!I41,\"\")","v":""},{"$f":"IF(AX41<>\"\",Race!L41,\"\")","v":""},{"$nulls":14},{"$f":"IF(MainSheet!$G69=\"\",\"\",IF(RANK(BM41,$BN$2:$BN$26)<6,RANK(BM41,$BN$2:$BN$26),\"\"))","v":""},null,null,null,"","","","","",null,null,"","","","","","",{"$nulls":4},"","","","","","",{"$nulls":4},"","","","","","",{"$nulls":8},{"$f":"IF(MainSheet!$G69=\"\",\"\",DE41+DH41)","v":""},{"$f":"IF(MainSheet!$G69=\"\",\"\",IF(RANK(DI41,$DI$2:$DI$26)<6,RANK(DI41,$DI$2:$DI$26),\"\"))","v":""},{"$nulls":38},"","",{"$f":"IF(EX41=\"\",\"\",COUNT($EX$2:$EX$26)-(RANK(EX41,$EX$2:$EX$26)+COUNTIF($EX$2:EX41,EX41)-1)+1)","v":""},"","","","",{"$f":"IF(FC41=\"\",\"\",1/FC41*MainSheet!$R$11)","v":""}]
[{"$f":"IF(Meetings1!A42=\"\",\"\",IF(Meetings1!A42=\"END\",\"END\",IF(Meetings1!B42=\"\",\"\",getAddress(Meetings1!E42))))","v":""},{"$nulls":13},{"$f":"IF(Meetings2!D42=\"\",\"\",getAddress(Meetings2!D42))","v":""},{"$f":"IF(Meetings2!E42=\"\",\"\",getAddress(Meetings2!E42))","v":""},{"$f":"IF(Meetings2!F42=\"\",\"\",getAddress(Meetings2!F42))","v":""},{"$f":"IF(Meetings2!G42=\"\",\"\",getAddress(Meetings2!G42))","v":""},{"$f":"IF(Meetings2!H42=\"\",\"\",getAddress(Meetings2!H42))","v":""},{"$f":"IF(Meetings2!I42=\"\",\"\",getAddress(Meetings2!I42))","v":""},{"$f":"IF(Meetings2!J42=\"\",\"\",getAddress(Meetings2!J42))","v":""},{"$f":"IF(Meetings2!K42=\"\",\"\",getAddress(Meetings2!K42))","v":""},{"$f":"IF(Meetings2!L42=\"\",\"\",getAddress(Meetings2!L42))","v":""},{"$f":"IF(Meetings2!M42=\"\",\"\",getAddress(Meetings2!M42))","v":""},{"$f":"IF(Meetings2!AA41=\"\",\"\",getAddress(Meetings2!AA41))","v":""},{"$f":"IF(AA42=\"\",\"\",IF(AA42=\"Career::\",Form!A40,\"\"))","v":""},{"$nulls":22},"",{"$f":"IF(Race!J42<>\"\",Race!C42,\"\")","v":""},{"$f":"IF(AX42<>\"\",Race!N42,\"\")","v":""},{"$f":"IF(AX42<>\"\",Race!I42,\"\")","v":""},{"$f":"IF(AX42<>\"\",Race!L42,\"\")","v":""},{"$nulls":14},{"$f":"IF(MainSheet!$G70=\"\",\"\",IF(RANK(BM42,$BN$2:$BN$26)<6,RANK(BM42,$BN$2:$BN$26),\"\"))","v":""},null,null,null,"","","","","",null,null,"","","","","","",{"$nulls":4},"","","","","","",{"$nulls":4},"","","","","","",{"$nulls":8},{"$f":"IF(MainSheet!$G70=\"\",\"\",DE42+DH42)","v":""},{"$f":"IF(MainSheet!$G70=\"\",\"\",IF(RANK(DI42,$DI$2:$DI$26)<6,RANK(DI42,$DI$2:$DI$26),\"\"))","v":""},{"$nulls":38},"","",{"$f":"IF(EX42=\"\",\"\",COUNT($EX$2:$EX$26)-(RANK(EX42,$EX$2:$EX$26)+COUNTIF($EX$2:EX42,EX42)-1)+1)","v":""},"","","","",{"$f":"IF(FC42=\"\",\"\",1/FC42*MainSheet!$R$11)","v":""}]
[{"$f":"IF(Meetings1!A43=\"\",\"\",IF(Meetings1!A43=\"END\",\"END\",IF(Meetings1!B43=\"\",\"\",getAddress(Meetings1!E43))))","v":""},{"$nulls":13},{"$f":"IF(Meetings2!D43=\"\",\"\",getAddress(Meetings2!D43))","v":""},{"$f":"IF(Meetings2!E43=\"\",\"\",getAddress(Meetings2!E43))","v":""},{"$f":"IF(Meetings2!F43=\"\",\"\",getAddress(Meetings2!F43))","v":""},{"$f":"IF(Meetings2!G43=\"\",\"\",getAddress(Meetings2!G43))","v":""},{"$f":"IF(Meetings2!H43=\"\",\"\",getAddress(Meetings2!H43))","v":""},{"$f":"IF(Meetings2!I43=\"\",\"\",getAddress(Meetings2!I43))","v":""},{"$f":"IF(Meetings2!J43=\"\",\"\",getAddress(Meetings2!J43))","v":""},{"$f":"IF(Meetings2!K43=\"\",\"\",getAddress(Meetings2!K43))","v":""},{"$f":"IF(Meetings2!L43=\"\",\"\",getAddress(Meetings2!L43))","v":""},{"$f":"IF(Meetings2!M43=\"\",\"\",getAddress(Meetings2!M43))","v":""},{"$f":"IF(Meetings2!AA42=\"\",\"\",getAddress(Meetings2!AA42))","v":""},{"$f":"IF(AA43=\"\",\"\",IF(AA43=\"Career::\",Form!A41,\"\"))","v":""},"Comments:: Continued good form with nose 2nd Taino 1100m Kerang 3Yo+ Mdn Apr 07 . Then len 1st Joshua's Might"," Space Diva 1100m K'ton 3Yo+ Mdn Slow trk Apr 23 . Good win record at this track.",{"$nulls":20},"",{"$f":"IF(Race!J43<>\"\",Race!C43,\"\")","v":""},{"$f":"IF(AX43<>\"\",Race!N43,\"\")","v":""},{"$f":"IF(AX43<>\"\",Race!I43,\"\")","v":""},{"$f":"IF(AX43<>\"\",Race!L43,\"\")","v":""},{"$nulls":14},{"$f":"IF(MainSheet!$G71=\"\",\"\",IF(RANK(BM43,$BN$2:$BN$26)<6,RANK(BM43,$BN$2:$BN$26),\"\"))","v":""},null,null,null,"","","","","",null,null,"","","","","","",{"$nulls":4},"","","","","","",{"$nulls":4},"","","","","","",{"$nulls":8},{"$f":"IF(MainSheet!$G71=\"\",\"\",DE43+DH43)","v":""},{"$f":"IF(MainSheet!$G71=\"\",\"\",IF(RANK(DI43,$DI$2:$DI$26)<6,RANK(DI43,$DI$2:$DI$26),\"\"))","v":""},{"$nulls":38},"","",{"$f":"IF(EX43=\"\",\"\",COUNT($EX$2:$EX$26)-(RANK(EX43,$EX$2:$EX$26)+COUNTIF($EX$2:EX43,EX43)-1)+1)","v":""},"","","","",{"$f":"IF(FC43=\"\",\"\",1/FC43*MainSheet!$R$11)","v":""}]
[{"$f":"IF(Meetings1!A44=\"\",\"\",IF(Meetings1!A44=\"END\",\"END\",IF(Meetings1!B44=\"\",\"\",getAddress(Meetings1!E44))))","v":""},{"$nulls":13},{"$f":"IF(Meetings2!D44=\"\",\"\",getAddress(Meetings2!D44))","v":""},{"$f":"IF(Meetings2!E44=\"\",\"\",getAddress(Meetings2!E44))","v":""},{"$f":"IF(Meetings2!F44=\"\",\"\",getAddress(Meetings2!F44))","v":""},{"$f":"IF(Meetings2!G44=\"\",\"\",getAddress(Meetings2!G44))","v":""},{"$f":"IF(Meetings2!H44=\"\",\"\",getAddress(Meetings2!H44))","v":""},{"$f":"IF(Meetings2!I44=\"\",\"\",getAddress(Meetings2!I44))","v":""},{"$f":"IF(Meetings2!J44=\"\",\"\",getAddress(Meetings2!J44))","v":""},{"$f":"IF(Meetings2!K44=\"\",\"\",getAddress(Meetings2!K44))","v":""},{"$f":"IF(Meetings2!L44=\"\",\"\",getAddress(Meetings2!L44))","v":""},{"$f":"IF(Meetings2!M44=\"\",\"\",getAddress(Meetings2!M44))","v":""},{"$f":"IF(Meetings2!AA43=\"\",\"\",getAddress(Meetings2!AA43))","v":""},{"$f":"IF(AA44=\"\",\"\",IF(AA44=\"Career::\",Form!A42,\"\"))","v":"Handle On A Star"},"Career::",{"$nulls":21},"",{"$f":"IF(Race!J44<>\"\",Race!C44,\"\")","v":""},{"$f":"IF(AX44<>\"\",Race!N44,\"\")","v":""},{"$f":"IF(AX44<>\"\",Race!I44,\"\")","v":""},{"$f":"IF(AX44<>\"\",Race!L44,\"\")","v":""},{"$nulls":14},{"$f":"IF(MainSheet!$G72=\"\",\"\",IF(RANK(BM44,$BN$2:$BN$26)<6,RANK(BM44,$BN$2:$BN$26),\"\"))","v":""},null,null,null,"","","","","",null,null,"","","","","","",{"$nulls":4},"","","","","","",{"$nulls":4},"","","","","","",{"$nulls":8},{"$f":"IF(MainSheet!$G72=\"\",\"\",DE44+DH44)","v":""},{"$f":"IF(MainSheet!$G72=\"\",\"\",IF(RANK(DI44,$DI$2:$DI$26)<6,RANK(DI44,$DI$2:$DI$26),\"\"))","v":""},{"$nulls":38},"","",{"$f":"IF(EX44=\"\",\"\",COUNT($EX$2:$EX$26)-(RANK(EX44,$EX$2:$EX$26)+COUNTIF($EX$2:EX44,EX44)-1)+1)","v":""},"","","","",{"$f":"IF(FC44=\"\",\"\",1/FC44*MainSheet!$R$11)","v":""}]
[{"$f":"IF(Meetings1!A45=\"\",\"\",IF(Meetings1!A45=\"END\",\"END\",IF(Meetings1!B45=\"\",\"\",getAddress(Meetings1!E45))))","v":""},{"$nulls":13},{"$f":"IF(Meetings2!D45=\"\",\"\",getAddress(Meetings2!D45))","v":""},{"$f":"IF(Meetings2!E45=\"\",\"\",getAddress(Meetings2!E45))","v":""},{"$f":"IF(Meetings2!F45=\"\",\"\",getAddress(Meetings2!F45))","v":""},{"$f":"IF(Meetings2!G45=\"\",\"\",getAddress(Meetings2!G45))","v":""},{"$f":"IF(Meetings2!H45=\"\",\"\",getAddress(Meetings2!H45))","v":""},{"$f":"IF(Meetings2!I45=\"\",\"\",getAddress(Meetings2!I45))","v":""},{"$f":"IF(Meetings2!J45=\"\",\"\",getAddress(Meetings2!J45))","v":""},{"$f":"IF(Meetings2!K45=\"\",\"\",getAddress(Meetings2!K45))","v":""},{"$f":"IF(Meetings2!L45=\"\",\"\",getAddress(Meetings2!L45))","v":""},{"$f":"IF(Meetings2!M45=\"\",\"\",getAddress(Meetings2!M45))","v":""},{"$f":"IF(Meetings2!AA44=\"\",\"\",getAddress(Meetings2!AA44))","v":""},{"$f":"IF(AA45=\"\",\"\",IF(AA45=\"Career::\",Form!A43,\"\"))","v":""},"15::1-1-3",{"$nulls":21},"",{"$f":"IF(Race!J45<>\"\",Race!C45,\"\")","v":""},{"$f":"IF(AX45<>\"\",Race!N45,\"\")","v":""},{"$f":"IF(AX45<>\"\",Race!I45,\"\")","v":""},{"$f":"IF(AX45<>\"\",Race!L45,\"\")","v":""},{"$nulls":14},{"$f":"IF(MainSheet!$G73=\"\",\"\",IF(RANK(BM45,$BN$2:$BN$26)<6,RANK(BM45,$BN$2:$BN$26),\"\"))","v":""},null,null,null,"","","","","",null,null,"","","","","","",{"$nulls":4},"","","","","","",{"$nulls":4},"","","","","","",{"$nulls":8},{"$f":"IF(MainSheet!$G73=\"\",\"\",DE45+DH45)","v":""},{"$f":"IF(MainSheet!$G73=\"\",\"\",IF(RANK(DI45,$DI$2:$DI$26)<6,RANK(DI45,$DI$2:$DI$26),\"\"))","v":""},{"$nulls":38},"","",{"$f":"IF(EX45=\"\",\"\",COUNT($EX$2:$EX$26)-(RANK(EX45,$EX$2:$EX$26)+COUNTIF($EX$2:EX45,EX45)-1)+1)","v":""},"","","","",{"$f":"IF(FC45=\"\",\"\",1/FC45*MainSheet!$R$11)","v":""}]
[{"$f":"IF(Meetings1!A46=\"\",\"\",IF(Meetings1!A46=\"END\",\"END\",IF(Meetings1!B46=\"\",\"\",getAddress(Meetings1!E46))))","v":""},{"$nulls":13},{"$f":"IF(Meetings2!D46=\"\",\"\",getAddress(Meetings2!D46))","v":""},{"$f":"IF(Meetings2!E46=\"\",\"\",getAddress(Meetings2!E46))","v":""},{"$f":"IF(Meetings2!F46=\"\",\"\",getAddress(Meetings2!F46))","v":""},{"$f":"IF(Meetings2!G46=\"\",\"\",getAddress(Meetings2!G46))","v":""},{"$f":"IF(Meetings2!H46=\"\",\"\",getAddress(Meetings2!H46))","v":""},{"$f":"IF(Meetings2!I46=\"\",\"\",getAddress(Meetings2!I46))","v":""},{"$f":"IF(Meetings2!J46=\"\",\"\",getAddress(Meetings2!J46))","v":""},{"$f":"IF(Meetings2!K46=\"\",\"\",getAddress(Meetings2!K46))","v":""},{"$f":"IF(Meetings2!L46=\"\",\"\",getAddress(Meetings2!L46))","v":""},{"$f":"IF(Meetings2!M46=\"\",\"\",getAddress(Meetings2!M46))","v":""},null,{"$f":"IF(AA46=\"\",\"\",IF(AA46=\"Career::\",Form!A44,\"\"))","v":""},"Fast::",{"$nulls":21},"",{"$f":"IF(Race!J46<>\"\",Race!C46,\"\")","v":""},{"$f":"IF(AX46<>\"\",Race!N46,\"\")","v":""},{"$f":"IF(AX46<>\"\",Race!I46,\"\")","v":""},{"$f":"IF(AX46<>\"\",Race!L46,\"\")","v":""},{"$nulls":14},{"$f":"IF(MainSheet!$G74=\"\",\"\",IF(RANK(BM46,$BN$2:$BN$26)<6,RANK(BM46,$BN$2:$BN$26),\"\"))","v":""},null,null,null,"","","","","",null,null,"","","","","","",{"$nulls":4},"","","","","","",{"$nulls":4},"","","","","","",{"$nulls":8},{"$f":"IF(MainSheet!$G74=\"\",\"\",DE46+DH46)","v":""},{"$f":"IF(MainSheet!$G74=\"\",\"\",IF(RANK(DI46,$DI$2:$DI$26)<6,RANK(DI46,$DI$2:$DI$26),\"\"))","v":""},{"$nulls":38},"","",{"$f":"IF(EX46=\"\",\"\",COUNT($EX$2:$EX$26)-(RANK(EX46,$EX$2:$EX$26)+COUNTIF($EX$2:EX46,EX46)-1)+1)","v":""},"","","","",{"$f":"IF(FC46=\"\",\"\",1/FC46*MainSheet!$R$11)","v":""}]
[{"$f":"IF(Meetings1!A47=\"\",\"\",IF(Meetings1!A47=\"END\",\"END\",IF(Meetings1!B47=\"\",\"\",getAddress(Meetings1!E47))))","v":""},{"$nulls":13},{"$f":"IF(Meetings2!D47=\"\",\"\",getAddress(Meetings2!D47))","v":""},{"$f":"IF(Meetings2!E47=\"\",\"\",getAddress(Meetings2!E47))","v":""},{"$f":"IF(Meetings2!F47=\"\",\"\",getAddress(Meetings2!F47))","v":""},{"$f":"IF(Meetings2!G47=\"\",\"\",getAddress(Meetings2!G47))","v":""},{"$f":"IF(Meetings2!H47=\"\",\"\",getAddress(Meetings2!H47))","v":""},{"$f":"IF(Meetings2!I47=\"\",\"\",getAddress(Meetings2!I47))","v":""},{"$f":"IF(Meetings2!J47=\"\",\"\",getAddress(Meetings2!J47))","v":""},{"$f":"IF(Meetings2!K47=\"\",\"\",getAddress(Meetings2!K47))","v":""},{"$f":"IF(Meetings2!L47=\"\",\"\",getAddress(Meetings2!L47))","v":""},{"$f":"IF(Meetings2!M47=\"\",\"\",getAddress(Meetings2!M47))","v":""},null,{"$f":"IF(AA47=\"\",\"\",IF(AA47=\"Career::\",Form!A45,\"\"))","v":""},"0::0-0-0",{"$nulls":21},"",{"$f":"IF(Race!J47<>\"\",Race!C47,\"\")","v":""},{"$f":"IF(AX47<>\"\",Race!N47,\"\")","v":""},{"$f":"IF(AX47<>\"\",Race!I47,\"\")","v":""},{"$f":"IF(AX47<>\"\",Race!L47,\"\")","v":""},{"$nulls":14},{"$f":"IF(MainSheet!#REF!=\"\",\"\",IF(RANK(BM47,$BN$2:$BN$26)<6,RANK(BM47,$BN$2:$BN$26),\"\"))","v":{"$error":"#REF!"}},null,null,null,"","","","","",null,null,"","","","","","",{"$nulls":4},"","","","","","",{"$nulls":4},"","","","","","",{"$nulls":8},{"$f":"IF(MainSheet!#REF!=\"\",\"\",DE47+DH47)","v":{"$error":"#REF!"}},{"$f":"IF(MainSheet!#REF!=\"\",\"\",IF(RANK(DI47,$DI$2:$DI$26)<6,RANK(DI47,$DI$2:$DI$26),\"\"))","v":{"$error":"#REF!"}},{"$nulls":38},"","",{"$f":"IF(EX47=\"\",\"\",COUNT($EX$2:$EX$26)-(RANK(EX47,$EX$2:$EX$26)+COUNTIF($EX$2:EX47,EX47)-1)+1)","v":""},"","","","",{"$f":"IF(FC47=\"\",\"\",1/FC47*MainSheet!$R$11)","v":""}]
[{"$f":"IF(Meetings1!A48=\"\",\"\",IF(Meetings1!A48=\"END\",\"END\",IF(Meetings1!B48=\"\",\"\",getAddress(Meetings1!E48))))","v":""},{"$nulls":13},{"$f":"IF(Meetings2!D48=\"\",\"\",getAddress(Meetings2!D48))","v":""},{"$f":"IF(Meetings2!E48=\"\",\"\",getAddress(Meetings2!E48))","v":""},{"$f":"IF(Meetings2!F48=\"\",\"\",getAddress(Meetings2!F48))","v":""},{"$f":"IF(Meetings2!G48=\"\",\"\",getAddress(Meetings2!G48))","v":""},{"$f":"IF(Meetings2!H48=\"\",\"\",getAddress(Meetings2!H48))","v":""},{"$f":"IF(Meetings2!I48=\"\",\"\",getAddress(Meetings2!I48))","v":""},{"$f":"IF(Meetings2!J48=\"\",\"\",getAddress(Meetings2!J48))","v":""},{"$f":"IF(Meetings2!K48=\"\",\"\",getAddress(Meetings2!K48))","v":""},{"$f":"IF(Meetings2!L48=\"\",\"\",getAddress(Meetings2!L48))","v":""},{"$f":"IF(Meetings2!M48=\"\",\"\",getAddress(Meetings2!M48))","v":""},null,{"$f":"IF(AA48=\"\",\"\",IF(AA48=\"Career::\",Form!A46,\"\"))","v":""},"1-7 0.8L"," K'ton","2012-04-23"," 1100m"," Slow"," Race 1"," 3yo+ Mdn"," Mdn 3+",12000,-6825," Zachary Scullie",1," Cd 54.5--4.0"," (SW)"," 1::09.46"," ()"," 6/1"," Settled-1 1200- 800- Turn-1"," 2-Joshua's Might 58.0",null,null,null,"",{"$f":"IF(Race!J48<>\"\",Race!C48,\"\")","v":""},{"$f":"IF(AX48<>\"\",Race!N48,\"\")","v":""},{"$f":"IF(AX48<>\"\",Race!I48,\"\")","v":""},{"$f":"IF(AX48<>\"\",Race!L48,\"\")","v":""},{"$nulls":14},{"$f":"IF(MainSheet!#REF!=\"\",\"\",IF(RANK(BM48,$BN$2:$BN$26)<6,RANK(BM48,$BN$2:$BN$26),\"\"))","v":{"$error":"#REF!"}},null,null,null,"","","","","",null,null,"","","","","","",{"$nulls":4},"","","","","","",{"$nulls":4},"","","","","","",{"$nulls":8},{"$f":"IF(MainSheet!#REF!=\"\",\"\",DE48+DH48)","v":{"$error":"#REF!"}},{"$f":"IF(MainSheet!#REF!=\"\",\"\",IF(RANK(DI48,$DI$2:$DI$26)<6,RANK(DI48,$DI$2:$DI$26),\"\"))","v":{"$error":"#REF!"}},{"$nulls":38},"","",{"$f":"IF(EX48=\"\",\"\",COUNT($EX$2:$EX$26)-(RANK(EX48,$EX$2:$EX$26)+COUNTIF($EX$2:EX48,EX48)-1)+1)","v":""},"","","","",{"$f":"IF(FC48=\"\",\"\",1/FC48*MainSheet!$R$11)","v":""}]
[{"$f":"IF(Meetings1!A49=\"\",\"\",IF(Meetings1!A49=\"END\",\"END\",IF(Meetings1!B49=\"\",\"\",getAddress(Meetings1!E49))))","v":""},{"$nulls":13},{"$f":"IF(Meetings2!D49=\"\",\"\",getAddress(Meetings2!D49))","v":""},{"$f":"IF(Meetings2!E49=\"\",\"\",getAddress(Meetings2!E49))","v":""},{"$f":"IF(Meetings2!F49=\"\",\"\",getAddress(Meetings2!F49))","v":""},{"$f":"IF(Meetings2!G49=\"\",\"\",getAddress(Meetings2!G49))","v":""},{"$f":"IF(Meetings2!H49=\"\",\"\",getAddress(Meetings2!H49))","v":""},{"$f":"IF(Meetings2!I49=\"\",\"\",getAddress(Meetings2!I49))","v":""},{"$f":"IF(Meetings2!J49=\"\",\"\",getAddress(Meetings2!J49))","v":""},{"$f":"IF(Meetings2!K49=\"\",\"\",getAddress(Meetings2!K49))","v":""},{"$f":"IF(Meetings2!L49=\"\",\"\",getAddress(Meetings2!L49))","v":""},{"$f":"IF(Meetings2!M49=\"\",\"\",getAddress(Meetings2!M49))","v":""},null,{"$f":"IF(AA49=\"\",\"\",IF(AA49=\"Career::\",Form!A47,\"\"))","v":""},"2-9 0.1L"," Kerang","2012-04-07"," 1100m"," Good"," Race 1"," 3yo+ Mdn"," Mdn 3+",7000,-1196," Zachary Scullie",9," Cd 54.5--4.0"," (SW)"," 1::05.48"," ()"," 8/1"," Settled- 1200- 800- Turn-"," 1-Taino 58.5",null,null,null,"",{"$f":"IF(Race!J49<>\"\",Race!C49,\"\")","v":""},{"$f":"IF(AX49<>\"\",Race!N49,\"\")","v":""},{"$f":"IF(AX49<>\"\",Race!I49,\"\")","v":""},{"$f":"IF(AX49<>\"\",Race!L49,\"\")","v":""},{"$nulls":14},{"$f":"IF(MainSheet!#REF!=\"\",\"\",IF(RANK(BM49,$BN$2:$BN$26)<6,RANK(BM49,$BN$2:$BN$26),\"\"))","v":{"$error":"#REF!"}},null,null,null,"","","","","",null,null,"","","","","","",{"$nulls":4},"","","","","","",{"$nulls":4},"","","","","","",{"$nulls":8},{"$f":"IF(MainSheet!#REF!=\"\",\"\",DE49+DH49)","v":{"$error":"#REF!"}},{"$f":"IF(MainSheet!#REF!=\"\",\"\",IF(RANK(DI49,$DI$2:$DI$26)<6,RANK(DI49,$DI$2:$DI$26),\"\"))","v":{"$error":"#REF!"}},{"$nulls":38},"","",{"$f":"IF(EX49=\"\",\"\",COUNT($EX$2:$EX$26)-(RANK(EX49,$EX$2:$EX$26)+COUNTIF($EX$2:EX49,EX49)-1)+1)","v":""},"","","","",{"$f":"IF(FC49=\"\",\"\",1/FC49*MainSheet!$R$11)","v":""}]
[{"$f":"IF(Meetings1!A50=\"\",\"\",IF(Meetings1!A50=\"END\",\"END\",IF(Meetings1!B50=\"\",\"\",getAddress(Meetings1!E50))))","v":""},{"$nulls":13},{"$f":"IF(Meetings2!D50=\"\",\"\",getAddress(Meetings2!D50))","v":""},{"$f":"IF(Meetings2!E50=\"\",\"\",getAddress(Meetings2!E50))","v":""},{"$f":"IF(Meetings2!F50=\"\",\"\",getAddress(Meetings2!F50))","v":""},{"$f":"IF(Meetings2!G50=\"\",\"\",getAddress(Meetings2!G50))","v":""},{"$f":"IF(Meetings2!H50=\"\",\"\",getAddress(Meetings2!H50))","v":""},{"$f":"IF(Meetings2!I50=\"\",\"\",getAddress(Meetings2!I50))","v":""},{"$f":"IF(Meetings2!J50=\"\",\"\",getAddress(Meetings2!J50))","v":""},{"$f":"IF(Meetings2!K50=\"\",\"\",getAddress(Meetings2!K50))","v":""},{"$f":"IF(Meetings2!L50=\"\",\"\",getAddress(Meetings2!L50))","v":""},{"$f":"IF(Meetings2!M50=\"\",\"\",getAddress(Meetings2!M50))","v":""},null,{"$f":"IF(AA50=\"\",\"\",IF(AA50=\"Career::\",Form!A48,\"\"))","v":""},"9-12 6.6L"," Echuca","2012-03-11"," 1100m"," Good"," Race 1"," 3yo+ Mdn"," Mdn 3+",15000,-250," B Rawiller",9," Cd 58.5-0.0"," (SW)"," 1::05.28"," ()"," 25/1"," Settled-7 1200- 800- Turn-6"," 1-Moudita 56.0",null,null,null,"",{"$f":"IF(Race!J50<>\"\",Race!C50,\"\")","v":""},{"$f":"IF(AX50<>\"\",Race!N50,\"\")","v":""},{"$f":"IF(AX50<>\"\",Race!I50,\"\")","v":""},{"$f":"IF(AX50<>\"\",Race!L50,\"\")","v":""},{"$nulls":14},{"$f":"IF(MainSheet!#REF!=\"\",\"\",IF(RANK(BM50,$BN$2:$BN$26)<6,RANK(BM50,$BN$2:$BN$26),\"\"))","v":{"$error":"#REF!"}},null,null,null,"","","","","",null,null,"","","","","","",{"$nulls":4},"","","","","","",{"$nulls":4},"","","","","","",{"$nulls":8},{"$f":"IF(MainSheet!#REF!=\"\",\"\",DE50+DH50)","v":{"$error":"#REF!"}},{"$f":"IF(MainSheet!#REF!=\"\",\"\",IF(RANK(DI50,$DI$2:$DI$26)<6,RANK(DI50,$DI$2:$DI$26),\"\"))","v":{"$error":"#REF!"}},{"$nulls":38},"","",{"$f":"IF(EX50=\"\",\"\",COUNT($EX$2:$EX$26)-(RANK(EX50,$EX$2:$EX$26)+COUNTIF($EX$2:EX50,EX50)-1)+1)","v":""},"","","","",{"$f":"IF(FC50=\"\",\"\",1/FC50*MainSheet!$R$11)","v":""}]
[{"$f":"IF(Meetings1!A51=\"\",\"\",IF(Meetings1!A51=\"END\",\"END\",IF(Meetings1!B51=\"\",\"\",getAddress(Meetings1!E51))))","v":""},{"$nulls":13},{"$f":"IF(Meetings2!D51=\"\",\"\",getAddress(Meetings2!D51))","v":""},{"$f":"IF(Meetings2!E51=\"\",\"\",getAddress(Meetings2!E51))","v":""},{"$f":"IF(Meetings2!F51=\"\",\"\",getAddress(Meetings2!F51))","v":""},{"$f":"IF(Meetings2!G51=\"\",\"\",getAddress(Meetings2!G51))","v":""},{"$f":"IF(Meetings2!H51=\"\",\"\",getAddress(Meetings2!H51))","v":""},{"$f":"IF(Meetings2!I51=\"\",\"\",getAddress(Meetings2!I51))","v":""},{"$f":"IF(Meetings2!J51=\"\",\"\",getAddress(Meetings2!J51))","v":""},{"$f":"IF(Meetings2!K51=\"\",\"\",getAddress(Meetings2!K51))","v":""},{"$f":"IF(Meetings2!L51=\"\",\"\",getAddress(Meetings2!L51))","v":""},{"$f":"IF(Meetings2!M51=\"\",\"\",getAddress(Meetings2!M51))","v":""},null,{"$f":"IF(AA51=\"\",\"\",IF(AA51=\"Career::\",Form!A49,\"\"))","v":""},"3-7 1.1L"," Balran","2012-02-18"," 1000m"," Good"," Race 1"," Mdn Plate"," Mdn",4000,-400," T Barry",4," Cd 59.0-0.0"," (SW)"," 1::00.37"," ()"," 2/1E"," Settled- 1200- 800- Turn-"," 1-Maxport 56.0",null,null,null,"",{"$f":"IF(Race!J51<>\"\",Race!C51,\"\")","v":""},{"$f":"IF(AX51<>\"\",Race!N51,\"\")","v":""},{"$f":"IF(AX51<>\"\",Race!I51,\"\")","v":""},{"$f":"IF(AX51<>\"\",Race!L51,\"\")","v":""},{"$nulls":14},{"$f":"IF(MainSheet!#REF!=\"\",\"\",IF(RANK(BM51,$BN$2:$BN$26)<6,RANK(BM51,$BN$2:$BN$26),\"\"))","v":{"$error":"#REF!"}},null,null,null,"","","","","",null,null,"","","","","","",{"$nulls":4},"","","","","","",{"$nulls":4},"","","","","","",{"$nulls":8},{"$f":"IF(MainSheet!#REF!=\"\",\"\",DE51+DH51)","v":{"$error":"#REF!"}},{"$f":"IF(MainSheet!#REF!=\"\",\"\",IF(RANK(DI51,$DI$2:$DI$26)<6,RANK(DI51,$DI$2:$DI$26),\"\"))","v":{"$error":"#REF!"}},{"$nulls":38},"","",{"$f":"IF(EX51=\"\",\"\",COUNT($EX$2:$EX$26)-(RANK(EX51,$EX$2:$EX$26)+COUNTIF($EX$2:EX51,EX51)-1)+1)","v":""},"","","","",{"$f":"IF(FC51=\"\",\"\",1/FC51*MainSheet!$R$11)","v":""}]
[{"$f":"IF(Meetings1!A52=\"\",\"\",IF(Meetings1!A52=\"END\",\"END\",IF(Meetings1!B52=\"\",\"\",getAddress(Meetings1!E52))))","v":""},{"$nulls":13},{"$f":"IF(Meetings2!D52=\"\",\"\",getAddress(Meetings2!D52))","v":""},{"$f":"IF(Meetings2!E52=\"\",\"\",getAddress(Meetings2!E52))","v":""},{"$f":"IF(Meetings2!F52=\"\",\"\",getAddress(Meetings2!F52))","v":""},{"$f":"IF(Meetings2!G52=\"\",\"\",getAddress(Meetings2!G52))","v":""},{"$f":"IF(Meetings2!H52=\"\",\"\",getAddress(Meetings2!H52))","v":""},{"$f":"IF(Meetings2!I52=\"\",\"\",getAddress(Meetings2!I52))","v":""},{"$f":"IF(Meetings2!J52=\"\",\"\",getAddress(Meetings2!J52))","v":""},{"$f":"IF(Meetings2!K52=\"\",\"\",getAddress(Meetings2!K52))","v":""},{"$f":"IF(Meetings2!L52=\"\",\"\",getAddress(Meetings2!L52))","v":""},{"$f":"IF(Meetings2!M52=\"\",\"\",getAddress(Meetings2!M52))","v":""},null,{"$f":"IF(AA52=\"\",\"\",IF(AA52=\"Career::\",Form!A50,\"\"))","v":""},"12-13 24.2L"," Echuca","2011-12-29"," 1400m"," Good"," Race 4"," Mdn"," Mdn",15000,0," Jarrod Fry",11," Cd 58.0-0.0"," (SW)"," 1::25.71"," ()"," 14/1"," Settled- 1200- 800- Turn-"," 1-Billy Of Chicago 55.0",null,null,null,"",{"$f":"IF(Race!J52<>\"\",Race!C52,\"\")","v":""},{"$f":"IF(AX52<>\"\",Race!N52,\"\")","v":""},{"$f":"IF(AX52<>\"\",Race!I52,\"\")","v":""},{"$f":"IF(AX52<>\"\",Race!L52,\"\")","v":""},{"$nulls":14},{"$f":"IF(MainSheet!#REF!=\"\",\"\",IF(RANK(BM52,$BN$2:$BN$26)<6,RANK(BM52,$BN$2:$BN$26),\"\"))","v":{"$error":"#REF!"}},null,null,null,"","","","","",null,null,"","","","","","",{"$nulls":4},"","","","","","",{"$nulls":4},"","","","","","",{"$nulls":8},{"$f":"IF(MainSheet!#REF!=\"\",\"\",DE52+DH52)","v":{"$error":"#REF!"}},{"$f":"IF(MainSheet!#REF!=\"\",\"\",IF(RANK(DI52,$DI$2:$DI$26)<6,RANK(DI52,$DI$2:$DI$26),\"\"))","v":{"$error":"#REF!"}},{"$nulls":38},"","",{"$f":"IF(EX52=\"\",\"\",COUNT($EX$2:$EX$26)-(RANK(EX52,$EX$2:$EX$26)+COUNTIF($EX$2:EX52,EX52)-1)+1)","v":""},"","","","",{"$f":"IF(FC52=\"\",\"\",1/FC52*MainSheet!$R$11)","v":""}]
[{"$f":"IF(Meetings1!A53=\"\",\"\",IF(Meetings1!A53=\"END\",\"END\",IF(Meetings1!B53=\"\",\"\",getAddress(Meetings1!E53))))","v":""},{"$nulls":13},{"$f":"IF(Meetings2!D53=\"\",\"\",getAddress(Meetings2!D53))","v":""},{"$f":"IF(Meetings2!E53=\"\",\"\",getAddress(Meetings2!E53))","v":""},{"$f":"IF(Meetings2!F53=\"\",\"\",getAddress(Meetings2!F53))","v":""},{"$f":"IF(Meetings2!G53=\"\",\"\",getAddress(Meetings2!G53))","v":""},{"$f":"IF(Meetings2!H53=\"\",\"\",getAddress(Meetings2!H53))","v":""},{"$f":"IF(Meetings2!I53=\"\",\"\",getAddress(Meetings2!I53))","v":""},{"$f":"IF(Meetings2!J53=\"\",\"\",getAddress(Meetings2!J53))","v":""},{"$f":"IF(Meetings2!K53=\"\",\"\",getAddress(Meetings2!K53))","v":""},{"$f":"IF(Meetings2!L53=\"\",\"\",getAddress(Meetings2!L53))","v":""},{"$f":"IF(Meetings2!M53=\"\",\"\",getAddress(Meetings2!M53))","v":""},null,{"$f":"IF(AA53=\"\",\"\",IF(AA53=\"Career::\",Form!A51,\"\"))","v":""},"4-10 2.0L"," K'ton","2011-12-20"," 1125m"," Dead"," Race 2"," 4yo+ Mdn"," Mdn 4+",12000,-525," Jarrod Fry",9," Cd 58.0-0.0"," (SW)"," 1::07.23"," ()"," 20/1"," Settled-6 1200- 800- Turn-4"," 1-Dark Pearl 56.0 Hung in during race.",null,null,null,"",{"$f":"IF(Race!J53<>\"\",Race!C53,\"\")","v":""},{"$f":"IF(AX53<>\"\",Race!N53,\"\")","v":""},{"$f":"IF(AX53<>\"\",Race!I53,\"\")","v":""},{"$f":"IF(AX53<>\"\",Race!L53,\"\")","v":""},{"$nulls":14},{"$f":"IF(MainSheet!$G75=\"\",\"\",IF(RANK(BM53,$BN$2:$BN$26)<6,RANK(BM53,$BN$2:$BN$26),\"\"))","v":""},null,null,null,"","","","","",null,null,"","","","","","",{"$nulls":4},"","","","","","",{"$nulls":4},"","","","","","",{"$nulls":8},{"$f":"IF(MainSheet!$G75=\"\",\"\",DE53+DH53)","v":""},{"$f":"IF(MainSheet!$G75=\"\",\"\",IF(RANK(DI53,$DI$2:$DI$26)<6,RANK(DI53,$DI$2:$DI$26),\"\"))","v":""},{"$nulls":38},"","",{"$f":"IF(EX53=\"\",\"\",COUNT($EX$2:$EX$26)-(RANK(EX53,$EX$2:$EX$26)+COUNTIF($EX$2:EX53,EX53)-1)+1)","v":""},"","","","",{"$f":"IF(FC53=\"\",\"\",1/FC53*MainSheet!$R$11)","v":""}]
[{"$f":"IF(Meetings1!A54=\"\",\"\",IF(Meetings1!A54=\"END\",\"END\",IF(Meetings1!B54=\"\",\"\",getAddress(Meetings1!E54))))","v":""},{"$nulls":13},{"$f":"IF(Meetings2!D54=\"\",\"\",getAddress(Meetings2!D54))","v":""},{"$f":"IF(Meetings2!E54=\"\",\"\",getAddress(Meetings2!E54))","v":""},{"$f":"IF(Meetings2!F54=\"\",\"\",getAddress(Meetings2!F54))","v":""},{"$f":"IF(Meetings2!G54=\"\",\"\",getAddress(Meetings2!G54))","v":""},{"$f":"IF(Meetings2!H54=\"\",\"\",getAddress(Meetings2!H54))","v":""},{"$f":"IF(Meetings2!I54=\"\",\"\",getAddress(Meetings2!I54))","v":""},{"$f":"IF(Meetings2!J54=\"\",\"\",getAddress(Meetings2!J54))","v":""},{"$f":"IF(Meetings2!K54=\"\",\"\",getAddress(Meetings2!K54))","v":""},{"$f":"IF(Meetings2!L54=\"\",\"\",getAddress(Meetings2!L54))","v":""},{"$f":"IF(Meetings2!M54=\"\",\"\",getAddress(Meetings2!M54))","v":""},null,{"$f":"IF(AA54=\"\",\"\",IF(AA54=\"Career::\",Form!A52,\"\"))","v":""},"5-12 4.6L"," Tatura","2011-12-04"," 1000m"," Dead"," Race 1"," 3yo+ Mdn"," Mdn 3+",12000,-250," J Keating",8," Cd 58.0-0.0"," (SW)"," 0::59.06"," ()"," 14/1"," Settled-9 1200- 800- Turn-8"," 1-Sparkling Stone 56.0",null,null,null,"",null,null,null,{"$f":"IF(AX54<>\"\",Race!L54,\"\")","v":""},{"$nulls":14},{"$f":"IF(MainSheet!$G76=\"\",\"\",IF(RANK(BM54,$BN$2:$BN$26)<6,RANK(BM54,$BN$2:$BN$26),\"\"))","v":""},null,null,null,"","","","","",null,null,"","","","","","",{"$nulls":4},"","","","","","",{"$nulls":4},"","","","","","",{"$nulls":8},{"$f":"IF(MainSheet!$G76=\"\",\"\",DE54+DH54)","v":""},{"$f":"IF(MainSheet!$G76=\"\",\"\",IF(RANK(DI54,$DI$2:$DI$26)<6,RANK(DI54,$DI$2:$DI$26),\"\"))","v":""},{"$nulls":38},"","",{"$f":"IF(EX54=\"\",\"\",COUNT($EX$2:$EX$26)-(RANK(EX54,$EX$2:$EX$26)+COUNTIF($EX$2:EX54,EX54)-1)+1)","v":""},"","","","",{"$f":"IF(FC54=\"\",\"\",1/FC54*MainSheet!$R$11)","v":""}]
[{"$f":"IF(Meetings1!A55=\"\",\"\",IF(Meetings1!A55=\"END\",\"END\",IF(Meetings1!B55=\"\",\"\",getAddress(Meetings1!E55))))","v":""},{"$nulls":13},{"$f":"IF(Meetings2!D55=\"\",\"\",getAddress(Meetings2!D55))","v":""},{"$f":"IF(Meetings2!E55=\"\",\"\",getAddress(Meetings2!E55))","v":""},{"$f":"IF(Meetings2!F55=\"\",\"\",getAddress(Meetings2!F55))","v":""},{"$f":"IF(Meetings2!G55=\"\",\"\",getAddress(Meetings2!G55))","v":""},{"$f":"IF(Meetings2!H55=\"\",\"\",getAddress(Meetings2!H55))","v":""},{"$f":"IF(Meetings2!I55=\"\",\"\",getAddress(Meetings2!I55))","v":""},{"$f":"IF(Meetings2!J55=\"\",\"\",getAddress(Meetings2!J55))","v":""},{"$f":"IF(Meetings2!K55=\"\",\"\",getAddress(Meetings2!K55))","v":""},{"$f":"IF(Meetings2!L55=\"\",\"\",getAddress(Meetings2!L55))","v":""},{"$f":"IF(Meetings2!M55=\"\",\"\",getAddress(Meetings2!M55))","v":""},null,{"$f":"IF(AA55=\"\",\"\",IF(AA55=\"Career::\",Form!A53,\"\"))","v":""},"6-13 3.0L"," Swan H","2011-11-27"," 975m"," Slow"," Race 1"," 3yo+ Mdn"," Mdn 3+",12000,-250," J Keating",4," Cd 58.0-0.0"," (SW)"," 0::58.66"," ()"," 15/1"," Settled- 1200- 800- Turn-"," 1-Spiriticity 56.0",null,null,null,"",{"$f":"IF(Race!N53<>\"\",Race!C53,\"\")","v":""},{"$f":"IF(AX55<>\"\",Race!N53,\"\")","v":""},{"$f":"IF(AX55<>\"\",Race!I53,\"\")","v":""},{"$f":"IF(AX55<>\"\",Race!L55,\"\")","v":""},{"$nulls":14},{"$f":"IF(MainSheet!$G77=\"\",\"\",IF(RANK(BM55,$BN$2:$BN$26)<6,RANK(BM55,$BN$2:$BN$26),\"\"))","v":""},null,null,null,"","","","","",null,null,"","","","","","",{"$nulls":4},"","","","","","",{"$nulls":4},"","","","","","",{"$nulls":8},{"$f":"IF(MainSheet!$G77=\"\",\"\",DE55+DH55)","v":""},{"$f":"IF(MainSheet!$G77=\"\",\"\",IF(RANK(DI55,$DI$2:$DI$26)<6,RANK(DI55,$DI$2:$DI$26),\"\"))","v":""},{"$nulls":38},"","",{"$f":"IF(EX55=\"\",\"\",COUNT($EX$2:$EX$26)-(RANK(EX55,$EX$2:$EX$26)+COUNTIF($EX$2:EX55,EX55)-1)+1)","v":""},"","","","",{"$f":"IF(FC55=\"\",\"\",1/FC55*MainSheet!$R$11)","v":""}]
[{"$f":"IF(Meetings1!A56=\"\",\"\",IF(Meetings1!A56=\"END\",\"END\",IF(Meetings1!B56=\"\",\"\",getAddress(Meetings1!E56))))","v":""},{"$nulls":13},{"$f":"IF(Meetings2!D56=\"\",\"\",getAddress(Meetings2!D56))","v":""},{"$f":"IF(Meetings2!E56=\"\",\"\",getAddress(Meetings2!E56))","v":""},{"$f":"IF(Meetings2!F56=\"\",\"\",getAddress(Meetings2!F56))","v":""},{"$f":"IF(Meetings2!G56=\"\",\"\",getAddress(Meetings2!G56))","v":""},{"$f":"IF(Meetings2!H56=\"\",\"\",getAddress(Meetings2!H56))","v":""},{"$f":"IF(Meetings2!I56=\"\",\"\",getAddress(Meetings2!I56))","v":""},{"$f":"IF(Meetings2!J56=\"\",\"\",getAddress(Meetings2!J56))","v":""},{"$f":"IF(Meetings2!K56=\"\",\"\",getAddress(Meetings2!K56))","v":""},{"$f":"IF(Meetings2!L56=\"\",\"\",getAddress(Meetings2!L56))","v":""},{"$f":"IF(Meetings2!M56=\"\",\"\",getAddress(Meetings2!M56))","v":""},null,{"$f":"IF(AA56=\"\",\"\",IF(AA56=\"Career::\",Form!A54,\"\"))","v":""},"5-12 3.2L"," Swan H","2011-08-29"," 975m"," Dead"," Race 1"," 3yo+ Mdn"," Mdn 3+",12000,-250," Tash Burleigh",2," Cd 54.0--4.0"," (SW)"," 0::57.32"," ()"," 4/1"," Settled-3 1200- 800- Turn-2"," 1-Palconi 58.0",null,null,null,"",{"$f":"IF(Race!N54<>\"\",Race!C54,\"\")","v":""},{"$f":"IF(AX56<>\"\",Race!N54,\"\")","v":""},{"$f":"IF(AX56<>\"\",Race!I54,\"\")","v":""},{"$f":"IF(AX56<>\"\",Race!L56,\"\")","v":""},{"$nulls":14},{"$f":"IF(MainSheet!$G78=\"\",\"\",IF(RANK(BM56,$BN$2:$BN$26)<6,RANK(BM56,$BN$2:$BN$26),\"\"))","v":""},null,null,null,"","","","","",null,null,"","","","","","",{"$nulls":4},"","","","","","",{"$nulls":4},"","","","","","",{"$nulls":8},{"$f":"IF(MainSheet!$G78=\"\",\"\",DE56+DH56)","v":""},{"$f":"IF(MainSheet!$G78=\"\",\"\",IF(RANK(DI56,$DI$2:$DI$26)<6,RANK(DI56,$DI$2:$DI$26),\"\"))","v":""},{"$nulls":38},"","",{"$f":"IF(EX56=\"\",\"\",COUNT($EX$2:$EX$26)-(RANK(EX56,$EX$2:$EX$26)+COUNTIF($EX$2:EX56,EX56)-1)+1)","v":""},"","","","",{"$f":"IF(FC56=\"\",\"\",1/FC56*MainSheet!$R$11)","v":""}]
[{"$f":"IF(Meetings1!A57=\"\",\"\",IF(Meetings1!A57=\"END\",\"END\",IF(Meetings1!B57=\"\",\"\",getAddress(Meetings1!E57))))","v":""},{"$nulls":24},{"$f":"IF(AA57=\"\",\"\",IF(AA57=\"Career::\",Form!A55,\"\"))","v":""},"3-13 2.8L"," Swan H","2011-08-08"," 975m"," Slow"," Race 1"," 3yo+ Mdn"," Mdn 3+",12000,-1050," J Lyon",6," Cd 58.0-0.0"," (SW)"," 1::00.95"," ()"," 12/1"," Settled- 1200- 800- Turn-"," 1-Epona Fire 56.0",null,null,null,"",{"$f":"IF(Race!N55<>\"\",Race!C55,\"\")","v":""},{"$f":"IF(AX57<>\"\",Race!N55,\"\")","v":""},{"$f":"IF(AX57<>\"\",Race!I55,\"\")","v":""},{"$f":"IF(AX57<>\"\",Race!L57,\"\")","v":""},{"$nulls":14},{"$f":"IF(MainSheet!$G79=\"\",\"\",IF(RANK(BM57,$BN$2:$BN$26)<6,RANK(BM57,$BN$2:$BN$26),\"\"))","v":""},null,null,null,"","","","","",null,null,"","","","","","",{"$nulls":4},"","","","","","",{"$nulls":4},"","","","","","",{"$nulls":8},{"$f":"IF(MainSheet!$G79=\"\",\"\",DE57+DH57)","v":""},{"$f":"IF(MainSheet!$G79=\"\",\"\",IF(RANK(DI57,$DI$2:$DI$26)<6,RANK(DI57,$DI$2:$DI$26),\"\"))","v":""},{"$nulls":38},"","",{"$f":"IF(EX57=\"\",\"\",COUNT($EX$2:$EX$26)-(RANK(EX57,$EX$2:$EX$26)+COUNTIF($EX$2:EX57,EX57)-1)+1)","v":""},"","","","",{"$f":"IF(FC57=\"\",\"\",1/FC57*MainSheet!$R$11)","v":""}]
[{"$f":"IF(Meetings1!A58=\"\",\"\",IF(Meetings1!A58=\"END\",\"END\",IF(Meetings1!B58=\"\",\"\",getAddress(Meetings1!E58))))","v":""},{"$nulls":24},{"$f":"IF(AA58=\"\",\"\",IF(AA58=\"Career::\",Form!A56,\"\"))","v":""},{"$nulls":22},"",{"$f":"IF(Race!N56<>\"\",Race!C56,\"\")","v":""},{"$f":"IF(AX58<>\"\",Race!N56,\"\")","v":""},{"$f":"IF(AX58<>\"\",Race!I56,\"\")","v":""},{"$f":"IF(AX58<>\"\",Race!L58,\"\")","v":""},{"$nulls":14},{"$f":"IF(MainSheet!$G80=\"\",\"\",IF(RANK(BM58,$BN$2:$BN$26)<6,RANK(BM58,$BN$2:$BN$26),\"\"))","v":""},null,null,null,"","","","","",null,null,"","","","","","",{"$nulls":4},"","","","","","",{"$nulls":4},"","","","","","",{"$nulls":8},{"$f":"IF(MainSheet!$G80=\"\",\"\",DE58+DH58)","v":""},{"$f":"IF(MainSheet!$G80=\"\",\"\",IF(RANK(DI58,$DI$2:$DI$26)<6,RANK(DI58,$DI$2:$DI$26),\"\"))","v":""},{"$nulls":38},"","",{"$f":"IF(EX58=\"\",\"\",COUNT($EX$2:$EX$26)-(RANK(EX58,$EX$2:$EX$26)+COUNTIF($EX$2:EX58,EX58)-1)+1)","v":""},"","","","",{"$f":"IF(FC58=\"\",\"\",1/FC58*MainSheet!$R$11)","v":""}]
[{"$f":"IF(Meetings1!A59=\"\",\"\",IF(Meetings1!A59=\"END\",\"END\",IF(Meetings1!B59=\"\",\"\",getAddress(Meetings1!E59))))","v":""},{"$nulls":24},{"$f":"IF(AA59=\"\",\"\",IF(AA59=\"Career::\",Form!A57,\"\"))","v":""},{"$nulls":22},"",{"$f":"IF(Race!N57<>\"\",Race!C57,\"\")","v":""},{"$f":"IF(AX59<>\"\",Race!N57,\"\")","v":""},{"$f":"IF(AX59<>\"\",Race!I57,\"\")","v":""},{"$f":"IF(AX59<>\"\",Race!L59,\"\")","v":""},{"$nulls":14},{"$f":"IF(MainSheet!$G81=\"\",\"\",IF(RANK(BM59,$BN$2:$BN$26)<6,RANK(BM59,$BN$2:$BN$26),\"\"))","v":""},null,null,null,"","","","","",null,null,"","","","","",{"$f":"IF(CBF59=\"\",\"\",((BV59+CC59)*2)+BW59+BX59+CD59+CE59)","v":""},{"$nulls":4},"","","","","","",{"$nulls":4},"","","","","","",{"$nulls":8},{"$f":"IF(MainSheet!$G81=\"\",\"\",DE59+DH59)","v":""},{"$f":"IF(MainSheet!$G81=\"\",\"\",IF(RANK(DI59,$DI$2:$DI$26)<6,RANK(DI59,$DI$2:$DI$26),\"\"))","v":""},{"$nulls":38},"","",{"$f":"IF(EX59=\"\",\"\",COUNT($EX$2:$EX$26)-(RANK(EX59,$EX$2:$EX$26)+COUNTIF($EX$2:EX59,EX59)-1)+1)","v":""},"","","","",{"$f":"IF(FC59=\"\",\"\",1/FC59*MainSheet!$R$11)","v":""}]
[{"$f":"IF(Meetings1!A60=\"\",\"\",IF(Meetings1!A60=\"END\",\"END\",IF(Meetings1!B60=\"\",\"\",getAddress(Meetings1!E60))))","v":""},{"$nulls":24},{"$f":"IF(AA60=\"\",\"\",IF(AA60=\"Career::\",Form!A58,\"\"))","v":""},"Comments:: Continued good form with 1-3/4 len hd 3rd Little Bro"," Cherish Harmony 1200m Ball't Hcp (62) Dead trk Apr 05 . Then len 2nd Magic Waltz 1300m Geesyn Hcp (58) Apr 27 . Has good record in the wet.",{"$nulls":17}," dismissed.",null,null,"",{"$f":"IF(Race!N58<>\"\",Race!C58,\"\")","v":""},{"$f":"IF(AX60<>\"\",Race!N58,\"\")","v":""},{"$f":"IF(AX60<>\"\",Race!I58,\"\")","v":""},{"$f":"IF(AX60<>\"\",Race!L60,\"\")","v":""},{"$nulls":14},{"$f":"IF(MainSheet!$G82=\"\",\"\",IF(RANK(BM60,$BN$2:$BN$26)<6,RANK(BM60,$BN$2:$BN$26),\"\"))","v":""},null,null,null,"","","","","",null,null,"","","","","","",{"$nulls":4},"","","","","","",{"$nulls":4},"","","","","","",{"$nulls":8},{"$f":"IF(MainSheet!$G82=\"\",\"\",DE60+DH60)","v":""},{"$f":"IF(MainSheet!$G82=\"\",\"\",IF(RANK(DI60,$DI$2:$DI$26)<6,RANK(DI60,$DI$2:$DI$26),\"\"))","v":""},{"$nulls":38},"","",{"$f":"IF(EX60=\"\",\"\",COUNT($EX$2:$EX$26)-(RANK(EX60,$EX$2:$EX$26)+COUNTIF($EX$2:EX60,EX60)-1)+1)","v":""},"","","","",{"$f":"IF(FC60=\"\",\"\",1/FC60*MainSheet!$R$11)","v":""}]
[{"$f":"IF(Meetings1!A61=\"\",\"\",IF(Meetings1!A61=\"END\",\"END\",IF(Meetings1!B61=\"\",\"\",getAddress(Meetings1!E61))))","v":""},{"$nulls":24},{"$f":"IF(AA61=\"\",\"\",IF(AA61=\"Career::\",Form!A59,\"\"))","v":"Watasham"},"Career::",{"$nulls":21},"",{"$f":"IF(Race!N59<>\"\",Race!C59,\"\")","v":""},{"$f":"IF(AX61<>\"\",Race!N59,\"\")","v":""},{"$f":"IF(AX61<>\"\",Race!I59,\"\")","v":""},{"$f":"IF(AX61<>\"\",Race!L61,\"\")","v":""},{"$nulls":14},{"$f":"IF(MainSheet!$G83=\"\",\"\",IF(RANK(BM61,$BN$2:$BN$26)<6,RANK(BM61,$BN$2:$BN$26),\"\"))","v":""},null,null,null,"","","","","",null,null,"","","","","","",{"$nulls":4},"","","","","","",{"$nulls":4},"","","","","","",{"$nulls":8},{"$f":"IF(MainSheet!$G83=\"\",\"\",DE61+DH61)","v":""},{"$f":"IF(MainSheet!$G83=\"\",\"\",IF(RANK(DI61,$DI$2:$DI$26)<6,RANK(DI61,$DI$2:$DI$26),\"\"))","v":""},{"$nulls":38},"","",{"$f":"IF(EX61=\"\",\"\",COUNT($EX$2:$EX$26)-(RANK(EX61,$EX$2:$EX$26)+COUNTIF($EX$2:EX61,EX61)-1)+1)","v":""},"","","","",{"$f":"IF(FC61=\"\",\"\",1/FC61*MainSheet!$R$11)","v":""}]
[{"$f":"IF(Meetings1!A62=\"\",\"\",IF(Meetings1!A62=\"END\",\"END\",IF(Meetings1!B62=\"\",\"\",getAddress(Meetings1!E62))))","v":""},{"$nulls":24},{"$f":"IF(AA62=\"\",\"\",IF(AA62=\"Career::\",Form!A60,\"\"))","v":""},"15::1-3-3",{"$nulls":21},"",{"$f":"IF(Race!N60<>\"\",Race!C60,\"\")","v":""},{"$f":"IF(AX62<>\"\",Race!N60,\"\")","v":""},{"$f":"IF(AX62<>\"\",Race!I60,\"\")","v":""},{"$f":"IF(AX62<>\"\",Race!L62,\"\")","v":""},{"$nulls":14},{"$f":"IF(MainSheet!$G84=\"\",\"\",IF(RANK(BM62,$BN$2:$BN$26)<6,RANK(BM62,$BN$2:$BN$26),\"\"))","v":""},null,null,null,"","","","","",null,null,"","","","","","",{"$nulls":4},"","","","","","",{"$nulls":4},"","","","","","",{"$nulls":8},{"$f":"IF(MainSheet!$G84=\"\",\"\",DE62+DH62)","v":""},{"$f":"IF(MainSheet!$G84=\"\",\"\",IF(RANK(DI62,$DI$2:$DI$26)<6,RANK(DI62,$DI$2:$DI$26),\"\"))","v":""},{"$nulls":38},"","",{"$f":"IF(EX62=\"\",\"\",COUNT($EX$2:$EX$26)-(RANK(EX62,$EX$2:$EX$26)+COUNTIF($EX$2:EX62,EX62)-1)+1)","v":""},"","","","",{"$f":"IF(FC62=\"\",\"\",1/FC62*MainSheet!$R$11)","v":""}]
[{"$f":"IF(Meetings1!A63=\"\",\"\",IF(Meetings1!A63=\"END\",\"END\",IF(Meetings1!B63=\"\",\"\",getAddress(Meetings1!E63))))","v":""},{"$nulls":24},{"$f":"IF(AA63=\"\",\"\",IF(AA63=\"Career::\",Form!A61,\"\"))","v":""},"Fast::",{"$nulls":21},"",{"$f":"IF(Race!N61<>\"\",Race!C61,\"\")","v":""},{"$f":"IF(AX63<>\"\",Race!N61,\"\")","v":""},{"$f":"IF(AX63<>\"\",Race!I61,\"\")","v":""},{"$f":"IF(AX63<>\"\",Race!L63,\"\")","v":""},{"$nulls":14},{"$f":"IF(MainSheet!$G85=\"\",\"\",IF(RANK(BM63,$BN$2:$BN$26)<6,RANK(BM63,$BN$2:$BN$26),\"\"))","v":""},null,null,null,"","","","","",null,null,"","","","","","",{"$nulls":4},"","","","","","",{"$nulls":4},"","","","","","",{"$nulls":8},{"$f":"IF(MainSheet!$G85=\"\",\"\",DE63+DH63)","v":""},{"$f":"IF(MainSheet!$G85=\"\",\"\",IF(RANK(DI63,$DI$2:$DI$26)<6,RANK(DI63,$DI$2:$DI$26),\"\"))","v":""},{"$nulls":38},"","",{"$f":"IF(EX63=\"\",\"\",COUNT($EX$2:$EX$26)-(RANK(EX63,$EX$2:$EX$26)+COUNTIF($EX$2:EX63,EX63)-1)+1)","v":""},"","","","",{"$f":"IF(FC63=\"\",\"\",1/FC63*MainSheet!$R$11)","v":""}]
[{"$f":"IF(Meetings1!A64=\"\",\"\",IF(Meetings1!A64=\"END\",\"END\",IF(Meetings1!B64=\"\",\"\",getAddress(Meetings1!E64))))","v":""},{"$nulls":24},{"$f":"IF(AA64=\"\",\"\",IF(AA64=\"Career::\",Form!A62,\"\"))","v":""},"0::0-0-0",{"$nulls":21},"",{"$f":"IF(AW64<>\"\",Race!N62,\"\")","v":""},null,{"$f":"IF(AX64<>\"\",Race!I62,\"\")","v":""},{"$f":"IF(AX64<>\"\",Race!L64,\"\")","v":""},{"$nulls":14},{"$f":"IF(MainSheet!$G86=\"\",\"\",IF(RANK(BM64,$BN$2:$BN$26)<6,RANK(BM64,$BN$2:$BN$26),\"\"))","v":""},null,null,null,"","","","","",null,null,"","","","","","",{"$nulls":4},"","","","","","",{"$nulls":4},"","","","","","",{"$nulls":8},{"$f":"IF(MainSheet!$G86=\"\",\"\",DE64+DH64)","v":""},{"$f":"IF(MainSheet!$G86=\"\",\"\",IF(RANK(DI64,$DI$2:$DI$26)<6,RANK(DI64,$DI$2:$DI$26),\"\"))","v":""},{"$nulls":38},"","",{"$f":"IF(EX64=\"\",\"\",COUNT($EX$2:$EX$26)-(RANK(EX64,$EX$2:$EX$26)+COUNTIF($EX$2:EX64,EX64)-1)+1)","v":""},"","","","",{"$f":"IF(FC64=\"\",\"\",1/FC64*MainSheet!$R$11)","v":""}]
[{"$f":"IF(Meetings1!A65=\"\",\"\",IF(Meetings1!A65=\"END\",\"END\",IF(Meetings1!B65=\"\",\"\",getAddress(Meetings1!E65))))","v":""},{"$nulls":24},{"$f":"IF(AA65=\"\",\"\",IF(AA65=\"Career::\",Form!A63,\"\"))","v":""},"2-11 0.8L"," GeeSyn","2012-04-27"," 1300m"," Good"," Race 8"," Hcp (58)"," RB58",12000,-2100," Dean Holland",11," Cd 59.5-0.0",-54," 1::17.92",-34.79," 13/4"," Settled-1 1200- 800- Turn-1"," 1-Magic Waltz 57.5",null,null,null,"",{"$f":"IF(AW65<>\"\",Race!N63,\"\")","v":""},null,{"$f":"IF(AX65<>\"\",Race!I63,\"\")","v":""},{"$f":"IF(AX65<>\"\",Race!L65,\"\")","v":""},{"$nulls":14},{"$f":"IF(MainSheet!$G87=\"\",\"\",IF(RANK(BM65,$BN$2:$BN$26)<6,RANK(BM65,$BN$2:$BN$26),\"\"))","v":""},null,null,null,"","","","","",null,null,"","","","","","",{"$nulls":4},"","","","","","",{"$nulls":4},"","","","","","",{"$nulls":8},{"$f":"IF(MainSheet!$G87=\"\",\"\",DE65+DH65)","v":""},{"$f":"IF(MainSheet!$G87=\"\",\"\",IF(RANK(DI65,$DI$2:$DI$26)<6,RANK(DI65,$DI$2:$DI$26),\"\"))","v":""},{"$nulls":38},"","",{"$f":"IF(EX65=\"\",\"\",COUNT($EX$2:$EX$26)-(RANK(EX65,$EX$2:$EX$26)+COUNTIF($EX$2:EX65,EX65)-1)+1)","v":""},"","","","",{"$f":"IF(FC65=\"\",\"\",1/FC65*MainSheet!$R$11)","v":""}]
[{"$f":"IF(Meetings1!A66=\"\",\"\",IF(Meetings1!A66=\"END\",\"END\",IF(Meetings1!B66=\"\",\"\",getAddress(Meetings1!E66))))","v":""},{"$nulls":24},{"$f":"IF(AA66=\"\",\"\",IF(AA66=\"Career::\",Form!A64,\"\"))","v":""},"3-12 2.0L"," Ball't","2012-04-05"," 1200m"," Dead"," Race 8"," Hcp (62)"," RB62",15000,-1350," Damian Lane",6," Cd 57.5-0.0",-54," 1::12.02"," ()"," 11/1"," Settled-2 1200- 800- Turn-2"," 1-Little Bro 57.5",null,null,null,{"$f":"IF(AV66=\"\",\"\",IF(ISNUMBER(AV66),\"\",IF(AV66=\"Select Date\",\"\",AV66)))","v":""},{"$f":"IF(AW66<>\"\",Race!N64,\"\")","v":""},null,{"$f":"IF(AX66<>\"\",Race!I64,\"\")","v":""},{"$f":"IF(AX66<>\"\",Race!L66,\"\")","v":""},{"$nulls":14},{"$f":"IF(MainSheet!$G88=\"\",\"\",IF(RANK(BM66,$BN$2:$BN$26)<6,RANK(BM66,$BN$2:$BN$26),\"\"))","v":""},null,null,null,"","","","","",null,null,"","","","","","",{"$nulls":4},"","","","","","",{"$nulls":4},"","","","","","",{"$nulls":8},{"$f":"IF(MainSheet!$G88=\"\",\"\",DE66+DH66)","v":""},{"$f":"IF(MainSheet!$G88=\"\",\"\",IF(RANK(DI66,$DI$2:$DI$26)<6,RANK(DI66,$DI$2:$DI$26),\"\"))","v":""},{"$nulls":38},"","",{"$f":"IF(EX66=\"\",\"\",COUNT($EX$2:$EX$26)-(RANK(EX66,$EX$2:$EX$26)+COUNTIF($EX$2:EX66,EX66)-1)+1)","v":""},"","","","",{"$f":"IF(FC66=\"\",\"\",1/FC66*MainSheet!$R$11)","v":""}]
[{"$f":"IF(Meetings1!A67=\"\",\"\",IF(Meetings1!A67=\"END\",\"END\",IF(Meetings1!B67=\"\",\"\",getAddress(Meetings1!E67))))","v":""},{"$nulls":24},{"$f":"IF(AA67=\"\",\"\",IF(AA67=\"Career::\",Form!A65,\"\"))","v":""},"3-12 0.9L"," W'bee","2012-03-15"," 1100m"," Dead"," Race 5"," Hcp (C1)"," Cls 1",15000,-1350," Damian Lane",3," Cd 55.5-0.0",-54," 1::05.72"," ()"," 9/1"," Settled-4 1200- 800- Turn-5"," 1-Darkrai 56.0",null,null,null,"",{"$f":"IF(AW67<>\"\",Race!N65,\"\")","v":""},null,{"$f":"IF(AX67<>\"\",Race!I65,\"\")","v":""},{"$f":"IF(AX67<>\"\",Race!L67,\"\")","v":""},{"$nulls":14},{"$f":"IF(MainSheet!$G89=\"\",\"\",IF(RANK(BM67,$BN$2:$BN$26)<6,RANK(BM67,$BN$2:$BN$26),\"\"))","v":""},null,null,null,{"$f":"IF(BS67=\"\",\"\",RIGHT(BR67,LEN(BR67)-SEARCH(\":\",BR67,1)))","v":""},{"$f":"IF(BT67=\"\",\"\",SUBSTITUTE(BT67,\"-\",\" \"))","v":""},{"$f":"IF(BT67=\"\",\"\",0+TRIM(CLEAN(LEFT(BT67,FIND(\"-\",BT67)-1))))","v":""},{"$f":"IF(BS67=\"\",\"\",MID(BU67,SEARCH(\" \",BU67,1)+1,SEARCH(\" \",BU67,SEARCH(\" \",BU67,1)+1)-SEARCH(\" \",BU67,1)))","v":""},{"$f":"IF(BS67=\"\",\"\",RIGHT(BU67,LEN(BU67)-SEARCH(\" \",BU67,SEARCH(\" \",BU67,1)+1)))","v":""},null,null,{"$f":"IF(BZ67=\"\",\"\",RIGHT(BY67,LEN(BY67)-SEARCH(\":\",BY67,1)))","v":""},{"$f":"IF(CA67=\"\",\"\",SUBSTITUTE(CA67,\"-\",\" \"))","v":""},{"$f":"IF(CA67=\"\",\"\",0+TRIM(CLEAN(LEFT(CA67,FIND(\"-\",CA67)-1))))","v":""},{"$f":"IF(BZ67=\"\",\"\",MID(CB67,SEARCH(\" \",CB67,1)+1,SEARCH(\" \",CB67,SEARCH(\" \",CB67,1)+1)-SEARCH(\" \",CB67,1)))","v":""},{"$f":"IF(BZ67=\"\",\"\",RIGHT(CB67,LEN(CB67)-SEARCH(\" \",CB67,SEARCH(\" \",CB67,1)+1)))","v":""},"",{"$nulls":4},{"$f":"IF(CJ67=\"\",\"\",RIGHT(CI67,LEN(CI67)-SEARCH(\":\",CI67,1)))","v":""},{"$f":"IF(CK67=\"\",\"\",SUBSTITUTE(CK67,\"-\",\" \"))","v":""},{"$f":"IF(CK67=\"\",\"\",0+TRIM(CLEAN(LEFT(CK67,FIND(\"-\",CK67)-1))))","v":""},{"$f":"IF(CJ67=\"\",\"\",MID(CL67,SEARCH(\" \",CL67,1)+1,SEARCH(\" \",CL67,SEARCH(\" \",CL67,1)+1)-SEARCH(\" \",CL67,1)))","v":""},{"$f":"IF(CJ67=\"\",\"\",RIGHT(CL67,LEN(CL67)-SEARCH(\" \",CL67,SEARCH(\" \",CL67,1)+1)))","v":""},{"$f":"IF(CJ67=\"\",\"\",(CM67*2)+CN67+CO67)","v":""},{"$nulls":4},{"$f":"IF(CS67=\"\",\"\",RIGHT(CS67,LEN(CS67)-SEARCH(\":\",CS67,1)))","v":""},{"$f":"IF(CU67=\"\",\"\",SUBSTITUTE(CU67,\"-\",\" \"))","v":""},{"$f":"IF(CU67=\"\",\"\",0+TRIM(CLEAN(LEFT(CU67,FIND(\"-\",CU67)-1))))","v":""},{"$f":"IF(CS67=\"\",\"\",MID(CV67,SEARCH(\" \",CV67,1)+1,SEARCH(\" \",CV67,SEARCH(\" \",CV67,1)+1)-SEARCH(\" \",CV67,1)))","v":""},{"$f":"IF(CS67=\"\",\"\",RIGHT(CV67,LEN(CV67)-SEARCH(\" \",CV67,SEARCH(\" \",CV67,1)+1)))","v":""},{"$f":"IF(CS67=\"\",\"\",(CW67*2)+CX67+CY67)","v":""},{"$nulls":8},{"$f":"IF(MainSheet!$G89=\"\",\"\",DE67+DH67)","v":""},{"$f":"IF(MainSheet!$G89=\"\",\"\",IF(RANK(DI67,$DI$2:$DI$26)<6,RANK(DI67,$DI$2:$DI$26),\"\"))","v":""},{"$nulls":38},{"$f":"IF(EV67=\"\",\"\",IF(EV67=$EW$1,0,EV67-$EW$1))","v":""},{"$f":"IF(EW67=\"\",\"\",IF(EW67=0,1,EW67+((EW67*EW67*$EZ$1)/($EX$1-$EY$1))))","v":""},{"$f":"IF(EX67=\"\",\"\",COUNT($EX$2:$EX$26)-(RANK(EX67,$EX$2:$EX$26)+COUNTIF($EX$2:EX67,EX67)-1)+1)","v":""},{"$f":"IF(EY67=\"\",\"\",RANK(EY67,$EY$2:$EY$26))","v":""},{"$f":"IF(EZ67=\"\",\"\",IF(EZ67<6,EX67,\"\"))","v":""},{"$f":"IF(FA67=\"\",\"\",FA67/$FA$1)","v":""},{"$f":"IF(EX67=1,0.02,IF(AND(EX67=\"\",FA67=\"\"),\"\",IF(FB67=\"\",EX67/$FB$1,FB67)))","v":""},{"$f":"IF(FC67=\"\",\"\",1/FC67*MainSheet!$R$11)","v":""}]
[{"$f":"IF(Meetings1!A68=\"\",\"\",IF(Meetings1!A68=\"END\",\"END\",IF(Meetings1!B68=\"\",\"\",getAddress(Meetings1!E68))))","v":""},{"$nulls":24},{"$f":"IF(AA68=\"\",\"\",IF(AA68=\"Career::\",Form!A66,\"\"))","v":""},"5-14 4.7L"," Donald","2012-02-28"," 1000m"," Dead"," Race 7"," Hcp (58)"," RB58",12000,-250," Dean Holland",14," Cd 60.0-0.0",-54," 0::58.02"," ()"," 3/1F"," Settled-5 1200- 800- Turn-4"," 1-Limbo Dancer 56.0 Jumped awkwardly.",null,null,null,"",{"$f":"IF(AW68<>\"\",Race!N66,\"\")","v":""},null,{"$f":"IF(AX68<>\"\",Race!I66,\"\")","v":""},{"$f":"IF(AX68<>\"\",Race!L68,\"\")","v":""},{"$nulls":14},{"$f":"IF(MainSheet!$G90=\"\",\"\",IF(RANK(BM68,$BN$2:$BN$26)<6,RANK(BM68,$BN$2:$BN$26),\"\"))","v":""},null,null,null,"","","","","",null,null,"","","","","","",{"$nulls":4},"","","","","","",{"$nulls":4},"","","","","","",{"$nulls":8},{"$f":"IF(MainSheet!$G90=\"\",\"\",DE68+DH68)","v":""},{"$f":"IF(MainSheet!$G90=\"\",\"\",IF(RANK(DI68,$DI$2:$DI$26)<6,RANK(DI68,$DI$2:$DI$26),\"\"))","v":""},{"$nulls":38},"","",{"$f":"IF(EX68=\"\",\"\",COUNT($EX$2:$EX$26)-(RANK(EX68,$EX$2:$EX$26)+COUNTIF($EX$2:EX68,EX68)-1)+1)","v":""},"","","","",{"$f":"IF(FC68=\"\",\"\",1/FC68*MainSheet!$R$11)","v":""}]
[{"$f":"IF(Meetings1!A69=\"\",\"\",IF(Meetings1!A69=\"END\",\"END\",IF(Meetings1!B69=\"\",\"\",getAddress(Meetings1!E69))))","v":""},{"$nulls":24},{"$f":"IF(AA69=\"\",\"\",IF(AA69=\"Career::\",Form!A67,\"\"))","v":""},"2-7 0.8L"," Kem.Gr","2011-11-01"," 1200m"," Good"," Race 4"," E&G (Bm60)"," BM60 eg",14000,-2800," J Grisedale",7," Cd 56.0-0.0",-53," 1::10.05",-33.33," 5/1"," Settled-2 1200- 800- Turn-1"," 1-Carve 'Em Up 54.5",null,null,null,"",{"$f":"IF(AW69<>\"\",Race!N67,\"\")","v":""},null,{"$f":"IF(AX69<>\"\",Race!I67,\"\")","v":""},{"$f":"IF(AX69<>\"\",Race!L69,\"\")","v":""},{"$nulls":14},{"$f":"IF(MainSheet!$G91=\"\",\"\",IF(RANK(BM69,$BN$2:$BN$26)<6,RANK(BM69,$BN$2:$BN$26),\"\"))","v":""},null,null,null,"","","","","",null,null,"","","","","","",{"$nulls":4},"","","","","","",{"$nulls":4},"","","","","","",{"$nulls":8},{"$f":"IF(MainSheet!$G91=\"\",\"\",DE69+DH69)","v":""},{"$f":"IF(MainSheet!$G91=\"\",\"\",IF(RANK(DI69,$DI$2:$DI$26)<6,RANK(DI69,$DI$2:$DI$26),\"\"))","v":""},{"$nulls":38},"","",{"$f":"IF(EX69=\"\",\"\",COUNT($EX$2:$EX$26)-(RANK(EX69,$EX$2:$EX$26)+COUNTIF($EX$2:EX69,EX69)-1)+1)","v":""},"","","","",{"$f":"IF(FC69=\"\",\"\",1/FC69*MainSheet!$R$11)","v":""}]
[{"$f":"IF(Meetings1!A70=\"\",\"\",IF(Meetings1!A70=\"END\",\"END\",IF(Meetings1!B70=\"\",\"\",getAddress(Meetings1!E70))))","v":""},{"$nulls":24},{"$f":"IF(AA70=\"\",\"\",IF(AA70=\"Career::\",Form!A68,\"\"))","v":""},"6-10 2.4L"," G'ford","2011-10-16"," 1100m"," Good"," Race 5"," (Bm60)"," BM60",14000,0," J Bowman",6," Cd 56.5-0.0",-53," 1::04.87",-35.04," 13/2"," Settled-7 1200- 800- Turn-6"," 1-Boulevard Baron 58.5",null,null,null,"",{"$f":"IF(AW70<>\"\",Race!N68,\"\")","v":""},null,{"$f":"IF(AX70<>\"\",Race!I68,\"\")","v":""},{"$f":"IF(AX70<>\"\",Race!L70,\"\")","v":""},{"$nulls":14},{"$f":"IF(MainSheet!$G92=\"\",\"\",IF(RANK(BM70,$BN$2:$BN$26)<6,RANK(BM70,$BN$2:$BN$26),\"\"))","v":""},null,null,null,"","","","","",null,null,"","","","","","",{"$nulls":4},"","","","","","",{"$nulls":4},"","","","","","",{"$nulls":8},{"$f":"IF(MainSheet!$G92=\"\",\"\",DE70+DH70)","v":""},{"$f":"IF(MainSheet!$G92=\"\",\"\",IF(RANK(DI70,$DI$2:$DI$26)<6,RANK(DI70,$DI$2:$DI$26),\"\"))","v":""},{"$nulls":38},"","",{"$f":"IF(EX70=\"\",\"\",COUNT($EX$2:$EX$26)-(RANK(EX70,$EX$2:$EX$26)+COUNTIF($EX$2:EX70,EX70)-1)+1)","v":""},"","","","",{"$f":"IF(FC70=\"\",\"\",1/FC70*MainSheet!$R$11)","v":""}]
[{"$f":"IF(Meetings1!A71=\"\",\"\",IF(Meetings1!A71=\"END\",\"END\",IF(Meetings1!B71=\"\",\"\",getAddress(Meetings1!E71))))","v":""},{"$nulls":24},{"$f":"IF(AA71=\"\",\"\",IF(AA71=\"Career::\",Form!A69,\"\"))","v":""},"6-10 8.0L"," Kem.Gr","2011-09-27"," 1200m"," Dead"," Race 6"," Hcp (C2)"," Cls 2",16000,0," Ms K O'Hara",9," Cd 53.5-0.0",-53," 1::10.71",-35.299999999999997," 20/1"," Settled-1 1200- 800- Turn-2"," 1-Rampart 58.0",null,null,null,"",{"$f":"IF(AW71<>\"\",Race!N69,\"\")","v":""},null,{"$f":"IF(AX71<>\"\",Race!I69,\"\")","v":""},{"$f":"IF(AX71<>\"\",Race!L71,\"\")","v":""},{"$nulls":14},{"$f":"IF(MainSheet!$G93=\"\",\"\",IF(RANK(BM71,$BN$2:$BN$26)<6,RANK(BM71,$BN$2:$BN$26),\"\"))","v":""},null,null,null,"","","","","",null,null,"","","","","","",{"$nulls":4},"","","","","","",{"$nulls":4},"","","","","","",{"$nulls":8},{"$f":"IF(MainSheet!$G93=\"\",\"\",DE71+DH71)","v":""},{"$f":"IF(MainSheet!$G93=\"\",\"\",IF(RANK(DI71,$DI$2:$DI$26)<6,RANK(DI71,$DI$2:$DI$26),\"\"))","v":""},{"$nulls":38},"","",{"$f":"IF(EX71=\"\",\"\",COUNT($EX$2:$EX$26)-(RANK(EX71,$EX$2:$EX$26)+COUNTIF($EX$2:EX71,EX71)-1)+1)","v":""},"","","","",{"$f":"IF(FC71=\"\",\"\",1/FC71*MainSheet!$R$11)","v":""}]
[{"$f":"IF(Meetings1!A72=\"\",\"\",IF(Meetings1!A72=\"END\",\"END\",IF(Meetings1!B72=\"\",\"\",getAddress(Meetings1!E72))))","v":""},{"$nulls":24},{"$f":"IF(AA72=\"\",\"\",IF(AA72=\"Career::\",Form!A70,\"\"))","v":""},"7-10 4.4L"," Kem.Gr","2011-09-10"," 1000m"," Good"," Race 5"," Hcp (C1)"," Cls 1",14000,0," S Pollard",7," Cd 56.5-0.0",-53," 0::57.93",-34.07," 8/1"," Settled-2 1200- 800- Turn-2"," 1-Big Nell 54.0",null,null,null,"",{"$f":"IF(AW72<>\"\",Race!N70,\"\")","v":""},null,{"$f":"IF(AX72<>\"\",Race!I70,\"\")","v":""},{"$f":"IF(AX72<>\"\",Race!L72,\"\")","v":""},{"$nulls":14},{"$f":"IF(MainSheet!$G94=\"\",\"\",IF(RANK(BM72,$BN$2:$BN$26)<6,RANK(BM72,$BN$2:$BN$26),\"\"))","v":""},null,null,null,"","","","","",null,null,"","","","","","",{"$nulls":4},"","","","","","",{"$nulls":4},"","","","","","",{"$nulls":8},{"$f":"IF(MainSheet!$G94=\"\",\"\",DE72+DH72)","v":""},{"$f":"IF(MainSheet!$G94=\"\",\"\",IF(RANK(DI72,$DI$2:$DI$26)<6,RANK(DI72,$DI$2:$DI$26),\"\"))","v":""},{"$nulls":38},"","",{"$f":"IF(EX72=\"\",\"\",COUNT($EX$2:$EX$26)-(RANK(EX72,$EX$2:$EX$26)+COUNTIF($EX$2:EX72,EX72)-1)+1)","v":""},"","","","",{"$f":"IF(FC72=\"\",\"\",1/FC72*MainSheet!$R$11)","v":""}]
[{"$f":"IF(Meetings1!A73=\"\",\"\",IF(Meetings1!A73=\"END\",\"END\",IF(Meetings1!B73=\"\",\"\",getAddress(Meetings1!E73))))","v":""},{"$nulls":24},{"$f":"IF(AA73=\"\",\"\",IF(AA73=\"Career::\",Form!A71,\"\"))","v":""},"6-10 4.7L"," Ball't","2011-07-03"," 1000m"," Heavy"," Race 4"," Hcp (C1)"," Cls 1",22500,-250," Dean Holland",2," Cd 57.5-0.0",-53," 1::03.04"," ()"," 13/4F"," Settled-4 1200- 800- Turn-2"," 1-Adricat 57.0",null,null,null,"",{"$f":"IF(AW73<>\"\",Race!N71,\"\")","v":""},null,{"$f":"IF(AX73<>\"\",Race!I71,\"\")","v":""},{"$f":"IF(AX73<>\"\",Race!L73,\"\")","v":""},{"$nulls":14},{"$f":"IF(MainSheet!$G95=\"\",\"\",IF(RANK(BM73,$BN$2:$BN$26)<6,RANK(BM73,$BN$2:$BN$26),\"\"))","v":""},null,null,null,"","","","","",null,null,"","","","","","",{"$nulls":4},"","","","","","",{"$nulls":4},"","","","","","",{"$nulls":8},{"$f":"IF(MainSheet!$G95=\"\",\"\",DE73+DH73)","v":""},{"$f":"IF(MainSheet!$G95=\"\",\"\",IF(RANK(DI73,$DI$2:$DI$26)<6,RANK(DI73,$DI$2:$DI$26),\"\"))","v":""},{"$nulls":38},"","",{"$f":"IF(EX73=\"\",\"\",COUNT($EX$2:$EX$26)-(RANK(EX73,$EX$2:$EX$26)+COUNTIF($EX$2:EX73,EX73)-1)+1)","v":""},"","","","",{"$f":"IF(FC73=\"\",\"\",1/FC73*MainSheet!$R$11)","v":""}]
[{"$f":"IF(Meetings1!A74=\"\",\"\",IF(Meetings1!A74=\"END\",\"END\",IF(Meetings1!B74=\"\",\"\",getAddress(Meetings1!E74))))","v":""},{"$nulls":24},{"$f":"IF(AA74=\"\",\"\",IF(AA74=\"Career::\",Form!A72,\"\"))","v":""},"6-9 3.5L"," Bend","2011-06-02"," 1100m"," Dead"," Race 4"," Hcp (C1)"," Cls 1",15000,-250," Dean Holland",7," Cd 58.0-0.0",-53," 1::04.05"," ()"," 7/2E"," Settled-2 1200- 800- Turn-2"," 1-Any Dream Will Do 58.0",{"$nulls":22},{"$f":"IF(MainSheet!$G96=\"\",\"\",IF(RANK(BM74,$BN$2:$BN$26)<6,RANK(BM74,$BN$2:$BN$26),\"\"))","v":""},null,null,null,"","","","","",null,null,"","","","","","",{"$nulls":4},"","","","","","",{"$nulls":4},"","","","","","",{"$nulls":8},{"$f":"IF(MainSheet!$G96=\"\",\"\",DE74+DH74)","v":""},{"$f":"IF(MainSheet!$G96=\"\",\"\",IF(RANK(DI74,$DI$2:$DI$26)<6,RANK(DI74,$DI$2:$DI$26),\"\"))","v":""},{"$nulls":38},"","",{"$f":"IF(EX74=\"\",\"\",COUNT($EX$2:$EX$26)-(RANK(EX74,$EX$2:$EX$26)+COUNTIF($EX$2:EX74,EX74)-1)+1)","v":""},"","","","",{"$f":"IF(FC74=\"\",\"\",1/FC74*MainSheet!$R$11)","v":""}]
[{"$f":"IF(Meetings1!A75=\"\",\"\",IF(Meetings1!A75=\"END\",\"END\",IF(Meetings1!B75=\"\",\"\",getAddress(Meetings1!E75))))","v":""},{"$nulls":24},{"$f":"IF(AA75=\"\",\"\",IF(AA75=\"Career::\",Form!A73,\"\"))","v":""},{"$nulls":41},{"$f":"IF(MainSheet!$G97=\"\",\"\",IF(RANK(BM75,$BN$2:$BN$26)<6,RANK(BM75,$BN$2:$BN$26),\"\"))","v":""},null,null,null,"","","","","",null,null,"","","","","","",{"$nulls":4},"","","","","","",{"$nulls":4},"","","","","","",{"$nulls":8},{"$f":"IF(MainSheet!$G97=\"\",\"\",DE75+DH75)","v":""},{"$f":"IF(MainSheet!$G97=\"\",\"\",IF(RANK(DI75,$DI$2:$DI$26)<6,RANK(DI75,$DI$2:$DI$26),\"\"))","v":""},{"$nulls":38},"","",{"$f":"IF(EX75=\"\",\"\",COUNT($EX$2:$EX$26)-(RANK(EX75,$EX$2:$EX$26)+COUNTIF($EX$2:EX75,EX75)-1)+1)","v":""},"","","","",{"$f":"IF(FC75=\"\",\"\",1/FC75*MainSheet!$R$11)","v":""}]
[{"$f":"IF(Meetings1!A76=\"\",\"\",IF(Meetings1!A76=\"END\",\"END\",IF(Meetings1!B76=\"\",\"\",getAddress(Meetings1!E76))))","v":""},{"$nulls":24},{"$f":"IF(AA76=\"\",\"\",IF(AA76=\"Career::\",Form!A74,\"\"))","v":""},{"$nulls":41},{"$f":"IF(MainSheet!$G98=\"\",\"\",IF(RANK(BM76,$BN$2:$BN$26)<6,RANK(BM76,$BN$2:$BN$26),\"\"))","v":""},null,null,null,"","","","","",null,null,"","","","","","",{"$nulls":4},"","","","","","",{"$nulls":4},"","","","","","",{"$nulls":8},{"$f":"IF(MainSheet!$G98=\"\",\"\",DE76+DH76)","v":""},{"$f":"IF(MainSheet!$G98=\"\",\"\",IF(RANK(DI76,$DI$2:$DI$26)<6,RANK(DI76,$DI$2:$DI$26),\"\"))","v":""},{"$nulls":38},"","",{"$f":"IF(EX76=\"\",\"\",COUNT($EX$2:$EX$26)-(RANK(EX76,$EX$2:$EX$26)+COUNTIF($EX$2:EX76,EX76)-1)+1)","v":""},"","","","",{"$f":"IF(FC76=\"\",\"\",1/FC76*MainSheet!$R$11)","v":""}]
[{"$f":"IF(Meetings1!A77=\"\",\"\",IF(Meetings1!A77=\"END\",\"END\",IF(Meetings1!B77=\"\",\"\",getAddress(Meetings1!E77))))","v":""},{"$nulls":24},{"$f":"IF(AA77=\"\",\"\",IF(AA77=\"Career::\",Form!A75,\"\"))","v":""},"Comments:: Followed spell with 5-1/4 len 5th Vonharp 1400m Ball't Hcp (62) Dead trk Dec 18 . Then 6-3/4 len 7th Freshwater Storm 1200m Geesyn Hcp (C1) Apr 20 . Battled home from 8th on turn at latest outing.",{"$nulls":40},{"$f":"IF(MainSheet!$G99=\"\",\"\",IF(RANK(BM77,$BN$2:$BN$26)<6,RANK(BM77,$BN$2:$BN$26),\"\"))","v":""},null,null,null,"","","","","",null,null,"","","","","","",{"$nulls":4},"","","","","","",{"$nulls":4},"","","","","","",{"$nulls":8},{"$f":"IF(MainSheet!$G99=\"\",\"\",DE77+DH77)","v":""},{"$f":"IF(MainSheet!$G99=\"\",\"\",IF(RANK(DI77,$DI$2:$DI$26)<6,RANK(DI77,$DI$2:$DI$26),\"\"))","v":""},{"$nulls":38},"","",{"$f":"IF(EX77=\"\",\"\",COUNT($EX$2:$EX$26)-(RANK(EX77,$EX$2:$EX$26)+COUNTIF($EX$2:EX77,EX77)-1)+1)","v":""},"","","","",{"$f":"IF(FC77=\"\",\"\",1/FC77*MainSheet!$R$11)","v":""}]
[{"$f":"IF(Meetings1!A78=\"\",\"\",IF(Meetings1!A78=\"END\",\"END\",IF(Meetings1!B78=\"\",\"\",getAddress(Meetings1!E78))))","v":""},{"$nulls":24},{"$f":"IF(AA78=\"\",\"\",IF(AA78=\"Career::\",Form!A76,\"\"))","v":"Ettore"},"Career::",{"$nulls":40},{"$f":"IF(MainSheet!$G100=\"\",\"\",IF(RANK(BM78,$BN$2:$BN$26)<6,RANK(BM78,$BN$2:$BN$26),\"\"))","v":""},null,null,null,"","","","","",null,null,"","","","","","",{"$nulls":4},"","","","","","",{"$nulls":4},"","","","","","",{"$nulls":8},{"$f":"IF(MainSheet!$G100=\"\",\"\",DE78+DH78)","v":""},{"$f":"IF(MainSheet!$G100=\"\",\"\",IF(RANK(DI78,$DI$2:$DI$26)<6,RANK(DI78,$DI$2:$DI$26),\"\"))","v":""},{"$nulls":38},"","",{"$f":"IF(EX78=\"\",\"\",COUNT($EX$2:$EX$26)-(RANK(EX78,$EX$2:$EX$26)+COUNTIF($EX$2:EX78,EX78)-1)+1)","v":""},"","","","",{"$f":"IF(FC78=\"\",\"\",1/FC78*MainSheet!$R$11)","v":""}]
[{"$f":"IF(Meetings1!A79=\"\",\"\",IF(Meetings1!A79=\"END\",\"END\",IF(Meetings1!B79=\"\",\"\",getAddress(Meetings1!E79))))","v":""},{"$nulls":24},{"$f":"IF(AA79=\"\",\"\",IF(AA79=\"Career::\",Form!A77,\"\"))","v":""},"12::1-2-2",{"$nulls":40},{"$f":"IF(MainSheet!$G101=\"\",\"\",IF(RANK(BM79,$BN$2:$BN$26)<6,RANK(BM79,$BN$2:$BN$26),\"\"))","v":""},null,null,null,"","","","","",null,null,"","","","","","",{"$nulls":4},"","","","","","",{"$nulls":4},"","","","","","",{"$nulls":8},{"$f":"IF(MainSheet!$G101=\"\",\"\",DE79+DH79)","v":""},{"$f":"IF(MainSheet!$G101=\"\",\"\",IF(RANK(DI79,$DI$2:$DI$26)<6,RANK(DI79,$DI$2:$DI$26),\"\"))","v":""},{"$nulls":38},"","",{"$f":"IF(EX79=\"\",\"\",COUNT($EX$2:$EX$26)-(RANK(EX79,$EX$2:$EX$26)+COUNTIF($EX$2:EX79,EX79)-1)+1)","v":""},"","","","",{"$f":"IF(FC79=\"\",\"\",1/FC79*MainSheet!$R$11)","v":""}]
[{"$f":"IF(Meetings1!A80=\"\",\"\",IF(Meetings1!A80=\"END\",\"END\",IF(Meetings1!B80=\"\",\"\",getAddress(Meetings1!E80))))","v":""},{"$nulls":24},{"$f":"IF(AA80=\"\",\"\",IF(AA80=\"Career::\",Form!A78,\"\"))","v":""},"Fast::",{"$nulls":40},{"$f":"IF(MainSheet!$G102=\"\",\"\",IF(RANK(BM80,$BN$2:$BN$26)<6,RANK(BM80,$BN$2:$BN$26),\"\"))","v":""},null,null,null,"","","","","",null,null,"","","","","","",{"$nulls":4},"","","","","","",{"$nulls":4},"","","","","","",{"$nulls":8},{"$f":"IF(MainSheet!$G102=\"\",\"\",DE80+DH80)","v":""},{"$f":"IF(MainSheet!$G102=\"\",\"\",IF(RANK(DI80,$DI$2:$DI$26)<6,RANK(DI80,$DI$2:$DI$26),\"\"))","v":""},{"$nulls":38},"","",{"$f":"IF(EX80=\"\",\"\",COUNT($EX$2:$EX$26)-(RANK(EX80,$EX$2:$EX$26)+COUNTIF($EX$2:EX80,EX80)-1)+1)","v":""},"","","","",{"$f":"IF(FC80=\"\",\"\",1/FC80*MainSheet!$R$11)","v":""}]
[{"$f":"IF(Meetings1!A81=\"\",\"\",IF(Meetings1!A81=\"END\",\"END\",IF(Meetings1!B81=\"\",\"\",getAddress(Meetings1!E81))))","v":""},{"$nulls":24},{"$f":"IF(AA81=\"\",\"\",IF(AA81=\"Career::\",Form!A79,\"\"))","v":""},"0::0-0-0",{"$nulls":40},{"$f":"IF(MainSheet!$G103=\"\",\"\",IF(RANK(BM81,$BN$2:$BN$26)<6,RANK(BM81,$BN$2:$BN$26),\"\"))","v":""},null,null,null,"","","","","",null,null,"","","","","","",{"$nulls":4},"","","","","","",{"$nulls":4},"","","","","","",{"$nulls":8},{"$f":"IF(MainSheet!$G103=\"\",\"\",DE81+DH81)","v":""},{"$f":"IF(MainSheet!$G103=\"\",\"\",IF(RANK(DI81,$DI$2:$DI$26)<6,RANK(DI81,$DI$2:$DI$26),\"\"))","v":""},{"$nulls":38},"","",{"$f":"IF(EX81=\"\",\"\",COUNT($EX$2:$EX$26)-(RANK(EX81,$EX$2:$EX$26)+COUNTIF($EX$2:EX81,EX81)-1)+1)","v":""},"","","","",{"$f":"IF(FC81=\"\",\"\",1/FC81*MainSheet!$R$11)","v":""}]
[{"$f":"IF(Meetings1!A82=\"\",\"\",IF(Meetings1!A82=\"END\",\"END\",IF(Meetings1!B82=\"\",\"\",getAddress(Meetings1!E82))))","v":""},{"$nulls":24},{"$f":"IF(AA82=\"\",\"\",IF(AA82=\"Career::\",Form!A80,\"\"))","v":""},"7-12 6.9L"," GeeSyn","2012-04-20"," 1200m"," Good"," Race 7"," Hcp (C1)"," Cls 1",12000,-250," Ms L J Meech",9," Cd 57.0-0.0",-54," 1::11.52",-34.549999999999997," 5/1"," Settled-9 1200- 800- Turn-8"," 1-Freshwater Storm 57.0",{"$nulls":22},{"$f":"IF(MainSheet!$G104=\"\",\"\",IF(RANK(BM82,$BN$2:$BN$26)<6,RANK(BM82,$BN$2:$BN$26),\"\"))","v":""},null,null,null,"","","","","",null,null,"","","","","","",{"$nulls":4},"","","","","","",{"$nulls":4},"","","","","","",{"$nulls":8},{"$f":"IF(MainSheet!$G104=\"\",\"\",DE82+DH82)","v":""},{"$f":"IF(MainSheet!$G104=\"\",\"\",IF(RANK(DI82,$DI$2:$DI$26)<6,RANK(DI82,$DI$2:$DI$26),\"\"))","v":""},{"$nulls":38},"","",{"$f":"IF(EX82=\"\",\"\",COUNT($EX$2:$EX$26)-(RANK(EX82,$EX$2:$EX$26)+COUNTIF($EX$2:EX82,EX82)-1)+1)","v":""},"","","","",{"$f":"IF(FC82=\"\",\"\",1/FC82*MainSheet!$R$11)","v":""}]
[{"$f":"IF(Meetings1!A83=\"\",\"\",IF(Meetings1!A83=\"END\",\"END\",IF(Meetings1!B83=\"\",\"\",getAddress(Meetings1!E83))))","v":""},{"$nulls":24},{"$f":"IF(AA83=\"\",\"\",IF(AA83=\"Career::\",Form!A81,\"\"))","v":""},"5-7 0.0L"," Cran.","2012-04-02"," 990m"," Dead"," Race 20"," Barrier Trl"," Btria 2+",0,0," S R King",5," Cd 0.0-0.0"," (CWT)"," 0::59.89"," ()"," "," Settled- 1200- 800- Turn-"," 1-Light Touch 0.0",{"$nulls":22},{"$f":"IF(MainSheet!$G105=\"\",\"\",IF(RANK(BM83,$BN$2:$BN$26)<6,RANK(BM83,$BN$2:$BN$26),\"\"))","v":""},null,null,null,"","","","","",null,null,"","","","","","",{"$nulls":4},"","","","","","",{"$nulls":4},"","","","","","",{"$nulls":8},{"$f":"IF(MainSheet!$G105=\"\",\"\",DE83+DH83)","v":""},{"$f":"IF(MainSheet!$G105=\"\",\"\",IF(RANK(DI83,$DI$2:$DI$26)<6,RANK(DI83,$DI$2:$DI$26),\"\"))","v":""},{"$nulls":38},"","",{"$f":"IF(EX83=\"\",\"\",COUNT($EX$2:$EX$26)-(RANK(EX83,$EX$2:$EX$26)+COUNTIF($EX$2:EX83,EX83)-1)+1)","v":""},"","","","",{"$f":"IF(FC83=\"\",\"\",1/FC83*MainSheet!$R$11)","v":""}]
[{"$f":"IF(Meetings1!A84=\"\",\"\",IF(Meetings1!A84=\"END\",\"END\",IF(Meetings1!B84=\"\",\"\",getAddress(Meetings1!E84))))","v":""},{"$nulls":24},{"$f":"IF(AA84=\"\",\"\",IF(AA84=\"Career::\",Form!A82,\"\"))","v":""},"4-9 0.0L"," Tatura","2012-03-13"," 850m"," Dead"," Race 9"," Barrier Trl"," Btria 3+",0,0," M Johnstone",4," Cd 0.0-0.0"," (CWT)"," 0::50.90"," ()"," "," Settled- 1200- 800- Turn-"," 1-Dubai Opera 0.0",{"$nulls":22},{"$f":"IF(MainSheet!$G106=\"\",\"\",IF(RANK(BM84,$BN$2:$BN$26)<6,RANK(BM84,$BN$2:$BN$26),\"\"))","v":""},null,null,null,"","","","","",null,null,"","","","","","",{"$nulls":4},"","","","","","",{"$nulls":4},"","","","","","",{"$nulls":8},{"$f":"IF(MainSheet!$G106=\"\",\"\",DE84+DH84)","v":""},{"$f":"IF(MainSheet!$G106=\"\",\"\",IF(RANK(DI84,$DI$2:$DI$26)<6,RANK(DI84,$DI$2:$DI$26),\"\"))","v":""},{"$nulls":38},"","",{"$f":"IF(EX84=\"\",\"\",COUNT($EX$2:$EX$26)-(RANK(EX84,$EX$2:$EX$26)+COUNTIF($EX$2:EX84,EX84)-1)+1)","v":""},"","","","",{"$f":"IF(FC84=\"\",\"\",1/FC84*MainSheet!$R$11)","v":""}]
[{"$f":"IF(Meetings1!A85=\"\",\"\",IF(Meetings1!A85=\"END\",\"END\",IF(Meetings1!B85=\"\",\"\",getAddress(Meetings1!E85))))","v":""},{"$nulls":24},{"$f":"IF(AA85=\"\",\"\",IF(AA85=\"Career::\",Form!A83,\"\"))","v":""},"5-11 5.2L"," Ball't","2011-12-18"," 1400m"," Dead"," Race 8"," Hcp (62)"," RB62",15000,-250," J Noonan",4," Cd 58.0-0.0",-53," 1::28.15"," ()"," 6/1"," Settled-6 1200- 800-6 Turn-4"," 1-Vonharp 56.0",{"$nulls":22},{"$f":"IF(MainSheet!$G107=\"\",\"\",IF(RANK(BM85,$BN$2:$BN$26)<6,RANK(BM85,$BN$2:$BN$26),\"\"))","v":""},null,null,null,"","","","","",null,null,"","","","","","",{"$nulls":4},"","","","","","",{"$nulls":4},"","","","","","",{"$nulls":8},{"$f":"IF(MainSheet!$G107=\"\",\"\",DE85+DH85)","v":""},{"$f":"IF(MainSheet!$G107=\"\",\"\",IF(RANK(DI85,$DI$2:$DI$26)<6,RANK(DI85,$DI$2:$DI$26),\"\"))","v":""},{"$nulls":38},"","",{"$f":"IF(EX85=\"\",\"\",COUNT($EX$2:$EX$26)-(RANK(EX85,$EX$2:$EX$26)+COUNTIF($EX$2:EX85,EX85)-1)+1)","v":""},"","","","",{"$f":"IF(FC85=\"\",\"\",1/FC85*MainSheet!$R$11)","v":""}]
[{"$f":"IF(Meetings1!A86=\"\",\"\",IF(Meetings1!A86=\"END\",\"END\",IF(Meetings1!B86=\"\",\"\",getAddress(Meetings1!E86))))","v":""},{"$nulls":24},{"$f":"IF(AA86=\"\",\"\",IF(AA86=\"Career::\",Form!A84,\"\"))","v":""},"7-11 4.1L"," G'long","2011-12-04"," 1325m"," Dead"," Race 8"," Hcp (62)"," RB62",15000,-250," S Baster",7," Cd 59.0-0.0",-53," 1::19.33",-35.049999999999997," 5/1"," Settled-5 1200- 800- Turn-6"," 1-Reparations 57.5",{"$nulls":22},{"$f":"IF(MainSheet!$G108=\"\",\"\",IF(RANK(BM86,$BN$2:$BN$26)<6,RANK(BM86,$BN$2:$BN$26),\"\"))","v":""},null,null,null,"","","","","",null,null,"","","","","","",{"$nulls":4},"","","","","","",{"$nulls":4},"","","","","","",{"$nulls":8},{"$f":"IF(MainSheet!$G108=\"\",\"\",DE86+DH86)","v":""},{"$f":"IF(MainSheet!$G108=\"\",\"\",IF(RANK(DI86,$DI$2:$DI$26)<6,RANK(DI86,$DI$2:$DI$26),\"\"))","v":""},{"$nulls":38},"","",{"$f":"IF(EX86=\"\",\"\",COUNT($EX$2:$EX$26)-(RANK(EX86,$EX$2:$EX$26)+COUNTIF($EX$2:EX86,EX86)-1)+1)","v":""},"","","","",{"$f":"IF(FC86=\"\",\"\",1/FC86*MainSheet!$R$11)","v":""}]
[{"$f":"IF(Meetings1!A87=\"\",\"\",IF(Meetings1!A87=\"END\",\"END\",IF(Meetings1!B87=\"\",\"\",getAddress(Meetings1!E87))))","v":""},{"$nulls":24},{"$f":"IF(AA87=\"\",\"\",IF(AA87=\"Career::\",Form!A85,\"\"))","v":""},"4-12 3.8L"," Seymor","2011-11-09"," 1400m"," Dead"," Race 8"," Hcp (68)"," RB68",22500,-1050," S R King",7," Cd 56.0-0.0",-53," 1::23.20"," ()"," 12/1"," Settled-8 1200- 800-8 Turn-6"," 1-Supreme De Lago 59.0",{"$nulls":22},{"$f":"IF(MainSheet!$G109=\"\",\"\",IF(RANK(BM87,$BN$2:$BN$26)<6,RANK(BM87,$BN$2:$BN$26),\"\"))","v":""},null,null,null,"","","","","",null,null,"","","","","","",{"$nulls":4},"","","","","","",{"$nulls":4},"","","","","","",{"$nulls":8},{"$f":"IF(MainSheet!$G109=\"\",\"\",DE87+DH87)","v":""},{"$f":"IF(MainSheet!$G109=\"\",\"\",IF(RANK(DI87,$DI$2:$DI$26)<6,RANK(DI87,$DI$2:$DI$26),\"\"))","v":""},{"$nulls":38},"","",{"$f":"IF(EX87=\"\",\"\",COUNT($EX$2:$EX$26)-(RANK(EX87,$EX$2:$EX$26)+COUNTIF($EX$2:EX87,EX87)-1)+1)","v":""},"","","","",{"$f":"IF(FC87=\"\",\"\",1/FC87*MainSheet!$R$11)","v":""}]
[{"$f":"IF(Meetings1!A88=\"\",\"\",IF(Meetings1!A88=\"END\",\"END\",IF(Meetings1!B88=\"\",\"\",getAddress(Meetings1!E88))))","v":""},{"$nulls":24},{"$f":"IF(AA88=\"\",\"\",IF(AA88=\"Career::\",Form!A86,\"\"))","v":""},"4-9 3.3L"," Cran.","2011-10-13"," 1600m"," Good"," Race 4"," Hcp (62)"," RB62",15000,-675," S R King",2," Cd 59.0-0.0",-53," 1::38.40"," ()"," 1/1F"," Settled-3 1200- 800-3 Turn-4"," 1-Ironside 56.0",{"$nulls":22},{"$f":"IF(MainSheet!$G110=\"\",\"\",IF(RANK(BM88,$BN$2:$BN$26)<6,RANK(BM88,$BN$2:$BN$26),\"\"))","v":""},null,null,null,"","","","","",null,null,"","","","","","",{"$nulls":4},"","","","","","",{"$nulls":4},"","","","","","",{"$nulls":8},{"$f":"IF(MainSheet!$G110=\"\",\"\",DE88+DH88)","v":""},{"$f":"IF(MainSheet!$G110=\"\",\"\",IF(RANK(DI88,$DI$2:$DI$26)<6,RANK(DI88,$DI$2:$DI$26),\"\"))","v":""},{"$nulls":38},"","",{"$f":"IF(EX88=\"\",\"\",COUNT($EX$2:$EX$26)-(RANK(EX88,$EX$2:$EX$26)+COUNTIF($EX$2:EX88,EX88)-1)+1)","v":""},"","","","",{"$f":"IF(FC88=\"\",\"\",1/FC88*MainSheet!$R$11)","v":""}]
[{"$f":"IF(Meetings1!A89=\"\",\"\",IF(Meetings1!A89=\"END\",\"END\",IF(Meetings1!B89=\"\",\"\",getAddress(Meetings1!E89))))","v":""},{"$nulls":24},{"$f":"IF(AA89=\"\",\"\",IF(AA89=\"Career::\",Form!A87,\"\"))","v":""},"1-12 1.0L"," Seymor","2011-09-25"," 1400m"," Dead"," Race 3"," 4yo+ Mdn"," Mdn 4+",15000,-8775," S R King",9," Cd 58.0-0.0"," (SW)"," 1::25.54"," ()"," 7/4F"," Settled-1 1200- 800-1 Turn-1"," 2-Chief Successor 58.0",{"$nulls":22},{"$f":"IF(MainSheet!$G111=\"\",\"\",IF(RANK(BM89,$BN$2:$BN$26)<6,RANK(BM89,$BN$2:$BN$26),\"\"))","v":""},null,null,null,"","","","","",null,null,"","","","","","",{"$nulls":4},"","","","","","",{"$nulls":4},"","","","","","",{"$nulls":8},{"$f":"IF(MainSheet!$G111=\"\",\"\",DE89+DH89)","v":""},{"$f":"IF(MainSheet!$G111=\"\",\"\",IF(RANK(DI89,$DI$2:$DI$26)<6,RANK(DI89,$DI$2:$DI$26),\"\"))","v":""},{"$nulls":38},"","",{"$f":"IF(EX89=\"\",\"\",COUNT($EX$2:$EX$26)-(RANK(EX89,$EX$2:$EX$26)+COUNTIF($EX$2:EX89,EX89)-1)+1)","v":""},"","","","",{"$f":"IF(FC89=\"\",\"\",1/FC89*MainSheet!$R$11)","v":""}]
[{"$f":"IF(Meetings1!A90=\"\",\"\",IF(Meetings1!A90=\"END\",\"END\",IF(Meetings1!B90=\"\",\"\",getAddress(Meetings1!E90))))","v":""},{"$nulls":24},{"$f":"IF(AA90=\"\",\"\",IF(AA90=\"Career::\",Form!A88,\"\"))","v":""},"2-8 1.0L"," K'ton","2011-09-13"," 1112m"," Dead"," Race 2"," 3yo+ Mdn"," Mdn 3+",12000,-2100," C Newitt",4," Cd 58.0-0.0"," (SW)"," 1::06.42"," ()"," 7/2"," Settled-4 1200- 800- Turn-3"," 1-Revitalise 55.5 Struck interference at start.",{"$nulls":22},{"$f":"IF(MainSheet!$G112=\"\",\"\",IF(RANK(BM90,$BN$2:$BN$26)<6,RANK(BM90,$BN$2:$BN$26),\"\"))","v":""},null,null,null,"","","","","",null,null,"","","","","","",{"$nulls":4},"","","","","","",{"$nulls":4},"","","","","","",{"$nulls":8},{"$f":"IF(MainSheet!$G112=\"\",\"\",DE90+DH90)","v":""},{"$f":"IF(MainSheet!$G112=\"\",\"\",IF(RANK(DI90,$DI$2:$DI$26)<6,RANK(DI90,$DI$2:$DI$26),\"\"))","v":""},{"$nulls":38},"","",{"$f":"IF(EX90=\"\",\"\",COUNT($EX$2:$EX$26)-(RANK(EX90,$EX$2:$EX$26)+COUNTIF($EX$2:EX90,EX90)-1)+1)","v":""},"","","","",{"$f":"IF(FC90=\"\",\"\",1/FC90*MainSheet!$R$11)","v":""}]
[{"$f":"IF(Meetings1!A91=\"\",\"\",IF(Meetings1!A91=\"END\",\"END\",IF(Meetings1!B91=\"\",\"\",getAddress(Meetings1!E91))))","v":""},{"$nulls":24},{"$f":"IF(AA91=\"\",\"\",IF(AA91=\"Career::\",Form!A89,\"\"))","v":""},"7-9 5.4L"," Bend","2011-03-24"," 1500m"," Slow"," Race 2"," 3yo Mdn"," Mdn 3",15000,-250," J Mott",9," Cd 57.0-0.0"," (SW)"," 1::32.01"," ()"," 6/1"," Settled-3 1200- 800-3 Turn-2"," 1-Tequila High 57.0",{"$nulls":22},{"$f":"IF(MainSheet!$G113=\"\",\"\",IF(RANK(BM91,$BN$2:$BN$26)<6,RANK(BM91,$BN$2:$BN$26),\"\"))","v":""},null,null,null,"","","","","",null,null,"","","","","",{"$f":"IF(CBF91=\"\",\"\",((BV91+CC91)*2)+BW91+BX91+CD91+CE91)","v":""},{"$nulls":4},"","","","","","",{"$nulls":4},"","","","","","",{"$nulls":8},{"$f":"IF(MainSheet!$G113=\"\",\"\",DE91+DH91)","v":""},{"$f":"IF(MainSheet!$G113=\"\",\"\",IF(RANK(DI91,$DI$2:$DI$26)<6,RANK(DI91,$DI$2:$DI$26),\"\"))","v":""},{"$nulls":38},"","",{"$f":"IF(EX91=\"\",\"\",COUNT($EX$2:$EX$26)-(RANK(EX91,$EX$2:$EX$26)+COUNTIF($EX$2:EX91,EX91)-1)+1)","v":""},"","","","",{"$f":"IF(FC91=\"\",\"\",1/FC91*MainSheet!$R$11)","v":""}]
[{"$f":"IF(Meetings1!A92=\"\",\"\",IF(Meetings1!A92=\"END\",\"END\",IF(Meetings1!B92=\"\",\"\",getAddress(Meetings1!E92))))","v":""},{"$nulls":24},{"$f":"IF(AA92=\"\",\"\",IF(AA92=\"Career::\",Form!A90,\"\"))","v":""},{"$nulls":41},{"$f":"IF(MainSheet!$G114=\"\",\"\",IF(RANK(BM92,$BN$2:$BN$26)<6,RANK(BM92,$BN$2:$BN$26),\"\"))","v":""},null,null,null,"","","","","",null,null,"","","","","","",{"$nulls":4},"","","","","","",{"$nulls":4},"","","","","","",{"$nulls":8},{"$f":"IF(MainSheet!$G114=\"\",\"\",DE92+DH92)","v":""},{"$f":"IF(MainSheet!$G114=\"\",\"\",IF(RANK(DI92,$DI$2:$DI$26)<6,RANK(DI92,$DI$2:$DI$26),\"\"))","v":""},{"$nulls":38},"","",{"$f":"IF(EX92=\"\",\"\",COUNT($EX$2:$EX$26)-(RANK(EX92,$EX$2:$EX$26)+COUNTIF($EX$2:EX92,EX92)-1)+1)","v":""},"","","","",{"$f":"IF(FC92=\"\",\"\",1/FC92*MainSheet!$R$11)","v":""}]
[{"$f":"IF(Meetings1!A93=\"\",\"\",IF(Meetings1!A93=\"END\",\"END\",IF(Meetings1!B93=\"\",\"\",getAddress(Meetings1!E93))))","v":""},{"$nulls":24},{"$f":"IF(AA93=\"\",\"\",IF(AA93=\"Career::\",Form!A91,\"\"))","v":""},{"$nulls":41},{"$f":"IF(MainSheet!$G115=\"\",\"\",IF(RANK(BM93,$BN$2:$BN$26)<6,RANK(BM93,$BN$2:$BN$26),\"\"))","v":""},null,null,null,"","","","","",null,null,"","","","","","",{"$nulls":4},"","","","","","",{"$nulls":4},"","","","","","",{"$nulls":8},{"$f":"IF(MainSheet!$G115=\"\",\"\",DE93+DH93)","v":""},{"$f":"IF(MainSheet!$G115=\"\",\"\",IF(RANK(DI93,$DI$2:$DI$26)<6,RANK(DI93,$DI$2:$DI$26),\"\"))","v":""},{"$nulls":38},"","",{"$f":"IF(EX93=\"\",\"\",COUNT($EX$2:$EX$26)-(RANK(EX93,$EX$2:$EX$26)+COUNTIF($EX$2:EX93,EX93)-1)+1)","v":""},"","","","",{"$f":"IF(FC93=\"\",\"\",1/FC93*MainSheet!$R$11)","v":""}]
[{"$f":"IF(Meetings1!A94=\"\",\"\",IF(Meetings1!A94=\"END\",\"END\",IF(Meetings1!B94=\"\",\"\",getAddress(Meetings1!E94))))","v":""},{"$nulls":24},{"$f":"IF(AA94=\"\",\"\",IF(AA94=\"Career::\",Form!A92,\"\"))","v":""},"Comments:: Resumed from spell with 13-3/4 len 9th Fawkner where slowly away 1600m M.V. Hcp (78) Slow trk Oct 28 . Then 12-3/4 len last Te Jay 1600m Wang Hcp (72) Dead trk Nov 14 . Has good record in the wet.",{"$nulls":40},{"$f":"IF(MainSheet!$G116=\"\",\"\",IF(RANK(BM94,$BN$2:$BN$26)<6,RANK(BM94,$BN$2:$BN$26),\"\"))","v":""},null,null,null,"","","","","",null,null,"","","","","","",{"$nulls":4},"","","","","","",{"$nulls":4},"","","","","","",{"$nulls":8},{"$f":"IF(MainSheet!$G116=\"\",\"\",DE94+DH94)","v":""},{"$f":"IF(MainSheet!$G116=\"\",\"\",IF(RANK(DI94,$DI$2:$DI$26)<6,RANK(DI94,$DI$2:$DI$26),\"\"))","v":""},{"$nulls":38},"","",{"$f":"IF(EX94=\"\",\"\",COUNT($EX$2:$EX$26)-(RANK(EX94,$EX$2:$EX$26)+COUNTIF($EX$2:EX94,EX94)-1)+1)","v":""},"","","","",{"$f":"IF(FC94=\"\",\"\",1/FC94*MainSheet!$R$11)","v":""}]
[{"$f":"IF(Meetings1!A95=\"\",\"\",IF(Meetings1!A95=\"END\",\"END\",IF(Meetings1!B95=\"\",\"\",getAddress(Meetings1!E95))))","v":""},{"$nulls":24},{"$f":"IF(AA95=\"\",\"\",IF(AA95=\"Career::\",Form!A93,\"\"))","v":"Ryolly"},"Career::",{"$nulls":40},{"$f":"IF(MainSheet!$G117=\"\",\"\",IF(RANK(BM95,$BN$2:$BN$26)<6,RANK(BM95,$BN$2:$BN$26),\"\"))","v":""},null,null,null,"","","","","",null,null,"","","","","","",{"$nulls":4},"","","","","","",{"$nulls":4},"","","","","","",{"$nulls":8},{"$f":"IF(MainSheet!$G117=\"\",\"\",DE95+DH95)","v":""},{"$f":"IF(MainSheet!$G117=\"\",\"\",IF(RANK(DI95,$DI$2:$DI$26)<6,RANK(DI95,$DI$2:$DI$26),\"\"))","v":""},{"$nulls":38},"","",{"$f":"IF(EX95=\"\",\"\",COUNT($EX$2:$EX$26)-(RANK(EX95,$EX$2:$EX$26)+COUNTIF($EX$2:EX95,EX95)-1)+1)","v":""},"","","","",{"$f":"IF(FC95=\"\",\"\",1/FC95*MainSheet!$R$11)","v":""}]
[{"$f":"IF(Meetings1!A96=\"\",\"\",IF(Meetings1!A96=\"END\",\"END\",IF(Meetings1!B96=\"\",\"\",getAddress(Meetings1!E96))))","v":""},{"$nulls":24},{"$f":"IF(AA96=\"\",\"\",IF(AA96=\"Career::\",Form!A94,\"\"))","v":""},"22::4-1-1",{"$nulls":40},{"$f":"IF(MainSheet!$G118=\"\",\"\",IF(RANK(BM96,$BN$2:$BN$26)<6,RANK(BM96,$BN$2:$BN$26),\"\"))","v":""},null,null,null,"","","","","",null,null,"","","","","","",{"$nulls":4},"","","","","","",{"$nulls":4},"","","","","","",{"$nulls":8},{"$f":"IF(MainSheet!$G118=\"\",\"\",DE96+DH96)","v":""},{"$f":"IF(MainSheet!$G118=\"\",\"\",IF(RANK(DI96,$DI$2:$DI$26)<6,RANK(DI96,$DI$2:$DI$26),\"\"))","v":""},{"$nulls":38},"","",{"$f":"IF(EX96=\"\",\"\",COUNT($EX$2:$EX$26)-(RANK(EX96,$EX$2:$EX$26)+COUNTIF($EX$2:EX96,EX96)-1)+1)","v":""},"","","","",{"$f":"IF(FC96=\"\",\"\",1/FC96*MainSheet!$R$11)","v":""}]
[{"$f":"IF(Meetings1!A97=\"\",\"\",IF(Meetings1!A97=\"END\",\"END\",IF(Meetings1!B97=\"\",\"\",getAddress(Meetings1!E97))))","v":""},{"$nulls":24},{"$f":"IF(AA97=\"\",\"\",IF(AA97=\"Career::\",Form!A95,\"\"))","v":""},"Fast::",{"$nulls":40},{"$f":"IF(MainSheet!$G119=\"\",\"\",IF(RANK(BM97,$BN$2:$BN$26)<6,RANK(BM97,$BN$2:$BN$26),\"\"))","v":""},null,null,null,"","","","","",null,null,"","","","","","",{"$nulls":4},"","","","","","",{"$nulls":4},"","","","","","",{"$nulls":8},{"$f":"IF(MainSheet!$G119=\"\",\"\",DE97+DH97)","v":""},{"$f":"IF(MainSheet!$G119=\"\",\"\",IF(RANK(DI97,$DI$2:$DI$26)<6,RANK(DI97,$DI$2:$DI$26),\"\"))","v":""},{"$nulls":38},"","",{"$f":"IF(EX97=\"\",\"\",COUNT($EX$2:$EX$26)-(RANK(EX97,$EX$2:$EX$26)+COUNTIF($EX$2:EX97,EX97)-1)+1)","v":""},"","","","",{"$f":"IF(FC97=\"\",\"\",1/FC97*MainSheet!$R$11)","v":""}]
[{"$f":"IF(Meetings1!A98=\"\",\"\",IF(Meetings1!A98=\"END\",\"END\",IF(Meetings1!B98=\"\",\"\",getAddress(Meetings1!E98))))","v":""},{"$nulls":24},{"$f":"IF(AA98=\"\",\"\",IF(AA98=\"Career::\",Form!A96,\"\"))","v":""},"0::0-0-0",{"$nulls":40},{"$f":"IF(MainSheet!$G120=\"\",\"\",IF(RANK(BM98,$BN$2:$BN$26)<6,RANK(BM98,$BN$2:$BN$26),\"\"))","v":""},null,null,null,"","","","","",null,null,"","","","","","",{"$nulls":4},"","","","","","",{"$nulls":4},"","","","","","",{"$nulls":8},{"$f":"IF(MainSheet!$G120=\"\",\"\",DE98+DH98)","v":""},{"$f":"IF(MainSheet!$G120=\"\",\"\",IF(RANK(DI98,$DI$2:$DI$26)<6,RANK(DI98,$DI$2:$DI$26),\"\"))","v":""},{"$nulls":38},"","",{"$f":"IF(EX98=\"\",\"\",COUNT($EX$2:$EX$26)-(RANK(EX98,$EX$2:$EX$26)+COUNTIF($EX$2:EX98,EX98)-1)+1)","v":""},"","","","",{"$f":"IF(FC98=\"\",\"\",1/FC98*MainSheet!$R$11)","v":""}]
[{"$f":"IF(Meetings1!A99=\"\",\"\",IF(Meetings1!A99=\"END\",\"END\",IF(Meetings1!B99=\"\",\"\",getAddress(Meetings1!E99))))","v":""},{"$nulls":24},{"$f":"IF(AA99=\"\",\"\",IF(AA99=\"Career::\",Form!A97,\"\"))","v":""},"11-11 12.7L"," Wang","2011-11-14"," 1600m"," Dead"," Race 8"," Hcp (72)"," RB72",12000,0," Dean Holland",8," Cd 53.0-0.0",-53," 1::37.97"," ()"," 20/1"," Settled-8 1200- 800-7 Turn-8"," 1-Te Jay 56.5",{"$nulls":22},{"$f":"IF(MainSheet!$G121=\"\",\"\",IF(RANK(BM99,$BN$2:$BN$26)<6,RANK(BM99,$BN$2:$BN$26),\"\"))","v":""},null,null,null,"","","","","",null,null,"","","","","","",{"$nulls":4},"","","","","","",{"$nulls":4},"","","","","","",{"$nulls":8},{"$f":"IF(MainSheet!$G121=\"\",\"\",DE99+DH99)","v":""},{"$f":"IF(MainSheet!$G121=\"\",\"\",IF(RANK(DI99,$DI$2:$DI$26)<6,RANK(DI99,$DI$2:$DI$26),\"\"))","v":""},{"$nulls":38},"","",{"$f":"IF(EX99=\"\",\"\",COUNT($EX$2:$EX$26)-(RANK(EX99,$EX$2:$EX$26)+COUNTIF($EX$2:EX99,EX99)-1)+1)","v":""},"","","","",{"$f":"IF(FC99=\"\",\"\",1/FC99*MainSheet!$R$11)","v":""}]
[{"$f":"IF(Meetings1!A100=\"\",\"\",IF(Meetings1!A100=\"END\",\"END\",IF(Meetings1!B100=\"\",\"\",getAddress(Meetings1!E100))))","v":""},{"$nulls":24},{"$f":"IF(AA100=\"\",\"\",IF(AA100=\"Career::\",Form!A98,\"\"))","v":""},"9-10 13.9L"," M.V.","2011-10-28"," 1600m"," Slow"," Race 8"," Hcp (78)"," RB78",30000,-350," J R Todd",2," Cd 54.0-0.0",-54," 1::38.47",-36.24," 50/1"," Settled-9 1200- 800-10 Turn-10"," 1-Fawkner 56.0 Slowly away.",{"$nulls":22},{"$f":"IF(MainSheet!$G122=\"\",\"\",IF(RANK(BM100,$BN$2:$BN$26)<6,RANK(BM100,$BN$2:$BN$26),\"\"))","v":""},null,null,null,"","","","","",null,null,"","","","","","",{"$nulls":4},"","","","","","",{"$nulls":4},"","","","","","",{"$nulls":8},{"$f":"IF(MainSheet!$G122=\"\",\"\",DE100+DH100)","v":""},{"$f":"IF(MainSheet!$G122=\"\",\"\",IF(RANK(DI100,$DI$2:$DI$26)<6,RANK(DI100,$DI$2:$DI$26),\"\"))","v":""},{"$nulls":38},"","",{"$f":"IF(EX100=\"\",\"\",COUNT($EX$2:$EX$26)-(RANK(EX100,$EX$2:$EX$26)+COUNTIF($EX$2:EX100,EX100)-1)+1)","v":""},"","","","",{"$f":"IF(FC100=\"\",\"\",1/FC100*MainSheet!$R$11)","v":""}]
[{"$f":"IF(Meetings1!A101=\"\",\"\",IF(Meetings1!A101=\"END\",\"END\",IF(Meetings1!B101=\"\",\"\",getAddress(Meetings1!E101))))","v":""},{"$nulls":24},{"$f":"IF(AA101=\"\",\"\",IF(AA101=\"Career::\",Form!A99,\"\"))","v":""},"2-12 0.2L"," Bend","2011-10-15"," 1400m"," Dead"," Race 7"," Hcp (58)"," RB58",12000,-2100," J R Todd",5," Cd 58.0-0.0",-53," 1::25.65"," ()"," 20/1"," Settled-10 1200- 800-10 Turn-10"," 1-Ask Me Nicely 59.0",{"$nulls":22},{"$f":"IF(MainSheet!$G123=\"\",\"\",IF(RANK(BM101,$BN$2:$BN$26)<6,RANK(BM101,$BN$2:$BN$26),\"\"))","v":""},null,null,null,"","","","","",null,null,"","","","","","",{"$nulls":4},"","","","","","",{"$nulls":4},"","","","","","",{"$nulls":8},{"$f":"IF(MainSheet!$G123=\"\",\"\",DE101+DH101)","v":""},{"$f":"IF(MainSheet!$G123=\"\",\"\",IF(RANK(DI101,$DI$2:$DI$26)<6,RANK(DI101,$DI$2:$DI$26),\"\"))","v":""},{"$nulls":38},"","",{"$f":"IF(EX101=\"\",\"\",COUNT($EX$2:$EX$26)-(RANK(EX101,$EX$2:$EX$26)+COUNTIF($EX$2:EX101,EX101)-1)+1)","v":""},"","","","",{"$f":"IF(FC101=\"\",\"\",1/FC101*MainSheet!$R$11)","v":""}]
[{"$f":"IF(Meetings1!A102=\"\",\"\",IF(Meetings1!A102=\"END\",\"END\",IF(Meetings1!B102=\"\",\"\",getAddress(Meetings1!E102))))","v":""},{"$nulls":24},{"$f":"IF(AA102=\"\",\"\",IF(AA102=\"Career::\",Form!A100,\"\"))","v":""},"8-12 11.7L"," Wang","2011-10-03"," 1400m"," Slow"," Race 8"," Hcp (62)"," RB62",12000,-250," J R Todd",7," Cd 56.5-0.0",-53," 1::25.64"," ()"," 20/1"," Settled- 1200- 800- Turn-"," 1-Loot 'N' Run 54.0 Jumped awkwardly. Checked early on.",{"$nulls":22},{"$f":"IF(MainSheet!$G124=\"\",\"\",IF(RANK(BM102,$BN$2:$BN$26)<6,RANK(BM102,$BN$2:$BN$26),\"\"))","v":""},null,null,null,"","","","","",null,null,"","","","","","",{"$nulls":4},"","","","","","",{"$nulls":4},"","","","","","",{"$nulls":8},{"$f":"IF(MainSheet!$G124=\"\",\"\",DE102+DH102)","v":""},{"$f":"IF(MainSheet!$G124=\"\",\"\",IF(RANK(DI102,$DI$2:$DI$26)<6,RANK(DI102,$DI$2:$DI$26),\"\"))","v":""},{"$nulls":38},"","",{"$f":"IF(EX102=\"\",\"\",COUNT($EX$2:$EX$26)-(RANK(EX102,$EX$2:$EX$26)+COUNTIF($EX$2:EX102,EX102)-1)+1)","v":""},"","","","",{"$f":"IF(FC102=\"\",\"\",1/FC102*MainSheet!$R$11)","v":""}]
[{"$f":"IF(Meetings1!A103=\"\",\"\",IF(Meetings1!A103=\"END\",\"END\",IF(Meetings1!B103=\"\",\"\",getAddress(Meetings1!E103))))","v":""},{"$nulls":24},{"$f":"IF(AA103=\"\",\"\",IF(AA103=\"Career::\",Form!A101,\"\"))","v":""},"7-10 7.5L"," Wang","2011-09-04"," 1170m"," Dead"," Race 7"," Hcp (62)"," RB62",12000,-250," Lester Grace",8," Cd 53.0--4.0",-53," 1::10.46"," ()"," 16/1"," Settled-8 1200- 800- Turn-9"," 1-Undercurrent 58.5",{"$nulls":22},{"$f":"IF(MainSheet!$G125=\"\",\"\",IF(RANK(BM103,$BN$2:$BN$26)<6,RANK(BM103,$BN$2:$BN$26),\"\"))","v":""},null,null,null,"","","","","",null,null,"","","","","","",{"$nulls":4},"","","","","","",{"$nulls":4},"","","","","","",{"$nulls":8},{"$f":"IF(MainSheet!$G125=\"\",\"\",DE103+DH103)","v":""},{"$f":"IF(MainSheet!$G125=\"\",\"\",IF(RANK(DI103,$DI$2:$DI$26)<6,RANK(DI103,$DI$2:$DI$26),\"\"))","v":""},{"$nulls":38},"","",{"$f":"IF(EX103=\"\",\"\",COUNT($EX$2:$EX$26)-(RANK(EX103,$EX$2:$EX$26)+COUNTIF($EX$2:EX103,EX103)-1)+1)","v":""},"","","","",{"$f":"IF(FC103=\"\",\"\",1/FC103*MainSheet!$R$11)","v":""}]
[{"$f":"IF(Meetings1!A104=\"\",\"\",IF(Meetings1!A104=\"END\",\"END\",IF(Meetings1!B104=\"\",\"\",getAddress(Meetings1!E104))))","v":""},{"$nulls":24},{"$f":"IF(AA104=\"\",\"\",IF(AA104=\"Career::\",Form!A102,\"\"))","v":""},"8-8 4.1L"," Wagga","2011-08-12"," 1200m"," Dead"," Race 5"," (Bm70)"," BM70",10000,0," J Duffy",1," Cd 52.5--1.5",-54," 1::12.25"," ()"," 9/1"," Settled- 1200- 800- Turn-"," 1-Fiddle's Dream 54.0",{"$nulls":22},{"$f":"IF(MainSheet!$G126=\"\",\"\",IF(RANK(BM104,$BN$2:$BN$26)<6,RANK(BM104,$BN$2:$BN$26),\"\"))","v":""},null,null,null,"","","","","",null,null,"","","","","","",{"$nulls":4},"","","","","","",{"$nulls":4},"","","","","","",{"$nulls":8},{"$f":"IF(MainSheet!$G126=\"\",\"\",DE104+DH104)","v":""},{"$f":"IF(MainSheet!$G126=\"\",\"\",IF(RANK(DI104,$DI$2:$DI$26)<6,RANK(DI104,$DI$2:$DI$26),\"\"))","v":""},{"$nulls":38},"","",{"$f":"IF(EX104=\"\",\"\",COUNT($EX$2:$EX$26)-(RANK(EX104,$EX$2:$EX$26)+COUNTIF($EX$2:EX104,EX104)-1)+1)","v":""},"","","","",{"$f":"IF(FC104=\"\",\"\",1/FC104*MainSheet!$R$11)","v":""}]
[{"$f":"IF(Meetings1!A105=\"\",\"\",IF(Meetings1!A105=\"END\",\"END\",IF(Meetings1!B105=\"\",\"\",getAddress(Meetings1!E105))))","v":""},{"$nulls":24},{"$f":"IF(AA105=\"\",\"\",IF(AA105=\"Career::\",Form!A103,\"\"))","v":""},"5-14 6.4L"," Wodong","2011-07-24"," 1400m"," Dead"," Race 7"," Hcp (62)"," RB62",12000,-250," L Currie",4," Cd 59.0-0.0",-53," 1::25.69"," ()"," 11/2"," Settled-6 1200- 800-6 Turn-4"," 1-Designer 56.0",{"$nulls":22},{"$f":"IF(MainSheet!$G127=\"\",\"\",IF(RANK(BM105,$BN$2:$BN$26)<6,RANK(BM105,$BN$2:$BN$26),\"\"))","v":""},null,null,null,"","","","","",null,null,"","","","","","",{"$nulls":4},"","","","","","",{"$nulls":4},"","","","","","",{"$nulls":8},{"$f":"IF(MainSheet!$G127=\"\",\"\",DE105+DH105)","v":""},{"$f":"IF(MainSheet!$G127=\"\",\"\",IF(RANK(DI105,$DI$2:$DI$26)<6,RANK(DI105,$DI$2:$DI$26),\"\"))","v":""},{"$nulls":38},"","",{"$f":"IF(EX105=\"\",\"\",COUNT($EX$2:$EX$26)-(RANK(EX105,$EX$2:$EX$26)+COUNTIF($EX$2:EX105,EX105)-1)+1)","v":""},"","","","",{"$f":"IF(FC105=\"\",\"\",1/FC105*MainSheet!$R$11)","v":""}]
[{"$f":"IF(Meetings1!A106=\"\",\"\",IF(Meetings1!A106=\"END\",\"END\",IF(Meetings1!B106=\"\",\"\",getAddress(Meetings1!E106))))","v":""},{"$nulls":24},{"$f":"IF(AA106=\"\",\"\",IF(AA106=\"Career::\",Form!A104,\"\"))","v":""},"4-13 2.2L"," Wodong","2011-07-02"," 1200m"," Dead"," Race 8"," Hcp (62)"," RB62",12000,-525," L Currie",7," Cd 59.0-0.0",-53," 1::11.60"," ()"," 9/2"," Settled-7 1200- 800- Turn-7"," 1-Bleaching 57.0",{"$nulls":22},{"$f":"IF(MainSheet!$G128=\"\",\"\",IF(RANK(BM106,$BN$2:$BN$26)<6,RANK(BM106,$BN$2:$BN$26),\"\"))","v":""},null,null,null,"","","","","",null,null,"","","","","","",{"$nulls":4},"","","","","","",{"$nulls":4},"","","","","","",{"$nulls":8},{"$f":"IF(MainSheet!$G128=\"\",\"\",DE106+DH106)","v":""},{"$f":"IF(MainSheet!$G128=\"\",\"\",IF(RANK(DI106,$DI$2:$DI$26)<6,RANK(DI106,$DI$2:$DI$26),\"\"))","v":""},{"$nulls":38},"","",{"$f":"IF(EX106=\"\",\"\",COUNT($EX$2:$EX$26)-(RANK(EX106,$EX$2:$EX$26)+COUNTIF($EX$2:EX106,EX106)-1)+1)","v":""},"","","","",{"$f":"IF(FC106=\"\",\"\",1/FC106*MainSheet!$R$11)","v":""}]
[{"$f":"IF(Meetings1!A107=\"\",\"\",IF(Meetings1!A107=\"END\",\"END\",IF(Meetings1!B107=\"\",\"\",getAddress(Meetings1!E107))))","v":""},{"$nulls":24},{"$f":"IF(AA107=\"\",\"\",IF(AA107=\"Career::\",Form!A105,\"\"))","v":""},"8-12 5.0L"," Narran","2011-06-06"," 1200m"," Good"," Race 5"," (Bm65)"," BM65",12000,0," Mr Tim Phillips",7," Cd 56.0-0.0",-54," 1::11.64",-36.17," 9/1"," Settled- 1200- 800- Turn-"," 1-Marinha Grande 54.0",{"$nulls":22},{"$f":"IF(MainSheet!$G129=\"\",\"\",IF(RANK(BM107,$BN$2:$BN$26)<6,RANK(BM107,$BN$2:$BN$26),\"\"))","v":""},null,null,null,"","","","","",null,null,"","","","","","",{"$nulls":4},"","","","","","",{"$nulls":4},"","","","","","",{"$nulls":8},{"$f":"IF(MainSheet!$G129=\"\",\"\",DE107+DH107)","v":""},{"$f":"IF(MainSheet!$G129=\"\",\"\",IF(RANK(DI107,$DI$2:$DI$26)<6,RANK(DI107,$DI$2:$DI$26),\"\"))","v":""},{"$nulls":38},"","",{"$f":"IF(EX107=\"\",\"\",COUNT($EX$2:$EX$26)-(RANK(EX107,$EX$2:$EX$26)+COUNTIF($EX$2:EX107,EX107)-1)+1)","v":""},"","","","",{"$f":"IF(FC107=\"\",\"\",1/FC107*MainSheet!$R$11)","v":""}]
[{"$f":"IF(Meetings1!A108=\"\",\"\",IF(Meetings1!A108=\"END\",\"END\",IF(Meetings1!B108=\"\",\"\",getAddress(Meetings1!E108))))","v":""},{"$nulls":24},{"$f":"IF(AA108=\"\",\"\",IF(AA108=\"Career::\",Form!A106,\"\"))","v":""},"5-11 3.6L"," Tatura","2011-05-28"," 1000m"," Good"," Race 8"," Hcp (68)"," RB68",12000,-250," R Wheeler",7," Cd 57.5-0.0",-53," 0::58.41"," ()"," 14/1"," Settled-9 1200- 800- Turn-9"," 1-Levant 59.0 Jumped awkwardly.",{"$nulls":22},{"$f":"IF(MainSheet!$G130=\"\",\"\",IF(RANK(BM108,$BN$2:$BN$26)<6,RANK(BM108,$BN$2:$BN$26),\"\"))","v":""},null,null,null,"","","","","",null,null,"","","","","","",{"$nulls":4},"","","","","","",{"$nulls":4},"","","","","","",{"$nulls":8},{"$f":"IF(MainSheet!$G130=\"\",\"\",DE108+DH108)","v":""},{"$f":"IF(MainSheet!$G130=\"\",\"\",IF(RANK(DI108,$DI$2:$DI$26)<6,RANK(DI108,$DI$2:$DI$26),\"\"))","v":""},{"$nulls":38},"","",{"$f":"IF(EX108=\"\",\"\",COUNT($EX$2:$EX$26)-(RANK(EX108,$EX$2:$EX$26)+COUNTIF($EX$2:EX108,EX108)-1)+1)","v":""},"","","","",{"$f":"IF(FC108=\"\",\"\",1/FC108*MainSheet!$R$11)","v":""}]
[{"$f":"IF(Meetings1!A109=\"\",\"\",IF(Meetings1!A109=\"END\",\"END\",IF(Meetings1!B109=\"\",\"\",getAddress(Meetings1!E109))))","v":""},{"$nulls":24},{"$f":"IF(AA109=\"\",\"\",IF(AA109=\"Career::\",Form!A107,\"\"))","v":""},{"$nulls":41},{"$f":"IF(MainSheet!$G131=\"\",\"\",IF(RANK(BM109,$BN$2:$BN$26)<6,RANK(BM109,$BN$2:$BN$26),\"\"))","v":""},null,null,null,"","","","","",null,null,"","","","","","",{"$nulls":4},"","","","","","",{"$nulls":4},"","","","","","",{"$nulls":8},{"$f":"IF(MainSheet!$G131=\"\",\"\",DE109+DH109)","v":""},{"$f":"IF(MainSheet!$G131=\"\",\"\",IF(RANK(DI109,$DI$2:$DI$26)<6,RANK(DI109,$DI$2:$DI$26),\"\"))","v":""},{"$nulls":38},"","",{"$f":"IF(EX109=\"\",\"\",COUNT($EX$2:$EX$26)-(RANK(EX109,$EX$2:$EX$26)+COUNTIF($EX$2:EX109,EX109)-1)+1)","v":""},"","","","",{"$f":"IF(FC109=\"\",\"\",1/FC109*MainSheet!$R$11)","v":""}]
[{"$f":"IF(Meetings1!A110=\"\",\"\",IF(Meetings1!A110=\"END\",\"END\",IF(Meetings1!B110=\"\",\"\",getAddress(Meetings1!E110))))","v":""},{"$nulls":24},{"$f":"IF(AA110=\"\",\"\",IF(AA110=\"Career::\",Form!A108,\"\"))","v":""},{"$nulls":41},{"$f":"IF(MainSheet!$G132=\"\",\"\",IF(RANK(BM110,$BN$2:$BN$26)<6,RANK(BM110,$BN$2:$BN$26),\"\"))","v":""},null,null,null,"","","","","",null,null,"","","","","","",{"$nulls":4},"","","","","","",{"$nulls":4},"","","","","","",{"$nulls":8},{"$f":"IF(MainSheet!$G132=\"\",\"\",DE110+DH110)","v":""},{"$f":"IF(MainSheet!$G132=\"\",\"\",IF(RANK(DI110,$DI$2:$DI$26)<6,RANK(DI110,$DI$2:$DI$26),\"\"))","v":""},{"$nulls":38},"","",{"$f":"IF(EX110=\"\",\"\",COUNT($EX$2:$EX$26)-(RANK(EX110,$EX$2:$EX$26)+COUNTIF($EX$2:EX110,EX110)-1)+1)","v":""},"","","","",{"$f":"IF(FC110=\"\",\"\",1/FC110*MainSheet!$R$11)","v":""}]
[{"$f":"IF(Meetings1!A111=\"\",\"\",IF(Meetings1!A111=\"END\",\"END\",IF(Meetings1!B111=\"\",\"\",getAddress(Meetings1!E111))))","v":""},{"$nulls":24},{"$f":"IF(AA111=\"\",\"\",IF(AA111=\"Career::\",Form!A109,\"\"))","v":""},"Comments:: Followed len len 3rd Dubai Opera"," Grey Dignity 1200m Avoca Hcp (62) Slow trk Apr 25 with 7-1/2 len 9th Riboulding 1400m Bend Hcp (62) Dead trk May 04 . Faded from 3rd on turn at latest outing.",{"$nulls":39},{"$f":"IF(MainSheet!$G133=\"\",\"\",IF(RANK(BM111,$BN$2:$BN$26)<6,RANK(BM111,$BN$2:$BN$26),\"\"))","v":""},null,null,null,"","","","","",null,null,"","","","","","",{"$nulls":4},"","","","","","",{"$nulls":4},"","","","","","",{"$nulls":8},{"$f":"IF(MainSheet!$G133=\"\",\"\",DE111+DH111)","v":""},{"$f":"IF(MainSheet!$G133=\"\",\"\",IF(RANK(DI111,$DI$2:$DI$26)<6,RANK(DI111,$DI$2:$DI$26),\"\"))","v":""},{"$nulls":38},"","",{"$f":"IF(EX111=\"\",\"\",COUNT($EX$2:$EX$26)-(RANK(EX111,$EX$2:$EX$26)+COUNTIF($EX$2:EX111,EX111)-1)+1)","v":""},"","","","",{"$f":"IF(FC111=\"\",\"\",1/FC111*MainSheet!$R$11)","v":""}]
[{"$f":"IF(Meetings1!A112=\"\",\"\",IF(Meetings1!A112=\"END\",\"END\",IF(Meetings1!B112=\"\",\"\",getAddress(Meetings1!E112))))","v":""},{"$nulls":24},{"$f":"IF(AA112=\"\",\"\",IF(AA112=\"Career::\",Form!A110,\"\"))","v":"Mitchener"},"Career::",{"$nulls":40},{"$f":"IF(MainSheet!$G134=\"\",\"\",IF(RANK(BM112,$BN$2:$BN$26)<6,RANK(BM112,$BN$2:$BN$26),\"\"))","v":""},null,null,null,"","","","","",null,null,"","","","","","",{"$nulls":4},"","","","","","",{"$nulls":4},"","","","","","",{"$nulls":8},{"$f":"IF(MainSheet!$G134=\"\",\"\",DE112+DH112)","v":""},{"$f":"IF(MainSheet!$G134=\"\",\"\",IF(RANK(DI112,$DI$2:$DI$26)<6,RANK(DI112,$DI$2:$DI$26),\"\"))","v":""},{"$nulls":38},"","",{"$f":"IF(EX112=\"\",\"\",COUNT($EX$2:$EX$26)-(RANK(EX112,$EX$2:$EX$26)+COUNTIF($EX$2:EX112,EX112)-1)+1)","v":""},"","","","",{"$f":"IF(FC112=\"\",\"\",1/FC112*MainSheet!$R$11)","v":""}]
[{"$f":"IF(Meetings1!A113=\"\",\"\",IF(Meetings1!A113=\"END\",\"END\",IF(Meetings1!B113=\"\",\"\",getAddress(Meetings1!E113))))","v":""},{"$nulls":24},{"$f":"IF(AA113=\"\",\"\",IF(AA113=\"Career::\",Form!A111,\"\"))","v":""},"24::2-1-3",{"$nulls":40},{"$f":"IF(MainSheet!$G135=\"\",\"\",IF(RANK(BM113,$BN$2:$BN$26)<6,RANK(BM113,$BN$2:$BN$26),\"\"))","v":""},null,null,null,"","","","","",null,null,"","","","","","",{"$nulls":4},"","","","","","",{"$nulls":4},"","","","","","",{"$nulls":8},{"$f":"IF(MainSheet!$G135=\"\",\"\",DE113+DH113)","v":""},{"$f":"IF(MainSheet!$G135=\"\",\"\",IF(RANK(DI113,$DI$2:$DI$26)<6,RANK(DI113,$DI$2:$DI$26),\"\"))","v":""},{"$nulls":38},"","",{"$f":"IF(EX113=\"\",\"\",COUNT($EX$2:$EX$26)-(RANK(EX113,$EX$2:$EX$26)+COUNTIF($EX$2:EX113,EX113)-1)+1)","v":""},"","","","",{"$f":"IF(FC113=\"\",\"\",1/FC113*MainSheet!$R$11)","v":""}]
[{"$f":"IF(Meetings1!A114=\"\",\"\",IF(Meetings1!A114=\"END\",\"END\",IF(Meetings1!B114=\"\",\"\",getAddress(Meetings1!E114))))","v":""},{"$nulls":24},{"$f":"IF(AA114=\"\",\"\",IF(AA114=\"Career::\",Form!A112,\"\"))","v":""},"Fast::",{"$nulls":40},{"$f":"IF(MainSheet!$G136=\"\",\"\",IF(RANK(BM114,$BN$2:$BN$26)<6,RANK(BM114,$BN$2:$BN$26),\"\"))","v":""},null,null,null,"","","","","",null,null,"","","","","","",{"$nulls":4},"","","","","","",{"$nulls":4},"","","","","","",{"$nulls":8},{"$f":"IF(MainSheet!$G136=\"\",\"\",DE114+DH114)","v":""},{"$f":"IF(MainSheet!$G136=\"\",\"\",IF(RANK(DI114,$DI$2:$DI$26)<6,RANK(DI114,$DI$2:$DI$26),\"\"))","v":""},{"$nulls":38},"","",{"$f":"IF(EX114=\"\",\"\",COUNT($EX$2:$EX$26)-(RANK(EX114,$EX$2:$EX$26)+COUNTIF($EX$2:EX114,EX114)-1)+1)","v":""},"","","","",{"$f":"IF(FC114=\"\",\"\",1/FC114*MainSheet!$R$11)","v":""}]
[{"$f":"IF(Meetings1!A115=\"\",\"\",IF(Meetings1!A115=\"END\",\"END\",IF(Meetings1!B115=\"\",\"\",getAddress(Meetings1!E115))))","v":""},{"$nulls":24},{"$f":"IF(AA115=\"\",\"\",IF(AA115=\"Career::\",Form!A113,\"\"))","v":""},"0::0-0-0",{"$nulls":40},{"$f":"IF(MainSheet!$G137=\"\",\"\",IF(RANK(BM115,$BN$2:$BN$26)<6,RANK(BM115,$BN$2:$BN$26),\"\"))","v":""},null,null,null,"","","","","",null,null,"","","","","","",{"$nulls":4},"","","","","","",{"$nulls":4},"","","","","","",{"$nulls":8},{"$f":"IF(MainSheet!$G137=\"\",\"\",DE115+DH115)","v":""},{"$f":"IF(MainSheet!$G137=\"\",\"\",IF(RANK(DI115,$DI$2:$DI$26)<6,RANK(DI115,$DI$2:$DI$26),\"\"))","v":""},{"$nulls":38},"","",{"$f":"IF(EX115=\"\",\"\",COUNT($EX$2:$EX$26)-(RANK(EX115,$EX$2:$EX$26)+COUNTIF($EX$2:EX115,EX115)-1)+1)","v":""},"","","","",{"$f":"IF(FC115=\"\",\"\",1/FC115*MainSheet!$R$11)","v":""}]
[{"$f":"IF(Meetings1!A116=\"\",\"\",IF(Meetings1!A116=\"END\",\"END\",IF(Meetings1!B116=\"\",\"\",getAddress(Meetings1!E116))))","v":""},{"$nulls":24},{"$f":"IF(AA116=\"\",\"\",IF(AA116=\"Career::\",Form!A114,\"\"))","v":""},"9-12 7.6L"," Bend","2012-05-04"," 1400m"," Dead"," Race 5"," Hcp (62)"," RB62",12000,-250," C Pace",10," Cd 56.5--1.5",-54," 1::24.29"," ()"," 30/1"," Settled-3 1200- 800-3 Turn-3"," 1-Riboulding 60.0"]
[{"$f":"IF(Meetings1!A117=\"\",\"\",IF(Meetings1!A117=\"END\",\"END\",IF(Meetings1!B117=\"\",\"\",getAddress(Meetings1!E117))))","v":""},{"$nulls":24},{"$f":"IF(AA117=\"\",\"\",IF(AA117=\"Career::\",Form!A115,\"\"))","v":""},"3-6 1.5L"," Avoca","2012-04-25"," 1200m"," Slow"," Race 6"," Hcp (62)"," RB62",8000,-698," J Keating",5," Cd 58.5-0.0",-55," 0::00.00"," ()"," 11/2"," Settled- 1200- 800- Turn-"," 1-Dubai Opera 54.5"]
[{"$f":"IF(Meetings1!A118=\"\",\"\",IF(Meetings1!A118=\"END\",\"END\",IF(Meetings1!B118=\"\",\"\",getAddress(Meetings1!E118))))","v":""},{"$nulls":24},{"$f":"IF(AA118=\"\",\"\",IF(AA118=\"Career::\",Form!A116,\"\"))","v":""},"11-11 11.9L"," Bend","2012-04-21"," 1300m"," Dead"," Race 7"," Hcp (62)"," RB62",12000,0," J Keating",7," Cd 58.5-0.0",-54," 1::18.11"," ()"," 40/1"," Settled-1 1200- 800-2 Turn-1"," 1-Ebony Rock 59.5"]
[{"$f":"IF(Meetings1!A119=\"\",\"\",IF(Meetings1!A119=\"END\",\"END\",IF(Meetings1!B119=\"\",\"\",getAddress(Meetings1!E119))))","v":""},{"$nulls":24},{"$f":"IF(AA119=\"\",\"\",IF(AA119=\"Career::\",Form!A117,\"\"))","v":""},"9-12 9.3L"," Ball't","2012-04-05"," 1200m"," Dead"," Race 8"," Hcp (62)"," RB62",15000,-250," J Keating",9," Cd 59.0-0.0",-54," 1::12.02"," ()"," 25/1"," Settled-6 1200- 800- Turn-6"," 1-Little Bro 57.5 Raced erratically."]
[{"$f":"IF(Meetings1!A120=\"\",\"\",IF(Meetings1!A120=\"END\",\"END\",IF(Meetings1!B120=\"\",\"\",getAddress(Meetings1!E120))))","v":""},{"$nulls":24},{"$f":"IF(AA120=\"\",\"\",IF(AA120=\"Career::\",Form!A118,\"\"))","v":""},"9-10 5.4L"," Ipswic","2011-12-09"," 1200m"," Slow"," Race 6"," Hcp (C2)"," Cls 2",10000,0," G Colless",9," Cd 55.0-0.0",-54," 1::12.73",-36," 13/4"," Settled-9 1200- 800- Turn-9"," 1-Spurtastic 56.0 Jumped awkwardly."]
[{"$f":"IF(Meetings1!A121=\"\",\"\",IF(Meetings1!A121=\"END\",\"END\",IF(Meetings1!B121=\"\",\"\",getAddress(Meetings1!E121))))","v":""},{"$nulls":24},{"$f":"IF(AA121=\"\",\"\",IF(AA121=\"Career::\",Form!A119,\"\"))","v":""},"7-10 3.6L"," Suncst","2011-11-06"," 1200m"," Good"," Race 7"," Hcp (C2)"," Cls 2",12000,0," G Colless",3," Cd 55.0-0.0",-54," 1::11.47",-34.270000000000003," 2/1"," Settled-2 1200- 800- Turn-2"," 1-Baa Baa Jet 54.0 Vet examination."]
[{"$f":"IF(Meetings1!A122=\"\",\"\",IF(Meetings1!A122=\"END\",\"END\",IF(Meetings1!B122=\"\",\"\",getAddress(Meetings1!E122))))","v":""},{"$nulls":24},{"$f":"IF(AA122=\"\",\"\",IF(AA122=\"Career::\",Form!A120,\"\"))","v":""},"4-11 2.4L"," Ipswic","2011-10-21"," 1350m"," Good"," Race 7"," Hcp (C2)"," Cls 2",10000,-500," J Byrne",5," Cd 56.0-0.0",-54," 1::20.99",-36.4," 2/1F"," Settled- 1200- 800- Turn-"," 1-African Mama 54.0 Ran wide early on."]
[{"$f":"IF(Meetings1!A123=\"\",\"\",IF(Meetings1!A123=\"END\",\"END\",IF(Meetings1!B123=\"\",\"\",getAddress(Meetings1!E123))))","v":""},{"$nulls":24},{"$f":"IF(AA123=\"\",\"\",IF(AA123=\"Career::\",Form!A121,\"\"))","v":""},"3-10 0.7L"," Ipswic","2011-09-30"," 1200m"," Dead"," Race 7"," Hcp (C2)"," Cls 2",12000,-1200," G Colless",6," Cd 56.5-0.0",-54," 1::11.08",-35.479999999999997," 9/2"," Settled-6 1200- 800- Turn-5"," 1-Theft 58.0"]
[{"$f":"IF(Meetings1!A124=\"\",\"\",IF(Meetings1!A124=\"END\",\"END\",IF(Meetings1!B124=\"\",\"\",getAddress(Meetings1!E124))))","v":""},{"$nulls":24},{"$f":"IF(AA124=\"\",\"\",IF(AA124=\"Career::\",Form!A122,\"\"))","v":""},"3-6 0.5L"," G Cst","2011-09-20"," 1000m"," Good"," Race 7"," Barrier Trl"," Btria",0,0," P Keane",4," Cd 0.0-0.0"," (CWT)"," 0::59.52"," ()"," "," Settled- 1200- 800- Turn-"," 1-Double Image 0.0"]
[{"$f":"IF(Meetings1!A125=\"\",\"\",IF(Meetings1!A125=\"END\",\"END\",IF(Meetings1!B125=\"\",\"\",getAddress(Meetings1!E125))))","v":""},{"$nulls":24},{"$f":"IF(AA125=\"\",\"\",IF(AA125=\"Career::\",Form!A123,\"\"))","v":""},"9-11 9.0L"," Stawel","2011-04-24"," 1600m"," Slow"," Race 4"," Hcp (62)"," RB62",13000,-250," A Mallyon",9," Cd 58.5-0.0",-53," 1::40.47"," ()"," 3/1F"," Settled-2 1200- 800-1 Turn-1"," 1-Quizzicle Mis 56.0 Vet examination. Pulled hard during race."]
[{"$f":"IF(Meetings1!A126=\"\",\"\",IF(Meetings1!A126=\"END\",\"END\",IF(Meetings1!B126=\"\",\"\",getAddress(Meetings1!E126))))","v":""},{"$nulls":24},{"$f":"IF(AA126=\"\",\"\",IF(AA126=\"Career::\",Form!A124,\"\"))","v":""}]
[{"$f":"IF(Meetings1!A127=\"\",\"\",IF(Meetings1!A127=\"END\",\"END\",IF(Meetings1!B127=\"\",\"\",getAddress(Meetings1!E127))))","v":""},{"$nulls":24},{"$f":"IF(AA127=\"\",\"\",IF(AA127=\"Career::\",Form!A125,\"\"))","v":""}]
[{"$f":"IF(Meetings1!A128=\"\",\"\",IF(Meetings1!A128=\"END\",\"END\",IF(Meetings1!B128=\"\",\"\",getAddress(Meetings1!E128))))","v":""},{"$nulls":24},{"$f":"IF(AA128=\"\",\"\",IF(AA128=\"Career::\",Form!A126,\"\"))","v":""},"Comments:: Followed 6-1/2 len 7th El Blazing Time where lost a plate 1000m Geesyn Hcp (62) Apr 20 with 1-1/2 len 1/2 nk 3rd My Jessy"," Higuain 1100m Ararat Hcp (58) Slow trk Apr 29 . Good win record at this track."]
[{"$f":"IF(Meetings1!A129=\"\",\"\",IF(Meetings1!A129=\"END\",\"END\",IF(Meetings1!B129=\"\",\"\",getAddress(Meetings1!E129))))","v":""},{"$nulls":24},{"$f":"IF(AA129=\"\",\"\",IF(AA129=\"Career::\",Form!A127,\"\"))","v":"Vopop"},"Career::"]
[{"$f":"IF(Meetings1!A130=\"\",\"\",IF(Meetings1!A130=\"END\",\"END\",IF(Meetings1!B130=\"\",\"\",getAddress(Meetings1!E130))))","v":""},{"$nulls":24},{"$f":"IF(AA130=\"\",\"\",IF(AA130=\"Career::\",Form!A128,\"\"))","v":""},"16::1-0-5"]
[{"$f":"IF(Meetings1!A131=\"\",\"\",IF(Meetings1!A131=\"END\",\"END\",IF(Meetings1!B131=\"\",\"\",getAddress(Meetings1!E131))))","v":""},{"$nulls":24},{"$f":"IF(AA131=\"\",\"\",IF(AA131=\"Career::\",Form!A129,\"\"))","v":""},"Fast::"]
[{"$f":"IF(Meetings1!A132=\"\",\"\",IF(Meetings1!A132=\"END\",\"END\",IF(Meetings1!B132=\"\",\"\",getAddress(Meetings1!E132))))","v":""},{"$nulls":24},{"$f":"IF(AA132=\"\",\"\",IF(AA132=\"Career::\",Form!A130,\"\"))","v":""},"0::0-0-0"]
[{"$f":"IF(Meetings1!A133=\"\",\"\",IF(Meetings1!A133=\"END\",\"END\",IF(Meetings1!B133=\"\",\"\",getAddress(Meetings1!E133))))","v":""},{"$nulls":24},{"$f":"IF(AA133=\"\",\"\",IF(AA133=\"Career::\",Form!A131,\"\"))","v":""},"3-9 1.7L"," Ararat","2012-04-29"," 1100m"," Slow"," Race 4"," Hcp (58)"," RB58",12000,-1050," C Nicoll",2," Cd 59.0-0.0",-54," 1::07.24"," ()"," 11/2"," Settled-1 1200- 800- Turn-2"," 1-My Jessy 57.5"]
[{"$f":"IF(Meetings1!A134=\"\",\"\",IF(Meetings1!A134=\"END\",\"END\",IF(Meetings1!B134=\"\",\"\",getAddress(Meetings1!E134))))","v":""},{"$nulls":24},{"$f":"IF(AA134=\"\",\"\",IF(AA134=\"Career::\",Form!A132,\"\"))","v":""},"7-10 6.5L"," GeeSyn","2012-04-20"," 1000m"," Good"," Race 5"," Hcp (62)"," RB62",12000,-250," C Nicoll",8," Cd 57.5-0.0",-54," 0::59.02",-34.28," 11/1"," Settled-6 1200- 800- Turn-5"," 1-El Blazing Time 56.0 Struck interference at start. Lost a plate."]
[{"$f":"IF(Meetings1!A135=\"\",\"\",IF(Meetings1!A135=\"END\",\"END\",IF(Meetings1!B135=\"\",\"\",getAddress(Meetings1!E135))))","v":""},{"$nulls":24},{"$f":"IF(AA135=\"\",\"\",IF(AA135=\"Career::\",Form!A133,\"\"))","v":""},"3-11 1.9L"," GeeSyn","2012-04-13"," 1100m"," Good"," Race 8"," Hcp (62)"," RB62",12000,-1050," C Nicoll",8," Cd 57.0-0.0",-54," 1::05.84",-34.1," 14/1"," Settled-1 1200- 800- Turn-2"," 1-Voodoo Prince 58.5"]
[{"$f":"IF(Meetings1!A136=\"\",\"\",IF(Meetings1!A136=\"END\",\"END\",IF(Meetings1!B136=\"\",\"\",getAddress(Meetings1!E136))))","v":""},{"$nulls":24},{"$f":"IF(AA136=\"\",\"\",IF(AA136=\"Career::\",Form!A134,\"\"))","v":""},"5-11 4.0L"," Cran.","2012-03-30"," 1000m"," Dead"," Race 2"," Hcp (58)"," RB58",15000,-250," C Nicoll",4," Cd 59.5-0.0",-55," 0::58.85"," ()"," 12/1"," Settled-3 1200- 800- Turn-3"," 1-El Blazing Time 56.0 Struck interference near 400m."]
[{"$f":"IF(Meetings1!A137=\"\",\"\",IF(Meetings1!A137=\"END\",\"END\",IF(Meetings1!B137=\"\",\"\",getAddress(Meetings1!E137))))","v":""},{"$nulls":24},{"$f":"IF(AA137=\"\",\"\",IF(AA137=\"Career::\",Form!A135,\"\"))","v":""},"1-10 1.0L"," K'ton","2012-01-26"," 1100m"," Dead"," Race 2"," 4yo+ Mdn"," Mdn 4+",7000,-3887," C Nicoll",1," Cd 58.5-0.0"," (SW)"," 1::07.40"," ()"," 3/1F"," Settled-1 1200- 800- Turn-1"," 2-Mr Texico 58.5"]
[{"$f":"IF(Meetings1!A138=\"\",\"\",IF(Meetings1!A138=\"END\",\"END\",IF(Meetings1!B138=\"\",\"\",getAddress(Meetings1!E138))))","v":""},{"$nulls":24},{"$f":"IF(AA138=\"\",\"\",IF(AA138=\"Career::\",Form!A136,\"\"))","v":""},"6-13 7.7L"," Ararat","2012-01-16"," 1100m"," Dead"," Race 1"," 3yo+ Mdn"," Mdn 3+",12000,-250," Luke Londregan",8," Cd 55.5--3.0"," (SW)"," 1::04.48"," ()"," 10/1"," Settled-3 1200- 800- Turn-3"," 1-Arrogant Cat 56.5"]
[{"$f":"IF(Meetings1!A139=\"\",\"\",IF(Meetings1!A139=\"END\",\"END\",IF(Meetings1!B139=\"\",\"\",getAddress(Meetings1!E139))))","v":""},{"$nulls":24},{"$f":"IF(AA139=\"\",\"\",IF(AA139=\"Career::\",Form!A137,\"\"))","v":""},"5-10 5.1L"," Gunbwr","2012-01-07"," 1100m"," Dead"," Race 1"," 3yo+ Mdn"," Mdn 3+",7000,-170," C Nicoll",3," Cd 58.5-0.0"," (SW)"," 1::05.91"," ()"," 7/2"," Settled- 1200- 800- Turn-"," 1-Kempinsky Cafe 54.5"]
[{"$f":"IF(Meetings1!A140=\"\",\"\",IF(Meetings1!A140=\"END\",\"END\",IF(Meetings1!B140=\"\",\"\",getAddress(Meetings1!E140))))","v":""},{"$nulls":24},{"$f":"IF(AA140=\"\",\"\",IF(AA140=\"Career::\",Form!A138,\"\"))","v":""},"3-9 1.6L"," K'ton","2011-12-15"," 1100m"," Dead"," Race 1"," 3yo+ Mdn"," Mdn 3+",15000,-1350," C Nicoll",9," Cd 58.0-0.0"," (SW)"," 1::05.11"," ()"," 25/1"," Settled-1 1200- 800- Turn-1"," 1-Morning Break 58.0"]
[{"$f":"IF(Meetings1!A141=\"\",\"\",IF(Meetings1!A141=\"END\",\"END\",IF(Meetings1!B141=\"\",\"\",getAddress(Meetings1!E141))))","v":""},{"$nulls":24},{"$f":"IF(AA141=\"\",\"\",IF(AA141=\"Career::\",Form!A139,\"\"))","v":""},"5-8 7.3L"," W'bee","2011-12-10"," 1000m"," Dead"," Race 2"," 3yo+ Mdn"," Mdn 3+",12000,-250," R Mc Leod",8," Cd 58.0-0.0"," (SW)"," 0::57.81"," ()"," 25/1"," Settled-5 1200- 800- Turn-5"," 1-Heart Of Melbourne 56.5"]
[{"$f":"IF(Meetings1!A142=\"\",\"\",IF(Meetings1!A142=\"END\",\"END\",IF(Meetings1!B142=\"\",\"\",getAddress(Meetings1!E142))))","v":""},{"$nulls":24},{"$f":"IF(AA142=\"\",\"\",IF(AA142=\"Career::\",Form!A140,\"\"))","v":""},"11-14 15.1L"," Echuca","2011-07-11"," 1200m"," Slow"," Race 2"," 2yo+ Mdn"," Mdn 2+",12000,0," B Knobel",7," Cd 58.0-0.0"," (SW)"," 1::12.35"," ()"," 50/1"," Settled- 1200- 800- Turn-"," 1-Lord Of Brazil 58.0"]
[{"$f":"IF(Meetings1!A143=\"\",\"\",IF(Meetings1!A143=\"END\",\"END\",IF(Meetings1!B143=\"\",\"\",getAddress(Meetings1!E143))))","v":""},{"$nulls":24},{"$f":"IF(AA143=\"\",\"\",IF(AA143=\"Career::\",Form!A141,\"\"))","v":""}]
[{"$f":"IF(Meetings1!A144=\"\",\"\",IF(Meetings1!A144=\"END\",\"END\",IF(Meetings1!B144=\"\",\"\",getAddress(Meetings1!E144))))","v":""},{"$nulls":24},{"$f":"IF(AA144=\"\",\"\",IF(AA144=\"Career::\",Form!A142,\"\"))","v":""}]
[{"$f":"IF(Meetings1!A145=\"\",\"\",IF(Meetings1!A145=\"END\",\"END\",IF(Meetings1!B145=\"\",\"\",getAddress(Meetings1!E145))))","v":""},{"$nulls":24},{"$f":"IF(AA145=\"\",\"\",IF(AA145=\"Career::\",Form!A143,\"\"))","v":""},"Comments:: Followed 7-1/4 len 12th Lascelles 1100m Bend Hcp (58) Dead trk Apr 21 with 3 len 6th Red Five 1100m K'more Hcp (62) Dead trk Apr 30 . Faded from 3rd on turn at latest outing."]
[{"$f":"IF(Meetings1!A146=\"\",\"\",IF(Meetings1!A146=\"END\",\"END\",IF(Meetings1!B146=\"\",\"\",getAddress(Meetings1!E146))))","v":""},{"$nulls":24},{"$f":"IF(AA146=\"\",\"\",IF(AA146=\"Career::\",Form!A144,\"\"))","v":"Northern Shift"},"Career::"]
[{"$f":"IF(Meetings1!A147=\"\",\"\",IF(Meetings1!A147=\"END\",\"END\",IF(Meetings1!B147=\"\",\"\",getAddress(Meetings1!E147))))","v":""},{"$nulls":24},{"$f":"IF(AA147=\"\",\"\",IF(AA147=\"Career::\",Form!A145,\"\"))","v":""},"20::1-2-3"]
[{"$f":"IF(Meetings1!A148=\"\",\"\",IF(Meetings1!A148=\"END\",\"END\",IF(Meetings1!B148=\"\",\"\",getAddress(Meetings1!E148))))","v":""},{"$nulls":24},{"$f":"IF(AA148=\"\",\"\",IF(AA148=\"Career::\",Form!A146,\"\"))","v":""},"Fast::"]
[{"$f":"IF(Meetings1!A149=\"\",\"\",IF(Meetings1!A149=\"END\",\"END\",IF(Meetings1!B149=\"\",\"\",getAddress(Meetings1!E149))))","v":""},{"$nulls":24},{"$f":"IF(AA149=\"\",\"\",IF(AA149=\"Career::\",Form!A147,\"\"))","v":""},"0::0-0-0"]
[{"$f":"IF(Meetings1!A150=\"\",\"\",IF(Meetings1!A150=\"END\",\"END\",IF(Meetings1!B150=\"\",\"\",getAddress(Meetings1!E150))))","v":""},{"$nulls":24},{"$f":"IF(AA150=\"\",\"\",IF(AA150=\"Career::\",Form!A148,\"\"))","v":""},"6-12 3.0L"," K'more","2012-04-30"," 1100m"," Dead"," Race 8"," Hcp (62)"," RB62",12000,-250," W Egan",6," Cd 56.0-0.0",-54," 1::04.84"," ()"," 16/1"," Settled-2 1200- 800- Turn-3"," 1-Red Five 59.0"]
[{"$f":"IF(Meetings1!A151=\"\",\"\",IF(Meetings1!A151=\"END\",\"END\",IF(Meetings1!B151=\"\",\"\",getAddress(Meetings1!E151))))","v":""},{"$nulls":24},{"$f":"IF(AA151=\"\",\"\",IF(AA151=\"Career::\",Form!A149,\"\"))","v":""},"12-16 7.3L"," Bend","2012-04-21"," 1100m"," Dead"," Race 6"," Hcp (58)"," RB58",12000,0," J Keating",2," Cd 58.5-0.0",-54," 1::04.47"," ()"," 9/1"," Settled-2 1200- 800- Turn-2"," 1-Lascelles 57.5"]
[{"$f":"IF(Meetings1!A152=\"\",\"\",IF(Meetings1!A152=\"END\",\"END\",IF(Meetings1!B152=\"\",\"\",getAddress(Meetings1!E152))))","v":""},{"$nulls":24},{"$f":"IF(AA152=\"\",\"\",IF(AA152=\"Career::\",Form!A150,\"\"))","v":""},"3-12 1.6L"," Tatura","2012-04-07"," 1100m"," Dead"," Race 2"," Hcp (58)"," RB58",12000,-1050," Jarrod Fry",5," Cd 58.5-0.0",-54," 1::05.00"," ()"," 12/1"," Settled-1 1200- 800- Turn-1"," 1-No Prior Knowledge 55.0"]
[{"$f":"IF(Meetings1!A153=\"\",\"\",IF(Meetings1!A153=\"END\",\"END\",IF(Meetings1!B153=\"\",\"\",getAddress(Meetings1!E153))))","v":""},{"$nulls":24},{"$f":"IF(AA153=\"\",\"\",IF(AA153=\"Career::\",Form!A151,\"\"))","v":""},"12-14 8.7L"," Donald","2012-02-28"," 1000m"," Dead"," Race 7"," Hcp (58)"," RB58",12000,0," C A Robertson",4," Cd 59.0-0.0",-54," 0::58.02"," ()"," 10/1"," Settled-3 1200- 800- Turn-3"," 1-Limbo Dancer 56.0 Vet examination."]
[{"$f":"IF(Meetings1!A154=\"\",\"\",IF(Meetings1!A154=\"END\",\"END\",IF(Meetings1!B154=\"\",\"\",getAddress(Meetings1!E154))))","v":""},{"$nulls":24},{"$f":"IF(AA154=\"\",\"\",IF(AA154=\"Career::\",Form!A152,\"\"))","v":""},"13-14 8.3L"," Donald","2011-10-10"," 1350m"," Dead"," Race 3"," Hcp (58)"," RB58",12000,0," A Mallyon",3," Cd 58.5-0.0",-53," 1::20.83"," ()"," 6/1"," Settled- 1200- 800- Turn-"," 1-Caradin 57.0 Vet examination."]
[{"$f":"IF(Meetings1!A155=\"\",\"\",IF(Meetings1!A155=\"END\",\"END\",IF(Meetings1!B155=\"\",\"\",getAddress(Meetings1!E155))))","v":""},{"$nulls":24},{"$f":"IF(AA155=\"\",\"\",IF(AA155=\"Career::\",Form!A153,\"\"))","v":""},"2-14 0.1L"," Echuca","2011-09-27"," 1200m"," Good"," Race 8"," Hcp (58)"," RB58",12000,-2100," A Mallyon",7," Cd 58.0-0.0",-53," 1::11.30"," ()"," 12/1"," Settled- 1200- 800- Turn-"," 1-Amalfi Coast 55.0"]
[{"$f":"IF(Meetings1!A156=\"\",\"\",IF(Meetings1!A156=\"END\",\"END\",IF(Meetings1!B156=\"\",\"\",getAddress(Meetings1!E156))))","v":""},{"$nulls":24},{"$f":"IF(AA156=\"\",\"\",IF(AA156=\"Career::\",Form!A154,\"\"))","v":""},"4-11 3.3L"," K'ton","2011-09-13"," 1112m"," Dead"," Race 3"," Hcp (58)"," RB58",12000,-525," Tash Burleigh",2," Cd 54.0--4.0",-53," 1::06.54"," ()"," 13/2"," Settled-7 1200- 800- Turn-6"," 1-Run For The Hills 58.0 Pulled hard during race."]
[{"$f":"IF(Meetings1!A157=\"\",\"\",IF(Meetings1!A157=\"END\",\"END\",IF(Meetings1!B157=\"\",\"\",getAddress(Meetings1!E157))))","v":""},{"$nulls":24},{"$f":"IF(AA157=\"\",\"\",IF(AA157=\"Career::\",Form!A155,\"\"))","v":""},"6-10 6.8L"," Tatura","2011-09-03"," 1100m"," Good"," Race 9"," Hcp (58)"," RB58",12000,-250," R Mc Leod",6," Cd 58.5-0.0",-53," 1::04.39"," ()"," 7/1"," Settled-3 1200- 800- Turn-4"," 1-Amalfi Coast 53.0"]
[{"$f":"IF(Meetings1!A158=\"\",\"\",IF(Meetings1!A158=\"END\",\"END\",IF(Meetings1!B158=\"\",\"\",getAddress(Meetings1!E158))))","v":""},{"$nulls":24},{"$f":"IF(AA158=\"\",\"\",IF(AA158=\"Career::\",Form!A156,\"\"))","v":""},"3-10 0.8L"," Murtoa","2011-08-27"," 1100m"," Dead"," Race 3"," Hcp (58)"," RB58",12000,-1050," A Mallyon",10," Cd 58.5-0.0",-53," 1::05.27"," ()"," 5/1"," Settled-3 1200- 800- Turn-4"," 1-Filou Shot 58.0"]
[{"$f":"IF(Meetings1!A159=\"\",\"\",IF(Meetings1!A159=\"END\",\"END\",IF(Meetings1!B159=\"\",\"\",getAddress(Meetings1!E159))))","v":""},{"$nulls":24},{"$f":"IF(AA159=\"\",\"\",IF(AA159=\"Career::\",Form!A157,\"\"))","v":""},"6-12 3.6L"," Swan H","2011-08-08"," 975m"," Heavy"," Race 7"," Hcp (62)"," RB62",12000,-250," R J Myers",3," Cd 56.5-0.0",-53," 1::00.42"," ()"," 12/1"," Settled-3 1200- 800- Turn-3"," 1-Let's Be Happy 56.0"]
[{"$f":"IF(Meetings1!A160=\"\",\"\",IF(Meetings1!A160=\"END\",\"END\",IF(Meetings1!B160=\"\",\"\",getAddress(Meetings1!E160))))","v":""},{"$nulls":24},{"$f":"IF(AA160=\"\",\"\",IF(AA160=\"Career::\",Form!A158,\"\"))","v":""}]
[{"$f":"IF(Meetings1!A161=\"\",\"\",IF(Meetings1!A161=\"END\",\"END\",IF(Meetings1!B161=\"\",\"\",getAddress(Meetings1!E161))))","v":""},{"$nulls":24},{"$f":"IF(AA161=\"\",\"\",IF(AA161=\"Career::\",Form!A159,\"\"))","v":""}]
[{"$f":"IF(Meetings1!A162=\"\",\"\",IF(Meetings1!A162=\"END\",\"END\",IF(Meetings1!B162=\"\",\"\",getAddress(Meetings1!E162))))","v":""},{"$nulls":24},{"$f":"IF(AA162=\"\",\"\",IF(AA162=\"Career::\",Form!A160,\"\"))","v":""},"Comments:: Resumed from spell with 8 len 5th Ladramahs 1424m Sale Hcp (62) Heavy trk Sep 20 . Then 9-1/2 len 9th Famous By Name 1600m Bairns Hcp (62) Sep 25 . Faded from 4th on turn at latest outing."]
[{"$f":"IF(Meetings1!A163=\"\",\"\",IF(Meetings1!A163=\"END\",\"END\",IF(Meetings1!B163=\"\",\"\",getAddress(Meetings1!E163))))","v":""},{"$nulls":24},{"$f":"IF(AA163=\"\",\"\",IF(AA163=\"Career::\",Form!A161,\"\"))","v":"Elite Ebony"},"Career::"]
[{"$f":"IF(Meetings1!A164=\"\",\"\",IF(Meetings1!A164=\"END\",\"END\",IF(Meetings1!B164=\"\",\"\",getAddress(Meetings1!E164))))","v":""},{"$nulls":24},{"$f":"IF(AA164=\"\",\"\",IF(AA164=\"Career::\",Form!A162,\"\"))","v":""},"17::2-1-0"]
[{"$f":"IF(Meetings1!A165=\"\",\"\",IF(Meetings1!A165=\"END\",\"END\",IF(Meetings1!B165=\"\",\"\",getAddress(Meetings1!E165))))","v":""},{"$nulls":24},{"$f":"IF(AA165=\"\",\"\",IF(AA165=\"Career::\",Form!A163,\"\"))","v":""},"Fast::"]
[{"$f":"IF(Meetings1!A166=\"\",\"\",IF(Meetings1!A166=\"END\",\"END\",IF(Meetings1!B166=\"\",\"\",getAddress(Meetings1!E166))))","v":""},{"$nulls":24},{"$f":"IF(AA166=\"\",\"\",IF(AA166=\"Career::\",Form!A164,\"\"))","v":""},"0::0-0-0"]
[{"$f":"IF(Meetings1!A167=\"\",\"\",IF(Meetings1!A167=\"END\",\"END\",IF(Meetings1!B167=\"\",\"\",getAddress(Meetings1!E167))))","v":""},{"$nulls":24},{"$f":"IF(AA167=\"\",\"\",IF(AA167=\"Career::\",Form!A165,\"\"))","v":""},"9-11 9.6L"," Bairns","2011-09-25"," 1600m"," Good"," Race 8"," Hcp (62)"," RB62",15000,-250," L Coffey",11," Cd 55.0-0.0",-53," 1::37.88"," ()"," 15/1"," Settled-6 1200- 800-6 Turn-4"," 1-Famous By Name 56.5"]
[{"$f":"IF(Meetings1!A168=\"\",\"\",IF(Meetings1!A168=\"END\",\"END\",IF(Meetings1!B168=\"\",\"\",getAddress(Meetings1!E168))))","v":""},{"$nulls":24},{"$f":"IF(AA168=\"\",\"\",IF(AA168=\"Career::\",Form!A166,\"\"))","v":""},"5-11 8.0L"," Sale","2011-09-20"," 1424m"," Heavy"," Race 8"," Hcp (62)"," RB62",12000,-250," P Mertens",7," Cd 55.0-0.0",-53," 1::29.48"," ()"," 9/2"," Settled-7 1200- 800-7 Turn-6"," 1-Ladramahs 58.0"]
[{"$f":"IF(Meetings1!A169=\"\",\"\",IF(Meetings1!A169=\"END\",\"END\",IF(Meetings1!B169=\"\",\"\",getAddress(Meetings1!E169))))","v":""},{"$nulls":24},{"$f":"IF(AA169=\"\",\"\",IF(AA169=\"Career::\",Form!A167,\"\"))","v":""},"8-16 2.3L"," Sale","2011-09-10"," 1700m"," Good"," Race 6"," Hcp (62)"," RB62",12000,-250," L Coffey",8," Cd 55.0-0.0",-53," 1::45.43"," ()"," 8/1"," Settled-11 1200-10 800-13 Turn-13"," 1-Queen's Fashion 56.0 Checked near turn."]
[{"$f":"IF(Meetings1!A170=\"\",\"\",IF(Meetings1!A170=\"END\",\"END\",IF(Meetings1!B170=\"\",\"\",getAddress(Meetings1!E170))))","v":""},{"$nulls":24},{"$f":"IF(AA170=\"\",\"\",IF(AA170=\"Career::\",Form!A168,\"\"))","v":""},"2-11 0.2L"," P'ham","2011-08-28"," 1414m"," Dead"," Race 5"," Hcp (62)"," RB62",12000,-2100," L Coffey",7," Cd 55.0-0.0",-53," 1::25.82"," ()"," 14/1"," Settled-10 1200- 800-10 Turn-10"," 1-Democrat 56.5"]
[{"$f":"IF(Meetings1!A171=\"\",\"\",IF(Meetings1!A171=\"END\",\"END\",IF(Meetings1!B171=\"\",\"\",getAddress(Meetings1!E171))))","v":""},{"$nulls":24},{"$f":"IF(AA171=\"\",\"\",IF(AA171=\"Career::\",Form!A169,\"\"))","v":""},"7-12 6.3L"," Geesyn","2011-08-12"," 1300m"," Good"," Race 7"," 3yo+ F&M Hcp-62"," RB62 3+ fm",12000,-250," J R Todd",5," Cd 57.0-0.0",-53," 1::17.84",-35.33," 15/1"," Settled-8 1200- 800-8 Turn-9"," 1-Glancing 59.0"]
[{"$f":"IF(Meetings1!A172=\"\",\"\",IF(Meetings1!A172=\"END\",\"END\",IF(Meetings1!B172=\"\",\"\",getAddress(Meetings1!E172))))","v":""},{"$nulls":24},{"$f":"IF(AA172=\"\",\"\",IF(AA172=\"Career::\",Form!A170,\"\"))","v":""},"1-14 0.5L"," Sale","2011-07-31"," 1208m"," Slow"," Race 5"," 3yo F Hcp (68)"," RB68 3 f",22500,-13650," J R Todd",2," Cd 53.0-0.0",-53," 1::13.48"," ()"," 25/1"," Settled-8 1200- 800- Turn-4"," 2-Brien's Girl 56.0 Struck interference near 100m."]
[{"$f":"IF(Meetings1!A173=\"\",\"\",IF(Meetings1!A173=\"END\",\"END\",IF(Meetings1!B173=\"\",\"\",getAddress(Meetings1!E173))))","v":""},{"$nulls":24},{"$f":"IF(AA173=\"\",\"\",IF(AA173=\"Career::\",Form!A171,\"\"))","v":""},"4-8 3.4L"," Sale","2011-07-17"," 1213m"," Good"," Race 6"," Hcp (C1)"," Cls 1",12000,-525," J R Todd",3," Cd 53.0-0.0",-53," 1::10.68"," ()"," 20/1"," Settled-6 1200- 800- Turn-4"," 1-Teen Spirit 53.0"]
[{"$f":"IF(Meetings1!A174=\"\",\"\",IF(Meetings1!A174=\"END\",\"END\",IF(Meetings1!B174=\"\",\"\",getAddress(Meetings1!E174))))","v":""},{"$nulls":24},{"$f":"IF(AA174=\"\",\"\",IF(AA174=\"Career::\",Form!A172,\"\"))","v":""},"10-11 14.2L"," Sale","2011-05-08"," 1400m"," Dead"," Race 4"," Hcp (62)"," RB62",12000,-250," J Benbow",11," Cd 54.0-0.0",-53," 1::24.42"," ()"," 20/1"," Settled-11 1200- 800-11 Turn-11"," 1-Desert Control 59.0"]
[{"$f":"IF(Meetings1!A175=\"\",\"\",IF(Meetings1!A175=\"END\",\"END\",IF(Meetings1!B175=\"\",\"\",getAddress(Meetings1!E175))))","v":""},{"$nulls":24},{"$f":"IF(AA175=\"\",\"\",IF(AA175=\"Career::\",Form!A173,\"\"))","v":""},"6-10 4.6L"," Traral","2011-04-25"," 1430m"," Dead"," Race 4"," F&M Hcp (58)"," RB58 fm",12000,-250," Dale Smith",2," Cd 58.5-0.0",-53," 1::26.30"," ()"," 14/1"," Settled-4 1200- 800-3 Turn-3"," 1-Lady Dynamo 54.5"]
[{"$f":"IF(Meetings1!A176=\"\",\"\",IF(Meetings1!A176=\"END\",\"END\",IF(Meetings1!B176=\"\",\"\",getAddress(Meetings1!E176))))","v":""},{"$nulls":24},{"$f":"IF(AA176=\"\",\"\",IF(AA176=\"Career::\",Form!A174,\"\"))","v":""},"7-7 11.0L"," Sale","2011-04-07"," 1100m"," Good"," Race 5"," 3yo F Hcp (68)"," RB68 3 f",22500,-250," J Benbow",3," Cd 55.0-0.0",-53," 1::04.07"," ()"," 20/1"," Settled-7 1200- 800- Turn-7"," 1-No Vanity 56.0 Slowly away."]
[{"$f":"IF(Meetings1!A177=\"\",\"\",IF(Meetings1!A177=\"END\",\"END\",IF(Meetings1!B177=\"\",\"\",getAddress(Meetings1!E177))))","v":""},{"$nulls":24},{"$f":"IF(AA177=\"\",\"\",IF(AA177=\"Career::\",Form!A175,\"\"))","v":""}]
[{"$f":"IF(Meetings1!A178=\"\",\"\",IF(Meetings1!A178=\"END\",\"END\",IF(Meetings1!B178=\"\",\"\",getAddress(Meetings1!E178))))","v":""},{"$nulls":24},{"$f":"IF(AA178=\"\",\"\",IF(AA178=\"Career::\",Form!A176,\"\"))","v":""}]
[{"$f":"IF(Meetings1!A179=\"\",\"\",IF(Meetings1!A179=\"END\",\"END\",IF(Meetings1!B179=\"\",\"\",getAddress(Meetings1!E179))))","v":""},{"$nulls":24},{"$f":"IF(AA179=\"\",\"\",IF(AA179=\"Career::\",Form!A177,\"\"))","v":""},"Comments:: Followed 7-3/4 len 10th Miss Beautymate 1100m Sale Hcp (62) Dead trk Apr 29 with len 3-1/4 len 3rd Serene Star"," Sapphire Mistress 1020m Morn. 3Yo+ F&M Hcp-C1 Heavy trk May 07 . Has good record in the wet."]
[{"$f":"IF(Meetings1!A180=\"\",\"\",IF(Meetings1!A180=\"END\",\"END\",IF(Meetings1!B180=\"\",\"\",getAddress(Meetings1!E180))))","v":""},{"$nulls":24},{"$f":"IF(AA180=\"\",\"\",IF(AA180=\"Career::\",Form!A178,\"\"))","v":"Hoakstess"},"Career::"]
[{"$f":"IF(Meetings1!A181=\"\",\"\",IF(Meetings1!A181=\"END\",\"END\",IF(Meetings1!B181=\"\",\"\",getAddress(Meetings1!E181))))","v":""},{"$nulls":24},{"$f":"IF(AA181=\"\",\"\",IF(AA181=\"Career::\",Form!A179,\"\"))","v":""},"9::1-0-3"]
[{"$f":"IF(Meetings1!A182=\"\",\"\",IF(Meetings1!A182=\"END\",\"END\",IF(Meetings1!B182=\"\",\"\",getAddress(Meetings1!E182))))","v":""},{"$nulls":24},{"$f":"IF(AA182=\"\",\"\",IF(AA182=\"Career::\",Form!A180,\"\"))","v":""},"Fast::"]
[{"$f":"IF(Meetings1!A183=\"\",\"\",IF(Meetings1!A183=\"END\",\"END\",IF(Meetings1!B183=\"\",\"\",getAddress(Meetings1!E183))))","v":""},{"$nulls":24},{"$f":"IF(AA183=\"\",\"\",IF(AA183=\"Career::\",Form!A181,\"\"))","v":""},"0::0-0-0"]
[{"$f":"IF(Meetings1!A184=\"\",\"\",IF(Meetings1!A184=\"END\",\"END\",IF(Meetings1!B184=\"\",\"\",getAddress(Meetings1!E184))))","v":""},{"$nulls":24},{"$f":"IF(AA184=\"\",\"\",IF(AA184=\"Career::\",Form!A182,\"\"))","v":""},"3-8 3.8L"," Morn.","2012-05-07"," 1020m"," Heavy"," Race 7"," 3yo+ F&M Hcp-C1"," Cls 1 3+ fm",12000,-1050," I Gundogdu",3," Cd 56.5-0.0",-54," 1::01.95"," ()"," 16/1"," Settled-5 1200- 800- Turn-3"," 1-Serene Star 60.0"]
[{"$f":"IF(Meetings1!A185=\"\",\"\",IF(Meetings1!A185=\"END\",\"END\",IF(Meetings1!B185=\"\",\"\",getAddress(Meetings1!E185))))","v":""},{"$nulls":24},{"$f":"IF(AA185=\"\",\"\",IF(AA185=\"Career::\",Form!A183,\"\"))","v":""},"10-13 7.8L"," Sale","2012-04-29"," 1100m"," Dead"," Race 7"," Hcp (62)"," RB62",15000,-250," I Gundogdu",7," Cd 56.0-0.0",-54," 1::04.43"," ()"," 16/1"," Settled-1 1200- 800- Turn-1"," 1-Miss Beautymate 57.0"]
[{"$f":"IF(Meetings1!A186=\"\",\"\",IF(Meetings1!A186=\"END\",\"END\",IF(Meetings1!B186=\"\",\"\",getAddress(Meetings1!E186))))","v":""},{"$nulls":24},{"$f":"IF(AA186=\"\",\"\",IF(AA186=\"Career::\",Form!A184,\"\"))","v":""},"1-10 0.2L"," P'ham","2011-11-11"," 1400m"," Slow"," Race 4"," 3yo+ Mdn"," Mdn 3+",12000,-6825," I Gundogdu",1," Cd 56.0-0.0"," (SW)"," 1::28.22"," ()"," 9/4F"," Settled-3 1200- 800-5 Turn-1"," 2-Hissing Benbara 54.5"]
[{"$f":"IF(Meetings1!A187=\"\",\"\",IF(Meetings1!A187=\"END\",\"END\",IF(Meetings1!B187=\"\",\"\",getAddress(Meetings1!E187))))","v":""},{"$nulls":24},{"$f":"IF(AA187=\"\",\"\",IF(AA187=\"Career::\",Form!A185,\"\"))","v":""},"7-8 10.5L"," Sale","2011-11-04"," 1600m"," Good"," Race 4"," 3yo+ Mdn"," Mdn 3+",12000,-250," J Noonan",4," Cd 56.0-0.0"," (SW)"," 1::37.09"," ()"," 8/1"," Settled-1 1200- 800-1 Turn-1"," 1-Visit Us 58.0"]
[{"$f":"IF(Meetings1!A188=\"\",\"\",IF(Meetings1!A188=\"END\",\"END\",IF(Meetings1!B188=\"\",\"\",getAddress(Meetings1!E188))))","v":""},{"$nulls":24},{"$f":"IF(AA188=\"\",\"\",IF(AA188=\"Career::\",Form!A186,\"\"))","v":""},"4-11 2.5L"," P'ham","2011-10-24"," 1414m"," Heavy"," Race 4"," 3yo+ F&M Mdn"," Mdn 3+ fm",12000,-525," J Benbow",11," Cd 57.0-0.0"," (SW)"," 1::29.04"," ()"," 8/1"," Settled-1 1200- 800-1 Turn-1"," 1-Seripak 57.0"]
[{"$f":"IF(Meetings1!A189=\"\",\"\",IF(Meetings1!A189=\"END\",\"END\",IF(Meetings1!B189=\"\",\"\",getAddress(Meetings1!E189))))","v":""},{"$nulls":24},{"$f":"IF(AA189=\"\",\"\",IF(AA189=\"Career::\",Form!A187,\"\"))","v":""},"3-12 6.3L"," Sale","2011-10-07"," 1424m"," Dead"," Race 2"," 3yo+ Mdn"," Mdn 3+",12000,-1050," L Currie",7," Cd 56.0-0.0"," (SW)"," 1::26.62"," ()"," 12/1"," Settled-2 1200- 800-2 Turn-2"," 1-Mega Rich 55.5"]
[{"$f":"IF(Meetings1!A190=\"\",\"\",IF(Meetings1!A190=\"END\",\"END\",IF(Meetings1!B190=\"\",\"\",getAddress(Meetings1!E190))))","v":""},{"$nulls":24},{"$f":"IF(AA190=\"\",\"\",IF(AA190=\"Career::\",Form!A188,\"\"))","v":""},"5-7 5.9L"," Morn.","2011-09-19"," 1018m"," Dead"," Race 1"," 3yo+ Mdn"," Mdn 3+",12000,-250," J Winks",7," Cd 56.0-0.0"," (SW)"," 0::59.21"," ()"," 12/1"," Settled-6 1200- 800- Turn-4"," 1-De Lilly Lightful 53.5"]
[{"$f":"IF(Meetings1!A191=\"\",\"\",IF(Meetings1!A191=\"END\",\"END\",IF(Meetings1!B191=\"\",\"\",getAddress(Meetings1!E191))))","v":""},{"$nulls":24},{"$f":"IF(AA191=\"\",\"\",IF(AA191=\"Career::\",Form!A189,\"\"))","v":""},"3-10 2.7L"," Morn.","2011-09-06"," 1000m"," Dead"," Race 1"," 3yo+ Mdn"," Mdn 3+",12000,-1050," J Winks",2," Cd 56.0-0.0"," (SW)"," 0::59.24"," ()"," 14/1"," Settled-4 1200- 800- Turn-5"," 1-Agasha 55.5"]
[{"$f":"IF(Meetings1!A192=\"\",\"\",IF(Meetings1!A192=\"END\",\"END\",IF(Meetings1!B192=\"\",\"\",getAddress(Meetings1!E192))))","v":""},{"$nulls":24},{"$f":"IF(AA192=\"\",\"\",IF(AA192=\"Career::\",Form!A190,\"\"))","v":""},"6-12 4.7L"," GeeSyn","2011-08-26"," 1200m"," Good"," Race 5"," 3yo+ Mdn Plate"," Mdn 3+",12000,-250," J Winks",5," Cd 56.0-0.0"," (SW)"," 1::11.89",-34.96," 25/1"," Settled-9 1200- 800- Turn-11"," 1-Seeyasoon 58.0 Hung in during race."]
[{"$f":"IF(Meetings1!A193=\"\",\"\",IF(Meetings1!A193=\"END\",\"END\",IF(Meetings1!B193=\"\",\"\",getAddress(Meetings1!E193))))","v":""},{"$nulls":24},{"$f":"IF(AA193=\"\",\"\",IF(AA193=\"Career::\",Form!A191,\"\"))","v":""},"5-7 0.0L"," Crasyn","2011-07-18"," 1000m"," Good"," Race 3"," Barrier Trl"," Btria 2+",0,0," L Mc Gill",5," Cd 0.0-0.0"," (CWT)"," 1::00.43"," ()"," "," Settled- 1200- 800- Turn-"," 1-Glenariff 0.0"]
[{"$f":"IF(Meetings1!A194=\"\",\"\",IF(Meetings1!A194=\"END\",\"END\",IF(Meetings1!B194=\"\",\"\",getAddress(Meetings1!E194))))","v":""},{"$nulls":24},{"$f":"IF(AA194=\"\",\"\",IF(AA194=\"Career::\",Form!A192,\"\"))","v":""}]
[{"$f":"IF(Meetings1!A195=\"\",\"\",IF(Meetings1!A195=\"END\",\"END\",IF(Meetings1!B195=\"\",\"\",getAddress(Meetings1!E195))))","v":""},{"$nulls":24},{"$f":"IF(AA195=\"\",\"\",IF(AA195=\"Career::\",Form!A193,\"\"))","v":""}]
[{"$f":"IF(Meetings1!A196=\"\",\"\",IF(Meetings1!A196=\"END\",\"END\",IF(Meetings1!B196=\"\",\"\",getAddress(Meetings1!E196))))","v":""},{"$nulls":24},{"$f":"IF(AA196=\"\",\"\",IF(AA196=\"Career::\",Form!A194,\"\"))","v":""},"Comments:: Followed 1-1/2 len 2nd No Prior Knowledge where struck interference near 600m 1100m Tatura Hcp (58) Dead trk Apr 07 with 5-3/4 len 8th Lascelles 1100m Bend Hcp (58) Dead trk Apr 21 . Has good record in the wet."]
[{"$f":"IF(Meetings1!A197=\"\",\"\",IF(Meetings1!A197=\"END\",\"END\",IF(Meetings1!B197=\"\",\"\",getAddress(Meetings1!E197))))","v":""},{"$nulls":24},{"$f":"IF(AA197=\"\",\"\",IF(AA197=\"Career::\",Form!A195,\"\"))","v":"Midnight Pearl"},"Career::"]
[{"$f":"IF(Meetings1!A198=\"\",\"\",IF(Meetings1!A198=\"END\",\"END\",IF(Meetings1!B198=\"\",\"\",getAddress(Meetings1!E198))))","v":""},{"$nulls":24},{"$f":"IF(AA198=\"\",\"\",IF(AA198=\"Career::\",Form!A196,\"\"))","v":""},"38::3-6-9"]
[{"$f":"IF(Meetings1!A199=\"\",\"\",IF(Meetings1!A199=\"END\",\"END\",IF(Meetings1!B199=\"\",\"\",getAddress(Meetings1!E199))))","v":""},{"$nulls":24},{"$f":"IF(AA199=\"\",\"\",IF(AA199=\"Career::\",Form!A197,\"\"))","v":""},"Fast::"]
[{"$f":"IF(Meetings1!A200=\"\",\"\",IF(Meetings1!A200=\"END\",\"END\",IF(Meetings1!B200=\"\",\"\",getAddress(Meetings1!E200))))","v":""},{"$nulls":24},{"$f":"IF(AA200=\"\",\"\",IF(AA200=\"Career::\",Form!A198,\"\"))","v":""},"0::0-0-0"]
[{"$f":"IF(Meetings1!A201=\"\",\"\",IF(Meetings1!A201=\"END\",\"END\",IF(Meetings1!B201=\"\",\"\",getAddress(Meetings1!E201))))","v":""},{"$nulls":24},{"$f":"IF(AA201=\"\",\"\",IF(AA201=\"Career::\",Form!A199,\"\"))","v":""},"8-16 5.9L"," Bend","2012-04-21"," 1100m"," Dead"," Race 6"," Hcp (58)"," RB58",12000,-250," Ms C Puls",10," Cd 58.0-0.0",-54," 1::04.47"," ()"," 15/2"," Settled-11 1200- 800- Turn-11"," 1-Lascelles 57.5"]
[{"$f":"IF(Meetings1!A202=\"\",\"\",IF(Meetings1!A202=\"END\",\"END\",IF(Meetings1!B202=\"\",\"\",getAddress(Meetings1!E202))))","v":""},{"$nulls":24},{"$f":"IF(AA202=\"\",\"\",IF(AA202=\"Career::\",Form!A200,\"\"))","v":""},"2-12 1.5L"," Tatura","2012-04-07"," 1100m"," Dead"," Race 2"," Hcp (58)"," RB58",12000,-2100," D W Stackhouse",6," Cd 58.0-0.0",-54," 1::05.00"," ()"," 5/1"," Settled-8 1200- 800- Turn-8"," 1-No Prior Knowledge 55.0 Struck interference near 600m."]
[{"$f":"IF(Meetings1!A203=\"\",\"\",IF(Meetings1!A203=\"END\",\"END\",IF(Meetings1!B203=\"\",\"\",getAddress(Meetings1!E203))))","v":""},{"$nulls":24},{"$f":"IF(AA203=\"\",\"\",IF(AA203=\"Career::\",Form!A201,\"\"))","v":""},"7-11 5.3L"," Seymor","2012-02-16"," 1200m"," Dead"," Race 8"," Hcp (68)"," RB68",22500,-250," J Lyon",7," Cd 54.5-0.0",-54," 1::10.78"," ()"," 30/1"," Settled-10 1200- 800- Turn-10"," 1-Muhaajir 57.0"]
[{"$f":"IF(Meetings1!A204=\"\",\"\",IF(Meetings1!A204=\"END\",\"END\",IF(Meetings1!B204=\"\",\"\",getAddress(Meetings1!E204))))","v":""},{"$nulls":24},{"$f":"IF(AA204=\"\",\"\",IF(AA204=\"Career::\",Form!A202,\"\"))","v":""},"4-7 1.1L"," K'ton","2012-02-04"," 1200m"," Dead"," Race 9"," Hcp (62)"," RB62",12000,-525," L Currie",5," Cd 57.0-0.0",-54," 1::13.84"," ()"," 20/1"," Settled-6 1200- 800- Turn-4"," 1-Mo Vo 57.5"]
[{"$f":"IF(Meetings1!A205=\"\",\"\",IF(Meetings1!A205=\"END\",\"END\",IF(Meetings1!B205=\"\",\"\",getAddress(Meetings1!E205))))","v":""},{"$nulls":24},{"$f":"IF(AA205=\"\",\"\",IF(AA205=\"Career::\",Form!A203,\"\"))","v":""},"10-12 9.0L"," Seymor","2012-01-19"," 1300m"," Good"," Race 8"," Hcp (62)"," RB62",15000,-250," Nicholas Hall",8," Cd 58.0-0.0",-54," 1::16.72"," ()"," 25/1"," Settled-12 1200- 800- Turn-10"," 1-Dany The Fox 58.5"]
[{"$f":"IF(Meetings1!A206=\"\",\"\",IF(Meetings1!A206=\"END\",\"END\",IF(Meetings1!B206=\"\",\"\",getAddress(Meetings1!E206))))","v":""},{"$nulls":24},{"$f":"IF(AA206=\"\",\"\",IF(AA206=\"Career::\",Form!A204,\"\"))","v":""},"15-15 9.4L"," Lakesi","2011-12-21"," 1200m"," Good"," Race 5"," 4yo+ Hcp (68)"," RB68 4+",30000,0," D Nikolic",7," Cd 55.0-0.0",-53," 1::11.39",-34.130000000000003," 50/1"," Settled-13 1200- 800- Turn-13"," 1-Del Palio 55.0 Struck interference at start. Disappointed for a run."]
[{"$f":"IF(Meetings1!A207=\"\",\"\",IF(Meetings1!A207=\"END\",\"END\",IF(Meetings1!B207=\"\",\"\",getAddress(Meetings1!E207))))","v":""},{"$nulls":24},{"$f":"IF(AA207=\"\",\"\",IF(AA207=\"Career::\",Form!A205,\"\"))","v":""},"12-14 9.7L"," Lakesi","2011-08-28"," 1200m"," Dead"," Race 6"," 4yo+ M Hcp (78)"," RB78 4+ m",30000,0," Ms Michelle Payne",4," Cd 53.5-0.0",-53," 1::10.88",-33.74," 50/1"," Settled-12 1200- 800-12 Turn-13"," 1-Candy Stripes 54.0"]
[{"$f":"IF(Meetings1!A208=\"\",\"\",IF(Meetings1!A208=\"END\",\"END\",IF(Meetings1!B208=\"\",\"\",getAddress(Meetings1!E208))))","v":""},{"$nulls":24},{"$f":"IF(AA208=\"\",\"\",IF(AA208=\"Career::\",Form!A206,\"\"))","v":""},"3-7 3.1L"," Seymor","2011-03-22"," 1600m"," Dead"," Race 4"," Hcp (72)"," RB72",12000,-1050," J Noonan",3," Cd 53.5-0.0",-53," 1::38.03"," ()"," 7/4F"," Settled-3 1200- 800-4 Turn-3"," 1-Great Player 56.5"]
[{"$f":"IF(Meetings1!A209=\"\",\"\",IF(Meetings1!A209=\"END\",\"END\",IF(Meetings1!B209=\"\",\"\",getAddress(Meetings1!E209))))","v":""},{"$nulls":24},{"$f":"IF(AA209=\"\",\"\",IF(AA209=\"Career::\",Form!A207,\"\"))","v":""},"5-10 2.9L"," Echuca","2011-03-12"," 1600m"," Dead"," Race 5"," Hcp (68)"," RB68",12000,-250," Ms L J Meech",9," Cd 56.0-0.0",-53," 1::38.65"," ()"," 5/2F"," Settled-7 1200- 800-6 Turn-2"," 1-Can Get Thirsty 55.0"]
[{"$f":"IF(Meetings1!A210=\"\",\"\",IF(Meetings1!A210=\"END\",\"END\",IF(Meetings1!B210=\"\",\"\",getAddress(Meetings1!E210))))","v":""},{"$nulls":24},{"$f":"IF(AA210=\"\",\"\",IF(AA210=\"Career::\",Form!A208,\"\"))","v":""},"2-10 0.3L"," K'ton","2011-02-22"," 1483m"," Dead"," Race 6"," 3yo+ F&M Hcp-68"," RB68 3+ fm",12000,-2100," S Nolen",9," Cd 57.5-0.0",-53," 1::29.97"," ()"," 4/1"," Settled-9 1200- 800-9 Turn-9"," 1-Road To Roam 58.5 Disappointed for a run."]
[{"$f":"IF(Meetings1!A211=\"\",\"\",IF(Meetings1!A211=\"END\",\"END\",IF(Meetings1!B211=\"\",\"\",getAddress(Meetings1!E211))))","v":""},{"$nulls":24},{"$f":"IF(AA211=\"\",\"\",IF(AA211=\"Career::\",Form!A209,\"\"))","v":""}]
[{"$f":"IF(Meetings1!A212=\"\",\"\",IF(Meetings1!A212=\"END\",\"END\",IF(Meetings1!B212=\"\",\"\",getAddress(Meetings1!E212))))","v":""},{"$nulls":24},{"$f":"IF(AA212=\"\",\"\",IF(AA212=\"Career::\",Form!A210,\"\"))","v":""}]
[{"$f":"IF(Meetings1!A213=\"\",\"\",IF(Meetings1!A213=\"END\",\"END\",IF(Meetings1!B213=\"\",\"\",getAddress(Meetings1!E213))))","v":""},{"$nulls":24},{"$f":"IF(AA213=\"\",\"\",IF(AA213=\"Career::\",Form!A211,\"\"))","v":""},"Comments:: Followed 6-1/4 len 6th Whooroo 1600m Echuca Hcp (58) Dead trk Mar 10 with 8-1/4 len 14th Lascelles 1100m Bend Hcp (58) Dead trk Apr 21 . Has good record in the wet."]
[{"$f":"IF(Meetings1!A214=\"\",\"\",IF(Meetings1!A214=\"END\",\"END\",IF(Meetings1!B214=\"\",\"\",getAddress(Meetings1!E214))))","v":""},{"$nulls":24},{"$f":"IF(AA214=\"\",\"\",IF(AA214=\"Career::\",Form!A212,\"\"))","v":"Mon Coeur"},"Career::"]
[{"$f":"IF(Meetings1!A215=\"\",\"\",IF(Meetings1!A215=\"END\",\"END\",IF(Meetings1!B215=\"\",\"\",getAddress(Meetings1!E215))))","v":""},{"$nulls":24},{"$f":"IF(AA215=\"\",\"\",IF(AA215=\"Career::\",Form!A213,\"\"))","v":""},"22::2-1-4"]
[{"$f":"IF(Meetings1!A216=\"\",\"\",IF(Meetings1!A216=\"END\",\"END\",IF(Meetings1!B216=\"\",\"\",getAddress(Meetings1!E216))))","v":""},{"$nulls":24},{"$f":"IF(AA216=\"\",\"\",IF(AA216=\"Career::\",Form!A214,\"\"))","v":""},"Fast::"]
[{"$f":"IF(Meetings1!A217=\"\",\"\",IF(Meetings1!A217=\"END\",\"END\",IF(Meetings1!B217=\"\",\"\",getAddress(Meetings1!E217))))","v":""},{"$nulls":24},{"$f":"IF(AA217=\"\",\"\",IF(AA217=\"Career::\",Form!A215,\"\"))","v":""},"0::0-0-0"]
[{"$f":"IF(Meetings1!A218=\"\",\"\",IF(Meetings1!A218=\"END\",\"END\",IF(Meetings1!B218=\"\",\"\",getAddress(Meetings1!E218))))","v":""},{"$nulls":24},{"$f":"IF(AA218=\"\",\"\",IF(AA218=\"Career::\",Form!A216,\"\"))","v":""},"6-9 4.4L"," K'more","2012-05-12"," 1457m"," Good"," Race 6"," Bullarook Park Stud Hcp (62)"," RB62 3+ fm",12000,-250," R Mc Leod",8," Cd 56.5-0.0",-54," 1::30.63"," ()"," 16/1"," Settled- 1200- 800- Turn-"," 1-Rainbow Queen 58.0"]
[{"$f":"IF(Meetings1!A219=\"\",\"\",IF(Meetings1!A219=\"END\",\"END\",IF(Meetings1!B219=\"\",\"\",getAddress(Meetings1!E219))))","v":""},{"$nulls":24},{"$f":"IF(AA219=\"\",\"\",IF(AA219=\"Career::\",Form!A217,\"\"))","v":""},"14-16 8.2L"," Bend","2012-04-21"," 1100m"," Dead"," Race 6"," Hcp (58)"," RB58",12000,0," Damien Thornton",14," Cd 55.0--2.0",-54," 1::04.47"," ()"," 20/1"," Settled-6 1200- 800- Turn-10"," 1-Lascelles 57.5"]
[{"$f":"IF(Meetings1!A220=\"\",\"\",IF(Meetings1!A220=\"END\",\"END\",IF(Meetings1!B220=\"\",\"\",getAddress(Meetings1!E220))))","v":""},{"$nulls":24},{"$f":"IF(AA220=\"\",\"\",IF(AA220=\"Career::\",Form!A218,\"\"))","v":""},"6-10 6.2L"," Echuca","2012-03-10"," 1600m"," Dead"," Race 4"," Hcp (58)"," RB58",12000,-250," J Duffy",4," Cd 57.5-0.0",-54," 1::38.15"," ()"," 5/1"," Settled-3 1200- 800-3 Turn-7"," 1-Whooroo 59.5"]
[{"$f":"IF(Meetings1!A221=\"\",\"\",IF(Meetings1!A221=\"END\",\"END\",IF(Meetings1!B221=\"\",\"\",getAddress(Meetings1!E221))))","v":""},{"$nulls":24},{"$f":"IF(AA221=\"\",\"\",IF(AA221=\"Career::\",Form!A219,\"\"))","v":""},"3-11 2.3L"," Bend","2012-03-04"," 1400m"," Slow"," Race 7"," Hcp (62)"," RB62",15000,-1350," Katelyn Mallyon",8," Cd 54.0--1.5",-54," 1::26.38"," ()"," 9/1"," Settled-1 1200- 800-1 Turn-1"," 1-Sparks Burn 59.0"]
[{"$f":"IF(Meetings1!A222=\"\",\"\",IF(Meetings1!A222=\"END\",\"END\",IF(Meetings1!B222=\"\",\"\",getAddress(Meetings1!E222))))","v":""},{"$nulls":24},{"$f":"IF(AA222=\"\",\"\",IF(AA222=\"Career::\",Form!A220,\"\"))","v":""},"1-13 0.5L"," Wang","2012-02-20"," 1100m"," Heavy"," Race 7"," Hcp (58)"," RB58",12000,-6825," J Duffy",11," Cd 53.5--1.5",-54," 1::08.79"," ()"," 25/1"," Settled-10 1200- 800- Turn-9"," 2-Rexarena 54.0"]
[{"$f":"IF(Meetings1!A223=\"\",\"\",IF(Meetings1!A223=\"END\",\"END\",IF(Meetings1!B223=\"\",\"\",getAddress(Meetings1!E223))))","v":""},{"$nulls":24},{"$f":"IF(AA223=\"\",\"\",IF(AA223=\"Career::\",Form!A221,\"\"))","v":""},"10-13 10.6L"," Albury","2012-02-03"," 1400m"," Good"," Race 7"," (Bm55)"," BM55",10000,0," Josh Cartwright",5," Cd 53.0--1.5",-54," 1::24.62"," ()"," 20/1"," Settled- 1200- 800- Turn-"," 1-Racers 'N' Chasers 57.5"]
[{"$f":"IF(Meetings1!A224=\"\",\"\",IF(Meetings1!A224=\"END\",\"END\",IF(Meetings1!B224=\"\",\"\",getAddress(Meetings1!E224))))","v":""},{"$nulls":24},{"$f":"IF(AA224=\"\",\"\",IF(AA224=\"Career::\",Form!A222,\"\"))","v":""},"11-12 6.0L"," K'more","2012-01-15"," 1100m"," Good"," Race 6"," Hcp (58)"," RB58",12000,0," Jacob Rule",7," Cd 57.0-0.0",-54," 1::05.50"," ()"," 25/1"," Settled-7 1200- 800- Turn-7"," 1-Regalmania 59.5"]
[{"$f":"IF(Meetings1!A225=\"\",\"\",IF(Meetings1!A225=\"END\",\"END\",IF(Meetings1!B225=\"\",\"\",getAddress(Meetings1!E225))))","v":""},{"$nulls":24},{"$f":"IF(AA225=\"\",\"\",IF(AA225=\"Career::\",Form!A223,\"\"))","v":""},"11-11 13.9L"," K'ton","2011-12-20"," 1225m"," Dead"," Race 8"," Hcp (58)"," RB58",12000,0," J R Todd",1," Cd 56.0-0.0",-53," 1::12.97"," ()"," 11/1"," Settled-11 1200- 800- Turn-11"," 1-Dimi The Dancer 59.0 Slowly away. Vet examination."]
[{"$f":"IF(Meetings1!A226=\"\",\"\",IF(Meetings1!A226=\"END\",\"END\",IF(Meetings1!B226=\"\",\"\",getAddress(Meetings1!E226))))","v":""},{"$nulls":24},{"$f":"IF(AA226=\"\",\"\",IF(AA226=\"Career::\",Form!A224,\"\"))","v":""},"3-13 3.5L"," Wodong","2011-11-27"," 1200m"," Dead"," Race 6"," Hcp (62)"," RB62",15000,-1350," L Camilleri",1," Cd 54.5-0.0",-53," 1::11.08"," ()"," 16/1"," Settled-4 1200- 800- Turn-3"," 1-Curlashot 58.5 Slowly away."]
[{"$f":"IF(Meetings1!A227=\"\",\"\",IF(Meetings1!A227=\"END\",\"END\",IF(Meetings1!B227=\"\",\"\",getAddress(Meetings1!E227))))","v":""},{"$nulls":24},{"$f":"IF(AA227=\"\",\"\",IF(AA227=\"Career::\",Form!A225,\"\"))","v":""},"10-12 5.9L"," Wang","2011-11-14"," 1170m"," Dead"," Race 3"," 3yo+ F&M Hcp-62"," RB62 3+ fm",12000,-250," N Souquet",1," Cd 56.5-0.0",-53," 1::10.90"," ()"," 14/1"," Settled-3 1200- 800- Turn-4"," 1-Estagal 56.0"]
[{"$f":"IF(Meetings1!A228=\"\",\"\",IF(Meetings1!A228=\"END\",\"END\",IF(Meetings1!B228=\"\",\"\",getAddress(Meetings1!E228))))","v":""},{"$nulls":24},{"$f":"IF(AA228=\"\",\"\",IF(AA228=\"Career::\",Form!A226,\"\"))","v":""}]
[{"$f":"IF(Meetings1!A229=\"\",\"\",IF(Meetings1!A229=\"END\",\"END\",IF(Meetings1!B229=\"\",\"\",getAddress(Meetings1!E229))))","v":""},{"$nulls":24},{"$f":"IF(AA229=\"\",\"\",IF(AA229=\"Career::\",Form!A227,\"\"))","v":""}]
[{"$f":"IF(Meetings1!A230=\"\",\"\",IF(Meetings1!A230=\"END\",\"END\",IF(Meetings1!B230=\"\",\"\",getAddress(Meetings1!E230))))","v":""},{"$nulls":24},{"$f":"IF(AA230=\"\",\"\",IF(AA230=\"Career::\",Form!A228,\"\"))","v":""},"Comments:: Continued good form with 1-3/4 len hd 3rd Back Sunday"," Joke A Lot 1200m Hillst (Bm45) Apr 21 . Then 1-1/2 len 1-1/4 len 3rd Kentucky Belle"," Bonzerina 1200m Kem.Gr F&M (Bm60) May 01 . Has good record in the wet."]
[{"$f":"IF(Meetings1!A231=\"\",\"\",IF(Meetings1!A231=\"END\",\"END\",IF(Meetings1!B231=\"\",\"\",getAddress(Meetings1!E231))))","v":""},{"$nulls":24},{"$f":"IF(AA231=\"\",\"\",IF(AA231=\"Career::\",Form!A229,\"\"))","v":"Remedia"},"Career::"]
[{"$f":"IF(Meetings1!A232=\"\",\"\",IF(Meetings1!A232=\"END\",\"END\",IF(Meetings1!B232=\"\",\"\",getAddress(Meetings1!E232))))","v":""},{"$nulls":24},{"$f":"IF(AA232=\"\",\"\",IF(AA232=\"Career::\",Form!A230,\"\"))","v":""},"36::4-6-6"]
[{"$f":"IF(Meetings1!A233=\"\",\"\",IF(Meetings1!A233=\"END\",\"END\",IF(Meetings1!B233=\"\",\"\",getAddress(Meetings1!E233))))","v":""},{"$nulls":24},{"$f":"IF(AA233=\"\",\"\",IF(AA233=\"Career::\",Form!A231,\"\"))","v":""},"Fast::"]
[{"$f":"IF(Meetings1!A234=\"\",\"\",IF(Meetings1!A234=\"END\",\"END\",IF(Meetings1!B234=\"\",\"\",getAddress(Meetings1!E234))))","v":""},{"$nulls":24},{"$f":"IF(AA234=\"\",\"\",IF(AA234=\"Career::\",Form!A232,\"\"))","v":""},"0::0-0-0"]
[{"$f":"IF(Meetings1!A235=\"\",\"\",IF(Meetings1!A235=\"END\",\"END\",IF(Meetings1!B235=\"\",\"\",getAddress(Meetings1!E235))))","v":""},{"$nulls":24},{"$f":"IF(AA235=\"\",\"\",IF(AA235=\"Career::\",Form!A233,\"\"))","v":""},"3-7 2.8L"," Kem.Gr","2012-05-01"," 1200m"," Good"," Race 3"," F&M (Bm60)"," BM60 fm",16000,-1600," A Stead",3," Cd 54.5--0.5",-54," 1::10.61",-34.25," 12/1"," Settled-3 1200- 800- Turn-3"," 1-Kentucky Belle 58.0"]
[{"$f":"IF(Meetings1!A236=\"\",\"\",IF(Meetings1!A236=\"END\",\"END\",IF(Meetings1!B236=\"\",\"\",getAddress(Meetings1!E236))))","v":""},{"$nulls":24},{"$f":"IF(AA236=\"\",\"\",IF(AA236=\"Career::\",Form!A234,\"\"))","v":""},"3-10 2.0L"," Hillst","2012-04-21"," 1200m"," Good"," Race 3"," (Bm45)"," BM45",4000,-400," J Kissick",7," Cd 60.5-0.0",-54," 1::09.16"," ()"," 13/4"," Settled- 1200- 800- Turn-"," 1-Back Sunday 58.5"]
[{"$f":"IF(Meetings1!A237=\"\",\"\",IF(Meetings1!A237=\"END\",\"END\",IF(Meetings1!B237=\"\",\"\",getAddress(Meetings1!E237))))","v":""},{"$nulls":24},{"$f":"IF(AA237=\"\",\"\",IF(AA237=\"Career::\",Form!A235,\"\"))","v":""},"5-10 6.9L"," Wodong","2011-12-26"," 1100m"," Dead"," Race 5"," Hcp (58)"," RB58",7000,-170," E Marchant",4," Cd 56.5-0.0",-54," 1::05.81"," ()"," 9/2"," Settled- 1200- 800- Turn-"," 1-Leg Room 53.5"]
[{"$f":"IF(Meetings1!A238=\"\",\"\",IF(Meetings1!A238=\"END\",\"END\",IF(Meetings1!B238=\"\",\"\",getAddress(Meetings1!E238))))","v":""},{"$nulls":24},{"$f":"IF(AA238=\"\",\"\",IF(AA238=\"Career::\",Form!A236,\"\"))","v":""},"4-12 3.1L"," Albury","2011-12-17"," 1400m"," Good"," Race 3"," Hcp (C2)"," Cls 2",5000,0," W Pearson",8," Cd 56.0-0.0",-54," 1::24.56"," ()"," 4/1"," Settled- 1200- 800- Turn-"," 1-Coongoola 56.0 Jumped awkwardly."]
[{"$f":"IF(Meetings1!A239=\"\",\"\",IF(Meetings1!A239=\"END\",\"END\",IF(Meetings1!B239=\"\",\"\",getAddress(Meetings1!E239))))","v":""},{"$nulls":24},{"$f":"IF(AA239=\"\",\"\",IF(AA239=\"Career::\",Form!A237,\"\"))","v":""},"6-11 1.3L"," K'ton","2011-12-06"," 1212m"," Good"," Race 5"," Hcp (58)"," RB58",12000,-250," Damian Lane",3," Cd 56.5-0.0",-53," 1::12.37"," ()"," 5/1"," Settled-2 1200- 800- Turn-2"," 1-Roman Centreman 58.0"]
[{"$f":"IF(Meetings1!A240=\"\",\"\",IF(Meetings1!A240=\"END\",\"END\",IF(Meetings1!B240=\"\",\"\",getAddress(Meetings1!E240))))","v":""},{"$nulls":24},{"$f":"IF(AA240=\"\",\"\",IF(AA240=\"Career::\",Form!A238,\"\"))","v":""},"4-12 1.2L"," Wang","2011-11-14"," 1170m"," Dead"," Race 3"," 3yo+ F&M Hcp-62"," RB62 3+ fm",12000,-525," W Egan",7," Cd 56.5-0.0",-53," 1::10.90"," ()"," 8/1"," Settled-8 1200- 800- Turn-7"," 1-Estagal 56.0"]
[{"$f":"IF(Meetings1!A241=\"\",\"\",IF(Meetings1!A241=\"END\",\"END\",IF(Meetings1!B241=\"\",\"\",getAddress(Meetings1!E241))))","v":""},{"$nulls":24},{"$f":"IF(AA241=\"\",\"\",IF(AA241=\"Career::\",Form!A239,\"\"))","v":""},"2-6 0.5L"," Wagga","2011-11-01"," 1400m"," Good"," Race 3"," Hcp (C3)"," Cls 3",4000,-800," A Bloomfield",4," Cd 56.0-0.0",-54," 1::23.59"," ()"," 6/4E"," Settled- 1200- 800- Turn-"," 1-Lexical Ambiguity 54.0"]
[{"$f":"IF(Meetings1!A242=\"\",\"\",IF(Meetings1!A242=\"END\",\"END\",IF(Meetings1!B242=\"\",\"\",getAddress(Meetings1!E242))))","v":""},{"$nulls":11},{"$f":"IF(Meetings2!$B242=\"\",\"\",IF(Meetings2!$C242=\"\",\"\",LEFT(Meetings2!B242,FIND(\"(\",Meetings2!$B242)-2)))","v":""},{"$f":"IF(Meetings2!$B242=\"\",\"\",Meetings2!$B242)","v":""},{"$nulls":11},{"$f":"IF(AA242=\"\",\"\",IF(AA242=\"Career::\",Form!A240,\"\"))","v":""},"1-11 1.0L"," Wagga","2011-10-15"," 1400m"," Good"," Race 6"," Hcp (C2)"," Cls 2",5000,-3500," A Bloomfield",9," Cd 56.0-0.0",-54," 1::23.61"," ()"," 6/1"," Settled- 1200- 800- Turn-"," 2-Lexical Ambiguity 52.0"]
[{"$f":"IF(Meetings1!A243=\"\",\"\",IF(Meetings1!A243=\"END\",\"END\",IF(Meetings1!B243=\"\",\"\",getAddress(Meetings1!E243))))","v":""},{"$nulls":11},{"$f":"IF(Meetings2!$B243=\"\",\"\",IF(Meetings2!$C243=\"\",\"\",LEFT(Meetings2!B243,FIND(\"(\",Meetings2!$B243)-2)))","v":""},{"$f":"IF(Meetings2!$B243=\"\",\"\",Meetings2!$B243)","v":""},{"$nulls":11},{"$f":"IF(AA243=\"\",\"\",IF(AA243=\"Career::\",Form!A241,\"\"))","v":""},"1-9 1.5L"," Cmulla","2011-10-01"," 1200m"," Good"," Race 4"," Hcp (Cl B)"," Cls B",7000,-4550," I Coombes",8," Cd 56.5-0.0",-56," 1::11.36"," ()"," 5/2"," Settled- 1200- 800- Turn-"," 2-Portion 54.5"]
[{"$f":"IF(Meetings1!A244=\"\",\"\",IF(Meetings1!A244=\"END\",\"END\",IF(Meetings1!B244=\"\",\"\",getAddress(Meetings1!E244))))","v":""},{"$nulls":11},{"$f":"IF(Meetings2!$B244=\"\",\"\",IF(Meetings2!$C244=\"\",\"\",LEFT(Meetings2!B244,FIND(\"(\",Meetings2!$B244)-2)))","v":""},{"$f":"IF(Meetings2!$B244=\"\",\"\",Meetings2!$B244)","v":""},{"$nulls":11},{"$f":"IF(AA244=\"\",\"\",IF(AA244=\"Career::\",Form!A242,\"\"))","v":""},"4-8 7.2L"," Bedour","2011-09-10"," 1200m"," Good"," Race 5"," Plate (C3)"," Cls 3",10200,-500," C Kearney",7," Cd 55.5-0.0"," (SW)"," 1::09.67"," ()"," 7/2"," Settled- 1200- 800- Turn-"," 1-Embellishing 59.0"]
[{"$f":"IF(Meetings1!A245=\"\",\"\",IF(Meetings1!A245=\"END\",\"END\",IF(Meetings1!B245=\"\",\"\",getAddress(Meetings1!E245))))","v":""},{"$nulls":11},{"$f":"IF(Meetings2!$B245=\"\",\"\",IF(Meetings2!$C245=\"\",\"\",LEFT(Meetings2!B245,FIND(\"(\",Meetings2!$B245)-2)))","v":""},{"$f":"IF(Meetings2!$B245=\"\",\"\",Meetings2!$B245)","v":""},{"$nulls":11},{"$f":"IF(AA245=\"\",\"\",IF(AA245=\"Career::\",Form!A243,\"\"))","v":""}]
[{"$f":"IF(Meetings1!A246=\"\",\"\",IF(Meetings1!A246=\"END\",\"END\",IF(Meetings1!B246=\"\",\"\",getAddress(Meetings1!E246))))","v":""},{"$nulls":11},{"$f":"IF(Meetings2!$B246=\"\",\"\",IF(Meetings2!$C246=\"\",\"\",LEFT(Meetings2!B246,FIND(\"(\",Meetings2!$B246)-2)))","v":""},{"$f":"IF(Meetings2!$B246=\"\",\"\",Meetings2!$B246)","v":""},{"$nulls":11},{"$f":"IF(AA246=\"\",\"\",IF(AA246=\"Career::\",Form!A244,\"\"))","v":""}]
[{"$f":"IF(Meetings1!A247=\"\",\"\",IF(Meetings1!A247=\"END\",\"END\",IF(Meetings1!B247=\"\",\"\",getAddress(Meetings1!E247))))","v":""},{"$nulls":11},{"$f":"IF(Meetings2!$B247=\"\",\"\",IF(Meetings2!$C247=\"\",\"\",LEFT(Meetings2!B247,FIND(\"(\",Meetings2!$B247)-2)))","v":""},{"$f":"IF(Meetings2!$B247=\"\",\"\",Meetings2!$B247)","v":""},{"$nulls":11},{"$f":"IF(AA247=\"\",\"\",IF(AA247=\"Career::\",Form!A245,\"\"))","v":""},"Comments:: Followed spell with 8-1/4 len 6th Maxim 1650m Nhill Hcp (58) Dec 26 . Then 2-1/4 len 6th Lascelles where trial to steward's satisfaction 1100m Bend Hcp (58) Dead trk Apr 21 . Came from 9th on turn at latest outing."]
[{"$f":"IF(Meetings1!A248=\"\",\"\",IF(Meetings1!A248=\"END\",\"END\",IF(Meetings1!B248=\"\",\"\",getAddress(Meetings1!E248))))","v":""},{"$nulls":11},{"$f":"IF(Meetings2!$B248=\"\",\"\",IF(Meetings2!$C248=\"\",\"\",LEFT(Meetings2!B248,FIND(\"(\",Meetings2!$B248)-2)))","v":""},{"$f":"IF(Meetings2!$B248=\"\",\"\",Meetings2!$B248)","v":""},{"$nulls":11},{"$f":"IF(AA248=\"\",\"\",IF(AA248=\"Career::\",Form!A246,\"\"))","v":"Dr Schimmell"},"Career::"]
[{"$f":"IF(Meetings1!A249=\"\",\"\",IF(Meetings1!A249=\"END\",\"END\",IF(Meetings1!B249=\"\",\"\",getAddress(Meetings1!E249))))","v":""},{"$nulls":11},{"$f":"IF(Meetings2!$B249=\"\",\"\",IF(Meetings2!$C249=\"\",\"\",LEFT(Meetings2!B249,FIND(\"(\",Meetings2!$B249)-2)))","v":""},{"$f":"IF(Meetings2!$B249=\"\",\"\",Meetings2!$B249)","v":""},{"$nulls":11},{"$f":"IF(AA249=\"\",\"\",IF(AA249=\"Career::\",Form!A247,\"\"))","v":""},"43::4-5-3"]
[{"$f":"IF(Meetings1!A250=\"\",\"\",IF(Meetings1!A250=\"END\",\"END\",IF(Meetings1!B250=\"\",\"\",getAddress(Meetings1!E250))))","v":""},{"$nulls":11},{"$f":"IF(Meetings2!$B250=\"\",\"\",IF(Meetings2!$C250=\"\",\"\",LEFT(Meetings2!B250,FIND(\"(\",Meetings2!$B250)-2)))","v":""},{"$f":"IF(Meetings2!$B250=\"\",\"\",Meetings2!$B250)","v":""},{"$nulls":11},{"$f":"IF(AA250=\"\",\"\",IF(AA250=\"Career::\",Form!A248,\"\"))","v":""},"Fast::"]
[{"$nulls":12},{"$f":"IF(Meetings2!$B251=\"\",\"\",IF(Meetings2!$C251=\"\",\"\",LEFT(Meetings2!B251,FIND(\"(\",Meetings2!$B251)-2)))","v":""},{"$f":"IF(Meetings2!$B251=\"\",\"\",Meetings2!$B251)","v":""},{"$nulls":11},{"$f":"IF(AA251=\"\",\"\",IF(AA251=\"Career::\",Form!A249,\"\"))","v":""},"0::0-0-0"]
[{"$nulls":12},{"$f":"IF(Meetings2!$B252=\"\",\"\",IF(Meetings2!$C252=\"\",\"\",LEFT(Meetings2!B252,FIND(\"(\",Meetings2!$B252)-2)))","v":""},{"$f":"IF(Meetings2!$B252=\"\",\"\",Meetings2!$B252)","v":""},{"$nulls":11},{"$f":"IF(AA252=\"\",\"\",IF(AA252=\"Career::\",Form!A250,\"\"))","v":""},"6-16 2.3L"," Bend","2012-04-21"," 1100m"," Dead"," Race 6"," Hcp (58)"," RB58",12000,-250," R Plumb",6," Cd 58.0-0.0",-54," 1::04.47"," ()"," 16/1"," Settled-12 1200- 800- Turn-9"," 1-Lascelles 57.5 Disappointed for a run. Trial to steward's satisfaction."]
[{"$nulls":12},{"$f":"IF(Meetings2!$B253=\"\",\"\",IF(Meetings2!$C253=\"\",\"\",LEFT(Meetings2!B253,FIND(\"(\",Meetings2!$B253)-2)))","v":""},{"$f":"IF(Meetings2!$B253=\"\",\"\",Meetings2!$B253)","v":""},{"$nulls":11},{"$f":"IF(AA253=\"\",\"\",IF(AA253=\"Career::\",Form!A251,\"\"))","v":""},"6-9 8.3L"," Nhill","2011-12-26"," 1650m"," Good"," Race 4"," Hcp (58)"," RB58",7000,-170," C Atkinson",8," Cd 58.0-0.0",-54," 1::44.11"," ()"," 3/1"," Settled- 1200- 800- Turn-"," 1-Maxim 53.5"]
[{"$nulls":12},{"$f":"IF(Meetings2!$B254=\"\",\"\",IF(Meetings2!$C254=\"\",\"\",LEFT(Meetings2!B254,FIND(\"(\",Meetings2!$B254)-2)))","v":""},{"$f":"IF(Meetings2!$B254=\"\",\"\",Meetings2!$B254)","v":""},{"$nulls":11},{"$f":"IF(AA254=\"\",\"\",IF(AA254=\"Career::\",Form!A252,\"\"))","v":""},"5-12 7.3L"," Benlla","2011-12-11"," 1400m"," Heavy"," Race 4"," Hcp (58)"," RB58",12000,-250," J R Todd",1," Cd 58.0-0.0",-53," 1::27.35"," ()"," 13/2"," Settled- 1200- 800- Turn-"," 1-Mallaig 56.0 Disappointed for a run."]
[{"$nulls":12},{"$f":"IF(Meetings2!$B255=\"\",\"\",IF(Meetings2!$C255=\"\",\"\",LEFT(Meetings2!B255,FIND(\"(\",Meetings2!$B255)-2)))","v":""},{"$f":"IF(Meetings2!$B255=\"\",\"\",Meetings2!$B255)","v":""},{"$nulls":11},{"$f":"IF(AA255=\"\",\"\",IF(AA255=\"Career::\",Form!A253,\"\"))","v":""},"4-12 4.3L"," P'ham","2011-12-02"," 1414m"," Dead"," Race 9"," Hcp (58)"," RB58",12200,-525," Thomas Sadler",11," Cd 55.0--3.0",-53," 1::26.84"," ()"," 6/1"," Settled-11 1200- 800-11 Turn-5"," 1-Yuka Joy 55.5"]
[{"$nulls":12},{"$f":"IF(Meetings2!$B256=\"\",\"\",IF(Meetings2!$C256=\"\",\"\",LEFT(Meetings2!B256,FIND(\"(\",Meetings2!$B256)-2)))","v":""},{"$f":"IF(Meetings2!$B256=\"\",\"\",Meetings2!$B256)","v":""},{"$nulls":11},{"$f":"IF(AA256=\"\",\"\",IF(AA256=\"Career::\",Form!A254,\"\"))","v":""},"2-9 0.4L"," Wodong","2011-11-06"," 1400m"," Dead"," Race 6"," Hcp (62)"," RB62",12000,-2100," Damian Lane",6," Cd 55.0-0.0",-53," 1::26.24"," ()"," 13/2"," Settled-6 1200- 800-7 Turn-6"," 1-Thetoppie 55.5 Hung in during race."]
[{"$nulls":12},{"$f":"IF(Meetings2!$B257=\"\",\"\",IF(Meetings2!$C257=\"\",\"\",LEFT(Meetings2!B257,FIND(\"(\",Meetings2!$B257)-2)))","v":""},{"$f":"IF(Meetings2!$B257=\"\",\"\",Meetings2!$B257)","v":""},{"$nulls":11},{"$f":"IF(AA257=\"\",\"\",IF(AA257=\"Career::\",Form!A255,\"\"))","v":""},"2-10 0.3L"," Tatura","2011-10-22"," 1400m"," Dead"," Race 6"," Hcp (58)"," RB58",7000,-1196," M Pegus",7," Cd 56.0-0.0",-54," 1::25.24"," ()"," 13/2"," Settled- 1200- 800- Turn-"," 1-Kaned 54.0"]
[{"$nulls":12},{"$f":"IF(Meetings2!$B258=\"\",\"\",IF(Meetings2!$C258=\"\",\"\",LEFT(Meetings2!B258,FIND(\"(\",Meetings2!$B258)-2)))","v":""},{"$f":"IF(Meetings2!$B258=\"\",\"\",Meetings2!$B258)","v":""},{"$nulls":11},{"$f":"IF(AA258=\"\",\"\",IF(AA258=\"Career::\",Form!A256,\"\"))","v":""},"4-9 1.5L"," Manang","2011-10-08"," 1175m"," Good"," Race 3"," Hcp (62)"," RB62",7000,-299," T Barry",7," Cd 54.5-0.0",-54," 1::10.51"," ()"," 10/1"," Settled- 1200- 800- Turn-"," 1-Turn Of Faith 58.5"]
[{"$nulls":12},{"$f":"IF(Meetings2!$B259=\"\",\"\",IF(Meetings2!$C259=\"\",\"\",LEFT(Meetings2!B259,FIND(\"(\",Meetings2!$B259)-2)))","v":""},{"$f":"IF(Meetings2!$B259=\"\",\"\",Meetings2!$B259)","v":""},{"$nulls":11},{"$f":"IF(AA259=\"\",\"\",IF(AA259=\"Career::\",Form!A257,\"\"))","v":""},"2-8 0.5L"," Bend","2011-09-26"," 1000m"," Dead"," Race 13"," Barrier Trl"," Btria 3+",0,0," Jacob Rule",2," Cd 0.0-0.0"," (CWT)"," 0::59.80"," ()"," "," Settled- 1200- 800- Turn-"," 1-Peace Treaty 0.0"]
[{"$nulls":12},{"$f":"IF(Meetings2!$B260=\"\",\"\",IF(Meetings2!$C260=\"\",\"\",LEFT(Meetings2!B260,FIND(\"(\",Meetings2!$B260)-2)))","v":""},{"$f":"IF(Meetings2!$B260=\"\",\"\",Meetings2!$B260)","v":""},{"$nulls":11},{"$f":"IF(AA260=\"\",\"\",IF(AA260=\"Career::\",Form!A258,\"\"))","v":""},"11-11 32.0L"," W'bool","2011-07-31"," 1700m"," Heavy"," Race 1"," Hwt (62)"," RB62",15000,0," Robert Molloy",2," Cd 65.0-0.0",-64," 1::52.08"," ()"," 16/1"," Settled-1 1200-2 800-2 Turn-7"," 1-Tezza's Way 65.5 Vet examination."]
[{"$nulls":12},{"$f":"IF(Meetings2!$B261=\"\",\"\",IF(Meetings2!$C261=\"\",\"\",LEFT(Meetings2!B261,FIND(\"(\",Meetings2!$B261)-2)))","v":""},{"$f":"IF(Meetings2!$B261=\"\",\"\",Meetings2!$B261)","v":""},{"$nulls":11},{"$f":"IF(AA261=\"\",\"\",IF(AA261=\"Career::\",Form!A259,\"\"))","v":""},"12-13 7.6L"," M.Brge","2011-07-14"," 1406m"," Dead"," Race 7"," Hcp (59)"," RB59",10000,0," Ms C Lindop",3," Cd 57.0-0.0",-53," 1::27.30",-36.78," 7/1"," Settled-5 1200- 800-6 Turn-8"," 1-Copper Arch 56.5"]
[{"$nulls":12},{"$f":"IF(Meetings2!$B262=\"\",\"\",IF(Meetings2!$C262=\"\",\"\",LEFT(Meetings2!B262,FIND(\"(\",Meetings2!$B262)-2)))","v":""},{"$f":"IF(Meetings2!$B262=\"\",\"\",Meetings2!$B262)","v":""},{"$nulls":11},{"$f":"IF(AA262=\"\",\"\",IF(AA262=\"Career::\",Form!A260,\"\"))","v":""}]
[{"$nulls":12},{"$f":"IF(Meetings2!$B263=\"\",\"\",IF(Meetings2!$C263=\"\",\"\",LEFT(Meetings2!B263,FIND(\"(\",Meetings2!$B263)-2)))","v":""},{"$f":"IF(Meetings2!$B263=\"\",\"\",Meetings2!$B263)","v":""},{"$nulls":11},{"$f":"IF(AA263=\"\",\"\",IF(AA263=\"Career::\",Form!A261,\"\"))","v":""}]
[{"$nulls":12},{"$f":"IF(Meetings2!$B264=\"\",\"\",IF(Meetings2!$C264=\"\",\"\",LEFT(Meetings2!B264,FIND(\"(\",Meetings2!$B264)-2)))","v":""},{"$f":"IF(Meetings2!$B264=\"\",\"\",Meetings2!$B264)","v":""},{"$nulls":11},{"$f":"IF(AA264=\"\",\"\",IF(AA264=\"Career::\",Form!A262,\"\"))","v":""},"Comments:: Resumed from spell with hd nk 3rd Zero To Sixty"," Secret Mojo where struck interference near 800m 1212m K'ton 3Yo+ Mdn Dead trk Dec 06 . Then 5-3/4 len 5th Tsar Of Russia 1200m K'ton 3Yo+ Mdn Slow trk Jan 08 . Where failed to make ground."]
[{"$nulls":12},{"$f":"IF(Meetings2!$B265=\"\",\"\",IF(Meetings2!$C265=\"\",\"\",LEFT(Meetings2!B265,FIND(\"(\",Meetings2!$B265)-2)))","v":""},{"$f":"IF(Meetings2!$B265=\"\",\"\",Meetings2!$B265)","v":""},{"$nulls":11},{"$f":"IF(AA265=\"\",\"\",IF(AA265=\"Career::\",Form!A263,\"\"))","v":"Glory Man"},"Career::"]
[{"$nulls":12},{"$f":"IF(Meetings2!$B266=\"\",\"\",IF(Meetings2!$C266=\"\",\"\",LEFT(Meetings2!B266,FIND(\"(\",Meetings2!$B266)-2)))","v":""},{"$f":"IF(Meetings2!$B266=\"\",\"\",Meetings2!$B266)","v":""},{"$nulls":11},{"$f":"IF(AA266=\"\",\"\",IF(AA266=\"Career::\",Form!A264,\"\"))","v":""},"4::0-0-1"]
[{"$nulls":12},{"$f":"IF(Meetings2!$B267=\"\",\"\",IF(Meetings2!$C267=\"\",\"\",LEFT(Meetings2!B267,FIND(\"(\",Meetings2!$B267)-2)))","v":""},{"$f":"IF(Meetings2!$B267=\"\",\"\",Meetings2!$B267)","v":""},{"$nulls":11},{"$f":"IF(AA267=\"\",\"\",IF(AA267=\"Career::\",Form!A265,\"\"))","v":""},"Fast::"]
[{"$nulls":12},{"$f":"IF(Meetings2!$B268=\"\",\"\",IF(Meetings2!$C268=\"\",\"\",LEFT(Meetings2!B268,FIND(\"(\",Meetings2!$B268)-2)))","v":""},{"$f":"IF(Meetings2!$B268=\"\",\"\",Meetings2!$B268)","v":""},{"$nulls":11},{"$f":"IF(AA268=\"\",\"\",IF(AA268=\"Career::\",Form!A266,\"\"))","v":""},"0::0-0-0"]
[{"$nulls":12},{"$f":"IF(Meetings2!$B269=\"\",\"\",IF(Meetings2!$C269=\"\",\"\",LEFT(Meetings2!B269,FIND(\"(\",Meetings2!$B269)-2)))","v":""},{"$f":"IF(Meetings2!$B269=\"\",\"\",Meetings2!$B269)","v":""},{"$nulls":11},{"$f":"IF(AA269=\"\",\"\",IF(AA269=\"Career::\",Form!A267,\"\"))","v":""},"1-12 1.0L"," Cran.","2012-04-16"," 990m"," Dead"," Race 14"," Barrier Trl"," Btria 2+",0,0," Dean Holland",1," Cd 0.0-0.0"," (CWT)"," 0::58.60"," ()"," "," Settled- 1200- 800- Turn-"," 2-Belseye 0.0"]
[{"$nulls":12},{"$f":"IF(Meetings2!$B270=\"\",\"\",IF(Meetings2!$C270=\"\",\"\",LEFT(Meetings2!B270,FIND(\"(\",Meetings2!$B270)-2)))","v":""},{"$f":"IF(Meetings2!$B270=\"\",\"\",Meetings2!$B270)","v":""},{"$nulls":11},{"$f":"IF(AA270=\"\",\"\",IF(AA270=\"Career::\",Form!A268,\"\"))","v":""},"5-8 5.9L"," K'ton","2012-01-08"," 1200m"," Slow"," Race 2"," 3yo+ Mdn"," Mdn 3+",12000,-250," Dean Holland",8," Cd 57.0-0.0"," (SW)"," 1::14.26"," ()"," 15/4"," Settled-3 1200- 800- Turn-3"," 1-Tsar Of Russia 58.5"]
[{"$nulls":12},{"$f":"IF(Meetings2!$B271=\"\",\"\",IF(Meetings2!$C271=\"\",\"\",LEFT(Meetings2!B271,FIND(\"(\",Meetings2!$B271)-2)))","v":""},{"$f":"IF(Meetings2!$B271=\"\",\"\",Meetings2!$B271)","v":""},{"$nulls":11},{"$f":"IF(AA271=\"\",\"\",IF(AA271=\"Career::\",Form!A269,\"\"))","v":""},"3-8 0.5L"," K'ton","2011-12-06"," 1212m"," Dead"," Race 1"," 3yo+ Mdn"," Mdn 3+",12000,-1050," Dean Holland",3," Cd 56.5-0.0"," (SW)"," 1::12.69"," ()"," 14/1"," Settled-2 1200- 800- Turn-2"," 1-Zero To Sixty 58.0 Struck interference near 800m."]
[{"$nulls":12},{"$f":"IF(Meetings2!$B272=\"\",\"\",IF(Meetings2!$C272=\"\",\"\",LEFT(Meetings2!B272,FIND(\"(\",Meetings2!$B272)-2)))","v":""},{"$f":"IF(Meetings2!$B272=\"\",\"\",Meetings2!$B272)","v":""},{"$nulls":11},{"$f":"IF(AA272=\"\",\"\",IF(AA272=\"Career::\",Form!A270,\"\"))","v":""},"8-9 0.0L"," Cran.","2011-11-14"," 990m"," Slow"," Race 12"," Barrier Trl"," Btria",0,0," N Callow",8," Cd 0.0-0.0"," (CWT)"," 1::01.45"," ()"," "," Settled- 1200- 800- Turn-"," 1-Night Chat 0.0"]
[{"$nulls":12},{"$f":"IF(Meetings2!$B273=\"\",\"\",IF(Meetings2!$C273=\"\",\"\",LEFT(Meetings2!B273,FIND(\"(\",Meetings2!$B273)-2)))","v":""},{"$f":"IF(Meetings2!$B273=\"\",\"\",Meetings2!$B273)","v":""},{"$nulls":11},{"$f":"IF(AA273=\"\",\"\",IF(AA273=\"Career::\",Form!A271,\"\"))","v":""},"5-8 11.4L"," K'ton","2011-05-24"," 1225m"," Heavy"," Race 2"," 2yo Mdn Plate"," Mdn 2",12000,-250," B Rawiller",1," Cd 57.0-0.0"," (SW)"," 1::17.54"," ()"," 10/1"," Settled-7 1200- 800- Turn-6"," 1-Hludowig 57.0 Struck interference at start. Bucked at start. Checked near 400m."]
[{"$nulls":12},{"$f":"IF(Meetings2!$B274=\"\",\"\",IF(Meetings2!$C274=\"\",\"\",LEFT(Meetings2!B274,FIND(\"(\",Meetings2!$B274)-2)))","v":""},{"$f":"IF(Meetings2!$B274=\"\",\"\",Meetings2!$B274)","v":""},{"$nulls":11},{"$f":"IF(AA274=\"\",\"\",IF(AA274=\"Career::\",Form!A272,\"\"))","v":""},"5-11 5.3L"," Seymor","2011-04-19"," 1200m"," Dead"," Race 5"," 2yo Inglis Plte"," Spec 2",102000,-2000," J Maskiell",5," Cd 57.0-0.0"," (SW)"," 1::11.64"," ()"," 10/1"," Settled-6 1200- 800- Turn-8"," 1-Blue Beret 55.0 Raced Greenly."]
[{"$nulls":12},{"$f":"IF(Meetings2!$B275=\"\",\"\",IF(Meetings2!$C275=\"\",\"\",LEFT(Meetings2!B275,FIND(\"(\",Meetings2!$B275)-2)))","v":""},{"$f":"IF(Meetings2!$B275=\"\",\"\",Meetings2!$B275)","v":""},{"$nulls":11},{"$f":"IF(AA275=\"\",\"\",IF(AA275=\"Career::\",Form!A273,\"\"))","v":""},"7-8 0.0L"," Cran.","2011-04-04"," 800m"," Good"," Race 5"," Barrier Trl"," Btria 2 cg",0,0," J R Todd",7," Cd 0.0-0.0"," (CWT)"," 0::47.37"," ()"," "," Settled- 1200- 800- Turn-"," 1-Phaedo 0.0"]
[{"$nulls":12},{"$f":"IF(Meetings2!$B276=\"\",\"\",IF(Meetings2!$C276=\"\",\"\",LEFT(Meetings2!B276,FIND(\"(\",Meetings2!$B276)-2)))","v":""},{"$f":"IF(Meetings2!$B276=\"\",\"\",Meetings2!$B276)","v":""},{"$nulls":11},{"$f":"IF(AA276=\"\",\"\",IF(AA276=\"Career::\",Form!A274,\"\"))","v":""}]
[{"$nulls":12},{"$f":"IF(Meetings2!$B277=\"\",\"\",IF(Meetings2!$C277=\"\",\"\",LEFT(Meetings2!B277,FIND(\"(\",Meetings2!$B277)-2)))","v":""},{"$f":"IF(Meetings2!$B277=\"\",\"\",Meetings2!$B277)","v":""},{"$nulls":11},{"$f":"IF(AA277=\"\",\"\",IF(AA277=\"Career::\",Form!A275,\"\"))","v":""}]
[{"$nulls":12},{"$f":"IF(Meetings2!$B278=\"\",\"\",IF(Meetings2!$C278=\"\",\"\",LEFT(Meetings2!B278,FIND(\"(\",Meetings2!$B278)-2)))","v":""},{"$f":"IF(Meetings2!$B278=\"\",\"\",Meetings2!$B278)","v":""},{"$nulls":11},{"$f":"IF(AA278=\"\",\"\",IF(AA278=\"Career::\",Form!A276,\"\"))","v":""},"Comments:: Continued good form with lg nk 2nd Mr Butterscotch 1300m Alexan Trophy Race Mar 31 . Then nose len 3rd Brahmose"," Rouen 1300m Tocumw (Bm45) Apr 07 . Has good record in the wet."]
[{"$nulls":12},{"$f":"IF(Meetings2!$B279=\"\",\"\",IF(Meetings2!$C279=\"\",\"\",LEFT(Meetings2!B279,FIND(\"(\",Meetings2!$B279)-2)))","v":""},{"$f":"IF(Meetings2!$B279=\"\",\"\",Meetings2!$B279)","v":""},{"$nulls":11},{"$f":"IF(AA279=\"\",\"\",IF(AA279=\"Career::\",Form!A277,\"\"))","v":"Lost Chord"},"Career::"]
[{"$nulls":12},{"$f":"IF(Meetings2!$B280=\"\",\"\",IF(Meetings2!$C280=\"\",\"\",LEFT(Meetings2!B280,FIND(\"(\",Meetings2!$B280)-2)))","v":""},{"$f":"IF(Meetings2!$B280=\"\",\"\",Meetings2!$B280)","v":""},{"$nulls":11},{"$f":"IF(AA280=\"\",\"\",IF(AA280=\"Career::\",Form!A278,\"\"))","v":""},"17::1-2-2"]
[{"$nulls":12},{"$f":"IF(Meetings2!$B281=\"\",\"\",IF(Meetings2!$C281=\"\",\"\",LEFT(Meetings2!B281,FIND(\"(\",Meetings2!$B281)-2)))","v":""},{"$f":"IF(Meetings2!$B281=\"\",\"\",Meetings2!$B281)","v":""},{"$nulls":11},{"$f":"IF(AA281=\"\",\"\",IF(AA281=\"Career::\",Form!A279,\"\"))","v":""},"Fast::"]
[{"$nulls":12},{"$f":"IF(Meetings2!$B282=\"\",\"\",IF(Meetings2!$C282=\"\",\"\",LEFT(Meetings2!B282,FIND(\"(\",Meetings2!$B282)-2)))","v":""},{"$f":"IF(Meetings2!$B282=\"\",\"\",Meetings2!$B282)","v":""},{"$nulls":11},{"$f":"IF(AA282=\"\",\"\",IF(AA282=\"Career::\",Form!A280,\"\"))","v":""},"0::0-0-0"]
[{"$nulls":12},{"$f":"IF(Meetings2!$B283=\"\",\"\",IF(Meetings2!$C283=\"\",\"\",LEFT(Meetings2!B283,FIND(\"(\",Meetings2!$B283)-2)))","v":""},{"$f":"IF(Meetings2!$B283=\"\",\"\",Meetings2!$B283)","v":""},{"$nulls":11},{"$f":"IF(AA283=\"\",\"\",IF(AA283=\"Career::\",Form!A281,\"\"))","v":""},"9-9 6.1L"," K'more","2012-05-12"," 1207m"," Good"," Race 7"," Hcp (62)"," RB62",12000,-250," C Quilty",9," Cd 54.0-0.0",-54," 1::12.28"," ()"," 25/1"," Settled- 1200- 800- Turn-"," 1-Madame De Lago 57.5"]
[{"$nulls":12},{"$f":"IF(Meetings2!$B284=\"\",\"\",IF(Meetings2!$C284=\"\",\"\",LEFT(Meetings2!B284,FIND(\"(\",Meetings2!$B284)-2)))","v":""},{"$f":"IF(Meetings2!$B284=\"\",\"\",Meetings2!$B284)","v":""},{"$nulls":11},{"$f":"IF(AA284=\"\",\"\",IF(AA284=\"Career::\",Form!A282,\"\"))","v":""},"3-11 0.6L"," Tocumw","2012-04-07"," 1300m"," Good"," Race 4"," (Bm45)"," BM45",6200,-600," C Quilty",2," Cd 59.0-0.0",-54," 1::16.40"," ()"," 4/1"," Settled- 1200- 800- Turn-"," 1-Brahmose 58.0"]
[{"$nulls":12},{"$f":"IF(Meetings2!$B285=\"\",\"\",IF(Meetings2!$C285=\"\",\"\",LEFT(Meetings2!B285,FIND(\"(\",Meetings2!$B285)-2)))","v":""},{"$f":"IF(Meetings2!$B285=\"\",\"\",Meetings2!$B285)","v":""},{"$nulls":11},{"$f":"IF(AA285=\"\",\"\",IF(AA285=\"Career::\",Form!A283,\"\"))","v":""},"2-10 0.4L"," Alexan","2012-03-31"," 1300m"," Good"," Race 4"," Trophy Race"," Open",2500,-380," Ms M Nicholls",1," Cd 60.0--3.0",-63," 1::15.64"," ()"," 9/2"," Settled- 1200- 800- Turn-"," 1-Mr Butterscotch 65.5"]
[{"$nulls":12},{"$f":"IF(Meetings2!$B286=\"\",\"\",IF(Meetings2!$C286=\"\",\"\",LEFT(Meetings2!B286,FIND(\"(\",Meetings2!$B286)-2)))","v":""},{"$f":"IF(Meetings2!$B286=\"\",\"\",Meetings2!$B286)","v":""},{"$nulls":11},{"$f":"IF(AA286=\"\",\"\",IF(AA286=\"Career::\",Form!A284,\"\"))","v":""},"6-13 1.8L"," Corowa","2012-03-11"," 1300m"," Good"," Race 8"," (Bm50)"," BM50",10000,0," C Quilty",3," Cd 57.0-0.0",-54," 1::17.60"," ()"," 12/1"," Settled- 1200- 800- Turn-"," 1-Xarmoss 56.5"]
[{"$nulls":12},{"$f":"IF(Meetings2!$B287=\"\",\"\",IF(Meetings2!$C287=\"\",\"\",LEFT(Meetings2!B287,FIND(\"(\",Meetings2!$B287)-2)))","v":""},{"$f":"IF(Meetings2!$B287=\"\",\"\",Meetings2!$B287)","v":""},{"$nulls":11},{"$f":"IF(AA287=\"\",\"\",IF(AA287=\"Career::\",Form!A285,\"\"))","v":""},"10-13 8.9L"," Wang","2012-02-20"," 1100m"," Heavy"," Race 7"," Hcp (58)"," RB58",12000,-250," Ms R Williams",12," Cd 55.5--2.0",-54," 1::08.79"," ()"," 6/1"," Settled-12 1200- 800- Turn-11"," 1-Mon Coeur 53.5"]
[{"$nulls":12},{"$f":"IF(Meetings2!$B288=\"\",\"\",IF(Meetings2!$C288=\"\",\"\",LEFT(Meetings2!B288,FIND(\"(\",Meetings2!$B288)-2)))","v":""},{"$f":"IF(Meetings2!$B288=\"\",\"\",Meetings2!$B288)","v":""},{"$nulls":11},{"$f":"IF(AA288=\"\",\"\",IF(AA288=\"Career::\",Form!A286,\"\"))","v":""},"7-8 6.4L"," W'bee","2012-02-09"," 1005m"," Good"," Race 1"," Hcp (62)"," RB62",15000,-250," Ms R Williams",3," Cd 54.0--2.0",-54," 0::58.72"," ()"," 20/1"," Settled-3 1200- 800- Turn-6"," 1-Gold Rust 57.5"]
[{"$nulls":12},{"$f":"IF(Meetings2!$B289=\"\",\"\",IF(Meetings2!$C289=\"\",\"\",LEFT(Meetings2!B289,FIND(\"(\",Meetings2!$B289)-2)))","v":""},{"$f":"IF(Meetings2!$B289=\"\",\"\",Meetings2!$B289)","v":""},{"$nulls":11},{"$f":"IF(AA289=\"\",\"\",IF(AA289=\"Career::\",Form!A287,\"\"))","v":""},"6-10 3.1L"," Echuca","2011-09-17"," 1416m"," Dead"," Race 5"," Hcp (62)"," RB62",12000,-250," Dale Smith",2," Cd 55.0-0.0",-53," 1::29.24"," ()"," 7/1"," Settled-4 1200- 800-4 Turn-4"," 1-Grief 54.5"]
[{"$nulls":12},{"$f":"IF(Meetings2!$B290=\"\",\"\",IF(Meetings2!$C290=\"\",\"\",LEFT(Meetings2!B290,FIND(\"(\",Meetings2!$B290)-2)))","v":""},{"$f":"IF(Meetings2!$B290=\"\",\"\",Meetings2!$B290)","v":""},{"$nulls":11},{"$f":"IF(AA290=\"\",\"\",IF(AA290=\"Career::\",Form!A288,\"\"))","v":""},"4-10 3.7L"," Wang","2011-09-04"," 1170m"," Dead"," Race 7"," Hcp (62)"," RB62",12000,-525," Dale Smith",10," Cd 55.0-0.0",-53," 1::10.46"," ()"," 7/1"," Settled-10 1200- 800- Turn-10"," 1-Undercurrent 58.5 Disappointed for a run. Struck interference near turn."]
[{"$nulls":12},{"$f":"IF(Meetings2!$B291=\"\",\"\",IF(Meetings2!$C291=\"\",\"\",LEFT(Meetings2!B291,FIND(\"(\",Meetings2!$B291)-2)))","v":""},{"$f":"IF(Meetings2!$B291=\"\",\"\",Meetings2!$B291)","v":""},{"$nulls":11},{"$f":"IF(AA291=\"\",\"\",IF(AA291=\"Career::\",Form!A289,\"\"))","v":""},"3-9 1.3L"," Wang","2011-08-14"," 1100m"," Heavy"," Race 7"," Hcp (62)"," RB62",12000,-1050," Dale Smith",7," Cd 55.0-0.0",-53," 1::10.37"," ()"," 9/2"," Settled-9 1200- 800- Turn-8"," 1-Prussian Knockout 56.5 Disappointed for a run."]
[{"$nulls":12},{"$f":"IF(Meetings2!$B292=\"\",\"\",IF(Meetings2!$C292=\"\",\"\",LEFT(Meetings2!B292,FIND(\"(\",Meetings2!$B292)-2)))","v":""},{"$f":"IF(Meetings2!$B292=\"\",\"\",Meetings2!$B292)","v":""},{"$nulls":11},{"$f":"IF(AA292=\"\",\"\",IF(AA292=\"Career::\",Form!A290,\"\"))","v":""},"6-7 5.8L"," GeeSyn","2011-07-26"," 1200m"," Good"," Race 4"," Hcp (68)"," RB68",12000,-250," Katelyn Mallyon",3," Cd 52.0--2.0",-53," 1::12.63",-34.65," 15/8F"," Settled-5 1200- 800- Turn-6"," 1-Show Stealer 57.0 Struck interference near 400m. Vet examination."]
[{"$nulls":12},{"$f":"IF(Meetings2!$B293=\"\",\"\",IF(Meetings2!$C293=\"\",\"\",LEFT(Meetings2!B293,FIND(\"(\",Meetings2!$B293)-2)))","v":""},{"$f":"IF(Meetings2!$B293=\"\",\"\",Meetings2!$B293)","v":""},{"$nulls":11},{"$f":"IF(AA293=\"\",\"\",IF(AA293=\"Career::\",Form!A291,\"\"))","v":""}]
[{"$nulls":12},{"$f":"IF(Meetings2!$B294=\"\",\"\",IF(Meetings2!$C294=\"\",\"\",LEFT(Meetings2!B294,FIND(\"(\",Meetings2!$B294)-2)))","v":""},{"$f":"IF(Meetings2!$B294=\"\",\"\",Meetings2!$B294)","v":""},{"$nulls":11},{"$f":"IF(AA294=\"\",\"\",IF(AA294=\"Career::\",Form!A292,\"\"))","v":""}]
[{"$nulls":12},{"$f":"IF(Meetings2!$B295=\"\",\"\",IF(Meetings2!$C295=\"\",\"\",LEFT(Meetings2!B295,FIND(\"(\",Meetings2!$B295)-2)))","v":""},{"$f":"IF(Meetings2!$B295=\"\",\"\",Meetings2!$B295)","v":""},{"$nulls":11},{"$f":"IF(AA295=\"\",\"\",IF(AA295=\"Career::\",Form!A293,\"\"))","v":""},"Comments:: Followed 4-3/4 len 2-3/4 len 3rd Blonde Brigade"," Yougopowpow 1107m K'more Hcp (58) Mar 27 with 8-3/4 len 8th Club Command 1200m Echuca Hcp (C1) Apr 15 . Battled home from 9th on turn at latest outing."]
[{"$nulls":12},{"$f":"IF(Meetings2!$B296=\"\",\"\",IF(Meetings2!$C296=\"\",\"\",LEFT(Meetings2!B296,FIND(\"(\",Meetings2!$B296)-2)))","v":""},{"$f":"IF(Meetings2!$B296=\"\",\"\",Meetings2!$B296)","v":""},{"$nulls":11},{"$f":"IF(AA296=\"\",\"\",IF(AA296=\"Career::\",Form!A294,\"\"))","v":"Rulesto"},"Career::"]
[{"$nulls":12},{"$f":"IF(Meetings2!$B297=\"\",\"\",IF(Meetings2!$C297=\"\",\"\",LEFT(Meetings2!B297,FIND(\"(\",Meetings2!$B297)-2)))","v":""},{"$f":"IF(Meetings2!$B297=\"\",\"\",Meetings2!$B297)","v":""},{"$nulls":11},{"$f":"IF(AA297=\"\",\"\",IF(AA297=\"Career::\",Form!A295,\"\"))","v":""},"31::1-1-5"]
[{"$nulls":12},{"$f":"IF(Meetings2!$B298=\"\",\"\",IF(Meetings2!$C298=\"\",\"\",LEFT(Meetings2!B298,FIND(\"(\",Meetings2!$B298)-2)))","v":""},{"$f":"IF(Meetings2!$B298=\"\",\"\",Meetings2!$B298)","v":""},{"$nulls":11},{"$f":"IF(AA298=\"\",\"\",IF(AA298=\"Career::\",Form!A296,\"\"))","v":""},"Fast::"]
[{"$nulls":12},{"$f":"IF(Meetings2!$B299=\"\",\"\",IF(Meetings2!$C299=\"\",\"\",LEFT(Meetings2!B299,FIND(\"(\",Meetings2!$B299)-2)))","v":""},{"$f":"IF(Meetings2!$B299=\"\",\"\",Meetings2!$B299)","v":""},{"$nulls":11},{"$f":"IF(AA299=\"\",\"\",IF(AA299=\"Career::\",Form!A297,\"\"))","v":""},"0::0-0-0"]
[{"$nulls":12},{"$f":"IF(Meetings2!$B300=\"\",\"\",IF(Meetings2!$C300=\"\",\"\",LEFT(Meetings2!B300,FIND(\"(\",Meetings2!$B300)-2)))","v":""},{"$f":"IF(Meetings2!$B300=\"\",\"\",Meetings2!$B300)","v":""},{"$nulls":11},{"$f":"IF(AA300=\"\",\"\",IF(AA300=\"Career::\",Form!A298,\"\"))","v":""},"8-9 8.8L"," Echuca","2012-04-15"," 1200m"," Good"," Race 7"," Hcp (C1)"," Cls 1",12000,-250," J Lyon",5," Cd 54.0-0.0",-54," 1::10.81"," ()"," 30/1"," Settled-9 1200- 800- Turn-9"," 1-Club Command 60.0"]
[{"$nulls":12},{"$f":"IF(Meetings2!$B301=\"\",\"\",IF(Meetings2!$C301=\"\",\"\",LEFT(Meetings2!B301,FIND(\"(\",Meetings2!$B301)-2)))","v":""},{"$f":"IF(Meetings2!$B301=\"\",\"\",Meetings2!$B301)","v":""},{"$nulls":11},{"$f":"IF(AA301=\"\",\"\",IF(AA301=\"Career::\",Form!A299,\"\"))","v":""},"3-13 7.6L"," K'more","2012-03-27"," 1107m"," Good"," Race 8"," Hcp (58)"," RB58",12000,-1050," Jarrod Fry",1," Cd 55.5-0.0",-54," 1::04.77"," ()"," 12/1"," Settled-9 1200- 800- Turn-8"," 1-Blonde Brigade 57.5"]
[{"$nulls":12},{"$f":"IF(Meetings2!$B302=\"\",\"\",IF(Meetings2!$C302=\"\",\"\",LEFT(Meetings2!B302,FIND(\"(\",Meetings2!$B302)-2)))","v":""},{"$f":"IF(Meetings2!$B302=\"\",\"\",Meetings2!$B302)","v":""},{"$nulls":11},{"$f":"IF(AA302=\"\",\"\",IF(AA302=\"Career::\",Form!A300,\"\"))","v":""},"12-12 7.9L"," Echuca","2012-03-10"," 1000m"," Dead"," Race 7"," Hcp (62)"," RB62",12000,0," T Barry",11," Cd 54.5-0.0",-54," 0::58.75"," ()"," 20/1"," Settled-12 1200- 800- Turn-12"," 1-Aces And Angels 56.0"]
[{"$nulls":12},{"$f":"IF(Meetings2!$B303=\"\",\"\",IF(Meetings2!$C303=\"\",\"\",LEFT(Meetings2!B303,FIND(\"(\",Meetings2!$B303)-2)))","v":""},{"$f":"IF(Meetings2!$B303=\"\",\"\",Meetings2!$B303)","v":""},{"$nulls":11},{"$f":"IF(AA303=\"\",\"\",IF(AA303=\"Career::\",Form!A301,\"\"))","v":""},"2-8 0.2L"," Corowa","2012-02-18"," 1000m"," Good"," Race 2"," (Bm50)"," BM50",4000,-800," Ms R Williams",2," Cd 52.5--1.5",-54," 0::57.44"," ()"," 10/1"," Settled- 1200- 800- Turn-"," 1-Lightburgh 51.0"]
[{"$nulls":12},{"$f":"IF(Meetings2!$B304=\"\",\"\",IF(Meetings2!$C304=\"\",\"\",LEFT(Meetings2!B304,FIND(\"(\",Meetings2!$B304)-2)))","v":""},{"$f":"IF(Meetings2!$B304=\"\",\"\",Meetings2!$B304)","v":""},{"$nulls":11},{"$f":"IF(AA304=\"\",\"\",IF(AA304=\"Career::\",Form!A302,\"\"))","v":""},"8-9 6.9L"," Donald","2012-01-28"," 1350m"," Good"," Race 6"," Hcp (58)"," RB58",12000,-250," M Pumpa",3," Cd 57.5-0.0",-54," 1::21.73"," ()"," 6/1"," Settled- 1200- 800- Turn-"," 1-Coco Command 58.0"]
[{"$nulls":12},{"$f":"IF(Meetings2!$B305=\"\",\"\",IF(Meetings2!$C305=\"\",\"\",LEFT(Meetings2!B305,FIND(\"(\",Meetings2!$B305)-2)))","v":""},{"$f":"IF(Meetings2!$B305=\"\",\"\",Meetings2!$B305)","v":""},{"$nulls":11},{"$f":"IF(AA305=\"\",\"\",IF(AA305=\"Career::\",Form!A303,\"\"))","v":""},"3-8 5.1L"," Longfd","2012-01-01"," 1400m"," Good"," Race 6"," Hcp (C1)"," Cls 1",10000,-1000," E Brennen",4," Cd 56.0-0.0",-54," 1::22.60"," ()"," 14/1"," Settled- 1200- 800- Turn-"," 1-Another Concerto 53.5"]
[{"$nulls":12},{"$f":"IF(Meetings2!$B306=\"\",\"\",IF(Meetings2!$C306=\"\",\"\",LEFT(Meetings2!B306,FIND(\"(\",Meetings2!$B306)-2)))","v":""},{"$f":"IF(Meetings2!$B306=\"\",\"\",Meetings2!$B306)","v":""},{"$nulls":11},{"$f":"IF(AA306=\"\",\"\",IF(AA306=\"Career::\",Form!A304,\"\"))","v":""},"11-12 5.5L"," Launc.","2011-12-14"," 1200m"," Dead"," Race 6"," Hcp (C1)"," Cls 1",12500,0," Lee Smith",4," Cd 55.5-0.0",-54.5," 1::11.89",-47.45," 60/1"," Settled- 1200- 800- Turn-"," 1-Double Unique 56.5"]
[{"$nulls":12},{"$f":"IF(Meetings2!$B307=\"\",\"\",IF(Meetings2!$C307=\"\",\"\",LEFT(Meetings2!B307,FIND(\"(\",Meetings2!$B307)-2)))","v":""},{"$f":"IF(Meetings2!$B307=\"\",\"\",Meetings2!$B307)","v":""},{"$nulls":11},{"$f":"IF(AA307=\"\",\"\",IF(AA307=\"Career::\",Form!A305,\"\"))","v":""},"10-12 8.5L"," Hobart","2011-12-04"," 1100m"," Dead"," Race 6"," Hcp (C1)"," Cls 1",12500,0," M Guthrie",2," Cd 57.0-0.0",-54.5," 1::09.17",-36.14," 14/1"," Settled- 1200- 800- Turn-"," 1-Los Skybo 57.5 Slowly away."]
[{"$nulls":12},{"$f":"IF(Meetings2!$B308=\"\",\"\",IF(Meetings2!$C308=\"\",\"\",LEFT(Meetings2!B308,FIND(\"(\",Meetings2!$B308)-2)))","v":""},{"$f":"IF(Meetings2!$B308=\"\",\"\",Meetings2!$B308)","v":""},{"$nulls":11},{"$f":"IF(AA308=\"\",\"\",IF(AA308=\"Career::\",Form!A306,\"\"))","v":""},"1-5 0.3L"," Launc.","2011-11-10"," 800m"," Slow"," Race 6"," Barrier Trl"," Btria",0,0," J Nevin",1," Cd 0.0-0.0"," (CWT)"," 0::49.22"," ()"," "," Settled- 1200- 800- Turn-"," 2-Iowna Gold 0.0"]
[{"$nulls":12},{"$f":"IF(Meetings2!$B309=\"\",\"\",IF(Meetings2!$C309=\"\",\"\",LEFT(Meetings2!B309,FIND(\"(\",Meetings2!$B309)-2)))","v":""},{"$f":"IF(Meetings2!$B309=\"\",\"\",Meetings2!$B309)","v":""},{"$nulls":11},{"$f":"IF(AA309=\"\",\"\",IF(AA309=\"Career::\",Form!A307,\"\"))","v":""},"10-14 11.7L"," Launc.","2011-05-05"," 1600m"," Dead"," Race 1"," Plate (C1)"," Cls 1",12100,0," Rasit Yetimova",11," Cd 54.0--4.0"," (SW)"," 1::38.84",-49.6," 30/1"," Settled- 1200- 800- Turn-"," 1-Captain Albert 58.0 Rider lost whip."]
[{"$nulls":12},{"$f":"IF(Meetings2!$B310=\"\",\"\",IF(Meetings2!$C310=\"\",\"\",LEFT(Meetings2!B310,FIND(\"(\",Meetings2!$B310)-2)))","v":""},{"$f":"IF(Meetings2!$B310=\"\",\"\",Meetings2!$B310)","v":""},{"$nulls":11},{"$f":"IF(AA310=\"\",\"\",IF(AA310=\"Career::\",Form!A308,\"\"))","v":""}]
[{"$nulls":12},{"$f":"IF(Meetings2!$B311=\"\",\"\",IF(Meetings2!$C311=\"\",\"\",LEFT(Meetings2!B311,FIND(\"(\",Meetings2!$B311)-2)))","v":""},{"$f":"IF(Meetings2!$B311=\"\",\"\",Meetings2!$B311)","v":""},{"$nulls":11},{"$f":"IF(AA311=\"\",\"\",IF(AA311=\"Career::\",Form!A309,\"\"))","v":""}]
[{"$nulls":12},{"$f":"IF(Meetings2!$B312=\"\",\"\",IF(Meetings2!$C312=\"\",\"\",LEFT(Meetings2!B312,FIND(\"(\",Meetings2!$B312)-2)))","v":""},{"$f":"IF(Meetings2!$B312=\"\",\"\",Meetings2!$B312)","v":""},{"$nulls":11},{"$f":"IF(AA312=\"\",\"\",IF(AA312=\"Career::\",Form!A310,\"\"))","v":""}]
[{"$nulls":12},{"$f":"IF(Meetings2!$B313=\"\",\"\",IF(Meetings2!$C313=\"\",\"\",LEFT(Meetings2!B313,FIND(\"(\",Meetings2!$B313)-2)))","v":""},{"$f":"IF(Meetings2!$B313=\"\",\"\",Meetings2!$B313)","v":""},{"$nulls":11},{"$f":"IF(AA313=\"\",\"\",IF(AA313=\"Career::\",Form!A311,\"\"))","v":""}]
[{"$nulls":12},{"$f":"IF(Meetings2!$B314=\"\",\"\",IF(Meetings2!$C314=\"\",\"\",LEFT(Meetings2!B314,FIND(\"(\",Meetings2!$B314)-2)))","v":""},{"$f":"IF(Meetings2!$B314=\"\",\"\",Meetings2!$B314)","v":""},{"$nulls":11},{"$f":"IF(AA314=\"\",\"\",IF(AA314=\"Career::\",Form!A312,\"\"))","v":""}]
[{"$nulls":12},{"$f":"IF(Meetings2!$B315=\"\",\"\",IF(Meetings2!$C315=\"\",\"\",LEFT(Meetings2!B315,FIND(\"(\",Meetings2!$B315)-2)))","v":""},{"$f":"IF(Meetings2!$B315=\"\",\"\",Meetings2!$B315)","v":""},{"$nulls":11},{"$f":"IF(AA315=\"\",\"\",IF(AA315=\"Career::\",Form!A313,\"\"))","v":""}]
[{"$nulls":12},{"$f":"IF(Meetings2!$B316=\"\",\"\",IF(Meetings2!$C316=\"\",\"\",LEFT(Meetings2!B316,FIND(\"(\",Meetings2!$B316)-2)))","v":""},{"$f":"IF(Meetings2!$B316=\"\",\"\",Meetings2!$B316)","v":""},{"$nulls":11},{"$f":"IF(AA316=\"\",\"\",IF(AA316=\"Career::\",Form!A314,\"\"))","v":""}]
[{"$nulls":12},{"$f":"IF(Meetings2!$B317=\"\",\"\",IF(Meetings2!$C317=\"\",\"\",LEFT(Meetings2!B317,FIND(\"(\",Meetings2!$B317)-2)))","v":""},{"$f":"IF(Meetings2!$B317=\"\",\"\",Meetings2!$B317)","v":""},{"$nulls":11},{"$f":"IF(AA317=\"\",\"\",IF(AA317=\"Career::\",Form!A315,\"\"))","v":""}]
[{"$nulls":12},{"$f":"IF(Meetings2!$B318=\"\",\"\",IF(Meetings2!$C318=\"\",\"\",LEFT(Meetings2!B318,FIND(\"(\",Meetings2!$B318)-2)))","v":""},{"$f":"IF(Meetings2!$B318=\"\",\"\",Meetings2!$B318)","v":""},{"$nulls":11},{"$f":"IF(AA318=\"\",\"\",IF(AA318=\"Career::\",Form!A316,\"\"))","v":""}]
[{"$nulls":12},{"$f":"IF(Meetings2!$B319=\"\",\"\",IF(Meetings2!$C319=\"\",\"\",LEFT(Meetings2!B319,FIND(\"(\",Meetings2!$B319)-2)))","v":""},{"$f":"IF(Meetings2!$B319=\"\",\"\",Meetings2!$B319)","v":""},{"$nulls":11},{"$f":"IF(AA319=\"\",\"\",IF(AA319=\"Career::\",Form!A317,\"\"))","v":""}]
[{"$nulls":12},{"$f":"IF(Meetings2!$B320=\"\",\"\",IF(Meetings2!$C320=\"\",\"\",LEFT(Meetings2!B320,FIND(\"(\",Meetings2!$B320)-2)))","v":""},{"$f":"IF(Meetings2!$B320=\"\",\"\",Meetings2!$B320)","v":""},{"$nulls":11},{"$f":"IF(AA320=\"\",\"\",IF(AA320=\"Career::\",Form!A318,\"\"))","v":""}]
[{"$nulls":12},{"$f":"IF(Meetings2!$B321=\"\",\"\",IF(Meetings2!$C321=\"\",\"\",LEFT(Meetings2!B321,FIND(\"(\",Meetings2!$B321)-2)))","v":""},{"$f":"IF(Meetings2!$B321=\"\",\"\",Meetings2!$B321)","v":""},{"$nulls":11},{"$f":"IF(AA321=\"\",\"\",IF(AA321=\"Career::\",Form!A319,\"\"))","v":""}]
[{"$nulls":12},{"$f":"IF(Meetings2!$B322=\"\",\"\",IF(Meetings2!$C322=\"\",\"\",LEFT(Meetings2!B322,FIND(\"(\",Meetings2!$B322)-2)))","v":""},{"$f":"IF(Meetings2!$B322=\"\",\"\",Meetings2!$B322)","v":""},{"$nulls":11},{"$f":"IF(AA322=\"\",\"\",IF(AA322=\"Career::\",Form!A320,\"\"))","v":""}]
[{"$nulls":12},{"$f":"IF(Meetings2!$B323=\"\",\"\",IF(Meetings2!$C323=\"\",\"\",LEFT(Meetings2!B323,FIND(\"(\",Meetings2!$B323)-2)))","v":""},{"$f":"IF(Meetings2!$B323=\"\",\"\",Meetings2!$B323)","v":""},{"$nulls":11},{"$f":"IF(AA323=\"\",\"\",IF(AA323=\"Career::\",Form!A321,\"\"))","v":""}]
[{"$nulls":12},{"$f":"IF(Meetings2!$B324=\"\",\"\",IF(Meetings2!$C324=\"\",\"\",LEFT(Meetings2!B324,FIND(\"(\",Meetings2!$B324)-2)))","v":""},{"$f":"IF(Meetings2!$B324=\"\",\"\",Meetings2!$B324)","v":""},{"$nulls":11},{"$f":"IF(AA324=\"\",\"\",IF(AA324=\"Career::\",Form!A322,\"\"))","v":""}]
[{"$nulls":12},{"$f":"IF(Meetings2!$B325=\"\",\"\",IF(Meetings2!$C325=\"\",\"\",LEFT(Meetings2!B325,FIND(\"(\",Meetings2!$B325)-2)))","v":""},{"$f":"IF(Meetings2!$B325=\"\",\"\",Meetings2!$B325)","v":""},{"$nulls":11},{"$f":"IF(AA325=\"\",\"\",IF(AA325=\"Career::\",Form!A323,\"\"))","v":""}]
[{"$nulls":12},{"$f":"IF(Meetings2!$B326=\"\",\"\",IF(Meetings2!$C326=\"\",\"\",LEFT(Meetings2!B326,FIND(\"(\",Meetings2!$B326)-2)))","v":""},{"$f":"IF(Meetings2!$B326=\"\",\"\",Meetings2!$B326)","v":""},{"$nulls":11},{"$f":"IF(AA326=\"\",\"\",IF(AA326=\"Career::\",Form!A324,\"\"))","v":""}]
[{"$nulls":12},{"$f":"IF(Meetings2!$B327=\"\",\"\",IF(Meetings2!$C327=\"\",\"\",LEFT(Meetings2!B327,FIND(\"(\",Meetings2!$B327)-2)))","v":""},{"$f":"IF(Meetings2!$B327=\"\",\"\",Meetings2!$B327)","v":""},{"$nulls":11},{"$f":"IF(AA327=\"\",\"\",IF(AA327=\"Career::\",Form!A325,\"\"))","v":""}]
[{"$nulls":12},{"$f":"IF(Meetings2!$B328=\"\",\"\",IF(Meetings2!$C328=\"\",\"\",LEFT(Meetings2!B328,FIND(\"(\",Meetings2!$B328)-2)))","v":""},{"$f":"IF(Meetings2!$B328=\"\",\"\",Meetings2!$B328)","v":""},{"$nulls":11},{"$f":"IF(AA328=\"\",\"\",IF(AA328=\"Career::\",Form!A326,\"\"))","v":""}]
[{"$nulls":12},{"$f":"IF(Meetings2!$B329=\"\",\"\",IF(Meetings2!$C329=\"\",\"\",LEFT(Meetings2!B329,FIND(\"(\",Meetings2!$B329)-2)))","v":""},{"$f":"IF(Meetings2!$B329=\"\",\"\",Meetings2!$B329)","v":""},{"$nulls":11},{"$f":"IF(AA329=\"\",\"\",IF(AA329=\"Career::\",Form!A327,\"\"))","v":""}]
[{"$nulls":12},{"$f":"IF(Meetings2!$B330=\"\",\"\",IF(Meetings2!$C330=\"\",\"\",LEFT(Meetings2!B330,FIND(\"(\",Meetings2!$B330)-2)))","v":""},{"$f":"IF(Meetings2!$B330=\"\",\"\",Meetings2!$B330)","v":""},{"$nulls":11},{"$f":"IF(AA330=\"\",\"\",IF(AA330=\"Career::\",Form!A328,\"\"))","v":""}]
[{"$nulls":12},{"$f":"IF(Meetings2!$B331=\"\",\"\",IF(Meetings2!$C331=\"\",\"\",LEFT(Meetings2!B331,FIND(\"(\",Meetings2!$B331)-2)))","v":""},{"$f":"IF(Meetings2!$B331=\"\",\"\",Meetings2!$B331)","v":""},{"$nulls":11},{"$f":"IF(AA331=\"\",\"\",IF(AA331=\"Career::\",Form!A329,\"\"))","v":""}]
[{"$nulls":12},{"$f":"IF(Meetings2!$B332=\"\",\"\",IF(Meetings2!$C332=\"\",\"\",LEFT(Meetings2!B332,FIND(\"(\",Meetings2!$B332)-2)))","v":""},{"$f":"IF(Meetings2!$B332=\"\",\"\",Meetings2!$B332)","v":""},{"$nulls":11},{"$f":"IF(AA332=\"\",\"\",IF(AA332=\"Career::\",Form!A330,\"\"))","v":""}]
[{"$nulls":12},{"$f":"IF(Meetings2!$B333=\"\",\"\",IF(Meetings2!$C333=\"\",\"\",LEFT(Meetings2!B333,FIND(\"(\",Meetings2!$B333)-2)))","v":""},{"$f":"IF(Meetings2!$B333=\"\",\"\",Meetings2!$B333)","v":""},{"$nulls":11},{"$f":"IF(AA333=\"\",\"\",IF(AA333=\"Career::\",Form!A331,\"\"))","v":""}]
[{"$nulls":12},{"$f":"IF(Meetings2!$B334=\"\",\"\",IF(Meetings2!$C334=\"\",\"\",LEFT(Meetings2!B334,FIND(\"(\",Meetings2!$B334)-2)))","v":""},{"$f":"IF(Meetings2!$B334=\"\",\"\",Meetings2!$B334)","v":""},{"$nulls":11},{"$f":"IF(AA334=\"\",\"\",IF(AA334=\"Career::\",Form!A332,\"\"))","v":""}]
[{"$nulls":12},{"$f":"IF(Meetings2!$B335=\"\",\"\",IF(Meetings2!$C335=\"\",\"\",LEFT(Meetings2!B335,FIND(\"(\",Meetings2!$B335)-2)))","v":""},{"$f":"IF(Meetings2!$B335=\"\",\"\",Meetings2!$B335)","v":""},{"$nulls":11},{"$f":"IF(AA335=\"\",\"\",IF(AA335=\"Career::\",Form!A333,\"\"))","v":""}]
[{"$nulls":12},{"$f":"IF(Meetings2!$B336=\"\",\"\",IF(Meetings2!$C336=\"\",\"\",LEFT(Meetings2!B336,FIND(\"(\",Meetings2!$B336)-2)))","v":""},{"$f":"IF(Meetings2!$B336=\"\",\"\",Meetings2!$B336)","v":""},{"$nulls":11},{"$f":"IF(AA336=\"\",\"\",IF(AA336=\"Career::\",Form!A334,\"\"))","v":""}]
[{"$nulls":12},{"$f":"IF(Meetings2!$B337=\"\",\"\",IF(Meetings2!$C337=\"\",\"\",LEFT(Meetings2!B337,FIND(\"(\",Meetings2!$B337)-2)))","v":""},{"$f":"IF(Meetings2!$B337=\"\",\"\",Meetings2!$B337)","v":""},{"$nulls":11},{"$f":"IF(AA337=\"\",\"\",IF(AA337=\"Career::\",Form!A335,\"\"))","v":""}]
[{"$nulls":12},{"$f":"IF(Meetings2!$B338=\"\",\"\",IF(Meetings2!$C338=\"\",\"\",LEFT(Meetings2!B338,FIND(\"(\",Meetings2!$B338)-2)))","v":""},{"$f":"IF(Meetings2!$B338=\"\",\"\",Meetings2!$B338)","v":""},{"$nulls":11},{"$f":"IF(AA338=\"\",\"\",IF(AA338=\"Career::\",Form!A336,\"\"))","v":""}]
[{"$nulls":12},{"$f":"IF(Meetings2!$B339=\"\",\"\",IF(Meetings2!$C339=\"\",\"\",LEFT(Meetings2!B339,FIND(\"(\",Meetings2!$B339)-2)))","v":""},{"$f":"IF(Meetings2!$B339=\"\",\"\",Meetings2!$B339)","v":""},{"$nulls":11},{"$f":"IF(AA339=\"\",\"\",IF(AA339=\"Career::\",Form!A337,\"\"))","v":""}]
[{"$nulls":12},{"$f":"IF(Meetings2!$B340=\"\",\"\",IF(Meetings2!$C340=\"\",\"\",LEFT(Meetings2!B340,FIND(\"(\",Meetings2!$B340)-2)))","v":""},{"$f":"IF(Meetings2!$B340=\"\",\"\",Meetings2!$B340)","v":""},{"$nulls":11},{"$f":"IF(AA340=\"\",\"\",IF(AA340=\"Career::\",Form!A338,\"\"))","v":""}]
[{"$nulls":12},{"$f":"IF(Meetings2!$B341=\"\",\"\",IF(Meetings2!$C341=\"\",\"\",LEFT(Meetings2!B341,FIND(\"(\",Meetings2!$B341)-2)))","v":""},{"$f":"IF(Meetings2!$B341=\"\",\"\",Meetings2!$B341)","v":""},{"$nulls":11},{"$f":"IF(AA341=\"\",\"\",IF(AA341=\"Career::\",Form!A339,\"\"))","v":""}]
[{"$nulls":12},{"$f":"IF(Meetings2!$B342=\"\",\"\",IF(Meetings2!$C342=\"\",\"\",LEFT(Meetings2!B342,FIND(\"(\",Meetings2!$B342)-2)))","v":""},{"$f":"IF(Meetings2!$B342=\"\",\"\",Meetings2!$B342)","v":""},{"$nulls":11},{"$f":"IF(AA342=\"\",\"\",IF(AA342=\"Career::\",Form!A340,\"\"))","v":""}]
[{"$nulls":12},{"$f":"IF(Meetings2!$B343=\"\",\"\",IF(Meetings2!$C343=\"\",\"\",LEFT(Meetings2!B343,FIND(\"(\",Meetings2!$B343)-2)))","v":""},{"$f":"IF(Meetings2!$B343=\"\",\"\",Meetings2!$B343)","v":""},{"$nulls":11},{"$f":"IF(AA343=\"\",\"\",IF(AA343=\"Career::\",Form!A341,\"\"))","v":""}]
[{"$nulls":12},{"$f":"IF(Meetings2!$B344=\"\",\"\",IF(Meetings2!$C344=\"\",\"\",LEFT(Meetings2!B344,FIND(\"(\",Meetings2!$B344)-2)))","v":""},{"$f":"IF(Meetings2!$B344=\"\",\"\",Meetings2!$B344)","v":""},{"$nulls":11},{"$f":"IF(AA344=\"\",\"\",IF(AA344=\"Career::\",Form!A342,\"\"))","v":""}]
[{"$nulls":12},{"$f":"IF(Meetings2!$B345=\"\",\"\",IF(Meetings2!$C345=\"\",\"\",LEFT(Meetings2!B345,FIND(\"(\",Meetings2!$B345)-2)))","v":""},{"$f":"IF(Meetings2!$B345=\"\",\"\",Meetings2!$B345)","v":""},{"$nulls":11},{"$f":"IF(AA345=\"\",\"\",IF(AA345=\"Career::\",Form!A343,\"\"))","v":""}]
[{"$nulls":12},{"$f":"IF(Meetings2!$B346=\"\",\"\",IF(Meetings2!$C346=\"\",\"\",LEFT(Meetings2!B346,FIND(\"(\",Meetings2!$B346)-2)))","v":""},{"$f":"IF(Meetings2!$B346=\"\",\"\",Meetings2!$B346)","v":""},{"$nulls":11},{"$f":"IF(AA346=\"\",\"\",IF(AA346=\"Career::\",Form!A344,\"\"))","v":""}]
[{"$nulls":12},{"$f":"IF(Meetings2!$B347=\"\",\"\",IF(Meetings2!$C347=\"\",\"\",LEFT(Meetings2!B347,FIND(\"(\",Meetings2!$B347)-2)))","v":""},{"$f":"IF(Meetings2!$B347=\"\",\"\",Meetings2!$B347)","v":""},{"$nulls":11},{"$f":"IF(AA347=\"\",\"\",IF(AA347=\"Career::\",Form!A345,\"\"))","v":""}]
[{"$nulls":12},{"$f":"IF(Meetings2!$B348=\"\",\"\",IF(Meetings2!$C348=\"\",\"\",LEFT(Meetings2!B348,FIND(\"(\",Meetings2!$B348)-2)))","v":""},{"$f":"IF(Meetings2!$B348=\"\",\"\",Meetings2!$B348)","v":""},{"$nulls":11},{"$f":"IF(AA348=\"\",\"\",IF(AA348=\"Career::\",Form!A346,\"\"))","v":""}]
[{"$nulls":12},{"$f":"IF(Meetings2!$B349=\"\",\"\",IF(Meetings2!$C349=\"\",\"\",LEFT(Meetings2!B349,FIND(\"(\",Meetings2!$B349)-2)))","v":""},{"$f":"IF(Meetings2!$B349=\"\",\"\",Meetings2!$B349)","v":""},{"$nulls":11},{"$f":"IF(AA349=\"\",\"\",IF(AA349=\"Career::\",Form!A347,\"\"))","v":""}]
[{"$nulls":12},{"$f":"IF(Meetings2!$B350=\"\",\"\",IF(Meetings2!$C350=\"\",\"\",LEFT(Meetings2!B350,FIND(\"(\",Meetings2!$B350)-2)))","v":""},{"$f":"IF(Meetings2!$B350=\"\",\"\",Meetings2!$B350)","v":""},{"$nulls":11},{"$f":"IF(AA350=\"\",\"\",IF(AA350=\"Career::\",Form!A348,\"\"))","v":""}]
[{"$nulls":12},{"$f":"IF(Meetings2!$B351=\"\",\"\",IF(Meetings2!$C351=\"\",\"\",LEFT(Meetings2!B351,FIND(\"(\",Meetings2!$B351)-2)))","v":""},{"$f":"IF(Meetings2!$B351=\"\",\"\",Meetings2!$B351)","v":""},{"$nulls":11},{"$f":"IF(AA351=\"\",\"\",IF(AA351=\"Career::\",Form!A349,\"\"))","v":""}]
[{"$nulls":12},{"$f":"IF(Meetings2!$B352=\"\",\"\",IF(Meetings2!$C352=\"\",\"\",LEFT(Meetings2!B352,FIND(\"(\",Meetings2!$B352)-2)))","v":""},{"$f":"IF(Meetings2!$B352=\"\",\"\",Meetings2!$B352)","v":""},{"$nulls":11},{"$f":"IF(AA352=\"\",\"\",IF(AA352=\"Career::\",Form!A350,\"\"))","v":""}]
[{"$nulls":12},{"$f":"IF(Meetings2!$B353=\"\",\"\",IF(Meetings2!$C353=\"\",\"\",LEFT(Meetings2!B353,FIND(\"(\",Meetings2!$B353)-2)))","v":""},{"$f":"IF(Meetings2!$B353=\"\",\"\",Meetings2!$B353)","v":""},{"$nulls":11},{"$f":"IF(AA353=\"\",\"\",IF(AA353=\"Career::\",Form!A351,\"\"))","v":""}]
[{"$nulls":12},{"$f":"IF(Meetings2!$B354=\"\",\"\",IF(Meetings2!$C354=\"\",\"\",LEFT(Meetings2!B354,FIND(\"(\",Meetings2!$B354)-2)))","v":""},{"$f":"IF(Meetings2!$B354=\"\",\"\",Meetings2!$B354)","v":""},{"$nulls":11},{"$f":"IF(AA354=\"\",\"\",IF(AA354=\"Career::\",Form!A352,\"\"))","v":""}]
[{"$nulls":12},{"$f":"IF(Meetings2!$B355=\"\",\"\",IF(Meetings2!$C355=\"\",\"\",LEFT(Meetings2!B355,FIND(\"(\",Meetings2!$B355)-2)))","v":""},{"$f":"IF(Meetings2!$B355=\"\",\"\",Meetings2!$B355)","v":""},{"$nulls":11},{"$f":"IF(AA355=\"\",\"\",IF(AA355=\"Career::\",Form!A353,\"\"))","v":""}]
[{"$nulls":12},{"$f":"IF(Meetings2!$B356=\"\",\"\",IF(Meetings2!$C356=\"\",\"\",LEFT(Meetings2!B356,FIND(\"(\",Meetings2!$B356)-2)))","v":""},{"$f":"IF(Meetings2!$B356=\"\",\"\",Meetings2!$B356)","v":""},{"$nulls":11},{"$f":"IF(AA356=\"\",\"\",IF(AA356=\"Career::\",Form!A354,\"\"))","v":""}]
[{"$nulls":12},{"$f":"IF(Meetings2!$B357=\"\",\"\",IF(Meetings2!$C357=\"\",\"\",LEFT(Meetings2!B357,FIND(\"(\",Meetings2!$B357)-2)))","v":""},{"$f":"IF(Meetings2!$B357=\"\",\"\",Meetings2!$B357)","v":""},{"$nulls":11},{"$f":"IF(AA357=\"\",\"\",IF(AA357=\"Career::\",Form!A355,\"\"))","v":""}]
[{"$nulls":12},{"$f":"IF(Meetings2!$B358=\"\",\"\",IF(Meetings2!$C358=\"\",\"\",LEFT(Meetings2!B358,FIND(\"(\",Meetings2!$B358)-2)))","v":""},{"$f":"IF(Meetings2!$B358=\"\",\"\",Meetings2!$B358)","v":""},{"$nulls":11},{"$f":"IF(AA358=\"\",\"\",IF(AA358=\"Career::\",Form!A356,\"\"))","v":""}]
[{"$nulls":12},{"$f":"IF(Meetings2!$B359=\"\",\"\",IF(Meetings2!$C359=\"\",\"\",LEFT(Meetings2!B359,FIND(\"(\",Meetings2!$B359)-2)))","v":""},{"$f":"IF(Meetings2!$B359=\"\",\"\",Meetings2!$B359)","v":""},{"$nulls":11},{"$f":"IF(AA359=\"\",\"\",IF(AA359=\"Career::\",Form!A357,\"\"))","v":""}]
[{"$nulls":12},{"$f":"IF(Meetings2!$B360=\"\",\"\",IF(Meetings2!$C360=\"\",\"\",LEFT(Meetings2!B360,FIND(\"(\",Meetings2!$B360)-2)))","v":""},{"$f":"IF(Meetings2!$B360=\"\",\"\",Meetings2!$B360)","v":""},{"$nulls":11},{"$f":"IF(AA360=\"\",\"\",IF(AA360=\"Career::\",Form!A358,\"\"))","v":""}]
[{"$nulls":12},{"$f":"IF(Meetings2!$B361=\"\",\"\",IF(Meetings2!$C361=\"\",\"\",LEFT(Meetings2!B361,FIND(\"(\",Meetings2!$B361)-2)))","v":""},{"$f":"IF(Meetings2!$B361=\"\",\"\",Meetings2!$B361)","v":""},{"$nulls":11},{"$f":"IF(AA361=\"\",\"\",IF(AA361=\"Career::\",Form!A359,\"\"))","v":""}]
[{"$nulls":12},{"$f":"IF(Meetings2!$B362=\"\",\"\",IF(Meetings2!$C362=\"\",\"\",LEFT(Meetings2!B362,FIND(\"(\",Meetings2!$B362)-2)))","v":""},{"$f":"IF(Meetings2!$B362=\"\",\"\",Meetings2!$B362)","v":""},{"$nulls":11},{"$f":"IF(AA362=\"\",\"\",IF(AA362=\"Career::\",Form!A360,\"\"))","v":""}]
[{"$nulls":12},{"$f":"IF(Meetings2!$B363=\"\",\"\",IF(Meetings2!$C363=\"\",\"\",LEFT(Meetings2!B363,FIND(\"(\",Meetings2!$B363)-2)))","v":""},{"$f":"IF(Meetings2!$B363=\"\",\"\",Meetings2!$B363)","v":""},{"$nulls":11},{"$f":"IF(AA363=\"\",\"\",IF(AA363=\"Career::\",Form!A361,\"\"))","v":""}]
[{"$nulls":12},{"$f":"IF(Meetings2!$B364=\"\",\"\",IF(Meetings2!$C364=\"\",\"\",LEFT(Meetings2!B364,FIND(\"(\",Meetings2!$B364)-2)))","v":""},{"$f":"IF(Meetings2!$B364=\"\",\"\",Meetings2!$B364)","v":""},{"$nulls":11},{"$f":"IF(AA364=\"\",\"\",IF(AA364=\"Career::\",Form!A362,\"\"))","v":""}]
[{"$nulls":12},{"$f":"IF(Meetings2!$B365=\"\",\"\",IF(Meetings2!$C365=\"\",\"\",LEFT(Meetings2!B365,FIND(\"(\",Meetings2!$B365)-2)))","v":""},{"$f":"IF(Meetings2!$B365=\"\",\"\",Meetings2!$B365)","v":""},{"$nulls":11},{"$f":"IF(AA365=\"\",\"\",IF(AA365=\"Career::\",Form!A363,\"\"))","v":""}]
[{"$nulls":12},{"$f":"IF(Meetings2!$B366=\"\",\"\",IF(Meetings2!$C366=\"\",\"\",LEFT(Meetings2!B366,FIND(\"(\",Meetings2!$B366)-2)))","v":""},{"$f":"IF(Meetings2!$B366=\"\",\"\",Meetings2!$B366)","v":""},{"$nulls":11},{"$f":"IF(AA366=\"\",\"\",IF(AA366=\"Career::\",Form!A364,\"\"))","v":""}]
[{"$nulls":12},{"$f":"IF(Meetings2!$B367=\"\",\"\",IF(Meetings2!$C367=\"\",\"\",LEFT(Meetings2!B367,FIND(\"(\",Meetings2!$B367)-2)))","v":""},{"$f":"IF(Meetings2!$B367=\"\",\"\",Meetings2!$B367)","v":""},{"$nulls":11},{"$f":"IF(AA367=\"\",\"\",IF(AA367=\"Career::\",Form!A365,\"\"))","v":""}]
[{"$nulls":12},{"$f":"IF(Meetings2!$B368=\"\",\"\",IF(Meetings2!$C368=\"\",\"\",LEFT(Meetings2!B368,FIND(\"(\",Meetings2!$B368)-2)))","v":""},{"$f":"IF(Meetings2!$B368=\"\",\"\",Meetings2!$B368)","v":""},{"$nulls":11},{"$f":"IF(AA368=\"\",\"\",IF(AA368=\"Career::\",Form!A366,\"\"))","v":""}]
[{"$nulls":12},{"$f":"IF(Meetings2!$B369=\"\",\"\",IF(Meetings2!$C369=\"\",\"\",LEFT(Meetings2!B369,FIND(\"(\",Meetings2!$B369)-2)))","v":""},{"$f":"IF(Meetings2!$B369=\"\",\"\",Meetings2!$B369)","v":""},{"$nulls":11},{"$f":"IF(AA369=\"\",\"\",IF(AA369=\"Career::\",Form!A367,\"\"))","v":""}]
[{"$nulls":12},{"$f":"IF(Meetings2!$B370=\"\",\"\",IF(Meetings2!$C370=\"\",\"\",LEFT(Meetings2!B370,FIND(\"(\",Meetings2!$B370)-2)))","v":""},{"$f":"IF(Meetings2!$B370=\"\",\"\",Meetings2!$B370)","v":""},{"$nulls":11},{"$f":"IF(AA370=\"\",\"\",IF(AA370=\"Career::\",Form!A368,\"\"))","v":""}]
[{"$nulls":12},{"$f":"IF(Meetings2!$B371=\"\",\"\",IF(Meetings2!$C371=\"\",\"\",LEFT(Meetings2!B371,FIND(\"(\",Meetings2!$B371)-2)))","v":""},{"$f":"IF(Meetings2!$B371=\"\",\"\",Meetings2!$B371)","v":""},{"$nulls":11},{"$f":"IF(AA371=\"\",\"\",IF(AA371=\"Career::\",Form!A369,\"\"))","v":""}]
[{"$nulls":12},{"$f":"IF(Meetings2!$B372=\"\",\"\",IF(Meetings2!$C372=\"\",\"\",LEFT(Meetings2!B372,FIND(\"(\",Meetings2!$B372)-2)))","v":""},{"$f":"IF(Meetings2!$B372=\"\",\"\",Meetings2!$B372)","v":""},{"$nulls":11},{"$f":"IF(AA372=\"\",\"\",IF(AA372=\"Career::\",Form!A370,\"\"))","v":""}]
[{"$nulls":12},{"$f":"IF(Meetings2!$B373=\"\",\"\",IF(Meetings2!$C373=\"\",\"\",LEFT(Meetings2!B373,FIND(\"(\",Meetings2!$B373)-2)))","v":""},{"$f":"IF(Meetings2!$B373=\"\",\"\",Meetings2!$B373)","v":""},{"$nulls":11},{"$f":"IF(AA373=\"\",\"\",IF(AA373=\"Career::\",Form!A371,\"\"))","v":""}]
[{"$nulls":12},{"$f":"IF(Meetings2!$B374=\"\",\"\",IF(Meetings2!$C374=\"\",\"\",LEFT(Meetings2!B374,FIND(\"(\",Meetings2!$B374)-2)))","v":""},{"$f":"IF(Meetings2!$B374=\"\",\"\",Meetings2!$B374)","v":""},{"$nulls":11},{"$f":"IF(AA374=\"\",\"\",IF(AA374=\"Career::\",Form!A372,\"\"))","v":""}]
[{"$nulls":12},{"$f":"IF(Meetings2!$B375=\"\",\"\",IF(Meetings2!$C375=\"\",\"\",LEFT(Meetings2!B375,FIND(\"(\",Meetings2!$B375)-2)))","v":""},{"$f":"IF(Meetings2!$B375=\"\",\"\",Meetings2!$B375)","v":""},{"$nulls":11},{"$f":"IF(AA375=\"\",\"\",IF(AA375=\"Career::\",Form!A373,\"\"))","v":""}]
[{"$nulls":12},{"$f":"IF(Meetings2!$B376=\"\",\"\",IF(Meetings2!$C376=\"\",\"\",LEFT(Meetings2!B376,FIND(\"(\",Meetings2!$B376)-2)))","v":""},{"$f":"IF(Meetings2!$B376=\"\",\"\",Meetings2!$B376)","v":""},{"$nulls":11},{"$f":"IF(AA376=\"\",\"\",IF(AA376=\"Career::\",Form!A374,\"\"))","v":""}]
[{"$nulls":12},{"$f":"IF(Meetings2!$B377=\"\",\"\",IF(Meetings2!$C377=\"\",\"\",LEFT(Meetings2!B377,FIND(\"(\",Meetings2!$B377)-2)))","v":""},{"$f":"IF(Meetings2!$B377=\"\",\"\",Meetings2!$B377)","v":""},{"$nulls":11},{"$f":"IF(AA377=\"\",\"\",IF(AA377=\"Career::\",Form!A375,\"\"))","v":""}]
[{"$nulls":12},{"$f":"IF(Meetings2!$B378=\"\",\"\",IF(Meetings2!$C378=\"\",\"\",LEFT(Meetings2!B378,FIND(\"(\",Meetings2!$B378)-2)))","v":""},{"$f":"IF(Meetings2!$B378=\"\",\"\",Meetings2!$B378)","v":""},{"$nulls":11},{"$f":"IF(AA378=\"\",\"\",IF(AA378=\"Career::\",Form!A376,\"\"))","v":""}]
[{"$nulls":12},{"$f":"IF(Meetings2!$B379=\"\",\"\",IF(Meetings2!$C379=\"\",\"\",LEFT(Meetings2!B379,FIND(\"(\",Meetings2!$B379)-2)))","v":""},{"$f":"IF(Meetings2!$B379=\"\",\"\",Meetings2!$B379)","v":""},{"$nulls":11},{"$f":"IF(AA379=\"\",\"\",IF(AA379=\"Career::\",Form!A377,\"\"))","v":""}]
[{"$nulls":12},{"$f":"IF(Meetings2!$B380=\"\",\"\",IF(Meetings2!$C380=\"\",\"\",LEFT(Meetings2!B380,FIND(\"(\",Meetings2!$B380)-2)))","v":""},{"$f":"IF(Meetings2!$B380=\"\",\"\",Meetings2!$B380)","v":""},{"$nulls":11},{"$f":"IF(AA380=\"\",\"\",IF(AA380=\"Career::\",Form!A378,\"\"))","v":""}]
[{"$nulls":12},{"$f":"IF(Meetings2!$B381=\"\",\"\",IF(Meetings2!$C381=\"\",\"\",LEFT(Meetings2!B381,FIND(\"(\",Meetings2!$B381)-2)))","v":""},{"$f":"IF(Meetings2!$B381=\"\",\"\",Meetings2!$B381)","v":""},{"$nulls":11},{"$f":"IF(AA381=\"\",\"\",IF(AA381=\"Career::\",Form!A379,\"\"))","v":""}]
[{"$nulls":12},{"$f":"IF(Meetings2!$B382=\"\",\"\",IF(Meetings2!$C382=\"\",\"\",LEFT(Meetings2!B382,FIND(\"(\",Meetings2!$B382)-2)))","v":""},{"$f":"IF(Meetings2!$B382=\"\",\"\",Meetings2!$B382)","v":""},{"$nulls":11},{"$f":"IF(AA382=\"\",\"\",IF(AA382=\"Career::\",Form!A380,\"\"))","v":""}]
[{"$nulls":12},{"$f":"IF(Meetings2!$B383=\"\",\"\",IF(Meetings2!$C383=\"\",\"\",LEFT(Meetings2!B383,FIND(\"(\",Meetings2!$B383)-2)))","v":""},{"$f":"IF(Meetings2!$B383=\"\",\"\",Meetings2!$B383)","v":""},{"$nulls":11},{"$f":"IF(AA383=\"\",\"\",IF(AA383=\"Career::\",Form!A381,\"\"))","v":""}]
[{"$nulls":12},{"$f":"IF(Meetings2!$B384=\"\",\"\",IF(Meetings2!$C384=\"\",\"\",LEFT(Meetings2!B384,FIND(\"(\",Meetings2!$B384)-2)))","v":""},{"$f":"IF(Meetings2!$B384=\"\",\"\",Meetings2!$B384)","v":""},{"$nulls":11},{"$f":"IF(AA384=\"\",\"\",IF(AA384=\"Career::\",Form!A382,\"\"))","v":""}]
[{"$nulls":12},{"$f":"IF(Meetings2!$B385=\"\",\"\",IF(Meetings2!$C385=\"\",\"\",LEFT(Meetings2!B385,FIND(\"(\",Meetings2!$B385)-2)))","v":""},{"$f":"IF(Meetings2!$B385=\"\",\"\",Meetings2!$B385)","v":""},{"$nulls":11},{"$f":"IF(AA385=\"\",\"\",IF(AA385=\"Career::\",Form!A383,\"\"))","v":""}]
[{"$nulls":12},{"$f":"IF(Meetings2!$B386=\"\",\"\",IF(Meetings2!$C386=\"\",\"\",LEFT(Meetings2!B386,FIND(\"(\",Meetings2!$B386)-2)))","v":""},{"$f":"IF(Meetings2!$B386=\"\",\"\",Meetings2!$B386)","v":""},{"$nulls":11},{"$f":"IF(AA386=\"\",\"\",IF(AA386=\"Career::\",Form!A384,\"\"))","v":""}]
[{"$nulls":12},{"$f":"IF(Meetings2!$B387=\"\",\"\",IF(Meetings2!$C387=\"\",\"\",LEFT(Meetings2!B387,FIND(\"(\",Meetings2!$B387)-2)))","v":""},{"$f":"IF(Meetings2!$B387=\"\",\"\",Meetings2!$B387)","v":""},{"$nulls":11},{"$f":"IF(AA387=\"\",\"\",IF(AA387=\"Career::\",Form!A385,\"\"))","v":""}]
[{"$nulls":12},{"$f":"IF(Meetings2!$B388=\"\",\"\",IF(Meetings2!$C388=\"\",\"\",LEFT(Meetings2!B388,FIND(\"(\",Meetings2!$B388)-2)))","v":""},{"$f":"IF(Meetings2!$B388=\"\",\"\",Meetings2!$B388)","v":""},{"$nulls":11},{"$f":"IF(AA388=\"\",\"\",IF(AA388=\"Career::\",Form!A386,\"\"))","v":""}]
[{"$nulls":12},{"$f":"IF(Meetings2!$B389=\"\",\"\",IF(Meetings2!$C389=\"\",\"\",LEFT(Meetings2!B389,FIND(\"(\",Meetings2!$B389)-2)))","v":""},{"$f":"IF(Meetings2!$B389=\"\",\"\",Meetings2!$B389)","v":""},{"$nulls":11},{"$f":"IF(AA389=\"\",\"\",IF(AA389=\"Career::\",Form!A387,\"\"))","v":""}]
[{"$nulls":12},{"$f":"IF(Meetings2!$B390=\"\",\"\",IF(Meetings2!$C390=\"\",\"\",LEFT(Meetings2!B390,FIND(\"(\",Meetings2!$B390)-2)))","v":""},{"$f":"IF(Meetings2!$B390=\"\",\"\",Meetings2!$B390)","v":""},{"$nulls":11},{"$f":"IF(AA390=\"\",\"\",IF(AA390=\"Career::\",Form!A388,\"\"))","v":""}]
[{"$nulls":12},{"$f":"IF(Meetings2!$B391=\"\",\"\",IF(Meetings2!$C391=\"\",\"\",LEFT(Meetings2!B391,FIND(\"(\",Meetings2!$B391)-2)))","v":""},{"$f":"IF(Meetings2!$B391=\"\",\"\",Meetings2!$B391)","v":""},{"$nulls":11},{"$f":"IF(AA391=\"\",\"\",IF(AA391=\"Career::\",Form!A389,\"\"))","v":""}]
[{"$nulls":12},{"$f":"IF(Meetings2!$B392=\"\",\"\",IF(Meetings2!$C392=\"\",\"\",LEFT(Meetings2!B392,FIND(\"(\",Meetings2!$B392)-2)))","v":""},{"$f":"IF(Meetings2!$B392=\"\",\"\",Meetings2!$B392)","v":""},{"$nulls":11},{"$f":"IF(AA392=\"\",\"\",IF(AA392=\"Career::\",Form!A390,\"\"))","v":""}]
[{"$nulls":12},{"$f":"IF(Meetings2!$B393=\"\",\"\",IF(Meetings2!$C393=\"\",\"\",LEFT(Meetings2!B393,FIND(\"(\",Meetings2!$B393)-2)))","v":""},{"$f":"IF(Meetings2!$B393=\"\",\"\",Meetings2!$B393)","v":""},{"$nulls":11},{"$f":"IF(AA393=\"\",\"\",IF(AA393=\"Career::\",Form!A391,\"\"))","v":""}]
[{"$nulls":12},{"$f":"IF(Meetings2!$B394=\"\",\"\",IF(Meetings2!$C394=\"\",\"\",LEFT(Meetings2!B394,FIND(\"(\",Meetings2!$B394)-2)))","v":""},{"$f":"IF(Meetings2!$B394=\"\",\"\",Meetings2!$B394)","v":""},{"$nulls":11},{"$f":"IF(AA394=\"\",\"\",IF(AA394=\"Career::\",Form!A392,\"\"))","v":""}]
[{"$nulls":12},{"$f":"IF(Meetings2!$B395=\"\",\"\",IF(Meetings2!$C395=\"\",\"\",LEFT(Meetings2!B395,FIND(\"(\",Meetings2!$B395)-2)))","v":""},{"$f":"IF(Meetings2!$B395=\"\",\"\",Meetings2!$B395)","v":""},{"$nulls":11},{"$f":"IF(AA395=\"\",\"\",IF(AA395=\"Career::\",Form!A393,\"\"))","v":""}]
[{"$nulls":12},{"$f":"IF(Meetings2!$B396=\"\",\"\",IF(Meetings2!$C396=\"\",\"\",LEFT(Meetings2!B396,FIND(\"(\",Meetings2!$B396)-2)))","v":""},{"$f":"IF(Meetings2!$B396=\"\",\"\",Meetings2!$B396)","v":""},{"$nulls":11},{"$f":"IF(AA396=\"\",\"\",IF(AA396=\"Career::\",Form!A394,\"\"))","v":""}]
[{"$nulls":12},{"$f":"IF(Meetings2!$B397=\"\",\"\",IF(Meetings2!$C397=\"\",\"\",LEFT(Meetings2!B397,FIND(\"(\",Meetings2!$B397)-2)))","v":""},{"$f":"IF(Meetings2!$B397=\"\",\"\",Meetings2!$B397)","v":""},{"$nulls":11},{"$f":"IF(AA397=\"\",\"\",IF(AA397=\"Career::\",Form!A395,\"\"))","v":""}]
[{"$nulls":12},{"$f":"IF(Meetings2!$B398=\"\",\"\",IF(Meetings2!$C398=\"\",\"\",LEFT(Meetings2!B398,FIND(\"(\",Meetings2!$B398)-2)))","v":""},{"$f":"IF(Meetings2!$B398=\"\",\"\",Meetings2!$B398)","v":""},{"$nulls":11},{"$f":"IF(AA398=\"\",\"\",IF(AA398=\"Career::\",Form!A396,\"\"))","v":""}]
[{"$nulls":12},{"$f":"IF(Meetings2!$B399=\"\",\"\",IF(Meetings2!$C399=\"\",\"\",LEFT(Meetings2!B399,FIND(\"(\",Meetings2!$B399)-2)))","v":""},{"$f":"IF(Meetings2!$B399=\"\",\"\",Meetings2!$B399)","v":""},{"$nulls":11},{"$f":"IF(AA399=\"\",\"\",IF(AA399=\"Career::\",Form!A397,\"\"))","v":""}]
[{"$nulls":12},{"$f":"IF(Meetings2!$B400=\"\",\"\",IF(Meetings2!$C400=\"\",\"\",LEFT(Meetings2!B400,FIND(\"(\",Meetings2!$B400)-2)))","v":""},{"$f":"IF(Meetings2!$B400=\"\",\"\",Meetings2!$B400)","v":""},{"$nulls":11},{"$f":"IF(AA400=\"\",\"\",IF(AA400=\"Career::\",Form!A398,\"\"))","v":""}]
[{"$nulls":12},{"$f":"IF(Meetings2!$B401=\"\",\"\",IF(Meetings2!$C401=\"\",\"\",LEFT(Meetings2!B401,FIND(\"(\",Meetings2!$B401)-2)))","v":""},{"$f":"IF(Meetings2!$B401=\"\",\"\",Meetings2!$B401)","v":""},{"$nulls":11},{"$f":"IF(AA401=\"\",\"\",IF(AA401=\"Career::\",Form!A399,\"\"))","v":""}]
[{"$nulls":12},{"$f":"IF(Meetings2!$B402=\"\",\"\",IF(Meetings2!$C402=\"\",\"\",LEFT(Meetings2!B402,FIND(\"(\",Meetings2!$B402)-2)))","v":""},{"$f":"IF(Meetings2!$B402=\"\",\"\",Meetings2!$B402)","v":""},{"$nulls":11},{"$f":"IF(AA402=\"\",\"\",IF(AA402=\"Career::\",Form!A400,\"\"))","v":""}]
[{"$nulls":12},{"$f":"IF(Meetings2!$B403=\"\",\"\",IF(Meetings2!$C403=\"\",\"\",LEFT(Meetings2!B403,FIND(\"(\",Meetings2!$B403)-2)))","v":""},{"$f":"IF(Meetings2!$B403=\"\",\"\",Meetings2!$B403)","v":""},{"$nulls":11},{"$f":"IF(AA403=\"\",\"\",IF(AA403=\"Career::\",Form!A401,\"\"))","v":""}]
[{"$nulls":12},{"$f":"IF(Meetings2!$B404=\"\",\"\",IF(Meetings2!$C404=\"\",\"\",LEFT(Meetings2!B404,FIND(\"(\",Meetings2!$B404)-2)))","v":""},{"$f":"IF(Meetings2!$B404=\"\",\"\",Meetings2!$B404)","v":""},{"$nulls":11},{"$f":"IF(AA404=\"\",\"\",IF(AA404=\"Career::\",Form!A402,\"\"))","v":""}]
[{"$nulls":12},{"$f":"IF(Meetings2!$B405=\"\",\"\",IF(Meetings2!$C405=\"\",\"\",LEFT(Meetings2!B405,FIND(\"(\",Meetings2!$B405)-2)))","v":""},{"$f":"IF(Meetings2!$B405=\"\",\"\",Meetings2!$B405)","v":""},{"$nulls":11},{"$f":"IF(AA405=\"\",\"\",IF(AA405=\"Career::\",Form!A403,\"\"))","v":""}]
[{"$nulls":12},{"$f":"IF(Meetings2!$B406=\"\",\"\",IF(Meetings2!$C406=\"\",\"\",LEFT(Meetings2!B406,FIND(\"(\",Meetings2!$B406)-2)))","v":""},{"$f":"IF(Meetings2!$B406=\"\",\"\",Meetings2!$B406)","v":""},{"$nulls":11},{"$f":"IF(AA406=\"\",\"\",IF(AA406=\"Career::\",Form!A404,\"\"))","v":""}]
[{"$nulls":12},{"$f":"IF(Meetings2!$B407=\"\",\"\",IF(Meetings2!$C407=\"\",\"\",LEFT(Meetings2!B407,FIND(\"(\",Meetings2!$B407)-2)))","v":""},{"$f":"IF(Meetings2!$B407=\"\",\"\",Meetings2!$B407)","v":""},{"$nulls":11},{"$f":"IF(AA407=\"\",\"\",IF(AA407=\"Career::\",Form!A405,\"\"))","v":""}]
[{"$nulls":12},{"$f":"IF(Meetings2!$B408=\"\",\"\",IF(Meetings2!$C408=\"\",\"\",LEFT(Meetings2!B408,FIND(\"(\",Meetings2!$B408)-2)))","v":""},{"$f":"IF(Meetings2!$B408=\"\",\"\",Meetings2!$B408)","v":""},{"$nulls":11},{"$f":"IF(AA408=\"\",\"\",IF(AA408=\"Career::\",Form!A406,\"\"))","v":""}]
[{"$nulls":12},{"$f":"IF(Meetings2!$B409=\"\",\"\",IF(Meetings2!$C409=\"\",\"\",LEFT(Meetings2!B409,FIND(\"(\",Meetings2!$B409)-2)))","v":""},{"$f":"IF(Meetings2!$B409=\"\",\"\",Meetings2!$B409)","v":""},{"$nulls":11},{"$f":"IF(AA409=\"\",\"\",IF(AA409=\"Career::\",Form!A407,\"\"))","v":""}]
[{"$nulls":12},{"$f":"IF(Meetings2!$B410=\"\",\"\",IF(Meetings2!$C410=\"\",\"\",LEFT(Meetings2!B410,FIND(\"(\",Meetings2!$B410)-2)))","v":""},{"$f":"IF(Meetings2!$B410=\"\",\"\",Meetings2!$B410)","v":""},{"$nulls":11},{"$f":"IF(AA410=\"\",\"\",IF(AA410=\"Career::\",Form!A408,\"\"))","v":""}]
[{"$nulls":12},{"$f":"IF(Meetings2!$B411=\"\",\"\",IF(Meetings2!$C411=\"\",\"\",LEFT(Meetings2!B411,FIND(\"(\",Meetings2!$B411)-2)))","v":""},{"$f":"IF(Meetings2!$B411=\"\",\"\",Meetings2!$B411)","v":""},{"$nulls":11},{"$f":"IF(AA411=\"\",\"\",IF(AA411=\"Career::\",Form!A409,\"\"))","v":""}]
[{"$nulls":12},{"$f":"IF(Meetings2!$B412=\"\",\"\",IF(Meetings2!$C412=\"\",\"\",LEFT(Meetings2!B412,FIND(\"(\",Meetings2!$B412)-2)))","v":""},{"$f":"IF(Meetings2!$B412=\"\",\"\",Meetings2!$B412)","v":""},{"$nulls":11},{"$f":"IF(AA412=\"\",\"\",IF(AA412=\"Career::\",Form!A410,\"\"))","v":""}]
[{"$nulls":12},{"$f":"IF(Meetings2!$B413=\"\",\"\",IF(Meetings2!$C413=\"\",\"\",LEFT(Meetings2!B413,FIND(\"(\",Meetings2!$B413)-2)))","v":""},{"$f":"IF(Meetings2!$B413=\"\",\"\",Meetings2!$B413)","v":""},{"$nulls":11},{"$f":"IF(AA413=\"\",\"\",IF(AA413=\"Career::\",Form!A411,\"\"))","v":""}]
[{"$nulls":12},{"$f":"IF(Meetings2!$B414=\"\",\"\",IF(Meetings2!$C414=\"\",\"\",LEFT(Meetings2!B414,FIND(\"(\",Meetings2!$B414)-2)))","v":""},{"$f":"IF(Meetings2!$B414=\"\",\"\",Meetings2!$B414)","v":""},{"$nulls":11},{"$f":"IF(AA414=\"\",\"\",IF(AA414=\"Career::\",Form!A412,\"\"))","v":""}]
[{"$nulls":12},{"$f":"IF(Meetings2!$B415=\"\",\"\",IF(Meetings2!$C415=\"\",\"\",LEFT(Meetings2!B415,FIND(\"(\",Meetings2!$B415)-2)))","v":""},{"$f":"IF(Meetings2!$B415=\"\",\"\",Meetings2!$B415)","v":""},{"$nulls":11},{"$f":"IF(AA415=\"\",\"\",IF(AA415=\"Career::\",Form!A413,\"\"))","v":""}]
[{"$nulls":12},{"$f":"IF(Meetings2!$B416=\"\",\"\",IF(Meetings2!$C416=\"\",\"\",LEFT(Meetings2!B416,FIND(\"(\",Meetings2!$B416)-2)))","v":""},{"$f":"IF(Meetings2!$B416=\"\",\"\",Meetings2!$B416)","v":""},{"$nulls":11},{"$f":"IF(AA416=\"\",\"\",IF(AA416=\"Career::\",Form!A414,\"\"))","v":""}]
[{"$nulls":12},{"$f":"IF(Meetings2!$B417=\"\",\"\",IF(Meetings2!$C417=\"\",\"\",LEFT(Meetings2!B417,FIND(\"(\",Meetings2!$B417)-2)))","v":""},{"$f":"IF(Meetings2!$B417=\"\",\"\",Meetings2!$B417)","v":""},{"$nulls":11},{"$f":"IF(AA417=\"\",\"\",IF(AA417=\"Career::\",Form!A415,\"\"))","v":""}]
[{"$nulls":12},{"$f":"IF(Meetings2!$B418=\"\",\"\",IF(Meetings2!$C418=\"\",\"\",LEFT(Meetings2!B418,FIND(\"(\",Meetings2!$B418)-2)))","v":""},{"$f":"IF(Meetings2!$B418=\"\",\"\",Meetings2!$B418)","v":""},{"$nulls":11},{"$f":"IF(AA418=\"\",\"\",IF(AA418=\"Career::\",Form!A416,\"\"))","v":""}]
[{"$nulls":12},{"$f":"IF(Meetings2!$B419=\"\",\"\",IF(Meetings2!$C419=\"\",\"\",LEFT(Meetings2!B419,FIND(\"(\",Meetings2!$B419)-2)))","v":""},{"$f":"IF(Meetings2!$B419=\"\",\"\",Meetings2!$B419)","v":""},{"$nulls":11},{"$f":"IF(AA419=\"\",\"\",IF(AA419=\"Career::\",Form!A417,\"\"))","v":""}]
[{"$nulls":12},{"$f":"IF(Meetings2!$B420=\"\",\"\",IF(Meetings2!$C420=\"\",\"\",LEFT(Meetings2!B420,FIND(\"(\",Meetings2!$B420)-2)))","v":""},{"$f":"IF(Meetings2!$B420=\"\",\"\",Meetings2!$B420)","v":""},{"$nulls":11},{"$f":"IF(AA420=\"\",\"\",IF(AA420=\"Career::\",Form!A418,\"\"))","v":""}]
[{"$nulls":12},{"$f":"IF(Meetings2!$B421=\"\",\"\",IF(Meetings2!$C421=\"\",\"\",LEFT(Meetings2!B421,FIND(\"(\",Meetings2!$B421)-2)))","v":""},{"$f":"IF(Meetings2!$B421=\"\",\"\",Meetings2!$B421)","v":""},{"$nulls":11},{"$f":"IF(AA421=\"\",\"\",IF(AA421=\"Career::\",Form!A419,\"\"))","v":""}]
[{"$nulls":12},{"$f":"IF(Meetings2!$B422=\"\",\"\",IF(Meetings2!$C422=\"\",\"\",LEFT(Meetings2!B422,FIND(\"(\",Meetings2!$B422)-2)))","v":""},{"$f":"IF(Meetings2!$B422=\"\",\"\",Meetings2!$B422)","v":""},{"$nulls":11},{"$f":"IF(AA422=\"\",\"\",IF(AA422=\"Career::\",Form!A420,\"\"))","v":""}]
[{"$nulls":12},{"$f":"IF(Meetings2!$B423=\"\",\"\",IF(Meetings2!$C423=\"\",\"\",LEFT(Meetings2!B423,FIND(\"(\",Meetings2!$B423)-2)))","v":""},{"$f":"IF(Meetings2!$B423=\"\",\"\",Meetings2!$B423)","v":""},{"$nulls":11},{"$f":"IF(AA423=\"\",\"\",IF(AA423=\"Career::\",Form!A421,\"\"))","v":""}]
[{"$nulls":12},{"$f":"IF(Meetings2!$B424=\"\",\"\",IF(Meetings2!$C424=\"\",\"\",LEFT(Meetings2!B424,FIND(\"(\",Meetings2!$B424)-2)))","v":""},{"$f":"IF(Meetings2!$B424=\"\",\"\",Meetings2!$B424)","v":""},{"$nulls":11},{"$f":"IF(AA424=\"\",\"\",IF(AA424=\"Career::\",Form!A422,\"\"))","v":""}]
[{"$nulls":12},{"$f":"IF(Meetings2!$B425=\"\",\"\",IF(Meetings2!$C425=\"\",\"\",LEFT(Meetings2!B425,FIND(\"(\",Meetings2!$B425)-2)))","v":""},{"$f":"IF(Meetings2!$B425=\"\",\"\",Meetings2!$B425)","v":""},{"$nulls":11},{"$f":"IF(AA425=\"\",\"\",IF(AA425=\"Career::\",Form!A423,\"\"))","v":""}]
[{"$nulls":12},{"$f":"IF(Meetings2!$B426=\"\",\"\",IF(Meetings2!$C426=\"\",\"\",LEFT(Meetings2!B426,FIND(\"(\",Meetings2!$B426)-2)))","v":""},{"$f":"IF(Meetings2!$B426=\"\",\"\",Meetings2!$B426)","v":""},{"$nulls":11},{"$f":"IF(AA426=\"\",\"\",IF(AA426=\"Career::\",Form!A424,\"\"))","v":""}]
[{"$nulls":12},{"$f":"IF(Meetings2!$B427=\"\",\"\",IF(Meetings2!$C427=\"\",\"\",LEFT(Meetings2!B427,FIND(\"(\",Meetings2!$B427)-2)))","v":""},{"$f":"IF(Meetings2!$B427=\"\",\"\",Meetings2!$B427)","v":""},{"$nulls":11},{"$f":"IF(AA427=\"\",\"\",IF(AA427=\"Career::\",Form!A425,\"\"))","v":""}]
[{"$nulls":12},{"$f":"IF(Meetings2!$B428=\"\",\"\",IF(Meetings2!$C428=\"\",\"\",LEFT(Meetings2!B428,FIND(\"(\",Meetings2!$B428)-2)))","v":""},{"$f":"IF(Meetings2!$B428=\"\",\"\",Meetings2!$B428)","v":""},{"$nulls":11},{"$f":"IF(AA428=\"\",\"\",IF(AA428=\"Career::\",Form!A426,\"\"))","v":""}]
[{"$nulls":12},{"$f":"IF(Meetings2!$B429=\"\",\"\",IF(Meetings2!$C429=\"\",\"\",LEFT(Meetings2!B429,FIND(\"(\",Meetings2!$B429)-2)))","v":""},{"$f":"IF(Meetings2!$B429=\"\",\"\",Meetings2!$B429)","v":""},{"$nulls":11},{"$f":"IF(AA429=\"\",\"\",IF(AA429=\"Career::\",Form!A427,\"\"))","v":""}]
[{"$nulls":12},{"$f":"IF(Meetings2!$B430=\"\",\"\",IF(Meetings2!$C430=\"\",\"\",LEFT(Meetings2!B430,FIND(\"(\",Meetings2!$B430)-2)))","v":""},{"$f":"IF(Meetings2!$B430=\"\",\"\",Meetings2!$B430)","v":""},{"$nulls":11},{"$f":"IF(AA430=\"\",\"\",IF(AA430=\"Career::\",Form!A428,\"\"))","v":""}]
[{"$nulls":12},{"$f":"IF(Meetings2!$B431=\"\",\"\",IF(Meetings2!$C431=\"\",\"\",LEFT(Meetings2!B431,FIND(\"(\",Meetings2!$B431)-2)))","v":""},{"$f":"IF(Meetings2!$B431=\"\",\"\",Meetings2!$B431)","v":""},{"$nulls":11},{"$f":"IF(AA431=\"\",\"\",IF(AA431=\"Career::\",Form!A429,\"\"))","v":""}]
[{"$nulls":12},{"$f":"IF(Meetings2!$B432=\"\",\"\",IF(Meetings2!$C432=\"\",\"\",LEFT(Meetings2!B432,FIND(\"(\",Meetings2!$B432)-2)))","v":""},{"$f":"IF(Meetings2!$B432=\"\",\"\",Meetings2!$B432)","v":""},{"$nulls":11},{"$f":"IF(AA432=\"\",\"\",IF(AA432=\"Career::\",Form!A430,\"\"))","v":""}]
[{"$nulls":12},{"$f":"IF(Meetings2!$B433=\"\",\"\",IF(Meetings2!$C433=\"\",\"\",LEFT(Meetings2!B433,FIND(\"(\",Meetings2!$B433)-2)))","v":""},{"$f":"IF(Meetings2!$B433=\"\",\"\",Meetings2!$B433)","v":""},{"$nulls":11},{"$f":"IF(AA433=\"\",\"\",IF(AA433=\"Career::\",Form!A431,\"\"))","v":""}]
[{"$nulls":12},{"$f":"IF(Meetings2!$B434=\"\",\"\",IF(Meetings2!$C434=\"\",\"\",LEFT(Meetings2!B434,FIND(\"(\",Meetings2!$B434)-2)))","v":""},{"$f":"IF(Meetings2!$B434=\"\",\"\",Meetings2!$B434)","v":""},{"$nulls":11},{"$f":"IF(AA434=\"\",\"\",IF(AA434=\"Career::\",Form!A432,\"\"))","v":""}]
[{"$nulls":12},{"$f":"IF(Meetings2!$B435=\"\",\"\",IF(Meetings2!$C435=\"\",\"\",LEFT(Meetings2!B435,FIND(\"(\",Meetings2!$B435)-2)))","v":""},{"$f":"IF(Meetings2!$B435=\"\",\"\",Meetings2!$B435)","v":""},{"$nulls":11},{"$f":"IF(AA435=\"\",\"\",IF(AA435=\"Career::\",Form!A433,\"\"))","v":""}]
[{"$nulls":12},{"$f":"IF(Meetings2!$B436=\"\",\"\",IF(Meetings2!$C436=\"\",\"\",LEFT(Meetings2!B436,FIND(\"(\",Meetings2!$B436)-2)))","v":""},{"$f":"IF(Meetings2!$B436=\"\",\"\",Meetings2!$B436)","v":""},{"$nulls":11},{"$f":"IF(AA436=\"\",\"\",IF(AA436=\"Career::\",Form!A434,\"\"))","v":""}]
[{"$nulls":12},{"$f":"IF(Meetings2!$B437=\"\",\"\",IF(Meetings2!$C437=\"\",\"\",LEFT(Meetings2!B437,FIND(\"(\",Meetings2!$B437)-2)))","v":""},{"$f":"IF(Meetings2!$B437=\"\",\"\",Meetings2!$B437)","v":""},{"$nulls":11},{"$f":"IF(AA437=\"\",\"\",IF(AA437=\"Career::\",Form!A435,\"\"))","v":""}]
[{"$nulls":12},{"$f":"IF(Meetings2!$B438=\"\",\"\",IF(Meetings2!$C438=\"\",\"\",LEFT(Meetings2!B438,FIND(\"(\",Meetings2!$B438)-2)))","v":""},{"$f":"IF(Meetings2!$B438=\"\",\"\",Meetings2!$B438)","v":""},{"$nulls":11},{"$f":"IF(AA438=\"\",\"\",IF(AA438=\"Career::\",Form!A436,\"\"))","v":""}]
[{"$nulls":12},{"$f":"IF(Meetings2!$B439=\"\",\"\",IF(Meetings2!$C439=\"\",\"\",LEFT(Meetings2!B439,FIND(\"(\",Meetings2!$B439)-2)))","v":""},{"$f":"IF(Meetings2!$B439=\"\",\"\",Meetings2!$B439)","v":""},{"$nulls":11},{"$f":"IF(AA439=\"\",\"\",IF(AA439=\"Career::\",Form!A437,\"\"))","v":""}]
[{"$nulls":12},{"$f":"IF(Meetings2!$B440=\"\",\"\",IF(Meetings2!$C440=\"\",\"\",LEFT(Meetings2!B440,FIND(\"(\",Meetings2!$B440)-2)))","v":""},{"$f":"IF(Meetings2!$B440=\"\",\"\",Meetings2!$B440)","v":""},{"$nulls":11},{"$f":"IF(AA440=\"\",\"\",IF(AA440=\"Career::\",Form!A438,\"\"))","v":""}]
[{"$nulls":12},{"$f":"IF(Meetings2!$B441=\"\",\"\",IF(Meetings2!$C441=\"\",\"\",LEFT(Meetings2!B441,FIND(\"(\",Meetings2!$B441)-2)))","v":""},{"$f":"IF(Meetings2!$B441=\"\",\"\",Meetings2!$B441)","v":""},{"$nulls":11},{"$f":"IF(AA441=\"\",\"\",IF(AA441=\"Career::\",Form!A439,\"\"))","v":""}]
[{"$nulls":12},{"$f":"IF(Meetings2!$B442=\"\",\"\",IF(Meetings2!$C442=\"\",\"\",LEFT(Meetings2!B442,FIND(\"(\",Meetings2!$B442)-2)))","v":""},{"$f":"IF(Meetings2!$B442=\"\",\"\",Meetings2!$B442)","v":""},{"$nulls":11},{"$f":"IF(AA442=\"\",\"\",IF(AA442=\"Career::\",Form!A440,\"\"))","v":""}]
[{"$nulls":12},{"$f":"IF(Meetings2!$B443=\"\",\"\",IF(Meetings2!$C443=\"\",\"\",LEFT(Meetings2!B443,FIND(\"(\",Meetings2!$B443)-2)))","v":""},{"$f":"IF(Meetings2!$B443=\"\",\"\",Meetings2!$B443)","v":""},{"$nulls":11},{"$f":"IF(AA443=\"\",\"\",IF(AA443=\"Career::\",Form!A441,\"\"))","v":""}]
[{"$nulls":12},{"$f":"IF(Meetings2!$B444=\"\",\"\",IF(Meetings2!$C444=\"\",\"\",LEFT(Meetings2!B444,FIND(\"(\",Meetings2!$B444)-2)))","v":""},{"$f":"IF(Meetings2!$B444=\"\",\"\",Meetings2!$B444)","v":""},{"$nulls":11},{"$f":"IF(AA444=\"\",\"\",IF(AA444=\"Career::\",Form!A442,\"\"))","v":""}]
[{"$nulls":12},{"$f":"IF(Meetings2!$B445=\"\",\"\",IF(Meetings2!$C445=\"\",\"\",LEFT(Meetings2!B445,FIND(\"(\",Meetings2!$B445)-2)))","v":""},{"$f":"IF(Meetings2!$B445=\"\",\"\",Meetings2!$B445)","v":""},{"$nulls":11},{"$f":"IF(AA445=\"\",\"\",IF(AA445=\"Career::\",Form!A443,\"\"))","v":""}]
[{"$nulls":12},{"$f":"IF(Meetings2!$B446=\"\",\"\",IF(Meetings2!$C446=\"\",\"\",LEFT(Meetings2!B446,FIND(\"(\",Meetings2!$B446)-2)))","v":""},{"$f":"IF(Meetings2!$B446=\"\",\"\",Meetings2!$B446)","v":""},{"$nulls":11},{"$f":"IF(AA446=\"\",\"\",IF(AA446=\"Career::\",Form!A444,\"\"))","v":""}]
[{"$nulls":12},{"$f":"IF(Meetings2!$B447=\"\",\"\",IF(Meetings2!$C447=\"\",\"\",LEFT(Meetings2!B447,FIND(\"(\",Meetings2!$B447)-2)))","v":""},{"$f":"IF(Meetings2!$B447=\"\",\"\",Meetings2!$B447)","v":""},{"$nulls":11},{"$f":"IF(AA447=\"\",\"\",IF(AA447=\"Career::\",Form!A445,\"\"))","v":""}]
[{"$nulls":12},{"$f":"IF(Meetings2!$B448=\"\",\"\",IF(Meetings2!$C448=\"\",\"\",LEFT(Meetings2!B448,FIND(\"(\",Meetings2!$B448)-2)))","v":""},{"$f":"IF(Meetings2!$B448=\"\",\"\",Meetings2!$B448)","v":""},{"$nulls":11},{"$f":"IF(AA448=\"\",\"\",IF(AA448=\"Career::\",Form!A446,\"\"))","v":""}]
[{"$nulls":12},{"$f":"IF(Meetings2!$B449=\"\",\"\",IF(Meetings2!$C449=\"\",\"\",LEFT(Meetings2!B449,FIND(\"(\",Meetings2!$B449)-2)))","v":""},{"$f":"IF(Meetings2!$B449=\"\",\"\",Meetings2!$B449)","v":""},{"$nulls":11},{"$f":"IF(AA449=\"\",\"\",IF(AA449=\"Career::\",Form!A447,\"\"))","v":""}]
[{"$nulls":12},{"$f":"IF(Meetings2!$B450=\"\",\"\",IF(Meetings2!$C450=\"\",\"\",LEFT(Meetings2!B450,FIND(\"(\",Meetings2!$B450)-2)))","v":""},{"$f":"IF(Meetings2!$B450=\"\",\"\",Meetings2!$B450)","v":""},{"$nulls":11},{"$f":"IF(AA450=\"\",\"\",IF(AA450=\"Career::\",Form!A448,\"\"))","v":""}]
[{"$nulls":12},{"$f":"IF(Meetings2!$B451=\"\",\"\",IF(Meetings2!$C451=\"\",\"\",LEFT(Meetings2!B451,FIND(\"(\",Meetings2!$B451)-2)))","v":""},{"$f":"IF(Meetings2!$B451=\"\",\"\",Meetings2!$B451)","v":""},{"$nulls":11},{"$f":"IF(AA451=\"\",\"\",IF(AA451=\"Career::\",Form!A449,\"\"))","v":""}]
[{"$nulls":12},{"$f":"IF(Meetings2!$B452=\"\",\"\",IF(Meetings2!$C452=\"\",\"\",LEFT(Meetings2!B452,FIND(\"(\",Meetings2!$B452)-2)))","v":""},{"$f":"IF(Meetings2!$B452=\"\",\"\",Meetings2!$B452)","v":""},{"$nulls":11},{"$f":"IF(AA452=\"\",\"\",IF(AA452=\"Career::\",Form!A450,\"\"))","v":""}]
[{"$nulls":12},{"$f":"IF(Meetings2!$B453=\"\",\"\",IF(Meetings2!$C453=\"\",\"\",LEFT(Meetings2!B453,FIND(\"(\",Meetings2!$B453)-2)))","v":""},{"$f":"IF(Meetings2!$B453=\"\",\"\",Meetings2!$B453)","v":""},{"$nulls":11},{"$f":"IF(AA453=\"\",\"\",IF(AA453=\"Career::\",Form!A451,\"\"))","v":""}]
[{"$nulls":12},{"$f":"IF(Meetings2!$B454=\"\",\"\",IF(Meetings2!$C454=\"\",\"\",LEFT(Meetings2!B454,FIND(\"(\",Meetings2!$B454)-2)))","v":""},{"$f":"IF(Meetings2!$B454=\"\",\"\",Meetings2!$B454)","v":""},{"$nulls":11},{"$f":"IF(AA454=\"\",\"\",IF(AA454=\"Career::\",Form!A452,\"\"))","v":""}]
[{"$nulls":12},{"$f":"IF(Meetings2!$B455=\"\",\"\",IF(Meetings2!$C455=\"\",\"\",LEFT(Meetings2!B455,FIND(\"(\",Meetings2!$B455)-2)))","v":""},{"$f":"IF(Meetings2!$B455=\"\",\"\",Meetings2!$B455)","v":""},{"$nulls":11},{"$f":"IF(AA455=\"\",\"\",IF(AA455=\"Career::\",Form!A453,\"\"))","v":""}]
[{"$nulls":12},{"$f":"IF(Meetings2!$B456=\"\",\"\",IF(Meetings2!$C456=\"\",\"\",LEFT(Meetings2!B456,FIND(\"(\",Meetings2!$B456)-2)))","v":""},{"$f":"IF(Meetings2!$B456=\"\",\"\",Meetings2!$B456)","v":""},{"$nulls":11},{"$f":"IF(AA456=\"\",\"\",IF(AA456=\"Career::\",Form!A454,\"\"))","v":""}]
[{"$nulls":12},{"$f":"IF(Meetings2!$B457=\"\",\"\",IF(Meetings2!$C457=\"\",\"\",LEFT(Meetings2!B457,FIND(\"(\",Meetings2!$B457)-2)))","v":""},{"$f":"IF(Meetings2!$B457=\"\",\"\",Meetings2!$B457)","v":""},{"$nulls":11},{"$f":"IF(AA457=\"\",\"\",IF(AA457=\"Career::\",Form!A455,\"\"))","v":""}]
[{"$nulls":12},{"$f":"IF(Meetings2!$B458=\"\",\"\",IF(Meetings2!$C458=\"\",\"\",LEFT(Meetings2!B458,FIND(\"(\",Meetings2!$B458)-2)))","v":""},{"$f":"IF(Meetings2!$B458=\"\",\"\",Meetings2!$B458)","v":""},{"$nulls":11},{"$f":"IF(AA458=\"\",\"\",IF(AA458=\"Career::\",Form!A456,\"\"))","v":""}]
[{"$nulls":12},{"$f":"IF(Meetings2!$B459=\"\",\"\",IF(Meetings2!$C459=\"\",\"\",LEFT(Meetings2!B459,FIND(\"(\",Meetings2!$B459)-2)))","v":""},{"$f":"IF(Meetings2!$B459=\"\",\"\",Meetings2!$B459)","v":""},{"$nulls":11},{"$f":"IF(AA459=\"\",\"\",IF(AA459=\"Career::\",Form!A457,\"\"))","v":""}]
[{"$nulls":12},{"$f":"IF(Meetings2!$B460=\"\",\"\",IF(Meetings2!$C460=\"\",\"\",LEFT(Meetings2!B460,FIND(\"(\",Meetings2!$B460)-2)))","v":""},{"$f":"IF(Meetings2!$B460=\"\",\"\",Meetings2!$B460)","v":""},{"$nulls":11},{"$f":"IF(AA460=\"\",\"\",IF(AA460=\"Career::\",Form!A458,\"\"))","v":""}]
[{"$nulls":12},{"$f":"IF(Meetings2!$B461=\"\",\"\",IF(Meetings2!$C461=\"\",\"\",LEFT(Meetings2!B461,FIND(\"(\",Meetings2!$B461)-2)))","v":""},{"$f":"IF(Meetings2!$B461=\"\",\"\",Meetings2!$B461)","v":""},{"$nulls":11},{"$f":"IF(AA461=\"\",\"\",IF(AA461=\"Career::\",Form!A459,\"\"))","v":""}]
[{"$nulls":12},{"$f":"IF(Meetings2!$B462=\"\",\"\",IF(Meetings2!$C462=\"\",\"\",LEFT(Meetings2!B462,FIND(\"(\",Meetings2!$B462)-2)))","v":""},{"$f":"IF(Meetings2!$B462=\"\",\"\",Meetings2!$B462)","v":""},{"$nulls":11},{"$f":"IF(AA462=\"\",\"\",IF(AA462=\"Career::\",Form!A460,\"\"))","v":""}]
[{"$nulls":12},{"$f":"IF(Meetings2!$B463=\"\",\"\",IF(Meetings2!$C463=\"\",\"\",LEFT(Meetings2!B463,FIND(\"(\",Meetings2!$B463)-2)))","v":""},{"$f":"IF(Meetings2!$B463=\"\",\"\",Meetings2!$B463)","v":""},{"$nulls":11},{"$f":"IF(AA463=\"\",\"\",IF(AA463=\"Career::\",Form!A461,\"\"))","v":""}]
[{"$nulls":12},{"$f":"IF(Meetings2!$B464=\"\",\"\",IF(Meetings2!$C464=\"\",\"\",LEFT(Meetings2!B464,FIND(\"(\",Meetings2!$B464)-2)))","v":""},{"$f":"IF(Meetings2!$B464=\"\",\"\",Meetings2!$B464)","v":""},{"$nulls":11},{"$f":"IF(AA464=\"\",\"\",IF(AA464=\"Career::\",Form!A462,\"\"))","v":""}]
[{"$nulls":12},{"$f":"IF(Meetings2!$B465=\"\",\"\",IF(Meetings2!$C465=\"\",\"\",LEFT(Meetings2!B465,FIND(\"(\",Meetings2!$B465)-2)))","v":""},{"$f":"IF(Meetings2!$B465=\"\",\"\",Meetings2!$B465)","v":""},{"$nulls":11},{"$f":"IF(AA465=\"\",\"\",IF(AA465=\"Career::\",Form!A463,\"\"))","v":""}]
[{"$nulls":12},{"$f":"IF(Meetings2!$B466=\"\",\"\",IF(Meetings2!$C466=\"\",\"\",LEFT(Meetings2!B466,FIND(\"(\",Meetings2!$B466)-2)))","v":""},{"$f":"IF(Meetings2!$B466=\"\",\"\",Meetings2!$B466)","v":""},{"$nulls":11},{"$f":"IF(AA466=\"\",\"\",IF(AA466=\"Career::\",Form!A464,\"\"))","v":""}]
[{"$nulls":12},{"$f":"IF(Meetings2!$B467=\"\",\"\",IF(Meetings2!$C467=\"\",\"\",LEFT(Meetings2!B467,FIND(\"(\",Meetings2!$B467)-2)))","v":""},{"$f":"IF(Meetings2!$B467=\"\",\"\",Meetings2!$B467)","v":""},{"$nulls":11},{"$f":"IF(AA467=\"\",\"\",IF(AA467=\"Career::\",Form!A465,\"\"))","v":""}]
[{"$nulls":12},{"$f":"IF(Meetings2!$B468=\"\",\"\",IF(Meetings2!$C468=\"\",\"\",LEFT(Meetings2!B468,FIND(\"(\",Meetings2!$B468)-2)))","v":""},{"$f":"IF(Meetings2!$B468=\"\",\"\",Meetings2!$B468)","v":""},{"$nulls":11},{"$f":"IF(AA468=\"\",\"\",IF(AA468=\"Career::\",Form!A466,\"\"))","v":""}]
[{"$nulls":12},{"$f":"IF(Meetings2!$B469=\"\",\"\",IF(Meetings2!$C469=\"\",\"\",LEFT(Meetings2!B469,FIND(\"(\",Meetings2!$B469)-2)))","v":""},{"$f":"IF(Meetings2!$B469=\"\",\"\",Meetings2!$B469)","v":""},{"$nulls":11},{"$f":"IF(AA469=\"\",\"\",IF(AA469=\"Career::\",Form!A467,\"\"))","v":""}]
[{"$nulls":12},{"$f":"IF(Meetings2!$B470=\"\",\"\",IF(Meetings2!$C470=\"\",\"\",LEFT(Meetings2!B470,FIND(\"(\",Meetings2!$B470)-2)))","v":""},{"$f":"IF(Meetings2!$B470=\"\",\"\",Meetings2!$B470)","v":""},{"$nulls":11},{"$f":"IF(AA470=\"\",\"\",IF(AA470=\"Career::\",Form!A468,\"\"))","v":""}]
[{"$nulls":12},{"$f":"IF(Meetings2!$B471=\"\",\"\",IF(Meetings2!$C471=\"\",\"\",LEFT(Meetings2!B471,FIND(\"(\",Meetings2!$B471)-2)))","v":""},{"$f":"IF(Meetings2!$B471=\"\",\"\",Meetings2!$B471)","v":""},{"$nulls":11},{"$f":"IF(AA471=\"\",\"\",IF(AA471=\"Career::\",Form!A469,\"\"))","v":""}]
[{"$nulls":12},{"$f":"IF(Meetings2!$B472=\"\",\"\",IF(Meetings2!$C472=\"\",\"\",LEFT(Meetings2!B472,FIND(\"(\",Meetings2!$B472)-2)))","v":""},{"$f":"IF(Meetings2!$B472=\"\",\"\",Meetings2!$B472)","v":""},{"$nulls":11},{"$f":"IF(AA472=\"\",\"\",IF(AA472=\"Career::\",Form!A470,\"\"))","v":""}]
[{"$nulls":12},{"$f":"IF(Meetings2!$B473=\"\",\"\",IF(Meetings2!$C473=\"\",\"\",LEFT(Meetings2!B473,FIND(\"(\",Meetings2!$B473)-2)))","v":""},{"$f":"IF(Meetings2!$B473=\"\",\"\",Meetings2!$B473)","v":""},{"$nulls":11},{"$f":"IF(AA473=\"\",\"\",IF(AA473=\"Career::\",Form!A471,\"\"))","v":""}]
[{"$nulls":12},{"$f":"IF(Meetings2!$B474=\"\",\"\",IF(Meetings2!$C474=\"\",\"\",LEFT(Meetings2!B474,FIND(\"(\",Meetings2!$B474)-2)))","v":""},{"$f":"IF(Meetings2!$B474=\"\",\"\",Meetings2!$B474)","v":""},{"$nulls":11},{"$f":"IF(AA474=\"\",\"\",IF(AA474=\"Career::\",Form!A472,\"\"))","v":""}]
[{"$nulls":12},{"$f":"IF(Meetings2!$B475=\"\",\"\",IF(Meetings2!$C475=\"\",\"\",LEFT(Meetings2!B475,FIND(\"(\",Meetings2!$B475)-2)))","v":""},{"$f":"IF(Meetings2!$B475=\"\",\"\",Meetings2!$B475)","v":""},{"$nulls":11},{"$f":"IF(AA475=\"\",\"\",IF(AA475=\"Career::\",Form!A473,\"\"))","v":""}]
[{"$nulls":12},{"$f":"IF(Meetings2!$B476=\"\",\"\",IF(Meetings2!$C476=\"\",\"\",LEFT(Meetings2!B476,FIND(\"(\",Meetings2!$B476)-2)))","v":""},{"$f":"IF(Meetings2!$B476=\"\",\"\",Meetings2!$B476)","v":""},{"$nulls":11},{"$f":"IF(AA476=\"\",\"\",IF(AA476=\"Career::\",Form!A474,\"\"))","v":""}]
[{"$nulls":12},{"$f":"IF(Meetings2!$B477=\"\",\"\",IF(Meetings2!$C477=\"\",\"\",LEFT(Meetings2!B477,FIND(\"(\",Meetings2!$B477)-2)))","v":""},{"$f":"IF(Meetings2!$B477=\"\",\"\",Meetings2!$B477)","v":""},{"$nulls":11},{"$f":"IF(AA477=\"\",\"\",IF(AA477=\"Career::\",Form!A475,\"\"))","v":""}]
[{"$nulls":12},{"$f":"IF(Meetings2!$B478=\"\",\"\",IF(Meetings2!$C478=\"\",\"\",LEFT(Meetings2!B478,FIND(\"(\",Meetings2!$B478)-2)))","v":""},{"$f":"IF(Meetings2!$B478=\"\",\"\",Meetings2!$B478)","v":""},{"$nulls":11},{"$f":"IF(AA478=\"\",\"\",IF(AA478=\"Career::\",Form!A476,\"\"))","v":""}]
[{"$nulls":12},{"$f":"IF(Meetings2!$B479=\"\",\"\",IF(Meetings2!$C479=\"\",\"\",LEFT(Meetings2!B479,FIND(\"(\",Meetings2!$B479)-2)))","v":""},{"$f":"IF(Meetings2!$B479=\"\",\"\",Meetings2!$B479)","v":""},{"$nulls":11},{"$f":"IF(AA479=\"\",\"\",IF(AA479=\"Career::\",Form!A477,\"\"))","v":""}]
[{"$nulls":12},{"$f":"IF(Meetings2!$B480=\"\",\"\",IF(Meetings2!$C480=\"\",\"\",LEFT(Meetings2!B480,FIND(\"(\",Meetings2!$B480)-2)))","v":""},{"$f":"IF(Meetings2!$B480=\"\",\"\",Meetings2!$B480)","v":""},{"$nulls":11},{"$f":"IF(AA480=\"\",\"\",IF(AA480=\"Career::\",Form!A478,\"\"))","v":""}]
[{"$nulls":12},{"$f":"IF(Meetings2!$B481=\"\",\"\",IF(Meetings2!$C481=\"\",\"\",LEFT(Meetings2!B481,FIND(\"(\",Meetings2!$B481)-2)))","v":""},{"$f":"IF(Meetings2!$B481=\"\",\"\",Meetings2!$B481)","v":""},{"$nulls":11},{"$f":"IF(AA481=\"\",\"\",IF(AA481=\"Career::\",Form!A479,\"\"))","v":""}]
[{"$nulls":12},{"$f":"IF(Meetings2!$B482=\"\",\"\",IF(Meetings2!$C482=\"\",\"\",LEFT(Meetings2!B482,FIND(\"(\",Meetings2!$B482)-2)))","v":""},{"$f":"IF(Meetings2!$B482=\"\",\"\",Meetings2!$B482)","v":""},{"$nulls":11},{"$f":"IF(AA482=\"\",\"\",IF(AA482=\"Career::\",Form!A480,\"\"))","v":""}]
[{"$nulls":12},{"$f":"IF(Meetings2!$B483=\"\",\"\",IF(Meetings2!$C483=\"\",\"\",LEFT(Meetings2!B483,FIND(\"(\",Meetings2!$B483)-2)))","v":""},{"$f":"IF(Meetings2!$B483=\"\",\"\",Meetings2!$B483)","v":""},{"$nulls":11},{"$f":"IF(AA483=\"\",\"\",IF(AA483=\"Career::\",Form!A481,\"\"))","v":""}]
[{"$nulls":12},{"$f":"IF(Meetings2!$B484=\"\",\"\",IF(Meetings2!$C484=\"\",\"\",LEFT(Meetings2!B484,FIND(\"(\",Meetings2!$B484)-2)))","v":""},{"$f":"IF(Meetings2!$B484=\"\",\"\",Meetings2!$B484)","v":""},{"$nulls":11},{"$f":"IF(AA484=\"\",\"\",IF(AA484=\"Career::\",Form!A482,\"\"))","v":""}]
[{"$nulls":12},{"$f":"IF(Meetings2!$B485=\"\",\"\",IF(Meetings2!$C485=\"\",\"\",LEFT(Meetings2!B485,FIND(\"(\",Meetings2!$B485)-2)))","v":""},{"$f":"IF(Meetings2!$B485=\"\",\"\",Meetings2!$B485)","v":""},{"$nulls":11},{"$f":"IF(AA485=\"\",\"\",IF(AA485=\"Career::\",Form!A483,\"\"))","v":""}]
[{"$nulls":12},{"$f":"IF(Meetings2!$B486=\"\",\"\",IF(Meetings2!$C486=\"\",\"\",LEFT(Meetings2!B486,FIND(\"(\",Meetings2!$B486)-2)))","v":""},{"$f":"IF(Meetings2!$B486=\"\",\"\",Meetings2!$B486)","v":""},{"$nulls":11},{"$f":"IF(AA486=\"\",\"\",IF(AA486=\"Career::\",Form!A484,\"\"))","v":""}]
[{"$nulls":12},{"$f":"IF(Meetings2!$B487=\"\",\"\",IF(Meetings2!$C487=\"\",\"\",LEFT(Meetings2!B487,FIND(\"(\",Meetings2!$B487)-2)))","v":""},{"$f":"IF(Meetings2!$B487=\"\",\"\",Meetings2!$B487)","v":""},{"$nulls":11},{"$f":"IF(AA487=\"\",\"\",IF(AA487=\"Career::\",Form!A485,\"\"))","v":""}]
[{"$nulls":12},{"$f":"IF(Meetings2!$B488=\"\",\"\",IF(Meetings2!$C488=\"\",\"\",LEFT(Meetings2!B488,FIND(\"(\",Meetings2!$B488)-2)))","v":""},{"$f":"IF(Meetings2!$B488=\"\",\"\",Meetings2!$B488)","v":""},{"$nulls":11},{"$f":"IF(AA488=\"\",\"\",IF(AA488=\"Career::\",Form!A486,\"\"))","v":""}]
[{"$nulls":12},{"$f":"IF(Meetings2!$B489=\"\",\"\",IF(Meetings2!$C489=\"\",\"\",LEFT(Meetings2!B489,FIND(\"(\",Meetings2!$B489)-2)))","v":""},{"$f":"IF(Meetings2!$B489=\"\",\"\",Meetings2!$B489)","v":""},{"$nulls":11},{"$f":"IF(AA489=\"\",\"\",IF(AA489=\"Career::\",Form!A487,\"\"))","v":""}]
[{"$nulls":12},{"$f":"IF(Meetings2!$B490=\"\",\"\",IF(Meetings2!$C490=\"\",\"\",LEFT(Meetings2!B490,FIND(\"(\",Meetings2!$B490)-2)))","v":""},{"$f":"IF(Meetings2!$B490=\"\",\"\",Meetings2!$B490)","v":""},{"$nulls":11},{"$f":"IF(AA490=\"\",\"\",IF(AA490=\"Career::\",Form!A488,\"\"))","v":""}]
[{"$nulls":12},{"$f":"IF(Meetings2!$B491=\"\",\"\",IF(Meetings2!$C491=\"\",\"\",LEFT(Meetings2!B491,FIND(\"(\",Meetings2!$B491)-2)))","v":""},{"$f":"IF(Meetings2!$B491=\"\",\"\",Meetings2!$B491)","v":""},{"$nulls":11},{"$f":"IF(AA491=\"\",\"\",IF(AA491=\"Career::\",Form!A489,\"\"))","v":""}]
[{"$nulls":12},{"$f":"IF(Meetings2!$B492=\"\",\"\",IF(Meetings2!$C492=\"\",\"\",LEFT(Meetings2!B492,FIND(\"(\",Meetings2!$B492)-2)))","v":""},{"$f":"IF(Meetings2!$B492=\"\",\"\",Meetings2!$B492)","v":""},{"$nulls":11},{"$f":"IF(AA492=\"\",\"\",IF(AA492=\"Career::\",Form!A490,\"\"))","v":""}]
[{"$nulls":12},{"$f":"IF(Meetings2!$B493=\"\",\"\",IF(Meetings2!$C493=\"\",\"\",LEFT(Meetings2!B493,FIND(\"(\",Meetings2!$B493)-2)))","v":""},{"$f":"IF(Meetings2!$B493=\"\",\"\",Meetings2!$B493)","v":""},{"$nulls":11},{"$f":"IF(AA493=\"\",\"\",IF(AA493=\"Career::\",Form!A491,\"\"))","v":""}]
[{"$nulls":12},{"$f":"IF(Meetings2!$B494=\"\",\"\",IF(Meetings2!$C494=\"\",\"\",LEFT(Meetings2!B494,FIND(\"(\",Meetings2!$B494)-2)))","v":""},{"$f":"IF(Meetings2!$B494=\"\",\"\",Meetings2!$B494)","v":""},{"$nulls":11},{"$f":"IF(AA494=\"\",\"\",IF(AA494=\"Career::\",Form!A492,\"\"))","v":""}]
[{"$nulls":12},{"$f":"IF(Meetings2!$B495=\"\",\"\",IF(Meetings2!$C495=\"\",\"\",LEFT(Meetings2!B495,FIND(\"(\",Meetings2!$B495)-2)))","v":""},{"$f":"IF(Meetings2!$B495=\"\",\"\",Meetings2!$B495)","v":""},{"$nulls":11},{"$f":"IF(AA495=\"\",\"\",IF(AA495=\"Career::\",Form!A493,\"\"))","v":""}]
[{"$nulls":12},{"$f":"IF(Meetings2!$B496=\"\",\"\",IF(Meetings2!$C496=\"\",\"\",LEFT(Meetings2!B496,FIND(\"(\",Meetings2!$B496)-2)))","v":""},{"$f":"IF(Meetings2!$B496=\"\",\"\",Meetings2!$B496)","v":""},{"$nulls":11},{"$f":"IF(AA496=\"\",\"\",IF(AA496=\"Career::\",Form!A494,\"\"))","v":""}]
[{"$nulls":12},{"$f":"IF(Meetings2!$B497=\"\",\"\",IF(Meetings2!$C497=\"\",\"\",LEFT(Meetings2!B497,FIND(\"(\",Meetings2!$B497)-2)))","v":""},{"$f":"IF(Meetings2!$B497=\"\",\"\",Meetings2!$B497)","v":""},{"$nulls":11},{"$f":"IF(AA497=\"\",\"\",IF(AA497=\"Career::\",Form!A495,\"\"))","v":""}]
[{"$nulls":12},{"$f":"IF(Meetings2!$B498=\"\",\"\",IF(Meetings2!$C498=\"\",\"\",LEFT(Meetings2!B498,FIND(\"(\",Meetings2!$B498)-2)))","v":""},{"$f":"IF(Meetings2!$B498=\"\",\"\",Meetings2!$B498)","v":""},{"$nulls":11},{"$f":"IF(AA498=\"\",\"\",IF(AA498=\"Career::\",Form!A496,\"\"))","v":""}]
[{"$nulls":12},{"$f":"IF(Meetings2!$B499=\"\",\"\",IF(Meetings2!$C499=\"\",\"\",LEFT(Meetings2!B499,FIND(\"(\",Meetings2!$B499)-2)))","v":""},{"$f":"IF(Meetings2!$B499=\"\",\"\",Meetings2!$B499)","v":""},{"$nulls":11},{"$f":"IF(AA499=\"\",\"\",IF(AA499=\"Career::\",Form!A497,\"\"))","v":""}]
[{"$nulls":12},{"$f":"IF(Meetings2!$B500=\"\",\"\",IF(Meetings2!$C500=\"\",\"\",LEFT(Meetings2!B500,FIND(\"(\",Meetings2!$B500)-2)))","v":""},{"$f":"IF(Meetings2!$B500=\"\",\"\",Meetings2!$B500)","v":""},{"$nulls":11},{"$f":"IF(AA500=\"\",\"\",IF(AA500=\"Career::\",Form!A498,\"\"))","v":""}]
[{"$nulls":12},{"$f":"IF(Meetings2!$B501=\"\",\"\",IF(Meetings2!$C501=\"\",\"\",LEFT(Meetings2!B501,FIND(\"(\",Meetings2!$B501)-2)))","v":""},{"$f":"IF(Meetings2!$B501=\"\",\"\",Meetings2!$B501)","v":""},{"$nulls":11},{"$f":"IF(AA501=\"\",\"\",IF(AA501=\"Career::\",Form!A499,\"\"))","v":""}]
[{"$nulls":12},{"$f":"IF(Meetings2!$B502=\"\",\"\",IF(Meetings2!$C502=\"\",\"\",LEFT(Meetings2!B502,FIND(\"(\",Meetings2!$B502)-2)))","v":""},{"$f":"IF(Meetings2!$B502=\"\",\"\",Meetings2!$B502)","v":""},{"$nulls":11},{"$f":"IF(AA502=\"\",\"\",IF(AA502=\"Career::\",Form!A500,\"\"))","v":""}]
[{"$nulls":12},{"$f":"IF(Meetings2!$B503=\"\",\"\",IF(Meetings2!$C503=\"\",\"\",LEFT(Meetings2!B503,FIND(\"(\",Meetings2!$B503)-2)))","v":""},{"$f":"IF(Meetings2!$B503=\"\",\"\",Meetings2!$B503)","v":""},{"$nulls":11},{"$f":"IF(AA503=\"\",\"\",IF(AA503=\"Career::\",Form!A501,\"\"))","v":""}]
[{"$nulls":12},{"$f":"IF(Meetings2!$B504=\"\",\"\",IF(Meetings2!$C504=\"\",\"\",LEFT(Meetings2!B504,FIND(\"(\",Meetings2!$B504)-2)))","v":""},{"$f":"IF(Meetings2!$B504=\"\",\"\",Meetings2!$B504)","v":""},{"$nulls":11},{"$f":"IF(AA504=\"\",\"\",IF(AA504=\"Career::\",Form!A502,\"\"))","v":""}]
[{"$nulls":12},{"$f":"IF(Meetings2!$B505=\"\",\"\",IF(Meetings2!$C505=\"\",\"\",LEFT(Meetings2!B505,FIND(\"(\",Meetings2!$B505)-2)))","v":""},{"$f":"IF(Meetings2!$B505=\"\",\"\",Meetings2!$B505)","v":""},{"$nulls":11},{"$f":"IF(AA505=\"\",\"\",IF(AA505=\"Career::\",Form!A503,\"\"))","v":""}]
[{"$nulls":12},{"$f":"IF(Meetings2!$B506=\"\",\"\",IF(Meetings2!$C506=\"\",\"\",LEFT(Meetings2!B506,FIND(\"(\",Meetings2!$B506)-2)))","v":""},{"$f":"IF(Meetings2!$B506=\"\",\"\",Meetings2!$B506)","v":""},{"$nulls":11},{"$f":"IF(AA506=\"\",\"\",IF(AA506=\"Career::\",Form!A504,\"\"))","v":""}]
[{"$nulls":12},{"$f":"IF(Meetings2!$B507=\"\",\"\",IF(Meetings2!$C507=\"\",\"\",LEFT(Meetings2!B507,FIND(\"(\",Meetings2!$B507)-2)))","v":""},{"$f":"IF(Meetings2!$B507=\"\",\"\",Meetings2!$B507)","v":""},{"$nulls":11},{"$f":"IF(AA507=\"\",\"\",IF(AA507=\"Career::\",Form!A505,\"\"))","v":""}]
[{"$nulls":12},{"$f":"IF(Meetings2!$B508=\"\",\"\",IF(Meetings2!$C508=\"\",\"\",LEFT(Meetings2!B508,FIND(\"(\",Meetings2!$B508)-2)))","v":""},{"$f":"IF(Meetings2!$B508=\"\",\"\",Meetings2!$B508)","v":""},{"$nulls":11},{"$f":"IF(AA508=\"\",\"\",IF(AA508=\"Career::\",Form!A506,\"\"))","v":""}]
[{"$nulls":12},{"$f":"IF(Meetings2!$B509=\"\",\"\",IF(Meetings2!$C509=\"\",\"\",LEFT(Meetings2!B509,FIND(\"(\",Meetings2!$B509)-2)))","v":""},{"$f":"IF(Meetings2!$B509=\"\",\"\",Meetings2!$B509)","v":""},{"$nulls":11},{"$f":"IF(AA509=\"\",\"\",IF(AA509=\"Career::\",Form!A507,\"\"))","v":""}]
[{"$nulls":12},{"$f":"IF(Meetings2!$B510=\"\",\"\",IF(Meetings2!$C510=\"\",\"\",LEFT(Meetings2!B510,FIND(\"(\",Meetings2!$B510)-2)))","v":""},{"$f":"IF(Meetings2!$B510=\"\",\"\",Meetings2!$B510)","v":""},{"$nulls":11},{"$f":"IF(AA510=\"\",\"\",IF(AA510=\"Career::\",Form!A508,\"\"))","v":""}]
[{"$nulls":12},{"$f":"IF(Meetings2!$B511=\"\",\"\",IF(Meetings2!$C511=\"\",\"\",LEFT(Meetings2!B511,FIND(\"(\",Meetings2!$B511)-2)))","v":""},{"$f":"IF(Meetings2!$B511=\"\",\"\",Meetings2!$B511)","v":""},{"$nulls":11},{"$f":"IF(AA511=\"\",\"\",IF(AA511=\"Career::\",Form!A509,\"\"))","v":""}]
[{"$nulls":12},{"$f":"IF(Meetings2!$B512=\"\",\"\",IF(Meetings2!$C512=\"\",\"\",LEFT(Meetings2!B512,FIND(\"(\",Meetings2!$B512)-2)))","v":""},{"$f":"IF(Meetings2!$B512=\"\",\"\",Meetings2!$B512)","v":""},{"$nulls":11},{"$f":"IF(AA512=\"\",\"\",IF(AA512=\"Career::\",Form!A510,\"\"))","v":""}]
[{"$nulls":12},{"$f":"IF(Meetings2!$B513=\"\",\"\",IF(Meetings2!$C513=\"\",\"\",LEFT(Meetings2!B513,FIND(\"(\",Meetings2!$B513)-2)))","v":""},{"$f":"IF(Meetings2!$B513=\"\",\"\",Meetings2!$B513)","v":""},{"$nulls":11},{"$f":"IF(AA513=\"\",\"\",IF(AA513=\"Career::\",Form!A511,\"\"))","v":""}]
[{"$nulls":12},{"$f":"IF(Meetings2!$B514=\"\",\"\",IF(Meetings2!$C514=\"\",\"\",LEFT(Meetings2!B514,FIND(\"(\",Meetings2!$B514)-2)))","v":""},{"$f":"IF(Meetings2!$B514=\"\",\"\",Meetings2!$B514)","v":""},{"$nulls":11},{"$f":"IF(AA514=\"\",\"\",IF(AA514=\"Career::\",Form!A512,\"\"))","v":""}]
[{"$nulls":12},{"$f":"IF(Meetings2!$B515=\"\",\"\",IF(Meetings2!$C515=\"\",\"\",LEFT(Meetings2!B515,FIND(\"(\",Meetings2!$B515)-2)))","v":""},{"$f":"IF(Meetings2!$B515=\"\",\"\",Meetings2!$B515)","v":""},{"$nulls":11},{"$f":"IF(AA515=\"\",\"\",IF(AA515=\"Career::\",Form!A513,\"\"))","v":""}]
[{"$nulls":12},{"$f":"IF(Meetings2!$B516=\"\",\"\",IF(Meetings2!$C516=\"\",\"\",LEFT(Meetings2!B516,FIND(\"(\",Meetings2!$B516)-2)))","v":""},{"$f":"IF(Meetings2!$B516=\"\",\"\",Meetings2!$B516)","v":""},{"$nulls":11},{"$f":"IF(AA516=\"\",\"\",IF(AA516=\"Career::\",Form!A514,\"\"))","v":""}]
[{"$nulls":12},{"$f":"IF(Meetings2!$B517=\"\",\"\",IF(Meetings2!$C517=\"\",\"\",LEFT(Meetings2!B517,FIND(\"(\",Meetings2!$B517)-2)))","v":""},{"$f":"IF(Meetings2!$B517=\"\",\"\",Meetings2!$B517)","v":""},{"$nulls":11},{"$f":"IF(AA517=\"\",\"\",IF(AA517=\"Career::\",Form!A515,\"\"))","v":""}]
[{"$nulls":12},{"$f":"IF(Meetings2!$B518=\"\",\"\",IF(Meetings2!$C518=\"\",\"\",LEFT(Meetings2!B518,FIND(\"(\",Meetings2!$B518)-2)))","v":""},{"$f":"IF(Meetings2!$B518=\"\",\"\",Meetings2!$B518)","v":""},{"$nulls":11},{"$f":"IF(AA518=\"\",\"\",IF(AA518=\"Career::\",Form!A516,\"\"))","v":""}]
[{"$nulls":12},{"$f":"IF(Meetings2!$B519=\"\",\"\",IF(Meetings2!$C519=\"\",\"\",LEFT(Meetings2!B519,FIND(\"(\",Meetings2!$B519)-2)))","v":""},{"$f":"IF(Meetings2!$B519=\"\",\"\",Meetings2!$B519)","v":""},{"$nulls":11},{"$f":"IF(AA519=\"\",\"\",IF(AA519=\"Career::\",Form!A517,\"\"))","v":""}]
[{"$nulls":12},{"$f":"IF(Meetings2!$B520=\"\",\"\",IF(Meetings2!$C520=\"\",\"\",LEFT(Meetings2!B520,FIND(\"(\",Meetings2!$B520)-2)))","v":""},{"$f":"IF(Meetings2!$B520=\"\",\"\",Meetings2!$B520)","v":""},{"$nulls":11},{"$f":"IF(AA520=\"\",\"\",IF(AA520=\"Career::\",Form!A518,\"\"))","v":""}]
[{"$nulls":12},{"$f":"IF(Meetings2!$B521=\"\",\"\",IF(Meetings2!$C521=\"\",\"\",LEFT(Meetings2!B521,FIND(\"(\",Meetings2!$B521)-2)))","v":""},{"$f":"IF(Meetings2!$B521=\"\",\"\",Meetings2!$B521)","v":""},{"$nulls":11},{"$f":"IF(AA521=\"\",\"\",IF(AA521=\"Career::\",Form!A519,\"\"))","v":""}]
[{"$nulls":12},{"$f":"IF(Meetings2!$B522=\"\",\"\",IF(Meetings2!$C522=\"\",\"\",LEFT(Meetings2!B522,FIND(\"(\",Meetings2!$B522)-2)))","v":""},{"$f":"IF(Meetings2!$B522=\"\",\"\",Meetings2!$B522)","v":""},{"$nulls":11},{"$f":"IF(AA522=\"\",\"\",IF(AA522=\"Career::\",Form!A520,\"\"))","v":""}]
[{"$nulls":12},{"$f":"IF(Meetings2!$B523=\"\",\"\",IF(Meetings2!$C523=\"\",\"\",LEFT(Meetings2!B523,FIND(\"(\",Meetings2!$B523)-2)))","v":""},{"$f":"IF(Meetings2!$B523=\"\",\"\",Meetings2!$B523)","v":""},{"$nulls":11},{"$f":"IF(AA523=\"\",\"\",IF(AA523=\"Career::\",Form!A521,\"\"))","v":""}]
[{"$nulls":12},{"$f":"IF(Meetings2!$B524=\"\",\"\",IF(Meetings2!$C524=\"\",\"\",LEFT(Meetings2!B524,FIND(\"(\",Meetings2!$B524)-2)))","v":""},{"$f":"IF(Meetings2!$B524=\"\",\"\",Meetings2!$B524)","v":""},{"$nulls":11},{"$f":"IF(AA524=\"\",\"\",IF(AA524=\"Career::\",Form!A522,\"\"))","v":""}]
[{"$nulls":12},{"$f":"IF(Meetings2!$B525=\"\",\"\",IF(Meetings2!$C525=\"\",\"\",LEFT(Meetings2!B525,FIND(\"(\",Meetings2!$B525)-2)))","v":""},{"$f":"IF(Meetings2!$B525=\"\",\"\",Meetings2!$B525)","v":""},{"$nulls":11},{"$f":"IF(AA525=\"\",\"\",IF(AA525=\"Career::\",Form!A523,\"\"))","v":""}]
[{"$nulls":12},{"$f":"IF(Meetings2!$B526=\"\",\"\",IF(Meetings2!$C526=\"\",\"\",LEFT(Meetings2!B526,FIND(\"(\",Meetings2!$B526)-2)))","v":""},{"$f":"IF(Meetings2!$B526=\"\",\"\",Meetings2!$B526)","v":""},{"$nulls":11},{"$f":"IF(AA526=\"\",\"\",IF(AA526=\"Career::\",Form!A524,\"\"))","v":""}]
[{"$nulls":12},{"$f":"IF(Meetings2!$B527=\"\",\"\",IF(Meetings2!$C527=\"\",\"\",LEFT(Meetings2!B527,FIND(\"(\",Meetings2!$B527)-2)))","v":""},{"$f":"IF(Meetings2!$B527=\"\",\"\",Meetings2!$B527)","v":""},{"$nulls":11},{"$f":"IF(AA527=\"\",\"\",IF(AA527=\"Career::\",Form!A525,\"\"))","v":""}]
[{"$nulls":12},{"$f":"IF(Meetings2!$B528=\"\",\"\",IF(Meetings2!$C528=\"\",\"\",LEFT(Meetings2!B528,FIND(\"(\",Meetings2!$B528)-2)))","v":""},{"$f":"IF(Meetings2!$B528=\"\",\"\",Meetings2!$B528)","v":""},{"$nulls":11},{"$f":"IF(AA528=\"\",\"\",IF(AA528=\"Career::\",Form!A526,\"\"))","v":""}]
[{"$nulls":12},{"$f":"IF(Meetings2!$B529=\"\",\"\",IF(Meetings2!$C529=\"\",\"\",LEFT(Meetings2!B529,FIND(\"(\",Meetings2!$B529)-2)))","v":""},{"$f":"IF(Meetings2!$B529=\"\",\"\",Meetings2!$B529)","v":""},{"$nulls":11},{"$f":"IF(AA529=\"\",\"\",IF(AA529=\"Career::\",Form!A527,\"\"))","v":""}]
[{"$nulls":12},{"$f":"IF(Meetings2!$B530=\"\",\"\",IF(Meetings2!$C530=\"\",\"\",LEFT(Meetings2!B530,FIND(\"(\",Meetings2!$B530)-2)))","v":""},{"$f":"IF(Meetings2!$B530=\"\",\"\",Meetings2!$B530)","v":""},{"$nulls":11},{"$f":"IF(AA530=\"\",\"\",IF(AA530=\"Career::\",Form!A528,\"\"))","v":""}]
[{"$nulls":12},{"$f":"IF(Meetings2!$B531=\"\",\"\",IF(Meetings2!$C531=\"\",\"\",LEFT(Meetings2!B531,FIND(\"(\",Meetings2!$B531)-2)))","v":""},{"$f":"IF(Meetings2!$B531=\"\",\"\",Meetings2!$B531)","v":""},{"$nulls":11},{"$f":"IF(AA531=\"\",\"\",IF(AA531=\"Career::\",Form!A529,\"\"))","v":""}]
[{"$nulls":12},{"$f":"IF(Meetings2!$B532=\"\",\"\",IF(Meetings2!$C532=\"\",\"\",LEFT(Meetings2!B532,FIND(\"(\",Meetings2!$B532)-2)))","v":""},{"$f":"IF(Meetings2!$B532=\"\",\"\",Meetings2!$B532)","v":""},{"$nulls":11},{"$f":"IF(AA532=\"\",\"\",IF(AA532=\"Career::\",Form!A530,\"\"))","v":""}]
[{"$nulls":12},{"$f":"IF(Meetings2!$B533=\"\",\"\",IF(Meetings2!$C533=\"\",\"\",LEFT(Meetings2!B533,FIND(\"(\",Meetings2!$B533)-2)))","v":""},{"$f":"IF(Meetings2!$B533=\"\",\"\",Meetings2!$B533)","v":""},{"$nulls":11},{"$f":"IF(AA533=\"\",\"\",IF(AA533=\"Career::\",Form!A531,\"\"))","v":""}]
[{"$nulls":12},{"$f":"IF(Meetings2!$B534=\"\",\"\",IF(Meetings2!$C534=\"\",\"\",LEFT(Meetings2!B534,FIND(\"(\",Meetings2!$B534)-2)))","v":""},{"$f":"IF(Meetings2!$B534=\"\",\"\",Meetings2!$B534)","v":""},{"$nulls":11},{"$f":"IF(AA534=\"\",\"\",IF(AA534=\"Career::\",Form!A532,\"\"))","v":""}]
[{"$nulls":12},{"$f":"IF(Meetings2!$B535=\"\",\"\",IF(Meetings2!$C535=\"\",\"\",LEFT(Meetings2!B535,FIND(\"(\",Meetings2!$B535)-2)))","v":""},{"$f":"IF(Meetings2!$B535=\"\",\"\",Meetings2!$B535)","v":""},{"$nulls":11},{"$f":"IF(AA535=\"\",\"\",IF(AA535=\"Career::\",Form!A533,\"\"))","v":""}]
[{"$nulls":12},{"$f":"IF(Meetings2!$B536=\"\",\"\",IF(Meetings2!$C536=\"\",\"\",LEFT(Meetings2!B536,FIND(\"(\",Meetings2!$B536)-2)))","v":""},{"$f":"IF(Meetings2!$B536=\"\",\"\",Meetings2!$B536)","v":""},{"$nulls":11},{"$f":"IF(AA536=\"\",\"\",IF(AA536=\"Career::\",Form!A534,\"\"))","v":""}]
[{"$nulls":12},{"$f":"IF(Meetings2!$B537=\"\",\"\",IF(Meetings2!$C537=\"\",\"\",LEFT(Meetings2!B537,FIND(\"(\",Meetings2!$B537)-2)))","v":""},{"$f":"IF(Meetings2!$B537=\"\",\"\",Meetings2!$B537)","v":""},{"$nulls":11},{"$f":"IF(AA537=\"\",\"\",IF(AA537=\"Career::\",Form!A535,\"\"))","v":""}]
[{"$nulls":12},{"$f":"IF(Meetings2!$B538=\"\",\"\",IF(Meetings2!$C538=\"\",\"\",LEFT(Meetings2!B538,FIND(\"(\",Meetings2!$B538)-2)))","v":""},{"$f":"IF(Meetings2!$B538=\"\",\"\",Meetings2!$B538)","v":""},{"$nulls":11},{"$f":"IF(AA538=\"\",\"\",IF(AA538=\"Career::\",Form!A536,\"\"))","v":""}]
[{"$nulls":12},{"$f":"IF(Meetings2!$B539=\"\",\"\",IF(Meetings2!$C539=\"\",\"\",LEFT(Meetings2!B539,FIND(\"(\",Meetings2!$B539)-2)))","v":""},{"$f":"IF(Meetings2!$B539=\"\",\"\",Meetings2!$B539)","v":""},{"$nulls":11},{"$f":"IF(AA539=\"\",\"\",IF(AA539=\"Career::\",Form!A537,\"\"))","v":""}]
[{"$nulls":12},{"$f":"IF(Meetings2!$B540=\"\",\"\",IF(Meetings2!$C540=\"\",\"\",LEFT(Meetings2!B540,FIND(\"(\",Meetings2!$B540)-2)))","v":""},{"$f":"IF(Meetings2!$B540=\"\",\"\",Meetings2!$B540)","v":""},{"$nulls":11},{"$f":"IF(AA540=\"\",\"\",IF(AA540=\"Career::\",Form!A538,\"\"))","v":""}]
[{"$nulls":12},{"$f":"IF(Meetings2!$B541=\"\",\"\",IF(Meetings2!$C541=\"\",\"\",LEFT(Meetings2!B541,FIND(\"(\",Meetings2!$B541)-2)))","v":""},{"$f":"IF(Meetings2!$B541=\"\",\"\",Meetings2!$B541)","v":""},{"$nulls":11},{"$f":"IF(AA541=\"\",\"\",IF(AA541=\"Career::\",Form!A539,\"\"))","v":""}]
[{"$nulls":12},{"$f":"IF(Meetings2!$B542=\"\",\"\",IF(Meetings2!$C542=\"\",\"\",LEFT(Meetings2!B542,FIND(\"(\",Meetings2!$B542)-2)))","v":""},{"$f":"IF(Meetings2!$B542=\"\",\"\",Meetings2!$B542)","v":""},{"$nulls":11},{"$f":"IF(AA542=\"\",\"\",IF(AA542=\"Career::\",Form!A540,\"\"))","v":""}]
[{"$nulls":12},{"$f":"IF(Meetings2!$B543=\"\",\"\",IF(Meetings2!$C543=\"\",\"\",LEFT(Meetings2!B543,FIND(\"(\",Meetings2!$B543)-2)))","v":""},{"$f":"IF(Meetings2!$B543=\"\",\"\",Meetings2!$B543)","v":""},{"$nulls":11},{"$f":"IF(AA543=\"\",\"\",IF(AA543=\"Career::\",Form!A541,\"\"))","v":""}]
[{"$nulls":12},{"$f":"IF(Meetings2!$B544=\"\",\"\",IF(Meetings2!$C544=\"\",\"\",LEFT(Meetings2!B544,FIND(\"(\",Meetings2!$B544)-2)))","v":""},{"$f":"IF(Meetings2!$B544=\"\",\"\",Meetings2!$B544)","v":""},{"$nulls":11},{"$f":"IF(AA544=\"\",\"\",IF(AA544=\"Career::\",Form!A542,\"\"))","v":""}]
[{"$nulls":12},{"$f":"IF(Meetings2!$B545=\"\",\"\",IF(Meetings2!$C545=\"\",\"\",LEFT(Meetings2!B545,FIND(\"(\",Meetings2!$B545)-2)))","v":""},{"$f":"IF(Meetings2!$B545=\"\",\"\",Meetings2!$B545)","v":""},{"$nulls":11},{"$f":"IF(AA545=\"\",\"\",IF(AA545=\"Career::\",Form!A543,\"\"))","v":""}]
[{"$nulls":12},{"$f":"IF(Meetings2!$B546=\"\",\"\",IF(Meetings2!$C546=\"\",\"\",LEFT(Meetings2!B546,FIND(\"(\",Meetings2!$B546)-2)))","v":""},{"$f":"IF(Meetings2!$B546=\"\",\"\",Meetings2!$B546)","v":""},{"$nulls":11},{"$f":"IF(AA546=\"\",\"\",IF(AA546=\"Career::\",Form!A544,\"\"))","v":""}]
[{"$nulls":12},{"$f":"IF(Meetings2!$B547=\"\",\"\",IF(Meetings2!$C547=\"\",\"\",LEFT(Meetings2!B547,FIND(\"(\",Meetings2!$B547)-2)))","v":""},{"$f":"IF(Meetings2!$B547=\"\",\"\",Meetings2!$B547)","v":""},{"$nulls":11},{"$f":"IF(AA547=\"\",\"\",IF(AA547=\"Career::\",Form!A545,\"\"))","v":""}]
[{"$nulls":12},{"$f":"IF(Meetings2!$B548=\"\",\"\",IF(Meetings2!$C548=\"\",\"\",LEFT(Meetings2!B548,FIND(\"(\",Meetings2!$B548)-2)))","v":""},{"$f":"IF(Meetings2!$B548=\"\",\"\",Meetings2!$B548)","v":""},{"$nulls":11},{"$f":"IF(AA548=\"\",\"\",IF(AA548=\"Career::\",Form!A546,\"\"))","v":""}]
[{"$nulls":12},{"$f":"IF(Meetings2!$B549=\"\",\"\",IF(Meetings2!$C549=\"\",\"\",LEFT(Meetings2!B549,FIND(\"(\",Meetings2!$B549)-2)))","v":""},{"$f":"IF(Meetings2!$B549=\"\",\"\",Meetings2!$B549)","v":""},{"$nulls":11},{"$f":"IF(AA549=\"\",\"\",IF(AA549=\"Career::\",Form!A547,\"\"))","v":""}]
[{"$nulls":12},{"$f":"IF(Meetings2!$B550=\"\",\"\",IF(Meetings2!$C550=\"\",\"\",LEFT(Meetings2!B550,FIND(\"(\",Meetings2!$B550)-2)))","v":""},{"$f":"IF(Meetings2!$B550=\"\",\"\",Meetings2!$B550)","v":""},{"$nulls":11},{"$f":"IF(AA550=\"\",\"\",IF(AA550=\"Career::\",Form!A548,\"\"))","v":""}]
[{"$nulls":12},{"$f":"IF(Meetings2!$B551=\"\",\"\",IF(Meetings2!$C551=\"\",\"\",LEFT(Meetings2!B551,FIND(\"(\",Meetings2!$B551)-2)))","v":""},{"$f":"IF(Meetings2!$B551=\"\",\"\",Meetings2!$B551)","v":""},{"$nulls":11},{"$f":"IF(AA551=\"\",\"\",IF(AA551=\"Career::\",Form!A549,\"\"))","v":""}]
[{"$nulls":12},{"$f":"IF(Meetings2!$B552=\"\",\"\",IF(Meetings2!$C552=\"\",\"\",LEFT(Meetings2!B552,FIND(\"(\",Meetings2!$B552)-2)))","v":""},{"$f":"IF(Meetings2!$B552=\"\",\"\",Meetings2!$B552)","v":""},{"$nulls":11},{"$f":"IF(AA552=\"\",\"\",IF(AA552=\"Career::\",Form!A550,\"\"))","v":""}]
[{"$nulls":12},{"$f":"IF(Meetings2!$B553=\"\",\"\",IF(Meetings2!$C553=\"\",\"\",LEFT(Meetings2!B553,FIND(\"(\",Meetings2!$B553)-2)))","v":""},{"$f":"IF(Meetings2!$B553=\"\",\"\",Meetings2!$B553)","v":""},{"$nulls":11},{"$f":"IF(AA553=\"\",\"\",IF(AA553=\"Career::\",Form!A551,\"\"))","v":""}]
[{"$nulls":12},{"$f":"IF(Meetings2!$B554=\"\",\"\",IF(Meetings2!$C554=\"\",\"\",LEFT(Meetings2!B554,FIND(\"(\",Meetings2!$B554)-2)))","v":""},{"$f":"IF(Meetings2!$B554=\"\",\"\",Meetings2!$B554)","v":""},{"$nulls":11},{"$f":"IF(AA554=\"\",\"\",IF(AA554=\"Career::\",Form!A552,\"\"))","v":""}]
[{"$nulls":12},{"$f":"IF(Meetings2!$B555=\"\",\"\",IF(Meetings2!$C555=\"\",\"\",LEFT(Meetings2!B555,FIND(\"(\",Meetings2!$B555)-2)))","v":""},{"$f":"IF(Meetings2!$B555=\"\",\"\",Meetings2!$B555)","v":""},{"$nulls":11},{"$f":"IF(AA555=\"\",\"\",IF(AA555=\"Career::\",Form!A553,\"\"))","v":""}]
[{"$nulls":12},{"$f":"IF(Meetings2!$B556=\"\",\"\",IF(Meetings2!$C556=\"\",\"\",LEFT(Meetings2!B556,FIND(\"(\",Meetings2!$B556)-2)))","v":""},{"$f":"IF(Meetings2!$B556=\"\",\"\",Meetings2!$B556)","v":""},{"$nulls":11},{"$f":"IF(AA556=\"\",\"\",IF(AA556=\"Career::\",Form!A554,\"\"))","v":""}]
[{"$nulls":12},{"$f":"IF(Meetings2!$B557=\"\",\"\",IF(Meetings2!$C557=\"\",\"\",LEFT(Meetings2!B557,FIND(\"(\",Meetings2!$B557)-2)))","v":""},{"$f":"IF(Meetings2!$B557=\"\",\"\",Meetings2!$B557)","v":""},{"$nulls":11},{"$f":"IF(AA557=\"\",\"\",IF(AA557=\"Career::\",Form!A555,\"\"))","v":""}]
[{"$nulls":12},{"$f":"IF(Meetings2!$B558=\"\",\"\",IF(Meetings2!$C558=\"\",\"\",LEFT(Meetings2!B558,FIND(\"(\",Meetings2!$B558)-2)))","v":""},{"$f":"IF(Meetings2!$B558=\"\",\"\",Meetings2!$B558)","v":""},{"$nulls":11},{"$f":"IF(AA558=\"\",\"\",IF(AA558=\"Career::\",Form!A556,\"\"))","v":""}]
[{"$nulls":12},{"$f":"IF(Meetings2!$B559=\"\",\"\",IF(Meetings2!$C559=\"\",\"\",LEFT(Meetings2!B559,FIND(\"(\",Meetings2!$B559)-2)))","v":""},{"$f":"IF(Meetings2!$B559=\"\",\"\",Meetings2!$B559)","v":""},{"$nulls":11},{"$f":"IF(AA559=\"\",\"\",IF(AA559=\"Career::\",Form!A557,\"\"))","v":""}]
[{"$nulls":12},{"$f":"IF(Meetings2!$B560=\"\",\"\",IF(Meetings2!$C560=\"\",\"\",LEFT(Meetings2!B560,FIND(\"(\",Meetings2!$B560)-2)))","v":""},{"$f":"IF(Meetings2!$B560=\"\",\"\",Meetings2!$B560)","v":""},{"$nulls":11},{"$f":"IF(AA560=\"\",\"\",IF(AA560=\"Career::\",Form!A558,\"\"))","v":""}]
[{"$nulls":12},{"$f":"IF(Meetings2!$B561=\"\",\"\",IF(Meetings2!$C561=\"\",\"\",LEFT(Meetings2!B561,FIND(\"(\",Meetings2!$B561)-2)))","v":""},{"$f":"IF(Meetings2!$B561=\"\",\"\",Meetings2!$B561)","v":""},{"$nulls":11},{"$f":"IF(AA561=\"\",\"\",IF(AA561=\"Career::\",Form!A559,\"\"))","v":""}]
[{"$nulls":12},{"$f":"IF(Meetings2!$B562=\"\",\"\",IF(Meetings2!$C562=\"\",\"\",LEFT(Meetings2!B562,FIND(\"(\",Meetings2!$B562)-2)))","v":""},{"$f":"IF(Meetings2!$B562=\"\",\"\",Meetings2!$B562)","v":""},{"$nulls":11},{"$f":"IF(AA562=\"\",\"\",IF(AA562=\"Career::\",Form!A560,\"\"))","v":""}]
[{"$nulls":12},{"$f":"IF(Meetings2!$B563=\"\",\"\",IF(Meetings2!$C563=\"\",\"\",LEFT(Meetings2!B563,FIND(\"(\",Meetings2!$B563)-2)))","v":""},{"$f":"IF(Meetings2!$B563=\"\",\"\",Meetings2!$B563)","v":""},{"$nulls":11},{"$f":"IF(AA563=\"\",\"\",IF(AA563=\"Career::\",Form!A561,\"\"))","v":""}]
[{"$nulls":12},{"$f":"IF(Meetings2!$B564=\"\",\"\",IF(Meetings2!$C564=\"\",\"\",LEFT(Meetings2!B564,FIND(\"(\",Meetings2!$B564)-2)))","v":""},{"$f":"IF(Meetings2!$B564=\"\",\"\",Meetings2!$B564)","v":""},{"$nulls":11},{"$f":"IF(AA564=\"\",\"\",IF(AA564=\"Career::\",Form!A562,\"\"))","v":""}]
[{"$nulls":12},{"$f":"IF(Meetings2!$B565=\"\",\"\",IF(Meetings2!$C565=\"\",\"\",LEFT(Meetings2!B565,FIND(\"(\",Meetings2!$B565)-2)))","v":""},{"$f":"IF(Meetings2!$B565=\"\",\"\",Meetings2!$B565)","v":""},{"$nulls":11},{"$f":"IF(AA565=\"\",\"\",IF(AA565=\"Career::\",Form!A563,\"\"))","v":""}]
[{"$nulls":12},{"$f":"IF(Meetings2!$B566=\"\",\"\",IF(Meetings2!$C566=\"\",\"\",LEFT(Meetings2!B566,FIND(\"(\",Meetings2!$B566)-2)))","v":""},{"$f":"IF(Meetings2!$B566=\"\",\"\",Meetings2!$B566)","v":""},{"$nulls":11},{"$f":"IF(AA566=\"\",\"\",IF(AA566=\"Career::\",Form!A564,\"\"))","v":""}]
[{"$nulls":12},{"$f":"IF(Meetings2!$B567=\"\",\"\",IF(Meetings2!$C567=\"\",\"\",LEFT(Meetings2!B567,FIND(\"(\",Meetings2!$B567)-2)))","v":""},{"$f":"IF(Meetings2!$B567=\"\",\"\",Meetings2!$B567)","v":""},{"$nulls":11},{"$f":"IF(AA567=\"\",\"\",IF(AA567=\"Career::\",Form!A565,\"\"))","v":""}]
[{"$nulls":12},{"$f":"IF(Meetings2!$B568=\"\",\"\",IF(Meetings2!$C568=\"\",\"\",LEFT(Meetings2!B568,FIND(\"(\",Meetings2!$B568)-2)))","v":""},{"$f":"IF(Meetings2!$B568=\"\",\"\",Meetings2!$B568)","v":""},{"$nulls":11},{"$f":"IF(AA568=\"\",\"\",IF(AA568=\"Career::\",Form!A566,\"\"))","v":""}]
[{"$nulls":12},{"$f":"IF(Meetings2!$B569=\"\",\"\",IF(Meetings2!$C569=\"\",\"\",LEFT(Meetings2!B569,FIND(\"(\",Meetings2!$B569)-2)))","v":""},{"$f":"IF(Meetings2!$B569=\"\",\"\",Meetings2!$B569)","v":""},{"$nulls":11},{"$f":"IF(AA569=\"\",\"\",IF(AA569=\"Career::\",Form!A567,\"\"))","v":""}]
[{"$nulls":12},{"$f":"IF(Meetings2!$B570=\"\",\"\",IF(Meetings2!$C570=\"\",\"\",LEFT(Meetings2!B570,FIND(\"(\",Meetings2!$B570)-2)))","v":""},{"$f":"IF(Meetings2!$B570=\"\",\"\",Meetings2!$B570)","v":""},{"$nulls":11},{"$f":"IF(AA570=\"\",\"\",IF(AA570=\"Career::\",Form!A568,\"\"))","v":""}]
[{"$nulls":12},{"$f":"IF(Meetings2!$B571=\"\",\"\",IF(Meetings2!$C571=\"\",\"\",LEFT(Meetings2!B571,FIND(\"(\",Meetings2!$B571)-2)))","v":""},{"$f":"IF(Meetings2!$B571=\"\",\"\",Meetings2!$B571)","v":""},{"$nulls":11},{"$f":"IF(AA571=\"\",\"\",IF(AA571=\"Career::\",Form!A569,\"\"))","v":""}]
[{"$nulls":12},{"$f":"IF(Meetings2!$B572=\"\",\"\",IF(Meetings2!$C572=\"\",\"\",LEFT(Meetings2!B572,FIND(\"(\",Meetings2!$B572)-2)))","v":""},{"$f":"IF(Meetings2!$B572=\"\",\"\",Meetings2!$B572)","v":""},{"$nulls":11},{"$f":"IF(AA572=\"\",\"\",IF(AA572=\"Career::\",Form!A570,\"\"))","v":""}]
[{"$nulls":12},{"$f":"IF(Meetings2!$B573=\"\",\"\",IF(Meetings2!$C573=\"\",\"\",LEFT(Meetings2!B573,FIND(\"(\",Meetings2!$B573)-2)))","v":""},{"$f":"IF(Meetings2!$B573=\"\",\"\",Meetings2!$B573)","v":""},{"$nulls":11},{"$f":"IF(AA573=\"\",\"\",IF(AA573=\"Career::\",Form!A571,\"\"))","v":""}]
[{"$nulls":12},{"$f":"IF(Meetings2!$B574=\"\",\"\",IF(Meetings2!$C574=\"\",\"\",LEFT(Meetings2!B574,FIND(\"(\",Meetings2!$B574)-2)))","v":""},{"$f":"IF(Meetings2!$B574=\"\",\"\",Meetings2!$B574)","v":""},{"$nulls":11},{"$f":"IF(AA574=\"\",\"\",IF(AA574=\"Career::\",Form!A572,\"\"))","v":""}]
[{"$nulls":12},{"$f":"IF(Meetings2!$B575=\"\",\"\",IF(Meetings2!$C575=\"\",\"\",LEFT(Meetings2!B575,FIND(\"(\",Meetings2!$B575)-2)))","v":""},{"$f":"IF(Meetings2!$B575=\"\",\"\",Meetings2!$B575)","v":""},{"$nulls":11},{"$f":"IF(AA575=\"\",\"\",IF(AA575=\"Career::\",Form!A573,\"\"))","v":""}]
[{"$nulls":12},{"$f":"IF(Meetings2!$B576=\"\",\"\",IF(Meetings2!$C576=\"\",\"\",LEFT(Meetings2!B576,FIND(\"(\",Meetings2!$B576)-2)))","v":""},{"$f":"IF(Meetings2!$B576=\"\",\"\",Meetings2!$B576)","v":""},{"$nulls":11},{"$f":"IF(AA576=\"\",\"\",IF(AA576=\"Career::\",Form!A574,\"\"))","v":""}]
[{"$nulls":12},{"$f":"IF(Meetings2!$B577=\"\",\"\",IF(Meetings2!$C577=\"\",\"\",LEFT(Meetings2!B577,FIND(\"(\",Meetings2!$B577)-2)))","v":""},{"$f":"IF(Meetings2!$B577=\"\",\"\",Meetings2!$B577)","v":""},{"$nulls":11},{"$f":"IF(AA577=\"\",\"\",IF(AA577=\"Career::\",Form!A575,\"\"))","v":""}]
[{"$nulls":12},{"$f":"IF(Meetings2!$B578=\"\",\"\",IF(Meetings2!$C578=\"\",\"\",LEFT(Meetings2!B578,FIND(\"(\",Meetings2!$B578)-2)))","v":""},{"$f":"IF(Meetings2!$B578=\"\",\"\",Meetings2!$B578)","v":""},{"$nulls":11},{"$f":"IF(AA578=\"\",\"\",IF(AA578=\"Career::\",Form!A576,\"\"))","v":""}]
[{"$nulls":12},{"$f":"IF(Meetings2!$B579=\"\",\"\",IF(Meetings2!$C579=\"\",\"\",LEFT(Meetings2!B579,FIND(\"(\",Meetings2!$B579)-2)))","v":""},{"$f":"IF(Meetings2!$B579=\"\",\"\",Meetings2!$B579)","v":""},{"$nulls":11},{"$f":"IF(AA579=\"\",\"\",IF(AA579=\"Career::\",Form!A577,\"\"))","v":""}]
[{"$nulls":12},{"$f":"IF(Meetings2!$B580=\"\",\"\",IF(Meetings2!$C580=\"\",\"\",LEFT(Meetings2!B580,FIND(\"(\",Meetings2!$B580)-2)))","v":""},{"$f":"IF(Meetings2!$B580=\"\",\"\",Meetings2!$B580)","v":""},{"$nulls":11},{"$f":"IF(AA580=\"\",\"\",IF(AA580=\"Career::\",Form!A578,\"\"))","v":""}]
[{"$nulls":12},{"$f":"IF(Meetings2!$B581=\"\",\"\",IF(Meetings2!$C581=\"\",\"\",LEFT(Meetings2!B581,FIND(\"(\",Meetings2!$B581)-2)))","v":""},{"$f":"IF(Meetings2!$B581=\"\",\"\",Meetings2!$B581)","v":""},{"$nulls":11},{"$f":"IF(AA581=\"\",\"\",IF(AA581=\"Career::\",Form!A579,\"\"))","v":""}]
[{"$nulls":12},{"$f":"IF(Meetings2!$B582=\"\",\"\",IF(Meetings2!$C582=\"\",\"\",LEFT(Meetings2!B582,FIND(\"(\",Meetings2!$B582)-2)))","v":""},{"$f":"IF(Meetings2!$B582=\"\",\"\",Meetings2!$B582)","v":""},{"$nulls":11},{"$f":"IF(AA582=\"\",\"\",IF(AA582=\"Career::\",Form!A580,\"\"))","v":""}]
[{"$nulls":12},{"$f":"IF(Meetings2!$B583=\"\",\"\",IF(Meetings2!$C583=\"\",\"\",LEFT(Meetings2!B583,FIND(\"(\",Meetings2!$B583)-2)))","v":""},{"$f":"IF(Meetings2!$B583=\"\",\"\",Meetings2!$B583)","v":""},{"$nulls":11},{"$f":"IF(AA583=\"\",\"\",IF(AA583=\"Career::\",Form!A581,\"\"))","v":""}]
[{"$nulls":12},{"$f":"IF(Meetings2!$B584=\"\",\"\",IF(Meetings2!$C584=\"\",\"\",LEFT(Meetings2!B584,FIND(\"(\",Meetings2!$B584)-2)))","v":""},{"$f":"IF(Meetings2!$B584=\"\",\"\",Meetings2!$B584)","v":""},{"$nulls":11},{"$f":"IF(AA584=\"\",\"\",IF(AA584=\"Career::\",Form!A582,\"\"))","v":""}]
[{"$nulls":12},{"$f":"IF(Meetings2!$B585=\"\",\"\",IF(Meetings2!$C585=\"\",\"\",LEFT(Meetings2!B585,FIND(\"(\",Meetings2!$B585)-2)))","v":""},{"$f":"IF(Meetings2!$B585=\"\",\"\",Meetings2!$B585)","v":""},{"$nulls":11},{"$f":"IF(AA585=\"\",\"\",IF(AA585=\"Career::\",Form!A583,\"\"))","v":""}]
[{"$nulls":12},{"$f":"IF(Meetings2!$B586=\"\",\"\",IF(Meetings2!$C586=\"\",\"\",LEFT(Meetings2!B586,FIND(\"(\",Meetings2!$B586)-2)))","v":""},{"$f":"IF(Meetings2!$B586=\"\",\"\",Meetings2!$B586)","v":""},{"$nulls":11},{"$f":"IF(AA586=\"\",\"\",IF(AA586=\"Career::\",Form!A584,\"\"))","v":""}]
[{"$nulls":12},{"$f":"IF(Meetings2!$B587=\"\",\"\",IF(Meetings2!$C587=\"\",\"\",LEFT(Meetings2!B587,FIND(\"(\",Meetings2!$B587)-2)))","v":""},{"$f":"IF(Meetings2!$B587=\"\",\"\",Meetings2!$B587)","v":""},{"$nulls":11},{"$f":"IF(AA587=\"\",\"\",IF(AA587=\"Career::\",Form!A585,\"\"))","v":""}]
[{"$nulls":12},{"$f":"IF(Meetings2!$B588=\"\",\"\",IF(Meetings2!$C588=\"\",\"\",LEFT(Meetings2!B588,FIND(\"(\",Meetings2!$B588)-2)))","v":""},{"$f":"IF(Meetings2!$B588=\"\",\"\",Meetings2!$B588)","v":""},{"$nulls":11},{"$f":"IF(AA588=\"\",\"\",IF(AA588=\"Career::\",Form!A586,\"\"))","v":""}]
[{"$nulls":12},{"$f":"IF(Meetings2!$B589=\"\",\"\",IF(Meetings2!$C589=\"\",\"\",LEFT(Meetings2!B589,FIND(\"(\",Meetings2!$B589)-2)))","v":""},{"$f":"IF(Meetings2!$B589=\"\",\"\",Meetings2!$B589)","v":""},{"$nulls":11},{"$f":"IF(AA589=\"\",\"\",IF(AA589=\"Career::\",Form!A587,\"\"))","v":""}]
[{"$nulls":12},{"$f":"IF(Meetings2!$B590=\"\",\"\",IF(Meetings2!$C590=\"\",\"\",LEFT(Meetings2!B590,FIND(\"(\",Meetings2!$B590)-2)))","v":""},{"$f":"IF(Meetings2!$B590=\"\",\"\",Meetings2!$B590)","v":""},{"$nulls":11},{"$f":"IF(AA590=\"\",\"\",IF(AA590=\"Career::\",Form!A588,\"\"))","v":""}]
[{"$nulls":12},{"$f":"IF(Meetings2!$B591=\"\",\"\",IF(Meetings2!$C591=\"\",\"\",LEFT(Meetings2!B591,FIND(\"(\",Meetings2!$B591)-2)))","v":""},{"$f":"IF(Meetings2!$B591=\"\",\"\",Meetings2!$B591)","v":""},{"$nulls":11},{"$f":"IF(AA591=\"\",\"\",IF(AA591=\"Career::\",Form!A589,\"\"))","v":""}]
[{"$nulls":12},{"$f":"IF(Meetings2!$B592=\"\",\"\",IF(Meetings2!$C592=\"\",\"\",LEFT(Meetings2!B592,FIND(\"(\",Meetings2!$B592)-2)))","v":""},{"$f":"IF(Meetings2!$B592=\"\",\"\",Meetings2!$B592)","v":""},{"$nulls":11},{"$f":"IF(AA592=\"\",\"\",IF(AA592=\"Career::\",Form!A590,\"\"))","v":""}]
[{"$nulls":12},{"$f":"IF(Meetings2!$B593=\"\",\"\",IF(Meetings2!$C593=\"\",\"\",LEFT(Meetings2!B593,FIND(\"(\",Meetings2!$B593)-2)))","v":""},{"$f":"IF(Meetings2!$B593=\"\",\"\",Meetings2!$B593)","v":""},{"$nulls":11},{"$f":"IF(AA593=\"\",\"\",IF(AA593=\"Career::\",Form!A591,\"\"))","v":""}]
[{"$nulls":12},{"$f":"IF(Meetings2!$B594=\"\",\"\",IF(Meetings2!$C594=\"\",\"\",LEFT(Meetings2!B594,FIND(\"(\",Meetings2!$B594)-2)))","v":""},{"$f":"IF(Meetings2!$B594=\"\",\"\",Meetings2!$B594)","v":""},{"$nulls":11},{"$f":"IF(AA594=\"\",\"\",IF(AA594=\"Career::\",Form!A592,\"\"))","v":""}]
[{"$nulls":12},{"$f":"IF(Meetings2!$B595=\"\",\"\",IF(Meetings2!$C595=\"\",\"\",LEFT(Meetings2!B595,FIND(\"(\",Meetings2!$B595)-2)))","v":""},{"$f":"IF(Meetings2!$B595=\"\",\"\",Meetings2!$B595)","v":""},{"$nulls":11},{"$f":"IF(AA595=\"\",\"\",IF(AA595=\"Career::\",Form!A593,\"\"))","v":""}]
[{"$nulls":12},{"$f":"IF(Meetings2!$B596=\"\",\"\",IF(Meetings2!$C596=\"\",\"\",LEFT(Meetings2!B596,FIND(\"(\",Meetings2!$B596)-2)))","v":""},{"$f":"IF(Meetings2!$B596=\"\",\"\",Meetings2!$B596)","v":""},{"$nulls":11},{"$f":"IF(AA596=\"\",\"\",IF(AA596=\"Career::\",Form!A594,\"\"))","v":""}]
[{"$nulls":12},{"$f":"IF(Meetings2!$B597=\"\",\"\",IF(Meetings2!$C597=\"\",\"\",LEFT(Meetings2!B597,FIND(\"(\",Meetings2!$B597)-2)))","v":""},{"$f":"IF(Meetings2!$B597=\"\",\"\",Meetings2!$B597)","v":""},{"$nulls":11},{"$f":"IF(AA597=\"\",\"\",IF(AA597=\"Career::\",Form!A595,\"\"))","v":""}]
[{"$nulls":12},{"$f":"IF(Meetings2!$B598=\"\",\"\",IF(Meetings2!$C598=\"\",\"\",LEFT(Meetings2!B598,FIND(\"(\",Meetings2!$B598)-2)))","v":""},{"$f":"IF(Meetings2!$B598=\"\",\"\",Meetings2!$B598)","v":""},{"$nulls":11},{"$f":"IF(AA598=\"\",\"\",IF(AA598=\"Career::\",Form!A596,\"\"))","v":""}]
[{"$nulls":12},{"$f":"IF(Meetings2!$B599=\"\",\"\",IF(Meetings2!$C599=\"\",\"\",LEFT(Meetings2!B599,FIND(\"(\",Meetings2!$B599)-2)))","v":""},{"$f":"IF(Meetings2!$B599=\"\",\"\",Meetings2!$B599)","v":""},{"$nulls":11},{"$f":"IF(AA599=\"\",\"\",IF(AA599=\"Career::\",Form!A597,\"\"))","v":""}]
[{"$nulls":12},{"$f":"IF(Meetings2!$B600=\"\",\"\",IF(Meetings2!$C600=\"\",\"\",LEFT(Meetings2!B600,FIND(\"(\",Meetings2!$B600)-2)))","v":""},{"$f":"IF(Meetings2!$B600=\"\",\"\",Meetings2!$B600)","v":""},{"$nulls":11},{"$f":"IF(AA600=\"\",\"\",IF(AA600=\"Career::\",Form!A598,\"\"))","v":""}]
[{"$nulls":12},{"$f":"IF(Meetings2!$B601=\"\",\"\",IF(Meetings2!$C601=\"\",\"\",LEFT(Meetings2!B601,FIND(\"(\",Meetings2!$B601)-2)))","v":""},{"$f":"IF(Meetings2!$B601=\"\",\"\",Meetings2!$B601)","v":""},{"$nulls":11},{"$f":"IF(AA601=\"\",\"\",IF(AA601=\"Career::\",Form!A599,\"\"))","v":""}]
[{"$nulls":12},{"$f":"IF(Meetings2!$B602=\"\",\"\",IF(Meetings2!$C602=\"\",\"\",LEFT(Meetings2!B602,FIND(\"(\",Meetings2!$B602)-2)))","v":""},{"$f":"IF(Meetings2!$B602=\"\",\"\",Meetings2!$B602)","v":""},{"$nulls":11},{"$f":"IF(AA602=\"\",\"\",IF(AA602=\"Career::\",Form!A600,\"\"))","v":""}]
[{"$nulls":12},{"$f":"IF(Meetings2!$B603=\"\",\"\",IF(Meetings2!$C603=\"\",\"\",LEFT(Meetings2!B603,FIND(\"(\",Meetings2!$B603)-2)))","v":""},{"$f":"IF(Meetings2!$B603=\"\",\"\",Meetings2!$B603)","v":""},{"$nulls":11},{"$f":"IF(AA603=\"\",\"\",IF(AA603=\"Career::\",Form!A601,\"\"))","v":""}]
[{"$nulls":12},{"$f":"IF(Meetings2!$B604=\"\",\"\",IF(Meetings2!$C604=\"\",\"\",LEFT(Meetings2!B604,FIND(\"(\",Meetings2!$B604)-2)))","v":""},{"$f":"IF(Meetings2!$B604=\"\",\"\",Meetings2!$B604)","v":""},{"$nulls":11},{"$f":"IF(AA604=\"\",\"\",IF(AA604=\"Career::\",Form!A602,\"\"))","v":""}]
[{"$nulls":12},{"$f":"IF(Meetings2!$B605=\"\",\"\",IF(Meetings2!$C605=\"\",\"\",LEFT(Meetings2!B605,FIND(\"(\",Meetings2!$B605)-2)))","v":""},{"$f":"IF(Meetings2!$B605=\"\",\"\",Meetings2!$B605)","v":""},{"$nulls":11},{"$f":"IF(AA605=\"\",\"\",IF(AA605=\"Career::\",Form!A603,\"\"))","v":""}]
[{"$nulls":12},{"$f":"IF(Meetings2!$B606=\"\",\"\",IF(Meetings2!$C606=\"\",\"\",LEFT(Meetings2!B606,FIND(\"(\",Meetings2!$B606)-2)))","v":""},{"$f":"IF(Meetings2!$B606=\"\",\"\",Meetings2!$B606)","v":""},{"$nulls":11},{"$f":"IF(AA606=\"\",\"\",IF(AA606=\"Career::\",Form!A604,\"\"))","v":""}]
[{"$nulls":12},{"$f":"IF(Meetings2!$B607=\"\",\"\",IF(Meetings2!$C607=\"\",\"\",LEFT(Meetings2!B607,FIND(\"(\",Meetings2!$B607)-2)))","v":""},{"$f":"IF(Meetings2!$B607=\"\",\"\",Meetings2!$B607)","v":""},{"$nulls":11},{"$f":"IF(AA607=\"\",\"\",IF(AA607=\"Career::\",Form!A605,\"\"))","v":""}]
[{"$nulls":12},{"$f":"IF(Meetings2!$B608=\"\",\"\",IF(Meetings2!$C608=\"\",\"\",LEFT(Meetings2!B608,FIND(\"(\",Meetings2!$B608)-2)))","v":""},{"$f":"IF(Meetings2!$B608=\"\",\"\",Meetings2!$B608)","v":""},{"$nulls":11},{"$f":"IF(AA608=\"\",\"\",IF(AA608=\"Career::\",Form!A606,\"\"))","v":""}]
[{"$nulls":12},{"$f":"IF(Meetings2!$B609=\"\",\"\",IF(Meetings2!$C609=\"\",\"\",LEFT(Meetings2!B609,FIND(\"(\",Meetings2!$B609)-2)))","v":""},{"$f":"IF(Meetings2!$B609=\"\",\"\",Meetings2!$B609)","v":""},{"$nulls":11},{"$f":"IF(AA609=\"\",\"\",IF(AA609=\"Career::\",Form!A607,\"\"))","v":""}]
[{"$nulls":12},{"$f":"IF(Meetings2!$B610=\"\",\"\",IF(Meetings2!$C610=\"\",\"\",LEFT(Meetings2!B610,FIND(\"(\",Meetings2!$B610)-2)))","v":""},{"$f":"IF(Meetings2!$B610=\"\",\"\",Meetings2!$B610)","v":""},{"$nulls":11},{"$f":"IF(AA610=\"\",\"\",IF(AA610=\"Career::\",Form!A608,\"\"))","v":""}]
[{"$nulls":12},{"$f":"IF(Meetings2!$B611=\"\",\"\",IF(Meetings2!$C611=\"\",\"\",LEFT(Meetings2!B611,FIND(\"(\",Meetings2!$B611)-2)))","v":""},{"$f":"IF(Meetings2!$B611=\"\",\"\",Meetings2!$B611)","v":""},{"$nulls":11},{"$f":"IF(AA611=\"\",\"\",IF(AA611=\"Career::\",Form!A609,\"\"))","v":""}]
[{"$nulls":12},{"$f":"IF(Meetings2!$B612=\"\",\"\",IF(Meetings2!$C612=\"\",\"\",LEFT(Meetings2!B612,FIND(\"(\",Meetings2!$B612)-2)))","v":""},{"$f":"IF(Meetings2!$B612=\"\",\"\",Meetings2!$B612)","v":""},{"$nulls":11},{"$f":"IF(AA612=\"\",\"\",IF(AA612=\"Career::\",Form!A610,\"\"))","v":""}]
[{"$nulls":12},{"$f":"IF(Meetings2!$B613=\"\",\"\",IF(Meetings2!$C613=\"\",\"\",LEFT(Meetings2!B613,FIND(\"(\",Meetings2!$B613)-2)))","v":""},{"$f":"IF(Meetings2!$B613=\"\",\"\",Meetings2!$B613)","v":""},{"$nulls":11},{"$f":"IF(AA613=\"\",\"\",IF(AA613=\"Career::\",Form!A611,\"\"))","v":""}]
[{"$nulls":12},{"$f":"IF(Meetings2!$B614=\"\",\"\",IF(Meetings2!$C614=\"\",\"\",LEFT(Meetings2!B614,FIND(\"(\",Meetings2!$B614)-2)))","v":""},{"$f":"IF(Meetings2!$B614=\"\",\"\",Meetings2!$B614)","v":""},{"$nulls":11},{"$f":"IF(AA614=\"\",\"\",IF(AA614=\"Career::\",Form!A612,\"\"))","v":""}]
[{"$nulls":12},{"$f":"IF(Meetings2!$B615=\"\",\"\",IF(Meetings2!$C615=\"\",\"\",LEFT(Meetings2!B615,FIND(\"(\",Meetings2!$B615)-2)))","v":""},{"$f":"IF(Meetings2!$B615=\"\",\"\",Meetings2!$B615)","v":""},{"$nulls":11},{"$f":"IF(AA615=\"\",\"\",IF(AA615=\"Career::\",Form!A613,\"\"))","v":""}]
[{"$nulls":12},{"$f":"IF(Meetings2!$B616=\"\",\"\",IF(Meetings2!$C616=\"\",\"\",LEFT(Meetings2!B616,FIND(\"(\",Meetings2!$B616)-2)))","v":""},{"$f":"IF(Meetings2!$B616=\"\",\"\",Meetings2!$B616)","v":""},{"$nulls":11},{"$f":"IF(AA616=\"\",\"\",IF(AA616=\"Career::\",Form!A614,\"\"))","v":""}]
[{"$nulls":12},{"$f":"IF(Meetings2!$B617=\"\",\"\",IF(Meetings2!$C617=\"\",\"\",LEFT(Meetings2!B617,FIND(\"(\",Meetings2!$B617)-2)))","v":""},{"$f":"IF(Meetings2!$B617=\"\",\"\",Meetings2!$B617)","v":""},{"$nulls":11},{"$f":"IF(AA617=\"\",\"\",IF(AA617=\"Career::\",Form!A615,\"\"))","v":""}]
[{"$nulls":12},{"$f":"IF(Meetings2!$B618=\"\",\"\",IF(Meetings2!$C618=\"\",\"\",LEFT(Meetings2!B618,FIND(\"(\",Meetings2!$B618)-2)))","v":""},{"$f":"IF(Meetings2!$B618=\"\",\"\",Meetings2!$B618)","v":""},{"$nulls":11},{"$f":"IF(AA618=\"\",\"\",IF(AA618=\"Career::\",Form!A616,\"\"))","v":""}]
[{"$nulls":12},{"$f":"IF(Meetings2!$B619=\"\",\"\",IF(Meetings2!$C619=\"\",\"\",LEFT(Meetings2!B619,FIND(\"(\",Meetings2!$B619)-2)))","v":""},{"$f":"IF(Meetings2!$B619=\"\",\"\",Meetings2!$B619)","v":""},{"$nulls":11},{"$f":"IF(AA619=\"\",\"\",IF(AA619=\"Career::\",Form!A617,\"\"))","v":""}]
[{"$nulls":12},{"$f":"IF(Meetings2!$B620=\"\",\"\",IF(Meetings2!$C620=\"\",\"\",LEFT(Meetings2!B620,FIND(\"(\",Meetings2!$B620)-2)))","v":""},{"$f":"IF(Meetings2!$B620=\"\",\"\",Meetings2!$B620)","v":""},{"$nulls":11},{"$f":"IF(AA620=\"\",\"\",IF(AA620=\"Career::\",Form!A618,\"\"))","v":""}]
[{"$nulls":12},{"$f":"IF(Meetings2!$B621=\"\",\"\",IF(Meetings2!$C621=\"\",\"\",LEFT(Meetings2!B621,FIND(\"(\",Meetings2!$B621)-2)))","v":""},{"$f":"IF(Meetings2!$B621=\"\",\"\",Meetings2!$B621)","v":""},{"$nulls":11},{"$f":"IF(AA621=\"\",\"\",IF(AA621=\"Career::\",Form!A619,\"\"))","v":""}]
[{"$nulls":12},{"$f":"IF(Meetings2!$B622=\"\",\"\",IF(Meetings2!$C622=\"\",\"\",LEFT(Meetings2!B622,FIND(\"(\",Meetings2!$B622)-2)))","v":""},{"$f":"IF(Meetings2!$B622=\"\",\"\",Meetings2!$B622)","v":""},{"$nulls":11},{"$f":"IF(AA622=\"\",\"\",IF(AA622=\"Career::\",Form!A620,\"\"))","v":""}]
[{"$nulls":12},{"$f":"IF(Meetings2!$B623=\"\",\"\",IF(Meetings2!$C623=\"\",\"\",LEFT(Meetings2!B623,FIND(\"(\",Meetings2!$B623)-2)))","v":""},{"$f":"IF(Meetings2!$B623=\"\",\"\",Meetings2!$B623)","v":""},{"$nulls":11},{"$f":"IF(AA623=\"\",\"\",IF(AA623=\"Career::\",Form!A621,\"\"))","v":""}]
[{"$nulls":12},{"$f":"IF(Meetings2!$B624=\"\",\"\",IF(Meetings2!$C624=\"\",\"\",LEFT(Meetings2!B624,FIND(\"(\",Meetings2!$B624)-2)))","v":""},{"$f":"IF(Meetings2!$B624=\"\",\"\",Meetings2!$B624)","v":""},{"$nulls":11},{"$f":"IF(AA624=\"\",\"\",IF(AA624=\"Career::\",Form!A622,\"\"))","v":""}]
[{"$nulls":12},{"$f":"IF(Meetings2!$B625=\"\",\"\",IF(Meetings2!$C625=\"\",\"\",LEFT(Meetings2!B625,FIND(\"(\",Meetings2!$B625)-2)))","v":""},{"$f":"IF(Meetings2!$B625=\"\",\"\",Meetings2!$B625)","v":""},{"$nulls":11},{"$f":"IF(AA625=\"\",\"\",IF(AA625=\"Career::\",Form!A623,\"\"))","v":""}]
[{"$nulls":12},{"$f":"IF(Meetings2!$B626=\"\",\"\",IF(Meetings2!$C626=\"\",\"\",LEFT(Meetings2!B626,FIND(\"(\",Meetings2!$B626)-2)))","v":""},{"$f":"IF(Meetings2!$B626=\"\",\"\",Meetings2!$B626)","v":""},{"$nulls":11},{"$f":"IF(AA626=\"\",\"\",IF(AA626=\"Career::\",Form!A624,\"\"))","v":""}]
[{"$nulls":12},{"$f":"IF(Meetings2!$B627=\"\",\"\",IF(Meetings2!$C627=\"\",\"\",LEFT(Meetings2!B627,FIND(\"(\",Meetings2!$B627)-2)))","v":""},{"$f":"IF(Meetings2!$B627=\"\",\"\",Meetings2!$B627)","v":""},{"$nulls":11},{"$f":"IF(AA627=\"\",\"\",IF(AA627=\"Career::\",Form!A625,\"\"))","v":""}]
[{"$nulls":12},{"$f":"IF(Meetings2!$B628=\"\",\"\",IF(Meetings2!$C628=\"\",\"\",LEFT(Meetings2!B628,FIND(\"(\",Meetings2!$B628)-2)))","v":""},{"$f":"IF(Meetings2!$B628=\"\",\"\",Meetings2!$B628)","v":""},{"$nulls":11},{"$f":"IF(AA628=\"\",\"\",IF(AA628=\"Career::\",Form!A626,\"\"))","v":""}]
[{"$nulls":12},{"$f":"IF(Meetings2!$B629=\"\",\"\",IF(Meetings2!$C629=\"\",\"\",LEFT(Meetings2!B629,FIND(\"(\",Meetings2!$B629)-2)))","v":""},{"$f":"IF(Meetings2!$B629=\"\",\"\",Meetings2!$B629)","v":""},{"$nulls":11},{"$f":"IF(AA629=\"\",\"\",IF(AA629=\"Career::\",Form!A627,\"\"))","v":""}]
[{"$nulls":12},{"$f":"IF(Meetings2!$B630=\"\",\"\",IF(Meetings2!$C630=\"\",\"\",LEFT(Meetings2!B630,FIND(\"(\",Meetings2!$B630)-2)))","v":""},{"$f":"IF(Meetings2!$B630=\"\",\"\",Meetings2!$B630)","v":""},{"$nulls":11},{"$f":"IF(AA630=\"\",\"\",IF(AA630=\"Career::\",Form!A628,\"\"))","v":""}]
[{"$nulls":12},{"$f":"IF(Meetings2!$B631=\"\",\"\",IF(Meetings2!$C631=\"\",\"\",LEFT(Meetings2!B631,FIND(\"(\",Meetings2!$B631)-2)))","v":""},{"$f":"IF(Meetings2!$B631=\"\",\"\",Meetings2!$B631)","v":""},{"$nulls":11},{"$f":"IF(AA631=\"\",\"\",IF(AA631=\"Career::\",Form!A629,\"\"))","v":""}]
[{"$nulls":12},{"$f":"IF(Meetings2!$B632=\"\",\"\",IF(Meetings2!$C632=\"\",\"\",LEFT(Meetings2!B632,FIND(\"(\",Meetings2!$B632)-2)))","v":""},{"$f":"IF(Meetings2!$B632=\"\",\"\",Meetings2!$B632)","v":""},{"$nulls":11},{"$f":"IF(AA632=\"\",\"\",IF(AA632=\"Career::\",Form!A630,\"\"))","v":""}]
[{"$nulls":12},{"$f":"IF(Meetings2!$B633=\"\",\"\",IF(Meetings2!$C633=\"\",\"\",LEFT(Meetings2!B633,FIND(\"(\",Meetings2!$B633)-2)))","v":""},{"$f":"IF(Meetings2!$B633=\"\",\"\",Meetings2!$B633)","v":""},{"$nulls":11},{"$f":"IF(AA633=\"\",\"\",IF(AA633=\"Career::\",Form!A631,\"\"))","v":""}]
[{"$nulls":12},{"$f":"IF(Meetings2!$B634=\"\",\"\",IF(Meetings2!$C634=\"\",\"\",LEFT(Meetings2!B634,FIND(\"(\",Meetings2!$B634)-2)))","v":""},{"$f":"IF(Meetings2!$B634=\"\",\"\",Meetings2!$B634)","v":""},{"$nulls":11},{"$f":"IF(AA634=\"\",\"\",IF(AA634=\"Career::\",Form!A632,\"\"))","v":""}]
[{"$nulls":12},{"$f":"IF(Meetings2!$B635=\"\",\"\",IF(Meetings2!$C635=\"\",\"\",LEFT(Meetings2!B635,FIND(\"(\",Meetings2!$B635)-2)))","v":""},{"$f":"IF(Meetings2!$B635=\"\",\"\",Meetings2!$B635)","v":""},{"$nulls":11},{"$f":"IF(AA635=\"\",\"\",IF(AA635=\"Career::\",Form!A633,\"\"))","v":""}]
[{"$nulls":12},{"$f":"IF(Meetings2!$B636=\"\",\"\",IF(Meetings2!$C636=\"\",\"\",LEFT(Meetings2!B636,FIND(\"(\",Meetings2!$B636)-2)))","v":""},{"$f":"IF(Meetings2!$B636=\"\",\"\",Meetings2!$B636)","v":""},{"$nulls":11},{"$f":"IF(AA636=\"\",\"\",IF(AA636=\"Career::\",Form!A634,\"\"))","v":""}]
[{"$nulls":12},{"$f":"IF(Meetings2!$B637=\"\",\"\",IF(Meetings2!$C637=\"\",\"\",LEFT(Meetings2!B637,FIND(\"(\",Meetings2!$B637)-2)))","v":""},{"$f":"IF(Meetings2!$B637=\"\",\"\",Meetings2!$B637)","v":""},{"$nulls":11},{"$f":"IF(AA637=\"\",\"\",IF(AA637=\"Career::\",Form!A635,\"\"))","v":""}]
[{"$nulls":12},{"$f":"IF(Meetings2!$B638=\"\",\"\",IF(Meetings2!$C638=\"\",\"\",LEFT(Meetings2!B638,FIND(\"(\",Meetings2!$B638)-2)))","v":""},{"$f":"IF(Meetings2!$B638=\"\",\"\",Meetings2!$B638)","v":""},{"$nulls":11},{"$f":"IF(AA638=\"\",\"\",IF(AA638=\"Career::\",Form!A636,\"\"))","v":""}]
[{"$nulls":12},{"$f":"IF(Meetings2!$B639=\"\",\"\",IF(Meetings2!$C639=\"\",\"\",LEFT(Meetings2!B639,FIND(\"(\",Meetings2!$B639)-2)))","v":""},{"$f":"IF(Meetings2!$B639=\"\",\"\",Meetings2!$B639)","v":""},{"$nulls":11},{"$f":"IF(AA639=\"\",\"\",IF(AA639=\"Career::\",Form!A637,\"\"))","v":""}]
[{"$nulls":12},{"$f":"IF(Meetings2!$B640=\"\",\"\",IF(Meetings2!$C640=\"\",\"\",LEFT(Meetings2!B640,FIND(\"(\",Meetings2!$B640)-2)))","v":""},{"$f":"IF(Meetings2!$B640=\"\",\"\",Meetings2!$B640)","v":""},{"$nulls":11},{"$f":"IF(AA640=\"\",\"\",IF(AA640=\"Career::\",Form!A638,\"\"))","v":""}]
[{"$nulls":12},{"$f":"IF(Meetings2!$B641=\"\",\"\",IF(Meetings2!$C641=\"\",\"\",LEFT(Meetings2!B641,FIND(\"(\",Meetings2!$B641)-2)))","v":""},{"$f":"IF(Meetings2!$B641=\"\",\"\",Meetings2!$B641)","v":""},{"$nulls":11},{"$f":"IF(AA641=\"\",\"\",IF(AA641=\"Career::\",Form!A639,\"\"))","v":""}]
[{"$nulls":12},{"$f":"IF(Meetings2!$B642=\"\",\"\",IF(Meetings2!$C642=\"\",\"\",LEFT(Meetings2!B642,FIND(\"(\",Meetings2!$B642)-2)))","v":""},{"$f":"IF(Meetings2!$B642=\"\",\"\",Meetings2!$B642)","v":""},{"$nulls":11},{"$f":"IF(AA642=\"\",\"\",IF(AA642=\"Career::\",Form!A640,\"\"))","v":""}]
[{"$nulls":12},{"$f":"IF(Meetings2!$B643=\"\",\"\",IF(Meetings2!$C643=\"\",\"\",LEFT(Meetings2!B643,FIND(\"(\",Meetings2!$B643)-2)))","v":""},{"$f":"IF(Meetings2!$B643=\"\",\"\",Meetings2!$B643)","v":""},{"$nulls":11},{"$f":"IF(AA643=\"\",\"\",IF(AA643=\"Career::\",Form!A641,\"\"))","v":""}]
[{"$nulls":12},{"$f":"IF(Meetings2!$B644=\"\",\"\",IF(Meetings2!$C644=\"\",\"\",LEFT(Meetings2!B644,FIND(\"(\",Meetings2!$B644)-2)))","v":""},{"$f":"IF(Meetings2!$B644=\"\",\"\",Meetings2!$B644)","v":""},{"$nulls":11},{"$f":"IF(AA644=\"\",\"\",IF(AA644=\"Career::\",Form!A642,\"\"))","v":""}]
[{"$nulls":12},{"$f":"IF(Meetings2!$B645=\"\",\"\",IF(Meetings2!$C645=\"\",\"\",LEFT(Meetings2!B645,FIND(\"(\",Meetings2!$B645)-2)))","v":""},{"$f":"IF(Meetings2!$B645=\"\",\"\",Meetings2!$B645)","v":""},{"$nulls":11},{"$f":"IF(AA645=\"\",\"\",IF(AA645=\"Career::\",Form!A643,\"\"))","v":""}]
[{"$nulls":12},{"$f":"IF(Meetings2!$B646=\"\",\"\",IF(Meetings2!$C646=\"\",\"\",LEFT(Meetings2!B646,FIND(\"(\",Meetings2!$B646)-2)))","v":""},{"$f":"IF(Meetings2!$B646=\"\",\"\",Meetings2!$B646)","v":""},{"$nulls":11},{"$f":"IF(AA646=\"\",\"\",IF(AA646=\"Career::\",Form!A644,\"\"))","v":""}]
[{"$nulls":12},{"$f":"IF(Meetings2!$B647=\"\",\"\",IF(Meetings2!$C647=\"\",\"\",LEFT(Meetings2!B647,FIND(\"(\",Meetings2!$B647)-2)))","v":""},{"$f":"IF(Meetings2!$B647=\"\",\"\",Meetings2!$B647)","v":""},{"$nulls":11},{"$f":"IF(AA647=\"\",\"\",IF(AA647=\"Career::\",Form!A645,\"\"))","v":""}]
[{"$nulls":12},{"$f":"IF(Meetings2!$B648=\"\",\"\",IF(Meetings2!$C648=\"\",\"\",LEFT(Meetings2!B648,FIND(\"(\",Meetings2!$B648)-2)))","v":""},{"$f":"IF(Meetings2!$B648=\"\",\"\",Meetings2!$B648)","v":""},{"$nulls":11},{"$f":"IF(AA648=\"\",\"\",IF(AA648=\"Career::\",Form!A646,\"\"))","v":""}]
[{"$nulls":12},{"$f":"IF(Meetings2!$B649=\"\",\"\",IF(Meetings2!$C649=\"\",\"\",LEFT(Meetings2!B649,FIND(\"(\",Meetings2!$B649)-2)))","v":""},{"$f":"IF(Meetings2!$B649=\"\",\"\",Meetings2!$B649)","v":""},{"$nulls":11},{"$f":"IF(AA649=\"\",\"\",IF(AA649=\"Career::\",Form!A647,\"\"))","v":""}]
[{"$nulls":12},{"$f":"IF(Meetings2!$B650=\"\",\"\",IF(Meetings2!$C650=\"\",\"\",LEFT(Meetings2!B650,FIND(\"(\",Meetings2!$B650)-2)))","v":""},{"$f":"IF(Meetings2!$B650=\"\",\"\",Meetings2!$B650)","v":""},{"$nulls":11},{"$f":"IF(AA650=\"\",\"\",IF(AA650=\"Career::\",Form!A648,\"\"))","v":""}]
[{"$nulls":12},{"$f":"IF(Meetings2!$B651=\"\",\"\",IF(Meetings2!$C651=\"\",\"\",LEFT(Meetings2!B651,FIND(\"(\",Meetings2!$B651)-2)))","v":""},{"$f":"IF(Meetings2!$B651=\"\",\"\",Meetings2!$B651)","v":""},{"$nulls":11},{"$f":"IF(AA651=\"\",\"\",IF(AA651=\"Career::\",Form!A649,\"\"))","v":""}]
[{"$nulls":12},{"$f":"IF(Meetings2!$B652=\"\",\"\",IF(Meetings2!$C652=\"\",\"\",LEFT(Meetings2!B652,FIND(\"(\",Meetings2!$B652)-2)))","v":""},{"$f":"IF(Meetings2!$B652=\"\",\"\",Meetings2!$B652)","v":""},{"$nulls":11},{"$f":"IF(AA652=\"\",\"\",IF(AA652=\"Career::\",Form!A650,\"\"))","v":""}]
[{"$nulls":12},{"$f":"IF(Meetings2!$B653=\"\",\"\",IF(Meetings2!$C653=\"\",\"\",LEFT(Meetings2!B653,FIND(\"(\",Meetings2!$B653)-2)))","v":""},{"$f":"IF(Meetings2!$B653=\"\",\"\",Meetings2!$B653)","v":""},{"$nulls":11},{"$f":"IF(AA653=\"\",\"\",IF(AA653=\"Career::\",Form!A651,\"\"))","v":""}]
[{"$nulls":12},{"$f":"IF(Meetings2!$B654=\"\",\"\",IF(Meetings2!$C654=\"\",\"\",LEFT(Meetings2!B654,FIND(\"(\",Meetings2!$B654)-2)))","v":""},{"$f":"IF(Meetings2!$B654=\"\",\"\",Meetings2!$B654)","v":""},{"$nulls":11},{"$f":"IF(AA654=\"\",\"\",IF(AA654=\"Career::\",Form!A652,\"\"))","v":""}]
[{"$nulls":12},{"$f":"IF(Meetings2!$B655=\"\",\"\",IF(Meetings2!$C655=\"\",\"\",LEFT(Meetings2!B655,FIND(\"(\",Meetings2!$B655)-2)))","v":""},{"$f":"IF(Meetings2!$B655=\"\",\"\",Meetings2!$B655)","v":""},{"$nulls":11},{"$f":"IF(AA655=\"\",\"\",IF(AA655=\"Career::\",Form!A653,\"\"))","v":""}]
[{"$nulls":12},{"$f":"IF(Meetings2!$B656=\"\",\"\",IF(Meetings2!$C656=\"\",\"\",LEFT(Meetings2!B656,FIND(\"(\",Meetings2!$B656)-2)))","v":""},{"$f":"IF(Meetings2!$B656=\"\",\"\",Meetings2!$B656)","v":""},{"$nulls":11},{"$f":"IF(AA656=\"\",\"\",IF(AA656=\"Career::\",Form!A654,\"\"))","v":""}]
[{"$nulls":12},{"$f":"IF(Meetings2!$B657=\"\",\"\",IF(Meetings2!$C657=\"\",\"\",LEFT(Meetings2!B657,FIND(\"(\",Meetings2!$B657)-2)))","v":""},{"$f":"IF(Meetings2!$B657=\"\",\"\",Meetings2!$B657)","v":""},{"$nulls":11},{"$f":"IF(AA657=\"\",\"\",IF(AA657=\"Career::\",Form!A655,\"\"))","v":""}]
[{"$nulls":12},{"$f":"IF(Meetings2!$B658=\"\",\"\",IF(Meetings2!$C658=\"\",\"\",LEFT(Meetings2!B658,FIND(\"(\",Meetings2!$B658)-2)))","v":""},{"$f":"IF(Meetings2!$B658=\"\",\"\",Meetings2!$B658)","v":""},{"$nulls":11},{"$f":"IF(AA658=\"\",\"\",IF(AA658=\"Career::\",Form!A656,\"\"))","v":""}]
[{"$nulls":12},{"$f":"IF(Meetings2!$B659=\"\",\"\",IF(Meetings2!$C659=\"\",\"\",LEFT(Meetings2!B659,FIND(\"(\",Meetings2!$B659)-2)))","v":""},{"$f":"IF(Meetings2!$B659=\"\",\"\",Meetings2!$B659)","v":""},{"$nulls":11},{"$f":"IF(AA659=\"\",\"\",IF(AA659=\"Career::\",Form!A657,\"\"))","v":""}]
[{"$nulls":12},{"$f":"IF(Meetings2!$B660=\"\",\"\",IF(Meetings2!$C660=\"\",\"\",LEFT(Meetings2!B660,FIND(\"(\",Meetings2!$B660)-2)))","v":""},{"$f":"IF(Meetings2!$B660=\"\",\"\",Meetings2!$B660)","v":""},{"$nulls":11},{"$f":"IF(AA660=\"\",\"\",IF(AA660=\"Career::\",Form!A658,\"\"))","v":""}]
[{"$nulls":12},{"$f":"IF(Meetings2!$B661=\"\",\"\",IF(Meetings2!$C661=\"\",\"\",LEFT(Meetings2!B661,FIND(\"(\",Meetings2!$B661)-2)))","v":""},{"$f":"IF(Meetings2!$B661=\"\",\"\",Meetings2!$B661)","v":""},{"$nulls":11},{"$f":"IF(AA661=\"\",\"\",IF(AA661=\"Career::\",Form!A659,\"\"))","v":""}]
[{"$nulls":12},{"$f":"IF(Meetings2!$B662=\"\",\"\",IF(Meetings2!$C662=\"\",\"\",LEFT(Meetings2!B662,FIND(\"(\",Meetings2!$B662)-2)))","v":""},{"$f":"IF(Meetings2!$B662=\"\",\"\",Meetings2!$B662)","v":""},{"$nulls":11},{"$f":"IF(AA662=\"\",\"\",IF(AA662=\"Career::\",Form!A660,\"\"))","v":""}]
[{"$nulls":12},{"$f":"IF(Meetings2!$B663=\"\",\"\",IF(Meetings2!$C663=\"\",\"\",LEFT(Meetings2!B663,FIND(\"(\",Meetings2!$B663)-2)))","v":""},{"$f":"IF(Meetings2!$B663=\"\",\"\",Meetings2!$B663)","v":""},{"$nulls":11},{"$f":"IF(AA663=\"\",\"\",IF(AA663=\"Career::\",Form!A661,\"\"))","v":""}]
[{"$nulls":12},{"$f":"IF(Meetings2!$B664=\"\",\"\",IF(Meetings2!$C664=\"\",\"\",LEFT(Meetings2!B664,FIND(\"(\",Meetings2!$B664)-2)))","v":""},{"$f":"IF(Meetings2!$B664=\"\",\"\",Meetings2!$B664)","v":""},{"$nulls":11},{"$f":"IF(AA664=\"\",\"\",IF(AA664=\"Career::\",Form!A662,\"\"))","v":""}]
[{"$nulls":12},{"$f":"IF(Meetings2!$B665=\"\",\"\",IF(Meetings2!$C665=\"\",\"\",LEFT(Meetings2!B665,FIND(\"(\",Meetings2!$B665)-2)))","v":""},{"$f":"IF(Meetings2!$B665=\"\",\"\",Meetings2!$B665)","v":""},{"$nulls":11},{"$f":"IF(AA665=\"\",\"\",IF(AA665=\"Career::\",Form!A663,\"\"))","v":""}]
[{"$nulls":12},{"$f":"IF(Meetings2!$B666=\"\",\"\",IF(Meetings2!$C666=\"\",\"\",LEFT(Meetings2!B666,FIND(\"(\",Meetings2!$B666)-2)))","v":""},{"$f":"IF(Meetings2!$B666=\"\",\"\",Meetings2!$B666)","v":""},{"$nulls":11},{"$f":"IF(AA666=\"\",\"\",IF(AA666=\"Career::\",Form!A664,\"\"))","v":""}]
[{"$nulls":12},{"$f":"IF(Meetings2!$B667=\"\",\"\",IF(Meetings2!$C667=\"\",\"\",LEFT(Meetings2!B667,FIND(\"(\",Meetings2!$B667)-2)))","v":""},{"$f":"IF(Meetings2!$B667=\"\",\"\",Meetings2!$B667)","v":""},{"$nulls":11},{"$f":"IF(AA667=\"\",\"\",IF(AA667=\"Career::\",Form!A665,\"\"))","v":""}]
[{"$nulls":12},{"$f":"IF(Meetings2!$B668=\"\",\"\",IF(Meetings2!$C668=\"\",\"\",LEFT(Meetings2!B668,FIND(\"(\",Meetings2!$B668)-2)))","v":""},{"$f":"IF(Meetings2!$B668=\"\",\"\",Meetings2!$B668)","v":""},{"$nulls":11},{"$f":"IF(AA668=\"\",\"\",IF(AA668=\"Career::\",Form!A666,\"\"))","v":""}]
[{"$nulls":12},{"$f":"IF(Meetings2!$B669=\"\",\"\",IF(Meetings2!$C669=\"\",\"\",LEFT(Meetings2!B669,FIND(\"(\",Meetings2!$B669)-2)))","v":""},{"$f":"IF(Meetings2!$B669=\"\",\"\",Meetings2!$B669)","v":""},{"$nulls":11},{"$f":"IF(AA669=\"\",\"\",IF(AA669=\"Career::\",Form!A667,\"\"))","v":""}]
[{"$nulls":12},{"$f":"IF(Meetings2!$B670=\"\",\"\",IF(Meetings2!$C670=\"\",\"\",LEFT(Meetings2!B670,FIND(\"(\",Meetings2!$B670)-2)))","v":""},{"$f":"IF(Meetings2!$B670=\"\",\"\",Meetings2!$B670)","v":""},{"$nulls":11},{"$f":"IF(AA670=\"\",\"\",IF(AA670=\"Career::\",Form!A668,\"\"))","v":""}]
[{"$nulls":12},{"$f":"IF(Meetings2!$B671=\"\",\"\",IF(Meetings2!$C671=\"\",\"\",LEFT(Meetings2!B671,FIND(\"(\",Meetings2!$B671)-2)))","v":""},{"$f":"IF(Meetings2!$B671=\"\",\"\",Meetings2!$B671)","v":""},{"$nulls":11},{"$f":"IF(AA671=\"\",\"\",IF(AA671=\"Career::\",Form!A669,\"\"))","v":""}]
[{"$nulls":12},{"$f":"IF(Meetings2!$B672=\"\",\"\",IF(Meetings2!$C672=\"\",\"\",LEFT(Meetings2!B672,FIND(\"(\",Meetings2!$B672)-2)))","v":""},{"$f":"IF(Meetings2!$B672=\"\",\"\",Meetings2!$B672)","v":""},{"$nulls":11},{"$f":"IF(AA672=\"\",\"\",IF(AA672=\"Career::\",Form!A670,\"\"))","v":""}]
[{"$nulls":12},{"$f":"IF(Meetings2!$B673=\"\",\"\",IF(Meetings2!$C673=\"\",\"\",LEFT(Meetings2!B673,FIND(\"(\",Meetings2!$B673)-2)))","v":""},{"$f":"IF(Meetings2!$B673=\"\",\"\",Meetings2!$B673)","v":""},{"$nulls":11},{"$f":"IF(AA673=\"\",\"\",IF(AA673=\"Career::\",Form!A671,\"\"))","v":""}]
[{"$nulls":12},{"$f":"IF(Meetings2!$B674=\"\",\"\",IF(Meetings2!$C674=\"\",\"\",LEFT(Meetings2!B674,FIND(\"(\",Meetings2!$B674)-2)))","v":""},{"$f":"IF(Meetings2!$B674=\"\",\"\",Meetings2!$B674)","v":""},{"$nulls":11},{"$f":"IF(AA674=\"\",\"\",IF(AA674=\"Career::\",Form!A672,\"\"))","v":""}]
[{"$nulls":12},{"$f":"IF(Meetings2!$B675=\"\",\"\",IF(Meetings2!$C675=\"\",\"\",LEFT(Meetings2!B675,FIND(\"(\",Meetings2!$B675)-2)))","v":""},{"$f":"IF(Meetings2!$B675=\"\",\"\",Meetings2!$B675)","v":""},{"$nulls":11},{"$f":"IF(AA675=\"\",\"\",IF(AA675=\"Career::\",Form!A673,\"\"))","v":""}]
[{"$nulls":12},{"$f":"IF(Meetings2!$B676=\"\",\"\",IF(Meetings2!$C676=\"\",\"\",LEFT(Meetings2!B676,FIND(\"(\",Meetings2!$B676)-2)))","v":""},{"$f":"IF(Meetings2!$B676=\"\",\"\",Meetings2!$B676)","v":""},{"$nulls":11},{"$f":"IF(AA676=\"\",\"\",IF(AA676=\"Career::\",Form!A674,\"\"))","v":""}]
[{"$nulls":12},{"$f":"IF(Meetings2!$B677=\"\",\"\",IF(Meetings2!$C677=\"\",\"\",LEFT(Meetings2!B677,FIND(\"(\",Meetings2!$B677)-2)))","v":""},{"$f":"IF(Meetings2!$B677=\"\",\"\",Meetings2!$B677)","v":""},{"$nulls":11},{"$f":"IF(AA677=\"\",\"\",IF(AA677=\"Career::\",Form!A675,\"\"))","v":""}]
[{"$nulls":12},{"$f":"IF(Meetings2!$B678=\"\",\"\",IF(Meetings2!$C678=\"\",\"\",LEFT(Meetings2!B678,FIND(\"(\",Meetings2!$B678)-2)))","v":""},{"$f":"IF(Meetings2!$B678=\"\",\"\",Meetings2!$B678)","v":""},{"$nulls":11},{"$f":"IF(AA678=\"\",\"\",IF(AA678=\"Career::\",Form!A676,\"\"))","v":""}]
[{"$nulls":12},{"$f":"IF(Meetings2!$B679=\"\",\"\",IF(Meetings2!$C679=\"\",\"\",LEFT(Meetings2!B679,FIND(\"(\",Meetings2!$B679)-2)))","v":""},{"$f":"IF(Meetings2!$B679=\"\",\"\",Meetings2!$B679)","v":""},{"$nulls":11},{"$f":"IF(AA679=\"\",\"\",IF(AA679=\"Career::\",Form!A677,\"\"))","v":""}]
[{"$nulls":12},{"$f":"IF(Meetings2!$B680=\"\",\"\",IF(Meetings2!$C680=\"\",\"\",LEFT(Meetings2!B680,FIND(\"(\",Meetings2!$B680)-2)))","v":""},{"$f":"IF(Meetings2!$B680=\"\",\"\",Meetings2!$B680)","v":""},{"$nulls":11},{"$f":"IF(AA680=\"\",\"\",IF(AA680=\"Career::\",Form!A678,\"\"))","v":""}]
[{"$nulls":12},{"$f":"IF(Meetings2!$B681=\"\",\"\",IF(Meetings2!$C681=\"\",\"\",LEFT(Meetings2!B681,FIND(\"(\",Meetings2!$B681)-2)))","v":""},{"$f":"IF(Meetings2!$B681=\"\",\"\",Meetings2!$B681)","v":""},{"$nulls":11},{"$f":"IF(AA681=\"\",\"\",IF(AA681=\"Career::\",Form!A679,\"\"))","v":""}]
[{"$nulls":12},{"$f":"IF(Meetings2!$B682=\"\",\"\",IF(Meetings2!$C682=\"\",\"\",LEFT(Meetings2!B682,FIND(\"(\",Meetings2!$B682)-2)))","v":""},{"$f":"IF(Meetings2!$B682=\"\",\"\",Meetings2!$B682)","v":""},{"$nulls":11},{"$f":"IF(AA682=\"\",\"\",IF(AA682=\"Career::\",Form!A680,\"\"))","v":""}]
[{"$nulls":12},{"$f":"IF(Meetings2!$B683=\"\",\"\",IF(Meetings2!$C683=\"\",\"\",LEFT(Meetings2!B683,FIND(\"(\",Meetings2!$B683)-2)))","v":""},{"$f":"IF(Meetings2!$B683=\"\",\"\",Meetings2!$B683)","v":""},{"$nulls":11},{"$f":"IF(AA683=\"\",\"\",IF(AA683=\"Career::\",Form!A681,\"\"))","v":""}]
[{"$nulls":12},{"$f":"IF(Meetings2!$B684=\"\",\"\",IF(Meetings2!$C684=\"\",\"\",LEFT(Meetings2!B684,FIND(\"(\",Meetings2!$B684)-2)))","v":""},{"$f":"IF(Meetings2!$B684=\"\",\"\",Meetings2!$B684)","v":""},{"$nulls":11},{"$f":"IF(AA684=\"\",\"\",IF(AA684=\"Career::\",Form!A682,\"\"))","v":""}]
[{"$nulls":12},{"$f":"IF(Meetings2!$B685=\"\",\"\",IF(Meetings2!$C685=\"\",\"\",LEFT(Meetings2!B685,FIND(\"(\",Meetings2!$B685)-2)))","v":""},{"$f":"IF(Meetings2!$B685=\"\",\"\",Meetings2!$B685)","v":""},{"$nulls":11},{"$f":"IF(AA685=\"\",\"\",IF(AA685=\"Career::\",Form!A683,\"\"))","v":""}]
[{"$nulls":12},{"$f":"IF(Meetings2!$B686=\"\",\"\",IF(Meetings2!$C686=\"\",\"\",LEFT(Meetings2!B686,FIND(\"(\",Meetings2!$B686)-2)))","v":""},{"$f":"IF(Meetings2!$B686=\"\",\"\",Meetings2!$B686)","v":""},{"$nulls":11},{"$f":"IF(AA686=\"\",\"\",IF(AA686=\"Career::\",Form!A684,\"\"))","v":""}]
[{"$nulls":12},{"$f":"IF(Meetings2!$B687=\"\",\"\",IF(Meetings2!$C687=\"\",\"\",LEFT(Meetings2!B687,FIND(\"(\",Meetings2!$B687)-2)))","v":""},{"$f":"IF(Meetings2!$B687=\"\",\"\",Meetings2!$B687)","v":""},{"$nulls":11},{"$f":"IF(AA687=\"\",\"\",IF(AA687=\"Career::\",Form!A685,\"\"))","v":""}]
[{"$nulls":12},{"$f":"IF(Meetings2!$B688=\"\",\"\",IF(Meetings2!$C688=\"\",\"\",LEFT(Meetings2!B688,FIND(\"(\",Meetings2!$B688)-2)))","v":""},{"$f":"IF(Meetings2!$B688=\"\",\"\",Meetings2!$B688)","v":""},{"$nulls":11},{"$f":"IF(AA688=\"\",\"\",IF(AA688=\"Career::\",Form!A686,\"\"))","v":""}]
[{"$nulls":12},{"$f":"IF(Meetings2!$B689=\"\",\"\",IF(Meetings2!$C689=\"\",\"\",LEFT(Meetings2!B689,FIND(\"(\",Meetings2!$B689)-2)))","v":""},{"$f":"IF(Meetings2!$B689=\"\",\"\",Meetings2!$B689)","v":""},{"$nulls":11},{"$f":"IF(AA689=\"\",\"\",IF(AA689=\"Career::\",Form!A687,\"\"))","v":""}]
[{"$nulls":12},{"$f":"IF(Meetings2!$B690=\"\",\"\",IF(Meetings2!$C690=\"\",\"\",LEFT(Meetings2!B690,FIND(\"(\",Meetings2!$B690)-2)))","v":""},{"$f":"IF(Meetings2!$B690=\"\",\"\",Meetings2!$B690)","v":""},{"$nulls":11},{"$f":"IF(AA690=\"\",\"\",IF(AA690=\"Career::\",Form!A688,\"\"))","v":""}]
[{"$nulls":12},{"$f":"IF(Meetings2!$B691=\"\",\"\",IF(Meetings2!$C691=\"\",\"\",LEFT(Meetings2!B691,FIND(\"(\",Meetings2!$B691)-2)))","v":""},{"$f":"IF(Meetings2!$B691=\"\",\"\",Meetings2!$B691)","v":""},{"$nulls":11},{"$f":"IF(AA691=\"\",\"\",IF(AA691=\"Career::\",Form!A689,\"\"))","v":""}]
[{"$nulls":12},{"$f":"IF(Meetings2!$B692=\"\",\"\",IF(Meetings2!$C692=\"\",\"\",LEFT(Meetings2!B692,FIND(\"(\",Meetings2!$B692)-2)))","v":""},{"$f":"IF(Meetings2!$B692=\"\",\"\",Meetings2!$B692)","v":""},{"$nulls":11},{"$f":"IF(AA692=\"\",\"\",IF(AA692=\"Career::\",Form!A690,\"\"))","v":""}]
[{"$nulls":12},{"$f":"IF(Meetings2!$B693=\"\",\"\",IF(Meetings2!$C693=\"\",\"\",LEFT(Meetings2!B693,FIND(\"(\",Meetings2!$B693)-2)))","v":""},{"$f":"IF(Meetings2!$B693=\"\",\"\",Meetings2!$B693)","v":""},{"$nulls":11},{"$f":"IF(AA693=\"\",\"\",IF(AA693=\"Career::\",Form!A691,\"\"))","v":""}]
[{"$nulls":12},{"$f":"IF(Meetings2!$B694=\"\",\"\",IF(Meetings2!$C694=\"\",\"\",LEFT(Meetings2!B694,FIND(\"(\",Meetings2!$B694)-2)))","v":""},{"$f":"IF(Meetings2!$B694=\"\",\"\",Meetings2!$B694)","v":""},{"$nulls":11},{"$f":"IF(AA694=\"\",\"\",IF(AA694=\"Career::\",Form!A692,\"\"))","v":""}]
[{"$nulls":12},{"$f":"IF(Meetings2!$B695=\"\",\"\",IF(Meetings2!$C695=\"\",\"\",LEFT(Meetings2!B695,FIND(\"(\",Meetings2!$B695)-2)))","v":""},{"$f":"IF(Meetings2!$B695=\"\",\"\",Meetings2!$B695)","v":""},{"$nulls":11},{"$f":"IF(AA695=\"\",\"\",IF(AA695=\"Career::\",Form!A693,\"\"))","v":""}]
[{"$nulls":12},{"$f":"IF(Meetings2!$B696=\"\",\"\",IF(Meetings2!$C696=\"\",\"\",LEFT(Meetings2!B696,FIND(\"(\",Meetings2!$B696)-2)))","v":""},{"$f":"IF(Meetings2!$B696=\"\",\"\",Meetings2!$B696)","v":""},{"$nulls":11},{"$f":"IF(AA696=\"\",\"\",IF(AA696=\"Career::\",Form!A694,\"\"))","v":""}]
[{"$nulls":12},{"$f":"IF(Meetings2!$B697=\"\",\"\",IF(Meetings2!$C697=\"\",\"\",LEFT(Meetings2!B697,FIND(\"(\",Meetings2!$B697)-2)))","v":""},{"$f":"IF(Meetings2!$B697=\"\",\"\",Meetings2!$B697)","v":""},{"$nulls":11},{"$f":"IF(AA697=\"\",\"\",IF(AA697=\"Career::\",Form!A695,\"\"))","v":""}]
[{"$nulls":12},{"$f":"IF(Meetings2!$B698=\"\",\"\",IF(Meetings2!$C698=\"\",\"\",LEFT(Meetings2!B698,FIND(\"(\",Meetings2!$B698)-2)))","v":""},{"$f":"IF(Meetings2!$B698=\"\",\"\",Meetings2!$B698)","v":""},{"$nulls":11},{"$f":"IF(AA698=\"\",\"\",IF(AA698=\"Career::\",Form!A696,\"\"))","v":""}]
[{"$nulls":12},{"$f":"IF(Meetings2!$B699=\"\",\"\",IF(Meetings2!$C699=\"\",\"\",LEFT(Meetings2!B699,FIND(\"(\",Meetings2!$B699)-2)))","v":""},{"$f":"IF(Meetings2!$B699=\"\",\"\",Meetings2!$B699)","v":""},{"$nulls":11},{"$f":"IF(AA699=\"\",\"\",IF(AA699=\"Career::\",Form!A697,\"\"))","v":""}]
[{"$nulls":12},{"$f":"IF(Meetings2!$B700=\"\",\"\",IF(Meetings2!$C700=\"\",\"\",LEFT(Meetings2!B700,FIND(\"(\",Meetings2!$B700)-2)))","v":""},{"$f":"IF(Meetings2!$B700=\"\",\"\",Meetings2!$B700)","v":""},{"$nulls":11},{"$f":"IF(AA700=\"\",\"\",IF(AA700=\"Career::\",Form!A698,\"\"))","v":""}]
[{"$nulls":12},{"$f":"IF(Meetings2!$B701=\"\",\"\",IF(Meetings2!$C701=\"\",\"\",LEFT(Meetings2!B701,FIND(\"(\",Meetings2!$B701)-2)))","v":""},{"$f":"IF(Meetings2!$B701=\"\",\"\",Meetings2!$B701)","v":""},{"$nulls":11},{"$f":"IF(AA701=\"\",\"\",IF(AA701=\"Career::\",Form!A699,\"\"))","v":""}]
[{"$nulls":12},{"$f":"IF(Meetings2!$B702=\"\",\"\",IF(Meetings2!$C702=\"\",\"\",LEFT(Meetings2!B702,FIND(\"(\",Meetings2!$B702)-2)))","v":""},{"$f":"IF(Meetings2!$B702=\"\",\"\",Meetings2!$B702)","v":""},{"$nulls":11},{"$f":"IF(AA702=\"\",\"\",IF(AA702=\"Career::\",Form!A700,\"\"))","v":""}]
[{"$nulls":12},{"$f":"IF(Meetings2!$B703=\"\",\"\",IF(Meetings2!$C703=\"\",\"\",LEFT(Meetings2!B703,FIND(\"(\",Meetings2!$B703)-2)))","v":""},{"$f":"IF(Meetings2!$B703=\"\",\"\",Meetings2!$B703)","v":""},{"$nulls":11},{"$f":"IF(AA703=\"\",\"\",IF(AA703=\"Career::\",Form!A701,\"\"))","v":""}]
[{"$nulls":12},{"$f":"IF(Meetings2!$B704=\"\",\"\",IF(Meetings2!$C704=\"\",\"\",LEFT(Meetings2!B704,FIND(\"(\",Meetings2!$B704)-2)))","v":""},{"$f":"IF(Meetings2!$B704=\"\",\"\",Meetings2!$B704)","v":""},{"$nulls":11},{"$f":"IF(AA704=\"\",\"\",IF(AA704=\"Career::\",Form!A702,\"\"))","v":""}]
[{"$nulls":12},{"$f":"IF(Meetings2!$B705=\"\",\"\",IF(Meetings2!$C705=\"\",\"\",LEFT(Meetings2!B705,FIND(\"(\",Meetings2!$B705)-2)))","v":""},{"$f":"IF(Meetings2!$B705=\"\",\"\",Meetings2!$B705)","v":""},{"$nulls":11},{"$f":"IF(AA705=\"\",\"\",IF(AA705=\"Career::\",Form!A703,\"\"))","v":""}]
[{"$nulls":12},{"$f":"IF(Meetings2!$B706=\"\",\"\",IF(Meetings2!$C706=\"\",\"\",LEFT(Meetings2!B706,FIND(\"(\",Meetings2!$B706)-2)))","v":""},{"$f":"IF(Meetings2!$B706=\"\",\"\",Meetings2!$B706)","v":""},{"$nulls":11},{"$f":"IF(AA706=\"\",\"\",IF(AA706=\"Career::\",Form!A704,\"\"))","v":""}]
[{"$nulls":12},{"$f":"IF(Meetings2!$B707=\"\",\"\",IF(Meetings2!$C707=\"\",\"\",LEFT(Meetings2!B707,FIND(\"(\",Meetings2!$B707)-2)))","v":""},{"$f":"IF(Meetings2!$B707=\"\",\"\",Meetings2!$B707)","v":""},{"$nulls":11},{"$f":"IF(AA707=\"\",\"\",IF(AA707=\"Career::\",Form!A705,\"\"))","v":""}]
[{"$nulls":12},{"$f":"IF(Meetings2!$B708=\"\",\"\",IF(Meetings2!$C708=\"\",\"\",LEFT(Meetings2!B708,FIND(\"(\",Meetings2!$B708)-2)))","v":""},{"$f":"IF(Meetings2!$B708=\"\",\"\",Meetings2!$B708)","v":""},{"$nulls":11},{"$f":"IF(AA708=\"\",\"\",IF(AA708=\"Career::\",Form!A706,\"\"))","v":""}]
[{"$nulls":12},{"$f":"IF(Meetings2!$B709=\"\",\"\",IF(Meetings2!$C709=\"\",\"\",LEFT(Meetings2!B709,FIND(\"(\",Meetings2!$B709)-2)))","v":""},{"$f":"IF(Meetings2!$B709=\"\",\"\",Meetings2!$B709)","v":""},{"$nulls":11},{"$f":"IF(AA709=\"\",\"\",IF(AA709=\"Career::\",Form!A707,\"\"))","v":""}]
[{"$nulls":12},{"$f":"IF(Meetings2!$B710=\"\",\"\",IF(Meetings2!$C710=\"\",\"\",LEFT(Meetings2!B710,FIND(\"(\",Meetings2!$B710)-2)))","v":""},{"$f":"IF(Meetings2!$B710=\"\",\"\",Meetings2!$B710)","v":""},{"$nulls":11},{"$f":"IF(AA710=\"\",\"\",IF(AA710=\"Career::\",Form!A708,\"\"))","v":""}]
[{"$nulls":12},{"$f":"IF(Meetings2!$B711=\"\",\"\",IF(Meetings2!$C711=\"\",\"\",LEFT(Meetings2!B711,FIND(\"(\",Meetings2!$B711)-2)))","v":""},{"$f":"IF(Meetings2!$B711=\"\",\"\",Meetings2!$B711)","v":""},{"$nulls":11},{"$f":"IF(AA711=\"\",\"\",IF(AA711=\"Career::\",Form!A709,\"\"))","v":""}]
[{"$nulls":12},{"$f":"IF(Meetings2!$B712=\"\",\"\",IF(Meetings2!$C712=\"\",\"\",LEFT(Meetings2!B712,FIND(\"(\",Meetings2!$B712)-2)))","v":""},{"$f":"IF(Meetings2!$B712=\"\",\"\",Meetings2!$B712)","v":""},{"$nulls":11},{"$f":"IF(AA712=\"\",\"\",IF(AA712=\"Career::\",Form!A710,\"\"))","v":""}]
[{"$nulls":12},{"$f":"IF(Meetings2!$B713=\"\",\"\",IF(Meetings2!$C713=\"\",\"\",LEFT(Meetings2!B713,FIND(\"(\",Meetings2!$B713)-2)))","v":""},{"$f":"IF(Meetings2!$B713=\"\",\"\",Meetings2!$B713)","v":""},{"$nulls":11},{"$f":"IF(AA713=\"\",\"\",IF(AA713=\"Career::\",Form!A711,\"\"))","v":""}]
[{"$nulls":12},{"$f":"IF(Meetings2!$B714=\"\",\"\",IF(Meetings2!$C714=\"\",\"\",LEFT(Meetings2!B714,FIND(\"(\",Meetings2!$B714)-2)))","v":""},{"$f":"IF(Meetings2!$B714=\"\",\"\",Meetings2!$B714)","v":""},{"$nulls":11},{"$f":"IF(AA714=\"\",\"\",IF(AA714=\"Career::\",Form!A712,\"\"))","v":""}]
[{"$nulls":12},{"$f":"IF(Meetings2!$B715=\"\",\"\",IF(Meetings2!$C715=\"\",\"\",LEFT(Meetings2!B715,FIND(\"(\",Meetings2!$B715)-2)))","v":""},{"$f":"IF(Meetings2!$B715=\"\",\"\",Meetings2!$B715)","v":""},{"$nulls":11},{"$f":"IF(AA715=\"\",\"\",IF(AA715=\"Career::\",Form!A713,\"\"))","v":""}]
[{"$nulls":12},{"$f":"IF(Meetings2!$B716=\"\",\"\",IF(Meetings2!$C716=\"\",\"\",LEFT(Meetings2!B716,FIND(\"(\",Meetings2!$B716)-2)))","v":""},{"$f":"IF(Meetings2!$B716=\"\",\"\",Meetings2!$B716)","v":""},{"$nulls":11},{"$f":"IF(AA716=\"\",\"\",IF(AA716=\"Career::\",Form!A714,\"\"))","v":""}]
[{"$nulls":12},{"$f":"IF(Meetings2!$B717=\"\",\"\",IF(Meetings2!$C717=\"\",\"\",LEFT(Meetings2!B717,FIND(\"(\",Meetings2!$B717)-2)))","v":""},{"$f":"IF(Meetings2!$B717=\"\",\"\",Meetings2!$B717)","v":""},{"$nulls":11},{"$f":"IF(AA717=\"\",\"\",IF(AA717=\"Career::\",Form!A715,\"\"))","v":""}]
[{"$nulls":12},{"$f":"IF(Meetings2!$B718=\"\",\"\",IF(Meetings2!$C718=\"\",\"\",LEFT(Meetings2!B718,FIND(\"(\",Meetings2!$B718)-2)))","v":""},{"$f":"IF(Meetings2!$B718=\"\",\"\",Meetings2!$B718)","v":""},{"$nulls":11},{"$f":"IF(AA718=\"\",\"\",IF(AA718=\"Career::\",Form!A716,\"\"))","v":""}]
[{"$nulls":12},{"$f":"IF(Meetings2!$B719=\"\",\"\",IF(Meetings2!$C719=\"\",\"\",LEFT(Meetings2!B719,FIND(\"(\",Meetings2!$B719)-2)))","v":""},{"$f":"IF(Meetings2!$B719=\"\",\"\",Meetings2!$B719)","v":""},{"$nulls":11},{"$f":"IF(AA719=\"\",\"\",IF(AA719=\"Career::\",Form!A717,\"\"))","v":""}]
[{"$nulls":12},{"$f":"IF(Meetings2!$B720=\"\",\"\",IF(Meetings2!$C720=\"\",\"\",LEFT(Meetings2!B720,FIND(\"(\",Meetings2!$B720)-2)))","v":""},{"$f":"IF(Meetings2!$B720=\"\",\"\",Meetings2!$B720)","v":""},{"$nulls":11},{"$f":"IF(AA720=\"\",\"\",IF(AA720=\"Career::\",Form!A718,\"\"))","v":""}]
[{"$nulls":12},{"$f":"IF(Meetings2!$B721=\"\",\"\",IF(Meetings2!$C721=\"\",\"\",LEFT(Meetings2!B721,FIND(\"(\",Meetings2!$B721)-2)))","v":""},{"$f":"IF(Meetings2!$B721=\"\",\"\",Meetings2!$B721)","v":""},{"$nulls":11},{"$f":"IF(AA721=\"\",\"\",IF(AA721=\"Career::\",Form!A719,\"\"))","v":""}]
[{"$nulls":12},{"$f":"IF(Meetings2!$B722=\"\",\"\",IF(Meetings2!$C722=\"\",\"\",LEFT(Meetings2!B722,FIND(\"(\",Meetings2!$B722)-2)))","v":""},{"$f":"IF(Meetings2!$B722=\"\",\"\",Meetings2!$B722)","v":""},{"$nulls":11},{"$f":"IF(AA722=\"\",\"\",IF(AA722=\"Career::\",Form!A720,\"\"))","v":""}]
[{"$nulls":12},{"$f":"IF(Meetings2!$B723=\"\",\"\",IF(Meetings2!$C723=\"\",\"\",LEFT(Meetings2!B723,FIND(\"(\",Meetings2!$B723)-2)))","v":""},{"$f":"IF(Meetings2!$B723=\"\",\"\",Meetings2!$B723)","v":""},{"$nulls":11},{"$f":"IF(AA723=\"\",\"\",IF(AA723=\"Career::\",Form!A721,\"\"))","v":""}]
[{"$nulls":12},{"$f":"IF(Meetings2!$B724=\"\",\"\",IF(Meetings2!$C724=\"\",\"\",LEFT(Meetings2!B724,FIND(\"(\",Meetings2!$B724)-2)))","v":""},{"$f":"IF(Meetings2!$B724=\"\",\"\",Meetings2!$B724)","v":""},{"$nulls":11},{"$f":"IF(AA724=\"\",\"\",IF(AA724=\"Career::\",Form!A722,\"\"))","v":""}]
[{"$nulls":12},{"$f":"IF(Meetings2!$B725=\"\",\"\",IF(Meetings2!$C725=\"\",\"\",LEFT(Meetings2!B725,FIND(\"(\",Meetings2!$B725)-2)))","v":""},{"$f":"IF(Meetings2!$B725=\"\",\"\",Meetings2!$B725)","v":""},{"$nulls":11},{"$f":"IF(AA725=\"\",\"\",IF(AA725=\"Career::\",Form!A723,\"\"))","v":""}]
[{"$nulls":12},{"$f":"IF(Meetings2!$B726=\"\",\"\",IF(Meetings2!$C726=\"\",\"\",LEFT(Meetings2!B726,FIND(\"(\",Meetings2!$B726)-2)))","v":""},{"$f":"IF(Meetings2!$B726=\"\",\"\",Meetings2!$B726)","v":""},{"$nulls":11},{"$f":"IF(AA726=\"\",\"\",IF(AA726=\"Career::\",Form!A724,\"\"))","v":""}]
[{"$nulls":12},{"$f":"IF(Meetings2!$B727=\"\",\"\",IF(Meetings2!$C727=\"\",\"\",LEFT(Meetings2!B727,FIND(\"(\",Meetings2!$B727)-2)))","v":""},{"$f":"IF(Meetings2!$B727=\"\",\"\",Meetings2!$B727)","v":""},{"$nulls":11},{"$f":"IF(AA727=\"\",\"\",IF(AA727=\"Career::\",Form!A725,\"\"))","v":""}]
[{"$nulls":12},{"$f":"IF(Meetings2!$B728=\"\",\"\",IF(Meetings2!$C728=\"\",\"\",LEFT(Meetings2!B728,FIND(\"(\",Meetings2!$B728)-2)))","v":""},{"$f":"IF(Meetings2!$B728=\"\",\"\",Meetings2!$B728)","v":""},{"$nulls":11},{"$f":"IF(AA728=\"\",\"\",IF(AA728=\"Career::\",Form!A726,\"\"))","v":""}]
[{"$nulls":12},{"$f":"IF(Meetings2!$B729=\"\",\"\",IF(Meetings2!$C729=\"\",\"\",LEFT(Meetings2!B729,FIND(\"(\",Meetings2!$B729)-2)))","v":""},{"$f":"IF(Meetings2!$B729=\"\",\"\",Meetings2!$B729)","v":""},{"$nulls":11},{"$f":"IF(AA729=\"\",\"\",IF(AA729=\"Career::\",Form!A727,\"\"))","v":""}]
[{"$nulls":12},{"$f":"IF(Meetings2!$B730=\"\",\"\",IF(Meetings2!$C730=\"\",\"\",LEFT(Meetings2!B730,FIND(\"(\",Meetings2!$B730)-2)))","v":""},{"$f":"IF(Meetings2!$B730=\"\",\"\",Meetings2!$B730)","v":""},{"$nulls":11},{"$f":"IF(AA730=\"\",\"\",IF(AA730=\"Career::\",Form!A728,\"\"))","v":""}]
[{"$nulls":12},{"$f":"IF(Meetings2!$B731=\"\",\"\",IF(Meetings2!$C731=\"\",\"\",LEFT(Meetings2!B731,FIND(\"(\",Meetings2!$B731)-2)))","v":""},{"$f":"IF(Meetings2!$B731=\"\",\"\",Meetings2!$B731)","v":""},{"$nulls":11},{"$f":"IF(AA731=\"\",\"\",IF(AA731=\"Career::\",Form!A729,\"\"))","v":""}]
[{"$nulls":12},{"$f":"IF(Meetings2!$B732=\"\",\"\",IF(Meetings2!$C732=\"\",\"\",LEFT(Meetings2!B732,FIND(\"(\",Meetings2!$B732)-2)))","v":""},{"$f":"IF(Meetings2!$B732=\"\",\"\",Meetings2!$B732)","v":""},{"$nulls":11},{"$f":"IF(AA732=\"\",\"\",IF(AA732=\"Career::\",Form!A730,\"\"))","v":""}]
[{"$nulls":12},{"$f":"IF(Meetings2!$B733=\"\",\"\",IF(Meetings2!$C733=\"\",\"\",LEFT(Meetings2!B733,FIND(\"(\",Meetings2!$B733)-2)))","v":""},{"$f":"IF(Meetings2!$B733=\"\",\"\",Meetings2!$B733)","v":""},{"$nulls":11},{"$f":"IF(AA733=\"\",\"\",IF(AA733=\"Career::\",Form!A731,\"\"))","v":""}]
[{"$nulls":12},{"$f":"IF(Meetings2!$B734=\"\",\"\",IF(Meetings2!$C734=\"\",\"\",LEFT(Meetings2!B734,FIND(\"(\",Meetings2!$B734)-2)))","v":""},{"$f":"IF(Meetings2!$B734=\"\",\"\",Meetings2!$B734)","v":""},{"$nulls":11},{"$f":"IF(AA734=\"\",\"\",IF(AA734=\"Career::\",Form!A732,\"\"))","v":""}]
[{"$nulls":12},{"$f":"IF(Meetings2!$B735=\"\",\"\",IF(Meetings2!$C735=\"\",\"\",LEFT(Meetings2!B735,FIND(\"(\",Meetings2!$B735)-2)))","v":""},{"$f":"IF(Meetings2!$B735=\"\",\"\",Meetings2!$B735)","v":""},{"$nulls":11},{"$f":"IF(AA735=\"\",\"\",IF(AA735=\"Career::\",Form!A733,\"\"))","v":""}]
[{"$nulls":12},{"$f":"IF(Meetings2!$B736=\"\",\"\",IF(Meetings2!$C736=\"\",\"\",LEFT(Meetings2!B736,FIND(\"(\",Meetings2!$B736)-2)))","v":""},{"$f":"IF(Meetings2!$B736=\"\",\"\",Meetings2!$B736)","v":""},{"$nulls":11},{"$f":"IF(AA736=\"\",\"\",IF(AA736=\"Career::\",Form!A734,\"\"))","v":""}]
[{"$nulls":12},{"$f":"IF(Meetings2!$B737=\"\",\"\",IF(Meetings2!$C737=\"\",\"\",LEFT(Meetings2!B737,FIND(\"(\",Meetings2!$B737)-2)))","v":""},{"$f":"IF(Meetings2!$B737=\"\",\"\",Meetings2!$B737)","v":""},{"$nulls":11},{"$f":"IF(AA737=\"\",\"\",IF(AA737=\"Career::\",Form!A735,\"\"))","v":""}]
[{"$nulls":12},{"$f":"IF(Meetings2!$B738=\"\",\"\",IF(Meetings2!$C738=\"\",\"\",LEFT(Meetings2!B738,FIND(\"(\",Meetings2!$B738)-2)))","v":""},{"$f":"IF(Meetings2!$B738=\"\",\"\",Meetings2!$B738)","v":""},{"$nulls":11},{"$f":"IF(AA738=\"\",\"\",IF(AA738=\"Career::\",Form!A736,\"\"))","v":""}]
[{"$nulls":12},{"$f":"IF(Meetings2!$B739=\"\",\"\",IF(Meetings2!$C739=\"\",\"\",LEFT(Meetings2!B739,FIND(\"(\",Meetings2!$B739)-2)))","v":""},{"$f":"IF(Meetings2!$B739=\"\",\"\",Meetings2!$B739)","v":""},{"$nulls":11},{"$f":"IF(AA739=\"\",\"\",IF(AA739=\"Career::\",Form!A737,\"\"))","v":""}]
[{"$nulls":12},{"$f":"IF(Meetings2!$B740=\"\",\"\",IF(Meetings2!$C740=\"\",\"\",LEFT(Meetings2!B740,FIND(\"(\",Meetings2!$B740)-2)))","v":""},{"$f":"IF(Meetings2!$B740=\"\",\"\",Meetings2!$B740)","v":""},{"$nulls":11},{"$f":"IF(AA740=\"\",\"\",IF(AA740=\"Career::\",Form!A738,\"\"))","v":""}]
[{"$nulls":12},{"$f":"IF(Meetings2!$B741=\"\",\"\",IF(Meetings2!$C741=\"\",\"\",LEFT(Meetings2!B741,FIND(\"(\",Meetings2!$B741)-2)))","v":""},{"$f":"IF(Meetings2!$B741=\"\",\"\",Meetings2!$B741)","v":""},{"$nulls":11},{"$f":"IF(AA741=\"\",\"\",IF(AA741=\"Career::\",Form!A739,\"\"))","v":""}]
[{"$nulls":12},{"$f":"IF(Meetings2!$B742=\"\",\"\",IF(Meetings2!$C742=\"\",\"\",LEFT(Meetings2!B742,FIND(\"(\",Meetings2!$B742)-2)))","v":""},{"$f":"IF(Meetings2!$B742=\"\",\"\",Meetings2!$B742)","v":""},{"$nulls":11},{"$f":"IF(AA742=\"\",\"\",IF(AA742=\"Career::\",Form!A740,\"\"))","v":""}]
[{"$nulls":12},{"$f":"IF(Meetings2!$B743=\"\",\"\",IF(Meetings2!$C743=\"\",\"\",LEFT(Meetings2!B743,FIND(\"(\",Meetings2!$B743)-2)))","v":""},{"$f":"IF(Meetings2!$B743=\"\",\"\",Meetings2!$B743)","v":""},{"$nulls":11},{"$f":"IF(AA743=\"\",\"\",IF(AA743=\"Career::\",Form!A741,\"\"))","v":""}]
[{"$nulls":12},{"$f":"IF(Meetings2!$B744=\"\",\"\",IF(Meetings2!$C744=\"\",\"\",LEFT(Meetings2!B744,FIND(\"(\",Meetings2!$B744)-2)))","v":""},{"$f":"IF(Meetings2!$B744=\"\",\"\",Meetings2!$B744)","v":""},{"$nulls":11},{"$f":"IF(AA744=\"\",\"\",IF(AA744=\"Career::\",Form!A742,\"\"))","v":""}]
[{"$nulls":12},{"$f":"IF(Meetings2!$B745=\"\",\"\",IF(Meetings2!$C745=\"\",\"\",LEFT(Meetings2!B745,FIND(\"(\",Meetings2!$B745)-2)))","v":""},{"$f":"IF(Meetings2!$B745=\"\",\"\",Meetings2!$B745)","v":""},{"$nulls":11},{"$f":"IF(AA745=\"\",\"\",IF(AA745=\"Career::\",Form!A743,\"\"))","v":""}]
[{"$nulls":12},{"$f":"IF(Meetings2!$B746=\"\",\"\",IF(Meetings2!$C746=\"\",\"\",LEFT(Meetings2!B746,FIND(\"(\",Meetings2!$B746)-2)))","v":""},{"$f":"IF(Meetings2!$B746=\"\",\"\",Meetings2!$B746)","v":""},{"$nulls":11},{"$f":"IF(AA746=\"\",\"\",IF(AA746=\"Career::\",Form!A744,\"\"))","v":""}]
[{"$nulls":12},{"$f":"IF(Meetings2!$B747=\"\",\"\",IF(Meetings2!$C747=\"\",\"\",LEFT(Meetings2!B747,FIND(\"(\",Meetings2!$B747)-2)))","v":""},{"$f":"IF(Meetings2!$B747=\"\",\"\",Meetings2!$B747)","v":""},{"$nulls":11},{"$f":"IF(AA747=\"\",\"\",IF(AA747=\"Career::\",Form!A745,\"\"))","v":""}]
[{"$nulls":12},{"$f":"IF(Meetings2!$B748=\"\",\"\",IF(Meetings2!$C748=\"\",\"\",LEFT(Meetings2!B748,FIND(\"(\",Meetings2!$B748)-2)))","v":""},{"$f":"IF(Meetings2!$B748=\"\",\"\",Meetings2!$B748)","v":""},{"$nulls":11},{"$f":"IF(AA748=\"\",\"\",IF(AA748=\"Career::\",Form!A746,\"\"))","v":""}]
[{"$nulls":12},{"$f":"IF(Meetings2!$B749=\"\",\"\",IF(Meetings2!$C749=\"\",\"\",LEFT(Meetings2!B749,FIND(\"(\",Meetings2!$B749)-2)))","v":""},{"$f":"IF(Meetings2!$B749=\"\",\"\",Meetings2!$B749)","v":""},{"$nulls":11},{"$f":"IF(AA749=\"\",\"\",IF(AA749=\"Career::\",Form!A747,\"\"))","v":""}]
[{"$nulls":12},{"$f":"IF(Meetings2!$B750=\"\",\"\",IF(Meetings2!$C750=\"\",\"\",LEFT(Meetings2!B750,FIND(\"(\",Meetings2!$B750)-2)))","v":""},{"$f":"IF(Meetings2!$B750=\"\",\"\",Meetings2!$B750)","v":""},{"$nulls":11},{"$f":"IF(AA750=\"\",\"\",IF(AA750=\"Career::\",Form!A748,\"\"))","v":""}]
[{"$nulls":12},{"$f":"IF(Meetings2!$B751=\"\",\"\",IF(Meetings2!$C751=\"\",\"\",LEFT(Meetings2!B751,FIND(\"(\",Meetings2!$B751)-2)))","v":""},{"$f":"IF(Meetings2!$B751=\"\",\"\",Meetings2!$B751)","v":""},{"$nulls":11},{"$f":"IF(AA751=\"\",\"\",IF(AA751=\"Career::\",Form!A749,\"\"))","v":""}]
[{"$nulls":12},{"$f":"IF(Meetings2!$B752=\"\",\"\",IF(Meetings2!$C752=\"\",\"\",LEFT(Meetings2!B752,FIND(\"(\",Meetings2!$B752)-2)))","v":""},{"$f":"IF(Meetings2!$B752=\"\",\"\",Meetings2!$B752)","v":""},{"$nulls":11},{"$f":"IF(AA752=\"\",\"\",IF(AA752=\"Career::\",Form!A750,\"\"))","v":""}]
[{"$nulls":12},{"$f":"IF(Meetings2!$B753=\"\",\"\",IF(Meetings2!$C753=\"\",\"\",LEFT(Meetings2!B753,FIND(\"(\",Meetings2!$B753)-2)))","v":""},{"$f":"IF(Meetings2!$B753=\"\",\"\",Meetings2!$B753)","v":""},{"$nulls":11},{"$f":"IF(AA753=\"\",\"\",IF(AA753=\"Career::\",Form!A751,\"\"))","v":""}]
[{"$nulls":12},{"$f":"IF(Meetings2!$B754=\"\",\"\",IF(Meetings2!$C754=\"\",\"\",LEFT(Meetings2!B754,FIND(\"(\",Meetings2!$B754)-2)))","v":""},{"$f":"IF(Meetings2!$B754=\"\",\"\",Meetings2!$B754)","v":""},{"$nulls":11},{"$f":"IF(AA754=\"\",\"\",IF(AA754=\"Career::\",Form!A752,\"\"))","v":""}]
[{"$nulls":12},{"$f":"IF(Meetings2!$B755=\"\",\"\",IF(Meetings2!$C755=\"\",\"\",LEFT(Meetings2!B755,FIND(\"(\",Meetings2!$B755)-2)))","v":""},{"$f":"IF(Meetings2!$B755=\"\",\"\",Meetings2!$B755)","v":""},{"$nulls":11},{"$f":"IF(AA755=\"\",\"\",IF(AA755=\"Career::\",Form!A753,\"\"))","v":""}]
[{"$nulls":12},{"$f":"IF(Meetings2!$B756=\"\",\"\",IF(Meetings2!$C756=\"\",\"\",LEFT(Meetings2!B756,FIND(\"(\",Meetings2!$B756)-2)))","v":""},{"$f":"IF(Meetings2!$B756=\"\",\"\",Meetings2!$B756)","v":""},{"$nulls":11},{"$f":"IF(AA756=\"\",\"\",IF(AA756=\"Career::\",Form!A754,\"\"))","v":""}]
[{"$nulls":12},{"$f":"IF(Meetings2!$B757=\"\",\"\",IF(Meetings2!$C757=\"\",\"\",LEFT(Meetings2!B757,FIND(\"(\",Meetings2!$B757)-2)))","v":""},{"$f":"IF(Meetings2!$B757=\"\",\"\",Meetings2!$B757)","v":""},{"$nulls":11},{"$f":"IF(AA757=\"\",\"\",IF(AA757=\"Career::\",Form!A755,\"\"))","v":""}]
[{"$nulls":12},{"$f":"IF(Meetings2!$B758=\"\",\"\",IF(Meetings2!$C758=\"\",\"\",LEFT(Meetings2!B758,FIND(\"(\",Meetings2!$B758)-2)))","v":""},{"$f":"IF(Meetings2!$B758=\"\",\"\",Meetings2!$B758)","v":""},{"$nulls":11},{"$f":"IF(AA758=\"\",\"\",IF(AA758=\"Career::\",Form!A756,\"\"))","v":""}]
[{"$nulls":12},{"$f":"IF(Meetings2!$B759=\"\",\"\",IF(Meetings2!$C759=\"\",\"\",LEFT(Meetings2!B759,FIND(\"(\",Meetings2!$B759)-2)))","v":""},{"$f":"IF(Meetings2!$B759=\"\",\"\",Meetings2!$B759)","v":""},{"$nulls":11},{"$f":"IF(AA759=\"\",\"\",IF(AA759=\"Career::\",Form!A757,\"\"))","v":""}]
[{"$nulls":12},{"$f":"IF(Meetings2!$B760=\"\",\"\",IF(Meetings2!$C760=\"\",\"\",LEFT(Meetings2!B760,FIND(\"(\",Meetings2!$B760)-2)))","v":""},{"$f":"IF(Meetings2!$B760=\"\",\"\",Meetings2!$B760)","v":""},{"$nulls":11},{"$f":"IF(AA760=\"\",\"\",IF(AA760=\"Career::\",Form!A758,\"\"))","v":""}]
[{"$nulls":12},{"$f":"IF(Meetings2!$B761=\"\",\"\",IF(Meetings2!$C761=\"\",\"\",LEFT(Meetings2!B761,FIND(\"(\",Meetings2!$B761)-2)))","v":""},{"$f":"IF(Meetings2!$B761=\"\",\"\",Meetings2!$B761)","v":""},{"$nulls":11},{"$f":"IF(AA761=\"\",\"\",IF(AA761=\"Career::\",Form!A759,\"\"))","v":""}]
[{"$nulls":12},{"$f":"IF(Meetings2!$B762=\"\",\"\",IF(Meetings2!$C762=\"\",\"\",LEFT(Meetings2!B762,FIND(\"(\",Meetings2!$B762)-2)))","v":""},{"$f":"IF(Meetings2!$B762=\"\",\"\",Meetings2!$B762)","v":""},{"$nulls":11},{"$f":"IF(AA762=\"\",\"\",IF(AA762=\"Career::\",Form!A760,\"\"))","v":""}]
[{"$nulls":12},{"$f":"IF(Meetings2!$B763=\"\",\"\",IF(Meetings2!$C763=\"\",\"\",LEFT(Meetings2!B763,FIND(\"(\",Meetings2!$B763)-2)))","v":""},{"$f":"IF(Meetings2!$B763=\"\",\"\",Meetings2!$B763)","v":""},{"$nulls":11},{"$f":"IF(AA763=\"\",\"\",IF(AA763=\"Career::\",Form!A761,\"\"))","v":""}]
[{"$nulls":12},{"$f":"IF(Meetings2!$B764=\"\",\"\",IF(Meetings2!$C764=\"\",\"\",LEFT(Meetings2!B764,FIND(\"(\",Meetings2!$B764)-2)))","v":""},{"$f":"IF(Meetings2!$B764=\"\",\"\",Meetings2!$B764)","v":""},{"$nulls":11},{"$f":"IF(AA764=\"\",\"\",IF(AA764=\"Career::\",Form!A762,\"\"))","v":""}]
[{"$nulls":12},{"$f":"IF(Meetings2!$B765=\"\",\"\",IF(Meetings2!$C765=\"\",\"\",LEFT(Meetings2!B765,FIND(\"(\",Meetings2!$B765)-2)))","v":""},{"$f":"IF(Meetings2!$B765=\"\",\"\",Meetings2!$B765)","v":""},{"$nulls":11},{"$f":"IF(AA765=\"\",\"\",IF(AA765=\"Career::\",Form!A763,\"\"))","v":""}]
[{"$nulls":12},{"$f":"IF(Meetings2!$B766=\"\",\"\",IF(Meetings2!$C766=\"\",\"\",LEFT(Meetings2!B766,FIND(\"(\",Meetings2!$B766)-2)))","v":""},{"$f":"IF(Meetings2!$B766=\"\",\"\",Meetings2!$B766)","v":""},{"$nulls":11},{"$f":"IF(AA766=\"\",\"\",IF(AA766=\"Career::\",Form!A764,\"\"))","v":""}]
[{"$nulls":12},{"$f":"IF(Meetings2!$B767=\"\",\"\",IF(Meetings2!$C767=\"\",\"\",LEFT(Meetings2!B767,FIND(\"(\",Meetings2!$B767)-2)))","v":""},{"$f":"IF(Meetings2!$B767=\"\",\"\",Meetings2!$B767)","v":""},{"$nulls":11},{"$f":"IF(AA767=\"\",\"\",IF(AA767=\"Career::\",Form!A765,\"\"))","v":""}]
[{"$nulls":12},{"$f":"IF(Meetings2!$B768=\"\",\"\",IF(Meetings2!$C768=\"\",\"\",LEFT(Meetings2!B768,FIND(\"(\",Meetings2!$B768)-2)))","v":""},{"$f":"IF(Meetings2!$B768=\"\",\"\",Meetings2!$B768)","v":""},{"$nulls":11},{"$f":"IF(AA768=\"\",\"\",IF(AA768=\"Career::\",Form!A766,\"\"))","v":""}]
[{"$nulls":12},{"$f":"IF(Meetings2!$B769=\"\",\"\",IF(Meetings2!$C769=\"\",\"\",LEFT(Meetings2!B769,FIND(\"(\",Meetings2!$B769)-2)))","v":""},{"$f":"IF(Meetings2!$B769=\"\",\"\",Meetings2!$B769)","v":""},{"$nulls":11},{"$f":"IF(AA769=\"\",\"\",IF(AA769=\"Career::\",Form!A767,\"\"))","v":""}]
[{"$nulls":12},{"$f":"IF(Meetings2!$B770=\"\",\"\",IF(Meetings2!$C770=\"\",\"\",LEFT(Meetings2!B770,FIND(\"(\",Meetings2!$B770)-2)))","v":""},{"$f":"IF(Meetings2!$B770=\"\",\"\",Meetings2!$B770)","v":""},{"$nulls":11},{"$f":"IF(AA770=\"\",\"\",IF(AA770=\"Career::\",Form!A768,\"\"))","v":""}]
[{"$nulls":12},{"$f":"IF(Meetings2!$B771=\"\",\"\",IF(Meetings2!$C771=\"\",\"\",LEFT(Meetings2!B771,FIND(\"(\",Meetings2!$B771)-2)))","v":""},{"$f":"IF(Meetings2!$B771=\"\",\"\",Meetings2!$B771)","v":""},{"$nulls":11},{"$f":"IF(AA771=\"\",\"\",IF(AA771=\"Career::\",Form!A769,\"\"))","v":""}]
[{"$nulls":12},{"$f":"IF(Meetings2!$B772=\"\",\"\",IF(Meetings2!$C772=\"\",\"\",LEFT(Meetings2!B772,FIND(\"(\",Meetings2!$B772)-2)))","v":""},{"$f":"IF(Meetings2!$B772=\"\",\"\",Meetings2!$B772)","v":""},{"$nulls":11},{"$f":"IF(AA772=\"\",\"\",IF(AA772=\"Career::\",Form!A770,\"\"))","v":""}]
[{"$nulls":12},{"$f":"IF(Meetings2!$B773=\"\",\"\",IF(Meetings2!$C773=\"\",\"\",LEFT(Meetings2!B773,FIND(\"(\",Meetings2!$B773)-2)))","v":""},{"$f":"IF(Meetings2!$B773=\"\",\"\",Meetings2!$B773)","v":""},{"$nulls":11},{"$f":"IF(AA773=\"\",\"\",IF(AA773=\"Career::\",Form!A771,\"\"))","v":""}]
[{"$nulls":12},{"$f":"IF(Meetings2!$B774=\"\",\"\",IF(Meetings2!$C774=\"\",\"\",LEFT(Meetings2!B774,FIND(\"(\",Meetings2!$B774)-2)))","v":""},{"$f":"IF(Meetings2!$B774=\"\",\"\",Meetings2!$B774)","v":""},{"$nulls":11},{"$f":"IF(AA774=\"\",\"\",IF(AA774=\"Career::\",Form!A772,\"\"))","v":""}]
[{"$nulls":12},{"$f":"IF(Meetings2!$B775=\"\",\"\",IF(Meetings2!$C775=\"\",\"\",LEFT(Meetings2!B775,FIND(\"(\",Meetings2!$B775)-2)))","v":""},{"$f":"IF(Meetings2!$B775=\"\",\"\",Meetings2!$B775)","v":""},{"$nulls":11},{"$f":"IF(AA775=\"\",\"\",IF(AA775=\"Career::\",Form!A773,\"\"))","v":""}]
[{"$nulls":12},{"$f":"IF(Meetings2!$B776=\"\",\"\",IF(Meetings2!$C776=\"\",\"\",LEFT(Meetings2!B776,FIND(\"(\",Meetings2!$B776)-2)))","v":""},{"$f":"IF(Meetings2!$B776=\"\",\"\",Meetings2!$B776)","v":""},{"$nulls":11},{"$f":"IF(AA776=\"\",\"\",IF(AA776=\"Career::\",Form!A774,\"\"))","v":""}]
[{"$nulls":12},{"$f":"IF(Meetings2!$B777=\"\",\"\",IF(Meetings2!$C777=\"\",\"\",LEFT(Meetings2!B777,FIND(\"(\",Meetings2!$B777)-2)))","v":""},{"$f":"IF(Meetings2!$B777=\"\",\"\",Meetings2!$B777)","v":""},{"$nulls":11},{"$f":"IF(AA777=\"\",\"\",IF(AA777=\"Career::\",Form!A775,\"\"))","v":""}]
[{"$nulls":12},{"$f":"IF(Meetings2!$B778=\"\",\"\",IF(Meetings2!$C778=\"\",\"\",LEFT(Meetings2!B778,FIND(\"(\",Meetings2!$B778)-2)))","v":""},{"$f":"IF(Meetings2!$B778=\"\",\"\",Meetings2!$B778)","v":""},{"$nulls":11},{"$f":"IF(AA778=\"\",\"\",IF(AA778=\"Career::\",Form!A776,\"\"))","v":""}]
[{"$nulls":12},{"$f":"IF(Meetings2!$B779=\"\",\"\",IF(Meetings2!$C779=\"\",\"\",LEFT(Meetings2!B779,FIND(\"(\",Meetings2!$B779)-2)))","v":""},{"$f":"IF(Meetings2!$B779=\"\",\"\",Meetings2!$B779)","v":""},{"$nulls":11},{"$f":"IF(AA779=\"\",\"\",IF(AA779=\"Career::\",Form!A777,\"\"))","v":""}]
[{"$nulls":12},{"$f":"IF(Meetings2!$B780=\"\",\"\",IF(Meetings2!$C780=\"\",\"\",LEFT(Meetings2!B780,FIND(\"(\",Meetings2!$B780)-2)))","v":""},{"$f":"IF(Meetings2!$B780=\"\",\"\",Meetings2!$B780)","v":""},{"$nulls":11},{"$f":"IF(AA780=\"\",\"\",IF(AA780=\"Career::\",Form!A778,\"\"))","v":""}]
[{"$nulls":12},{"$f":"IF(Meetings2!$B781=\"\",\"\",IF(Meetings2!$C781=\"\",\"\",LEFT(Meetings2!B781,FIND(\"(\",Meetings2!$B781)-2)))","v":""},{"$f":"IF(Meetings2!$B781=\"\",\"\",Meetings2!$B781)","v":""},{"$nulls":11},{"$f":"IF(AA781=\"\",\"\",IF(AA781=\"Career::\",Form!A779,\"\"))","v":""}]
[{"$nulls":12},{"$f":"IF(Meetings2!$B782=\"\",\"\",IF(Meetings2!$C782=\"\",\"\",LEFT(Meetings2!B782,FIND(\"(\",Meetings2!$B782)-2)))","v":""},{"$f":"IF(Meetings2!$B782=\"\",\"\",Meetings2!$B782)","v":""},{"$nulls":11},{"$f":"IF(AA782=\"\",\"\",IF(AA782=\"Career::\",Form!A780,\"\"))","v":""}]
[{"$nulls":12},{"$f":"IF(Meetings2!$B783=\"\",\"\",IF(Meetings2!$C783=\"\",\"\",LEFT(Meetings2!B783,FIND(\"(\",Meetings2!$B783)-2)))","v":""},{"$f":"IF(Meetings2!$B783=\"\",\"\",Meetings2!$B783)","v":""},{"$nulls":11},{"$f":"IF(AA783=\"\",\"\",IF(AA783=\"Career::\",Form!A781,\"\"))","v":""}]
[{"$nulls":12},{"$f":"IF(Meetings2!$B784=\"\",\"\",IF(Meetings2!$C784=\"\",\"\",LEFT(Meetings2!B784,FIND(\"(\",Meetings2!$B784)-2)))","v":""},{"$f":"IF(Meetings2!$B784=\"\",\"\",Meetings2!$B784)","v":""},{"$nulls":11},{"$f":"IF(AA784=\"\",\"\",IF(AA784=\"Career::\",Form!A782,\"\"))","v":""}]
[{"$nulls":12},{"$f":"IF(Meetings2!$B785=\"\",\"\",IF(Meetings2!$C785=\"\",\"\",LEFT(Meetings2!B785,FIND(\"(\",Meetings2!$B785)-2)))","v":""},{"$f":"IF(Meetings2!$B785=\"\",\"\",Meetings2!$B785)","v":""},{"$nulls":11},{"$f":"IF(AA785=\"\",\"\",IF(AA785=\"Career::\",Form!A783,\"\"))","v":""}]
[{"$nulls":12},{"$f":"IF(Meetings2!$B786=\"\",\"\",IF(Meetings2!$C786=\"\",\"\",LEFT(Meetings2!B786,FIND(\"(\",Meetings2!$B786)-2)))","v":""},{"$f":"IF(Meetings2!$B786=\"\",\"\",Meetings2!$B786)","v":""},{"$nulls":11},{"$f":"IF(AA786=\"\",\"\",IF(AA786=\"Career::\",Form!A784,\"\"))","v":""}]
[{"$nulls":12},{"$f":"IF(Meetings2!$B787=\"\",\"\",IF(Meetings2!$C787=\"\",\"\",LEFT(Meetings2!B787,FIND(\"(\",Meetings2!$B787)-2)))","v":""},{"$f":"IF(Meetings2!$B787=\"\",\"\",Meetings2!$B787)","v":""},{"$nulls":11},{"$f":"IF(AA787=\"\",\"\",IF(AA787=\"Career::\",Form!A785,\"\"))","v":""}]
[{"$nulls":12},{"$f":"IF(Meetings2!$B788=\"\",\"\",IF(Meetings2!$C788=\"\",\"\",LEFT(Meetings2!B788,FIND(\"(\",Meetings2!$B788)-2)))","v":""},{"$f":"IF(Meetings2!$B788=\"\",\"\",Meetings2!$B788)","v":""},{"$nulls":11},{"$f":"IF(AA788=\"\",\"\",IF(AA788=\"Career::\",Form!A786,\"\"))","v":""}]
[{"$nulls":12},{"$f":"IF(Meetings2!$B789=\"\",\"\",IF(Meetings2!$C789=\"\",\"\",LEFT(Meetings2!B789,FIND(\"(\",Meetings2!$B789)-2)))","v":""},{"$f":"IF(Meetings2!$B789=\"\",\"\",Meetings2!$B789)","v":""},{"$nulls":11},{"$f":"IF(AA789=\"\",\"\",IF(AA789=\"Career::\",Form!A787,\"\"))","v":""}]
[{"$nulls":12},{"$f":"IF(Meetings2!$B790=\"\",\"\",IF(Meetings2!$C790=\"\",\"\",LEFT(Meetings2!B790,FIND(\"(\",Meetings2!$B790)-2)))","v":""},{"$f":"IF(Meetings2!$B790=\"\",\"\",Meetings2!$B790)","v":""},{"$nulls":11},{"$f":"IF(AA790=\"\",\"\",IF(AA790=\"Career::\",Form!A788,\"\"))","v":""}]
[{"$nulls":12},{"$f":"IF(Meetings2!$B791=\"\",\"\",IF(Meetings2!$C791=\"\",\"\",LEFT(Meetings2!B791,FIND(\"(\",Meetings2!$B791)-2)))","v":""},{"$f":"IF(Meetings2!$B791=\"\",\"\",Meetings2!$B791)","v":""},{"$nulls":11},{"$f":"IF(AA791=\"\",\"\",IF(AA791=\"Career::\",Form!A789,\"\"))","v":""}]
[{"$nulls":12},{"$f":"IF(Meetings2!$B792=\"\",\"\",IF(Meetings2!$C792=\"\",\"\",LEFT(Meetings2!B792,FIND(\"(\",Meetings2!$B792)-2)))","v":""},{"$f":"IF(Meetings2!$B792=\"\",\"\",Meetings2!$B792)","v":""},{"$nulls":11},{"$f":"IF(AA792=\"\",\"\",IF(AA792=\"Career::\",Form!A790,\"\"))","v":""}]
[{"$nulls":12},{"$f":"IF(Meetings2!$B793=\"\",\"\",IF(Meetings2!$C793=\"\",\"\",LEFT(Meetings2!B793,FIND(\"(\",Meetings2!$B793)-2)))","v":""},{"$f":"IF(Meetings2!$B793=\"\",\"\",Meetings2!$B793)","v":""},{"$nulls":11},{"$f":"IF(AA793=\"\",\"\",IF(AA793=\"Career::\",Form!A791,\"\"))","v":""}]
[{"$nulls":12},{"$f":"IF(Meetings2!$B794=\"\",\"\",IF(Meetings2!$C794=\"\",\"\",LEFT(Meetings2!B794,FIND(\"(\",Meetings2!$B794)-2)))","v":""},{"$f":"IF(Meetings2!$B794=\"\",\"\",Meetings2!$B794)","v":""},{"$nulls":11},{"$f":"IF(AA794=\"\",\"\",IF(AA794=\"Career::\",Form!A792,\"\"))","v":""}]
[{"$nulls":12},{"$f":"IF(Meetings2!$B795=\"\",\"\",IF(Meetings2!$C795=\"\",\"\",LEFT(Meetings2!B795,FIND(\"(\",Meetings2!$B795)-2)))","v":""},{"$f":"IF(Meetings2!$B795=\"\",\"\",Meetings2!$B795)","v":""},{"$nulls":11},{"$f":"IF(AA795=\"\",\"\",IF(AA795=\"Career::\",Form!A793,\"\"))","v":""}]
[{"$nulls":12},{"$f":"IF(Meetings2!$B796=\"\",\"\",IF(Meetings2!$C796=\"\",\"\",LEFT(Meetings2!B796,FIND(\"(\",Meetings2!$B796)-2)))","v":""},{"$f":"IF(Meetings2!$B796=\"\",\"\",Meetings2!$B796)","v":""},{"$nulls":11},{"$f":"IF(AA796=\"\",\"\",IF(AA796=\"Career::\",Form!A794,\"\"))","v":""}]
[{"$nulls":12},{"$f":"IF(Meetings2!$B797=\"\",\"\",IF(Meetings2!$C797=\"\",\"\",LEFT(Meetings2!B797,FIND(\"(\",Meetings2!$B797)-2)))","v":""},{"$f":"IF(Meetings2!$B797=\"\",\"\",Meetings2!$B797)","v":""},{"$nulls":11},{"$f":"IF(AA797=\"\",\"\",IF(AA797=\"Career::\",Form!A795,\"\"))","v":""}]
[{"$nulls":12},{"$f":"IF(Meetings2!$B798=\"\",\"\",IF(Meetings2!$C798=\"\",\"\",LEFT(Meetings2!B798,FIND(\"(\",Meetings2!$B798)-2)))","v":""},{"$f":"IF(Meetings2!$B798=\"\",\"\",Meetings2!$B798)","v":""},{"$nulls":11},{"$f":"IF(AA798=\"\",\"\",IF(AA798=\"Career::\",Form!A796,\"\"))","v":""}]
[{"$nulls":12},{"$f":"IF(Meetings2!$B799=\"\",\"\",IF(Meetings2!$C799=\"\",\"\",LEFT(Meetings2!B799,FIND(\"(\",Meetings2!$B799)-2)))","v":""},{"$f":"IF(Meetings2!$B799=\"\",\"\",Meetings2!$B799)","v":""},{"$nulls":11},{"$f":"IF(AA799=\"\",\"\",IF(AA799=\"Career::\",Form!A797,\"\"))","v":""}]
[{"$nulls":12},{"$f":"IF(Meetings2!$B800=\"\",\"\",IF(Meetings2!$C800=\"\",\"\",LEFT(Meetings2!B800,FIND(\"(\",Meetings2!$B800)-2)))","v":""},{"$f":"IF(Meetings2!$B800=\"\",\"\",Meetings2!$B800)","v":""},{"$nulls":11},{"$f":"IF(AA800=\"\",\"\",IF(AA800=\"Career::\",Form!A798,\"\"))","v":""}]
[{"$nulls":12},{"$f":"IF(Meetings2!$B801=\"\",\"\",IF(Meetings2!$C801=\"\",\"\",LEFT(Meetings2!B801,FIND(\"(\",Meetings2!$B801)-2)))","v":""},{"$f":"IF(Meetings2!$B801=\"\",\"\",Meetings2!$B801)","v":""},{"$nulls":11},{"$f":"IF(AA801=\"\",\"\",IF(AA801=\"Career::\",Form!A799,\"\"))","v":""}]
[{"$nulls":12},{"$f":"IF(Meetings2!$B802=\"\",\"\",IF(Meetings2!$C802=\"\",\"\",LEFT(Meetings2!B802,FIND(\"(\",Meetings2!$B802)-2)))","v":""},{"$f":"IF(Meetings2!$B802=\"\",\"\",Meetings2!$B802)","v":""},{"$nulls":11},{"$f":"IF(AA802=\"\",\"\",IF(AA802=\"Career::\",Form!A800,\"\"))","v":""}]
[{"$nulls":12},{"$f":"IF(Meetings2!$B803=\"\",\"\",IF(Meetings2!$C803=\"\",\"\",LEFT(Meetings2!B803,FIND(\"(\",Meetings2!$B803)-2)))","v":""},{"$f":"IF(Meetings2!$B803=\"\",\"\",Meetings2!$B803)","v":""},{"$nulls":11},{"$f":"IF(AA803=\"\",\"\",IF(AA803=\"Career::\",Form!A801,\"\"))","v":""}]
[{"$nulls":12},{"$f":"IF(Meetings2!$B804=\"\",\"\",IF(Meetings2!$C804=\"\",\"\",LEFT(Meetings2!B804,FIND(\"(\",Meetings2!$B804)-2)))","v":""},{"$f":"IF(Meetings2!$B804=\"\",\"\",Meetings2!$B804)","v":""},{"$nulls":11},{"$f":"IF(AA804=\"\",\"\",IF(AA804=\"Career::\",Form!A802,\"\"))","v":""}]
[{"$nulls":12},{"$f":"IF(Meetings2!$B805=\"\",\"\",IF(Meetings2!$C805=\"\",\"\",LEFT(Meetings2!B805,FIND(\"(\",Meetings2!$B805)-2)))","v":""},{"$f":"IF(Meetings2!$B805=\"\",\"\",Meetings2!$B805)","v":""},{"$nulls":11},{"$f":"IF(AA805=\"\",\"\",IF(AA805=\"Career::\",Form!A803,\"\"))","v":""}]
[{"$nulls":12},{"$f":"IF(Meetings2!$B806=\"\",\"\",IF(Meetings2!$C806=\"\",\"\",LEFT(Meetings2!B806,FIND(\"(\",Meetings2!$B806)-2)))","v":""},{"$f":"IF(Meetings2!$B806=\"\",\"\",Meetings2!$B806)","v":""},{"$nulls":11},{"$f":"IF(AA806=\"\",\"\",IF(AA806=\"Career::\",Form!A804,\"\"))","v":""}]
[{"$nulls":12},{"$f":"IF(Meetings2!$B807=\"\",\"\",IF(Meetings2!$C807=\"\",\"\",LEFT(Meetings2!B807,FIND(\"(\",Meetings2!$B807)-2)))","v":""},{"$f":"IF(Meetings2!$B807=\"\",\"\",Meetings2!$B807)","v":""},{"$nulls":11},{"$f":"IF(AA807=\"\",\"\",IF(AA807=\"Career::\",Form!A805,\"\"))","v":""}]
[{"$nulls":12},{"$f":"IF(Meetings2!$B808=\"\",\"\",IF(Meetings2!$C808=\"\",\"\",LEFT(Meetings2!B808,FIND(\"(\",Meetings2!$B808)-2)))","v":""},{"$f":"IF(Meetings2!$B808=\"\",\"\",Meetings2!$B808)","v":""},{"$nulls":11},{"$f":"IF(AA808=\"\",\"\",IF(AA808=\"Career::\",Form!A806,\"\"))","v":""}]
[{"$nulls":12},{"$f":"IF(Meetings2!$B809=\"\",\"\",IF(Meetings2!$C809=\"\",\"\",LEFT(Meetings2!B809,FIND(\"(\",Meetings2!$B809)-2)))","v":""},{"$f":"IF(Meetings2!$B809=\"\",\"\",Meetings2!$B809)","v":""},{"$nulls":11},{"$f":"IF(AA809=\"\",\"\",IF(AA809=\"Career::\",Form!A807,\"\"))","v":""}]
[{"$nulls":12},{"$f":"IF(Meetings2!$B810=\"\",\"\",IF(Meetings2!$C810=\"\",\"\",LEFT(Meetings2!B810,FIND(\"(\",Meetings2!$B810)-2)))","v":""},{"$f":"IF(Meetings2!$B810=\"\",\"\",Meetings2!$B810)","v":""},{"$nulls":11},{"$f":"IF(AA810=\"\",\"\",IF(AA810=\"Career::\",Form!A808,\"\"))","v":""}]
[{"$nulls":12},{"$f":"IF(Meetings2!$B811=\"\",\"\",IF(Meetings2!$C811=\"\",\"\",LEFT(Meetings2!B811,FIND(\"(\",Meetings2!$B811)-2)))","v":""},{"$f":"IF(Meetings2!$B811=\"\",\"\",Meetings2!$B811)","v":""},{"$nulls":11},{"$f":"IF(AA811=\"\",\"\",IF(AA811=\"Career::\",Form!A809,\"\"))","v":""}]
[{"$nulls":12},{"$f":"IF(Meetings2!$B812=\"\",\"\",IF(Meetings2!$C812=\"\",\"\",LEFT(Meetings2!B812,FIND(\"(\",Meetings2!$B812)-2)))","v":""},{"$f":"IF(Meetings2!$B812=\"\",\"\",Meetings2!$B812)","v":""},{"$nulls":11},{"$f":"IF(AA812=\"\",\"\",IF(AA812=\"Career::\",Form!A810,\"\"))","v":""}]
[{"$nulls":12},{"$f":"IF(Meetings2!$B813=\"\",\"\",IF(Meetings2!$C813=\"\",\"\",LEFT(Meetings2!B813,FIND(\"(\",Meetings2!$B813)-2)))","v":""},{"$f":"IF(Meetings2!$B813=\"\",\"\",Meetings2!$B813)","v":""},{"$nulls":11},{"$f":"IF(AA813=\"\",\"\",IF(AA813=\"Career::\",Form!A811,\"\"))","v":""}]
[{"$nulls":12},{"$f":"IF(Meetings2!$B814=\"\",\"\",IF(Meetings2!$C814=\"\",\"\",LEFT(Meetings2!B814,FIND(\"(\",Meetings2!$B814)-2)))","v":""},{"$f":"IF(Meetings2!$B814=\"\",\"\",Meetings2!$B814)","v":""},{"$nulls":11},{"$f":"IF(AA814=\"\",\"\",IF(AA814=\"Career::\",Form!A812,\"\"))","v":""}]
[{"$nulls":12},{"$f":"IF(Meetings2!$B815=\"\",\"\",IF(Meetings2!$C815=\"\",\"\",LEFT(Meetings2!B815,FIND(\"(\",Meetings2!$B815)-2)))","v":""},{"$f":"IF(Meetings2!$B815=\"\",\"\",Meetings2!$B815)","v":""},{"$nulls":11},{"$f":"IF(AA815=\"\",\"\",IF(AA815=\"Career::\",Form!A813,\"\"))","v":""}]
[{"$nulls":12},{"$f":"IF(Meetings2!$B816=\"\",\"\",IF(Meetings2!$C816=\"\",\"\",LEFT(Meetings2!B816,FIND(\"(\",Meetings2!$B816)-2)))","v":""},{"$f":"IF(Meetings2!$B816=\"\",\"\",Meetings2!$B816)","v":""},{"$nulls":11},{"$f":"IF(AA816=\"\",\"\",IF(AA816=\"Career::\",Form!A814,\"\"))","v":""}]
[{"$nulls":12},{"$f":"IF(Meetings2!$B817=\"\",\"\",IF(Meetings2!$C817=\"\",\"\",LEFT(Meetings2!B817,FIND(\"(\",Meetings2!$B817)-2)))","v":""},{"$f":"IF(Meetings2!$B817=\"\",\"\",Meetings2!$B817)","v":""},{"$nulls":11},{"$f":"IF(AA817=\"\",\"\",IF(AA817=\"Career::\",Form!A815,\"\"))","v":""}]
[{"$nulls":12},{"$f":"IF(Meetings2!$B818=\"\",\"\",IF(Meetings2!$C818=\"\",\"\",LEFT(Meetings2!B818,FIND(\"(\",Meetings2!$B818)-2)))","v":""},{"$f":"IF(Meetings2!$B818=\"\",\"\",Meetings2!$B818)","v":""},{"$nulls":11},{"$f":"IF(AA818=\"\",\"\",IF(AA818=\"Career::\",Form!A816,\"\"))","v":""}]
[{"$nulls":12},{"$f":"IF(Meetings2!$B819=\"\",\"\",IF(Meetings2!$C819=\"\",\"\",LEFT(Meetings2!B819,FIND(\"(\",Meetings2!$B819)-2)))","v":""},{"$f":"IF(Meetings2!$B819=\"\",\"\",Meetings2!$B819)","v":""},{"$nulls":11},{"$f":"IF(AA819=\"\",\"\",IF(AA819=\"Career::\",Form!A817,\"\"))","v":""}]
[{"$nulls":12},{"$f":"IF(Meetings2!$B820=\"\",\"\",IF(Meetings2!$C820=\"\",\"\",LEFT(Meetings2!B820,FIND(\"(\",Meetings2!$B820)-2)))","v":""},{"$f":"IF(Meetings2!$B820=\"\",\"\",Meetings2!$B820)","v":""},{"$nulls":11},{"$f":"IF(AA820=\"\",\"\",IF(AA820=\"Career::\",Form!A818,\"\"))","v":""}]
[{"$nulls":12},{"$f":"IF(Meetings2!$B821=\"\",\"\",IF(Meetings2!$C821=\"\",\"\",LEFT(Meetings2!B821,FIND(\"(\",Meetings2!$B821)-2)))","v":""},{"$f":"IF(Meetings2!$B821=\"\",\"\",Meetings2!$B821)","v":""},{"$nulls":11},{"$f":"IF(AA821=\"\",\"\",IF(AA821=\"Career::\",Form!A819,\"\"))","v":""}]
[{"$nulls":12},{"$f":"IF(Meetings2!$B822=\"\",\"\",IF(Meetings2!$C822=\"\",\"\",LEFT(Meetings2!B822,FIND(\"(\",Meetings2!$B822)-2)))","v":""},{"$f":"IF(Meetings2!$B822=\"\",\"\",Meetings2!$B822)","v":""},{"$nulls":11},{"$f":"IF(AA822=\"\",\"\",IF(AA822=\"Career::\",Form!A820,\"\"))","v":""}]
[{"$nulls":12},{"$f":"IF(Meetings2!$B823=\"\",\"\",IF(Meetings2!$C823=\"\",\"\",LEFT(Meetings2!B823,FIND(\"(\",Meetings2!$B823)-2)))","v":""},{"$f":"IF(Meetings2!$B823=\"\",\"\",Meetings2!$B823)","v":""},{"$nulls":11},{"$f":"IF(AA823=\"\",\"\",IF(AA823=\"Career::\",Form!A821,\"\"))","v":""}]
[{"$nulls":12},{"$f":"IF(Meetings2!$B824=\"\",\"\",IF(Meetings2!$C824=\"\",\"\",LEFT(Meetings2!B824,FIND(\"(\",Meetings2!$B824)-2)))","v":""},{"$f":"IF(Meetings2!$B824=\"\",\"\",Meetings2!$B824)","v":""},{"$nulls":11},{"$f":"IF(AA824=\"\",\"\",IF(AA824=\"Career::\",Form!A822,\"\"))","v":""}]
[{"$nulls":12},{"$f":"IF(Meetings2!$B825=\"\",\"\",IF(Meetings2!$C825=\"\",\"\",LEFT(Meetings2!B825,FIND(\"(\",Meetings2!$B825)-2)))","v":""},{"$f":"IF(Meetings2!$B825=\"\",\"\",Meetings2!$B825)","v":""},{"$nulls":11},{"$f":"IF(AA825=\"\",\"\",IF(AA825=\"Career::\",Form!A823,\"\"))","v":""}]
[{"$nulls":12},{"$f":"IF(Meetings2!$B826=\"\",\"\",IF(Meetings2!$C826=\"\",\"\",LEFT(Meetings2!B826,FIND(\"(\",Meetings2!$B826)-2)))","v":""},{"$f":"IF(Meetings2!$B826=\"\",\"\",Meetings2!$B826)","v":""},{"$nulls":11},{"$f":"IF(AA826=\"\",\"\",IF(AA826=\"Career::\",Form!A824,\"\"))","v":""}]
[{"$nulls":12},{"$f":"IF(Meetings2!$B827=\"\",\"\",IF(Meetings2!$C827=\"\",\"\",LEFT(Meetings2!B827,FIND(\"(\",Meetings2!$B827)-2)))","v":""},{"$f":"IF(Meetings2!$B827=\"\",\"\",Meetings2!$B827)","v":""},{"$nulls":11},{"$f":"IF(AA827=\"\",\"\",IF(AA827=\"Career::\",Form!A825,\"\"))","v":""}]
[{"$nulls":12},{"$f":"IF(Meetings2!$B828=\"\",\"\",IF(Meetings2!$C828=\"\",\"\",LEFT(Meetings2!B828,FIND(\"(\",Meetings2!$B828)-2)))","v":""},{"$f":"IF(Meetings2!$B828=\"\",\"\",Meetings2!$B828)","v":""},{"$nulls":11},{"$f":"IF(AA828=\"\",\"\",IF(AA828=\"Career::\",Form!A826,\"\"))","v":""}]
[{"$nulls":12},{"$f":"IF(Meetings2!$B829=\"\",\"\",IF(Meetings2!$C829=\"\",\"\",LEFT(Meetings2!B829,FIND(\"(\",Meetings2!$B829)-2)))","v":""},{"$f":"IF(Meetings2!$B829=\"\",\"\",Meetings2!$B829)","v":""},{"$nulls":11},{"$f":"IF(AA829=\"\",\"\",IF(AA829=\"Career::\",Form!A827,\"\"))","v":""}]
[{"$nulls":12},{"$f":"IF(Meetings2!$B830=\"\",\"\",IF(Meetings2!$C830=\"\",\"\",LEFT(Meetings2!B830,FIND(\"(\",Meetings2!$B830)-2)))","v":""},{"$f":"IF(Meetings2!$B830=\"\",\"\",Meetings2!$B830)","v":""},{"$nulls":11},{"$f":"IF(AA830=\"\",\"\",IF(AA830=\"Career::\",Form!A828,\"\"))","v":""}]
[{"$nulls":12},{"$f":"IF(Meetings2!$B831=\"\",\"\",IF(Meetings2!$C831=\"\",\"\",LEFT(Meetings2!B831,FIND(\"(\",Meetings2!$B831)-2)))","v":""},{"$f":"IF(Meetings2!$B831=\"\",\"\",Meetings2!$B831)","v":""},{"$nulls":11},{"$f":"IF(AA831=\"\",\"\",IF(AA831=\"Career::\",Form!A829,\"\"))","v":""}]
[{"$nulls":12},{"$f":"IF(Meetings2!$B832=\"\",\"\",IF(Meetings2!$C832=\"\",\"\",LEFT(Meetings2!B832,FIND(\"(\",Meetings2!$B832)-2)))","v":""},{"$f":"IF(Meetings2!$B832=\"\",\"\",Meetings2!$B832)","v":""},{"$nulls":11},{"$f":"IF(AA832=\"\",\"\",IF(AA832=\"Career::\",Form!A830,\"\"))","v":""}]
[{"$nulls":12},{"$f":"IF(Meetings2!$B833=\"\",\"\",IF(Meetings2!$C833=\"\",\"\",LEFT(Meetings2!B833,FIND(\"(\",Meetings2!$B833)-2)))","v":""},{"$f":"IF(Meetings2!$B833=\"\",\"\",Meetings2!$B833)","v":""},{"$nulls":11},{"$f":"IF(AA833=\"\",\"\",IF(AA833=\"Career::\",Form!A831,\"\"))","v":""}]
[{"$nulls":12},{"$f":"IF(Meetings2!$B834=\"\",\"\",IF(Meetings2!$C834=\"\",\"\",LEFT(Meetings2!B834,FIND(\"(\",Meetings2!$B834)-2)))","v":""},{"$f":"IF(Meetings2!$B834=\"\",\"\",Meetings2!$B834)","v":""},{"$nulls":11},{"$f":"IF(AA834=\"\",\"\",IF(AA834=\"Career::\",Form!A832,\"\"))","v":""}]
[{"$nulls":12},{"$f":"IF(Meetings2!$B835=\"\",\"\",IF(Meetings2!$C835=\"\",\"\",LEFT(Meetings2!B835,FIND(\"(\",Meetings2!$B835)-2)))","v":""},{"$f":"IF(Meetings2!$B835=\"\",\"\",Meetings2!$B835)","v":""},{"$nulls":11},{"$f":"IF(AA835=\"\",\"\",IF(AA835=\"Career::\",Form!A833,\"\"))","v":""}]
[{"$nulls":12},{"$f":"IF(Meetings2!$B836=\"\",\"\",IF(Meetings2!$C836=\"\",\"\",LEFT(Meetings2!B836,FIND(\"(\",Meetings2!$B836)-2)))","v":""},{"$f":"IF(Meetings2!$B836=\"\",\"\",Meetings2!$B836)","v":""},{"$nulls":11},{"$f":"IF(AA836=\"\",\"\",IF(AA836=\"Career::\",Form!A834,\"\"))","v":""}]
[{"$nulls":12},{"$f":"IF(Meetings2!$B837=\"\",\"\",IF(Meetings2!$C837=\"\",\"\",LEFT(Meetings2!B837,FIND(\"(\",Meetings2!$B837)-2)))","v":""},{"$f":"IF(Meetings2!$B837=\"\",\"\",Meetings2!$B837)","v":""},{"$nulls":11},{"$f":"IF(AA837=\"\",\"\",IF(AA837=\"Career::\",Form!A835,\"\"))","v":""}]
[{"$nulls":12},{"$f":"IF(Meetings2!$B838=\"\",\"\",IF(Meetings2!$C838=\"\",\"\",LEFT(Meetings2!B838,FIND(\"(\",Meetings2!$B838)-2)))","v":""},{"$f":"IF(Meetings2!$B838=\"\",\"\",Meetings2!$B838)","v":""},{"$nulls":11},{"$f":"IF(AA838=\"\",\"\",IF(AA838=\"Career::\",Form!A836,\"\"))","v":""}]
[{"$nulls":12},{"$f":"IF(Meetings2!$B839=\"\",\"\",IF(Meetings2!$C839=\"\",\"\",LEFT(Meetings2!B839,FIND(\"(\",Meetings2!$B839)-2)))","v":""},{"$f":"IF(Meetings2!$B839=\"\",\"\",Meetings2!$B839)","v":""},{"$nulls":11},{"$f":"IF(AA839=\"\",\"\",IF(AA839=\"Career::\",Form!A837,\"\"))","v":""}]
[{"$nulls":12},{"$f":"IF(Meetings2!$B840=\"\",\"\",IF(Meetings2!$C840=\"\",\"\",LEFT(Meetings2!B840,FIND(\"(\",Meetings2!$B840)-2)))","v":""},{"$f":"IF(Meetings2!$B840=\"\",\"\",Meetings2!$B840)","v":""},{"$nulls":11},{"$f":"IF(AA840=\"\",\"\",IF(AA840=\"Career::\",Form!A838,\"\"))","v":""}]
[{"$nulls":12},{"$f":"IF(Meetings2!$B841=\"\",\"\",IF(Meetings2!$C841=\"\",\"\",LEFT(Meetings2!B841,FIND(\"(\",Meetings2!$B841)-2)))","v":""},{"$f":"IF(Meetings2!$B841=\"\",\"\",Meetings2!$B841)","v":""},{"$nulls":11},{"$f":"IF(AA841=\"\",\"\",IF(AA841=\"Career::\",Form!A839,\"\"))","v":""}]
[{"$nulls":12},{"$f":"IF(Meetings2!$B842=\"\",\"\",IF(Meetings2!$C842=\"\",\"\",LEFT(Meetings2!B842,FIND(\"(\",Meetings2!$B842)-2)))","v":""},{"$f":"IF(Meetings2!$B842=\"\",\"\",Meetings2!$B842)","v":""},{"$nulls":11},{"$f":"IF(AA842=\"\",\"\",IF(AA842=\"Career::\",Form!A840,\"\"))","v":""}]
[{"$nulls":12},{"$f":"IF(Meetings2!$B843=\"\",\"\",IF(Meetings2!$C843=\"\",\"\",LEFT(Meetings2!B843,FIND(\"(\",Meetings2!$B843)-2)))","v":""},{"$f":"IF(Meetings2!$B843=\"\",\"\",Meetings2!$B843)","v":""},{"$nulls":11},{"$f":"IF(AA843=\"\",\"\",IF(AA843=\"Career::\",Form!A841,\"\"))","v":""}]
[{"$nulls":12},{"$f":"IF(Meetings2!$B844=\"\",\"\",IF(Meetings2!$C844=\"\",\"\",LEFT(Meetings2!B844,FIND(\"(\",Meetings2!$B844)-2)))","v":""},{"$f":"IF(Meetings2!$B844=\"\",\"\",Meetings2!$B844)","v":""},{"$nulls":11},{"$f":"IF(AA844=\"\",\"\",IF(AA844=\"Career::\",Form!A842,\"\"))","v":""}]
[{"$nulls":12},{"$f":"IF(Meetings2!$B845=\"\",\"\",IF(Meetings2!$C845=\"\",\"\",LEFT(Meetings2!B845,FIND(\"(\",Meetings2!$B845)-2)))","v":""},{"$f":"IF(Meetings2!$B845=\"\",\"\",Meetings2!$B845)","v":""},{"$nulls":11},{"$f":"IF(AA845=\"\",\"\",IF(AA845=\"Career::\",Form!A843,\"\"))","v":""}]
[{"$nulls":12},{"$f":"IF(Meetings2!$B846=\"\",\"\",IF(Meetings2!$C846=\"\",\"\",LEFT(Meetings2!B846,FIND(\"(\",Meetings2!$B846)-2)))","v":""},{"$f":"IF(Meetings2!$B846=\"\",\"\",Meetings2!$B846)","v":""},{"$nulls":11},{"$f":"IF(AA846=\"\",\"\",IF(AA846=\"Career::\",Form!A844,\"\"))","v":""}]
[{"$nulls":12},{"$f":"IF(Meetings2!$B847=\"\",\"\",IF(Meetings2!$C847=\"\",\"\",LEFT(Meetings2!B847,FIND(\"(\",Meetings2!$B847)-2)))","v":""},{"$f":"IF(Meetings2!$B847=\"\",\"\",Meetings2!$B847)","v":""},{"$nulls":11},{"$f":"IF(AA847=\"\",\"\",IF(AA847=\"Career::\",Form!A845,\"\"))","v":""}]
[{"$nulls":12},{"$f":"IF(Meetings2!$B848=\"\",\"\",IF(Meetings2!$C848=\"\",\"\",LEFT(Meetings2!B848,FIND(\"(\",Meetings2!$B848)-2)))","v":""},{"$f":"IF(Meetings2!$B848=\"\",\"\",Meetings2!$B848)","v":""},{"$nulls":11},{"$f":"IF(AA848=\"\",\"\",IF(AA848=\"Career::\",Form!A846,\"\"))","v":""}]
[{"$nulls":12},{"$f":"IF(Meetings2!$B849=\"\",\"\",IF(Meetings2!$C849=\"\",\"\",LEFT(Meetings2!B849,FIND(\"(\",Meetings2!$B849)-2)))","v":""},{"$f":"IF(Meetings2!$B849=\"\",\"\",Meetings2!$B849)","v":""},{"$nulls":11},{"$f":"IF(AA849=\"\",\"\",IF(AA849=\"Career::\",Form!A847,\"\"))","v":""}]
[{"$nulls":12},{"$f":"IF(Meetings2!$B850=\"\",\"\",IF(Meetings2!$C850=\"\",\"\",LEFT(Meetings2!B850,FIND(\"(\",Meetings2!$B850)-2)))","v":""},{"$f":"IF(Meetings2!$B850=\"\",\"\",Meetings2!$B850)","v":""},{"$nulls":11},{"$f":"IF(AA850=\"\",\"\",IF(AA850=\"Career::\",Form!A848,\"\"))","v":""}]
[{"$nulls":12},{"$f":"IF(Meetings2!$B851=\"\",\"\",IF(Meetings2!$C851=\"\",\"\",LEFT(Meetings2!B851,FIND(\"(\",Meetings2!$B851)-2)))","v":""},{"$f":"IF(Meetings2!$B851=\"\",\"\",Meetings2!$B851)","v":""},{"$nulls":11},{"$f":"IF(AA851=\"\",\"\",IF(AA851=\"Career::\",Form!A849,\"\"))","v":""}]
[{"$nulls":12},{"$f":"IF(Meetings2!$B852=\"\",\"\",IF(Meetings2!$C852=\"\",\"\",LEFT(Meetings2!B852,FIND(\"(\",Meetings2!$B852)-2)))","v":""},{"$f":"IF(Meetings2!$B852=\"\",\"\",Meetings2!$B852)","v":""},{"$nulls":11},{"$f":"IF(AA852=\"\",\"\",IF(AA852=\"Career::\",Form!A850,\"\"))","v":""}]
[{"$nulls":12},{"$f":"IF(Meetings2!$B853=\"\",\"\",IF(Meetings2!$C853=\"\",\"\",LEFT(Meetings2!B853,FIND(\"(\",Meetings2!$B853)-2)))","v":""},{"$f":"IF(Meetings2!$B853=\"\",\"\",Meetings2!$B853)","v":""},{"$nulls":11},{"$f":"IF(AA853=\"\",\"\",IF(AA853=\"Career::\",Form!A851,\"\"))","v":""}]
[{"$nulls":12},{"$f":"IF(Meetings2!$B854=\"\",\"\",IF(Meetings2!$C854=\"\",\"\",LEFT(Meetings2!B854,FIND(\"(\",Meetings2!$B854)-2)))","v":""},{"$f":"IF(Meetings2!$B854=\"\",\"\",Meetings2!$B854)","v":""},{"$nulls":11},{"$f":"IF(AA854=\"\",\"\",IF(AA854=\"Career::\",Form!A852,\"\"))","v":""}]
[{"$nulls":12},{"$f":"IF(Meetings2!$B855=\"\",\"\",IF(Meetings2!$C855=\"\",\"\",LEFT(Meetings2!B855,FIND(\"(\",Meetings2!$B855)-2)))","v":""},{"$f":"IF(Meetings2!$B855=\"\",\"\",Meetings2!$B855)","v":""},{"$nulls":11},{"$f":"IF(AA855=\"\",\"\",IF(AA855=\"Career::\",Form!A853,\"\"))","v":""}]
[{"$nulls":12},{"$f":"IF(Meetings2!$B856=\"\",\"\",IF(Meetings2!$C856=\"\",\"\",LEFT(Meetings2!B856,FIND(\"(\",Meetings2!$B856)-2)))","v":""},{"$f":"IF(Meetings2!$B856=\"\",\"\",Meetings2!$B856)","v":""},{"$nulls":11},{"$f":"IF(AA856=\"\",\"\",IF(AA856=\"Career::\",Form!A854,\"\"))","v":""}]
[{"$nulls":12},{"$f":"IF(Meetings2!$B857=\"\",\"\",IF(Meetings2!$C857=\"\",\"\",LEFT(Meetings2!B857,FIND(\"(\",Meetings2!$B857)-2)))","v":""},{"$f":"IF(Meetings2!$B857=\"\",\"\",Meetings2!$B857)","v":""},{"$nulls":11},{"$f":"IF(AA857=\"\",\"\",IF(AA857=\"Career::\",Form!A855,\"\"))","v":""}]
[{"$nulls":12},{"$f":"IF(Meetings2!$B858=\"\",\"\",IF(Meetings2!$C858=\"\",\"\",LEFT(Meetings2!B858,FIND(\"(\",Meetings2!$B858)-2)))","v":""},{"$f":"IF(Meetings2!$B858=\"\",\"\",Meetings2!$B858)","v":""},{"$nulls":11},{"$f":"IF(AA858=\"\",\"\",IF(AA858=\"Career::\",Form!A856,\"\"))","v":""}]
[{"$nulls":12},{"$f":"IF(Meetings2!$B859=\"\",\"\",IF(Meetings2!$C859=\"\",\"\",LEFT(Meetings2!B859,FIND(\"(\",Meetings2!$B859)-2)))","v":""},{"$f":"IF(Meetings2!$B859=\"\",\"\",Meetings2!$B859)","v":""},{"$nulls":11},{"$f":"IF(AA859=\"\",\"\",IF(AA859=\"Career::\",Form!A857,\"\"))","v":""}]
[{"$nulls":12},{"$f":"IF(Meetings2!$B860=\"\",\"\",IF(Meetings2!$C860=\"\",\"\",LEFT(Meetings2!B860,FIND(\"(\",Meetings2!$B860)-2)))","v":""},{"$f":"IF(Meetings2!$B860=\"\",\"\",Meetings2!$B860)","v":""},{"$nulls":11},{"$f":"IF(AA860=\"\",\"\",IF(AA860=\"Career::\",Form!A858,\"\"))","v":""}]
[{"$nulls":12},{"$f":"IF(Meetings2!$B861=\"\",\"\",IF(Meetings2!$C861=\"\",\"\",LEFT(Meetings2!B861,FIND(\"(\",Meetings2!$B861)-2)))","v":""},{"$f":"IF(Meetings2!$B861=\"\",\"\",Meetings2!$B861)","v":""},{"$nulls":11},{"$f":"IF(AA861=\"\",\"\",IF(AA861=\"Career::\",Form!A859,\"\"))","v":""}]
[{"$nulls":12},{"$f":"IF(Meetings2!$B862=\"\",\"\",IF(Meetings2!$C862=\"\",\"\",LEFT(Meetings2!B862,FIND(\"(\",Meetings2!$B862)-2)))","v":""},{"$f":"IF(Meetings2!$B862=\"\",\"\",Meetings2!$B862)","v":""},{"$nulls":11},{"$f":"IF(AA862=\"\",\"\",IF(AA862=\"Career::\",Form!A860,\"\"))","v":""}]
[{"$nulls":12},{"$f":"IF(Meetings2!$B863=\"\",\"\",IF(Meetings2!$C863=\"\",\"\",LEFT(Meetings2!B863,FIND(\"(\",Meetings2!$B863)-2)))","v":""},{"$f":"IF(Meetings2!$B863=\"\",\"\",Meetings2!$B863)","v":""},{"$nulls":11},{"$f":"IF(AA863=\"\",\"\",IF(AA863=\"Career::\",Form!A861,\"\"))","v":""}]
[{"$nulls":12},{"$f":"IF(Meetings2!$B864=\"\",\"\",IF(Meetings2!$C864=\"\",\"\",LEFT(Meetings2!B864,FIND(\"(\",Meetings2!$B864)-2)))","v":""},{"$f":"IF(Meetings2!$B864=\"\",\"\",Meetings2!$B864)","v":""},{"$nulls":11},{"$f":"IF(AA864=\"\",\"\",IF(AA864=\"Career::\",Form!A862,\"\"))","v":""}]
[{"$nulls":12},{"$f":"IF(Meetings2!$B865=\"\",\"\",IF(Meetings2!$C865=\"\",\"\",LEFT(Meetings2!B865,FIND(\"(\",Meetings2!$B865)-2)))","v":""},{"$f":"IF(Meetings2!$B865=\"\",\"\",Meetings2!$B865)","v":""},{"$nulls":11},{"$f":"IF(AA865=\"\",\"\",IF(AA865=\"Career::\",Form!A863,\"\"))","v":""}]
[{"$nulls":12},{"$f":"IF(Meetings2!$B866=\"\",\"\",IF(Meetings2!$C866=\"\",\"\",LEFT(Meetings2!B866,FIND(\"(\",Meetings2!$B866)-2)))","v":""},{"$f":"IF(Meetings2!$B866=\"\",\"\",Meetings2!$B866)","v":""},{"$nulls":11},{"$f":"IF(AA866=\"\",\"\",IF(AA866=\"Career::\",Form!A864,\"\"))","v":""}]
[{"$nulls":12},{"$f":"IF(Meetings2!$B867=\"\",\"\",IF(Meetings2!$C867=\"\",\"\",LEFT(Meetings2!B867,FIND(\"(\",Meetings2!$B867)-2)))","v":""},{"$f":"IF(Meetings2!$B867=\"\",\"\",Meetings2!$B867)","v":""},{"$nulls":11},{"$f":"IF(AA867=\"\",\"\",IF(AA867=\"Career::\",Form!A865,\"\"))","v":""}]
[{"$nulls":12},{"$f":"IF(Meetings2!$B868=\"\",\"\",IF(Meetings2!$C868=\"\",\"\",LEFT(Meetings2!B868,FIND(\"(\",Meetings2!$B868)-2)))","v":""},{"$f":"IF(Meetings2!$B868=\"\",\"\",Meetings2!$B868)","v":""},{"$nulls":11},{"$f":"IF(AA868=\"\",\"\",IF(AA868=\"Career::\",Form!A866,\"\"))","v":""}]
[{"$nulls":12},{"$f":"IF(Meetings2!$B869=\"\",\"\",IF(Meetings2!$C869=\"\",\"\",LEFT(Meetings2!B869,FIND(\"(\",Meetings2!$B869)-2)))","v":""},{"$f":"IF(Meetings2!$B869=\"\",\"\",Meetings2!$B869)","v":""},{"$nulls":11},{"$f":"IF(AA869=\"\",\"\",IF(AA869=\"Career::\",Form!A867,\"\"))","v":""}]
[{"$nulls":12},{"$f":"IF(Meetings2!$B870=\"\",\"\",IF(Meetings2!$C870=\"\",\"\",LEFT(Meetings2!B870,FIND(\"(\",Meetings2!$B870)-2)))","v":""},{"$f":"IF(Meetings2!$B870=\"\",\"\",Meetings2!$B870)","v":""},{"$nulls":11},{"$f":"IF(AA870=\"\",\"\",IF(AA870=\"Career::\",Form!A868,\"\"))","v":""}]
[{"$nulls":12},{"$f":"IF(Meetings2!$B871=\"\",\"\",IF(Meetings2!$C871=\"\",\"\",LEFT(Meetings2!B871,FIND(\"(\",Meetings2!$B871)-2)))","v":""},{"$f":"IF(Meetings2!$B871=\"\",\"\",Meetings2!$B871)","v":""},{"$nulls":11},{"$f":"IF(AA871=\"\",\"\",IF(AA871=\"Career::\",Form!A869,\"\"))","v":""}]
[{"$nulls":12},{"$f":"IF(Meetings2!$B872=\"\",\"\",IF(Meetings2!$C872=\"\",\"\",LEFT(Meetings2!B872,FIND(\"(\",Meetings2!$B872)-2)))","v":""},{"$f":"IF(Meetings2!$B872=\"\",\"\",Meetings2!$B872)","v":""},{"$nulls":11},{"$f":"IF(AA872=\"\",\"\",IF(AA872=\"Career::\",Form!A870,\"\"))","v":""}]
[{"$nulls":12},{"$f":"IF(Meetings2!$B873=\"\",\"\",IF(Meetings2!$C873=\"\",\"\",LEFT(Meetings2!B873,FIND(\"(\",Meetings2!$B873)-2)))","v":""},{"$f":"IF(Meetings2!$B873=\"\",\"\",Meetings2!$B873)","v":""},{"$nulls":11},{"$f":"IF(AA873=\"\",\"\",IF(AA873=\"Career::\",Form!A871,\"\"))","v":""}]
[{"$nulls":12},{"$f":"IF(Meetings2!$B874=\"\",\"\",IF(Meetings2!$C874=\"\",\"\",LEFT(Meetings2!B874,FIND(\"(\",Meetings2!$B874)-2)))","v":""},{"$f":"IF(Meetings2!$B874=\"\",\"\",Meetings2!$B874)","v":""},{"$nulls":11},{"$f":"IF(AA874=\"\",\"\",IF(AA874=\"Career::\",Form!A872,\"\"))","v":""}]
[{"$nulls":12},{"$f":"IF(Meetings2!$B875=\"\",\"\",IF(Meetings2!$C875=\"\",\"\",LEFT(Meetings2!B875,FIND(\"(\",Meetings2!$B875)-2)))","v":""},{"$f":"IF(Meetings2!$B875=\"\",\"\",Meetings2!$B875)","v":""},{"$nulls":11},{"$f":"IF(AA875=\"\",\"\",IF(AA875=\"Career::\",Form!A873,\"\"))","v":""}]
[{"$nulls":12},{"$f":"IF(Meetings2!$B876=\"\",\"\",IF(Meetings2!$C876=\"\",\"\",LEFT(Meetings2!B876,FIND(\"(\",Meetings2!$B876)-2)))","v":""},{"$f":"IF(Meetings2!$B876=\"\",\"\",Meetings2!$B876)","v":""},{"$nulls":11},{"$f":"IF(AA876=\"\",\"\",IF(AA876=\"Career::\",Form!A874,\"\"))","v":""}]
[{"$nulls":12},{"$f":"IF(Meetings2!$B877=\"\",\"\",IF(Meetings2!$C877=\"\",\"\",LEFT(Meetings2!B877,FIND(\"(\",Meetings2!$B877)-2)))","v":""},{"$f":"IF(Meetings2!$B877=\"\",\"\",Meetings2!$B877)","v":""},{"$nulls":11},{"$f":"IF(AA877=\"\",\"\",IF(AA877=\"Career::\",Form!A875,\"\"))","v":""}]
[{"$nulls":12},{"$f":"IF(Meetings2!$B878=\"\",\"\",IF(Meetings2!$C878=\"\",\"\",LEFT(Meetings2!B878,FIND(\"(\",Meetings2!$B878)-2)))","v":""},{"$f":"IF(Meetings2!$B878=\"\",\"\",Meetings2!$B878)","v":""},{"$nulls":11},{"$f":"IF(AA878=\"\",\"\",IF(AA878=\"Career::\",Form!A876,\"\"))","v":""}]
[{"$nulls":12},{"$f":"IF(Meetings2!$B879=\"\",\"\",IF(Meetings2!$C879=\"\",\"\",LEFT(Meetings2!B879,FIND(\"(\",Meetings2!$B879)-2)))","v":""},{"$f":"IF(Meetings2!$B879=\"\",\"\",Meetings2!$B879)","v":""},{"$nulls":11},{"$f":"IF(AA879=\"\",\"\",IF(AA879=\"Career::\",Form!A877,\"\"))","v":""}]
[{"$nulls":12},{"$f":"IF(Meetings2!$B880=\"\",\"\",IF(Meetings2!$C880=\"\",\"\",LEFT(Meetings2!B880,FIND(\"(\",Meetings2!$B880)-2)))","v":""},{"$f":"IF(Meetings2!$B880=\"\",\"\",Meetings2!$B880)","v":""},{"$nulls":11},{"$f":"IF(AA880=\"\",\"\",IF(AA880=\"Career::\",Form!A878,\"\"))","v":""}]
[{"$nulls":12},{"$f":"IF(Meetings2!$B881=\"\",\"\",IF(Meetings2!$C881=\"\",\"\",LEFT(Meetings2!B881,FIND(\"(\",Meetings2!$B881)-2)))","v":""},{"$f":"IF(Meetings2!$B881=\"\",\"\",Meetings2!$B881)","v":""},{"$nulls":11},{"$f":"IF(AA881=\"\",\"\",IF(AA881=\"Career::\",Form!A879,\"\"))","v":""}]
[{"$nulls":12},{"$f":"IF(Meetings2!$B882=\"\",\"\",IF(Meetings2!$C882=\"\",\"\",LEFT(Meetings2!B882,FIND(\"(\",Meetings2!$B882)-2)))","v":""},{"$f":"IF(Meetings2!$B882=\"\",\"\",Meetings2!$B882)","v":""},{"$nulls":11},{"$f":"IF(AA882=\"\",\"\",IF(AA882=\"Career::\",Form!A880,\"\"))","v":""}]
[{"$nulls":12},{"$f":"IF(Meetings2!$B883=\"\",\"\",IF(Meetings2!$C883=\"\",\"\",LEFT(Meetings2!B883,FIND(\"(\",Meetings2!$B883)-2)))","v":""},{"$f":"IF(Meetings2!$B883=\"\",\"\",Meetings2!$B883)","v":""},{"$nulls":11},{"$f":"IF(AA883=\"\",\"\",IF(AA883=\"Career::\",Form!A881,\"\"))","v":""}]
[{"$nulls":12},{"$f":"IF(Meetings2!$B884=\"\",\"\",IF(Meetings2!$C884=\"\",\"\",LEFT(Meetings2!B884,FIND(\"(\",Meetings2!$B884)-2)))","v":""},{"$f":"IF(Meetings2!$B884=\"\",\"\",Meetings2!$B884)","v":""},{"$nulls":11},{"$f":"IF(AA884=\"\",\"\",IF(AA884=\"Career::\",Form!A882,\"\"))","v":""}]
[{"$nulls":12},{"$f":"IF(Meetings2!$B885=\"\",\"\",IF(Meetings2!$C885=\"\",\"\",LEFT(Meetings2!B885,FIND(\"(\",Meetings2!$B885)-2)))","v":""},{"$f":"IF(Meetings2!$B885=\"\",\"\",Meetings2!$B885)","v":""},{"$nulls":11},{"$f":"IF(AA885=\"\",\"\",IF(AA885=\"Career::\",Form!A883,\"\"))","v":""}]
[{"$nulls":12},{"$f":"IF(Meetings2!$B886=\"\",\"\",IF(Meetings2!$C886=\"\",\"\",LEFT(Meetings2!B886,FIND(\"(\",Meetings2!$B886)-2)))","v":""},{"$f":"IF(Meetings2!$B886=\"\",\"\",Meetings2!$B886)","v":""},{"$nulls":11},{"$f":"IF(AA886=\"\",\"\",IF(AA886=\"Career::\",Form!A884,\"\"))","v":""}]
[{"$nulls":12},{"$f":"IF(Meetings2!$B887=\"\",\"\",IF(Meetings2!$C887=\"\",\"\",LEFT(Meetings2!B887,FIND(\"(\",Meetings2!$B887)-2)))","v":""},{"$f":"IF(Meetings2!$B887=\"\",\"\",Meetings2!$B887)","v":""},{"$nulls":11},{"$f":"IF(AA887=\"\",\"\",IF(AA887=\"Career::\",Form!A885,\"\"))","v":""}]
[{"$nulls":12},{"$f":"IF(Meetings2!$B888=\"\",\"\",IF(Meetings2!$C888=\"\",\"\",LEFT(Meetings2!B888,FIND(\"(\",Meetings2!$B888)-2)))","v":""},{"$f":"IF(Meetings2!$B888=\"\",\"\",Meetings2!$B888)","v":""},{"$nulls":11},{"$f":"IF(AA888=\"\",\"\",IF(AA888=\"Career::\",Form!A886,\"\"))","v":""}]
[{"$nulls":12},{"$f":"IF(Meetings2!$B889=\"\",\"\",IF(Meetings2!$C889=\"\",\"\",LEFT(Meetings2!B889,FIND(\"(\",Meetings2!$B889)-2)))","v":""},{"$f":"IF(Meetings2!$B889=\"\",\"\",Meetings2!$B889)","v":""},{"$nulls":11},{"$f":"IF(AA889=\"\",\"\",IF(AA889=\"Career::\",Form!A887,\"\"))","v":""}]
[{"$nulls":12},{"$f":"IF(Meetings2!$B890=\"\",\"\",IF(Meetings2!$C890=\"\",\"\",LEFT(Meetings2!B890,FIND(\"(\",Meetings2!$B890)-2)))","v":""},{"$f":"IF(Meetings2!$B890=\"\",\"\",Meetings2!$B890)","v":""},{"$nulls":11},{"$f":"IF(AA890=\"\",\"\",IF(AA890=\"Career::\",Form!A888,\"\"))","v":""}]
[{"$nulls":12},{"$f":"IF(Meetings2!$B891=\"\",\"\",IF(Meetings2!$C891=\"\",\"\",LEFT(Meetings2!B891,FIND(\"(\",Meetings2!$B891)-2)))","v":""},{"$f":"IF(Meetings2!$B891=\"\",\"\",Meetings2!$B891)","v":""},{"$nulls":11},{"$f":"IF(AA891=\"\",\"\",IF(AA891=\"Career::\",Form!A889,\"\"))","v":""}]
[{"$nulls":12},{"$f":"IF(Meetings2!$B892=\"\",\"\",IF(Meetings2!$C892=\"\",\"\",LEFT(Meetings2!B892,FIND(\"(\",Meetings2!$B892)-2)))","v":""},{"$f":"IF(Meetings2!$B892=\"\",\"\",Meetings2!$B892)","v":""},{"$nulls":11},{"$f":"IF(AA892=\"\",\"\",IF(AA892=\"Career::\",Form!A890,\"\"))","v":""}]
[{"$nulls":12},{"$f":"IF(Meetings2!$B893=\"\",\"\",IF(Meetings2!$C893=\"\",\"\",LEFT(Meetings2!B893,FIND(\"(\",Meetings2!$B893)-2)))","v":""},{"$f":"IF(Meetings2!$B893=\"\",\"\",Meetings2!$B893)","v":""},{"$nulls":11},{"$f":"IF(AA893=\"\",\"\",IF(AA893=\"Career::\",Form!A891,\"\"))","v":""}]
[{"$nulls":12},{"$f":"IF(Meetings2!$B894=\"\",\"\",IF(Meetings2!$C894=\"\",\"\",LEFT(Meetings2!B894,FIND(\"(\",Meetings2!$B894)-2)))","v":""},{"$f":"IF(Meetings2!$B894=\"\",\"\",Meetings2!$B894)","v":""},{"$nulls":11},{"$f":"IF(AA894=\"\",\"\",IF(AA894=\"Career::\",Form!A892,\"\"))","v":""}]
[{"$nulls":12},{"$f":"IF(Meetings2!$B895=\"\",\"\",IF(Meetings2!$C895=\"\",\"\",LEFT(Meetings2!B895,FIND(\"(\",Meetings2!$B895)-2)))","v":""},{"$f":"IF(Meetings2!$B895=\"\",\"\",Meetings2!$B895)","v":""},{"$nulls":11},{"$f":"IF(AA895=\"\",\"\",IF(AA895=\"Career::\",Form!A893,\"\"))","v":""}]
[{"$nulls":12},{"$f":"IF(Meetings2!$B896=\"\",\"\",IF(Meetings2!$C896=\"\",\"\",LEFT(Meetings2!B896,FIND(\"(\",Meetings2!$B896)-2)))","v":""},{"$f":"IF(Meetings2!$B896=\"\",\"\",Meetings2!$B896)","v":""},{"$nulls":11},{"$f":"IF(AA896=\"\",\"\",IF(AA896=\"Career::\",Form!A894,\"\"))","v":""}]
[{"$nulls":12},{"$f":"IF(Meetings2!$B897=\"\",\"\",IF(Meetings2!$C897=\"\",\"\",LEFT(Meetings2!B897,FIND(\"(\",Meetings2!$B897)-2)))","v":""},{"$f":"IF(Meetings2!$B897=\"\",\"\",Meetings2!$B897)","v":""},{"$nulls":11},{"$f":"IF(AA897=\"\",\"\",IF(AA897=\"Career::\",Form!A895,\"\"))","v":""}]
[{"$nulls":12},{"$f":"IF(Meetings2!$B898=\"\",\"\",IF(Meetings2!$C898=\"\",\"\",LEFT(Meetings2!B898,FIND(\"(\",Meetings2!$B898)-2)))","v":""},{"$f":"IF(Meetings2!$B898=\"\",\"\",Meetings2!$B898)","v":""},{"$nulls":11},{"$f":"IF(AA898=\"\",\"\",IF(AA898=\"Career::\",Form!A896,\"\"))","v":""}]
[{"$nulls":12},{"$f":"IF(Meetings2!$B899=\"\",\"\",IF(Meetings2!$C899=\"\",\"\",LEFT(Meetings2!B899,FIND(\"(\",Meetings2!$B899)-2)))","v":""},{"$f":"IF(Meetings2!$B899=\"\",\"\",Meetings2!$B899)","v":""},{"$nulls":11},{"$f":"IF(AA899=\"\",\"\",IF(AA899=\"Career::\",Form!A897,\"\"))","v":""}]
[{"$nulls":12},{"$f":"IF(Meetings2!$B900=\"\",\"\",IF(Meetings2!$C900=\"\",\"\",LEFT(Meetings2!B900,FIND(\"(\",Meetings2!$B900)-2)))","v":""},{"$f":"IF(Meetings2!$B900=\"\",\"\",Meetings2!$B900)","v":""},{"$nulls":11},{"$f":"IF(AA900=\"\",\"\",IF(AA900=\"Career::\",Form!A898,\"\"))","v":""}]
[{"$nulls":12},{"$f":"IF(Meetings2!$B901=\"\",\"\",IF(Meetings2!$C901=\"\",\"\",LEFT(Meetings2!B901,FIND(\"(\",Meetings2!$B901)-2)))","v":""},{"$f":"IF(Meetings2!$B901=\"\",\"\",Meetings2!$B901)","v":""},{"$nulls":11},{"$f":"IF(AA901=\"\",\"\",IF(AA901=\"Career::\",Form!A899,\"\"))","v":""}]
[{"$nulls":12},{"$f":"IF(Meetings2!$B902=\"\",\"\",IF(Meetings2!$C902=\"\",\"\",LEFT(Meetings2!B902,FIND(\"(\",Meetings2!$B902)-2)))","v":""},{"$f":"IF(Meetings2!$B902=\"\",\"\",Meetings2!$B902)","v":""},{"$nulls":11},{"$f":"IF(AA902=\"\",\"\",IF(AA902=\"Career::\",Form!A900,\"\"))","v":""}]
[{"$nulls":12},{"$f":"IF(Meetings2!$B903=\"\",\"\",IF(Meetings2!$C903=\"\",\"\",LEFT(Meetings2!B903,FIND(\"(\",Meetings2!$B903)-2)))","v":""},{"$f":"IF(Meetings2!$B903=\"\",\"\",Meetings2!$B903)","v":""},{"$nulls":11},{"$f":"IF(AA903=\"\",\"\",IF(AA903=\"Career::\",Form!A901,\"\"))","v":""}]
[{"$nulls":12},{"$f":"IF(Meetings2!$B904=\"\",\"\",IF(Meetings2!$C904=\"\",\"\",LEFT(Meetings2!B904,FIND(\"(\",Meetings2!$B904)-2)))","v":""},{"$f":"IF(Meetings2!$B904=\"\",\"\",Meetings2!$B904)","v":""},{"$nulls":11},{"$f":"IF(AA904=\"\",\"\",IF(AA904=\"Career::\",Form!A902,\"\"))","v":""}]
[{"$nulls":12},{"$f":"IF(Meetings2!$B905=\"\",\"\",IF(Meetings2!$C905=\"\",\"\",LEFT(Meetings2!B905,FIND(\"(\",Meetings2!$B905)-2)))","v":""},{"$f":"IF(Meetings2!$B905=\"\",\"\",Meetings2!$B905)","v":""},{"$nulls":11},{"$f":"IF(AA905=\"\",\"\",IF(AA905=\"Career::\",Form!A903,\"\"))","v":""}]
[{"$nulls":12},{"$f":"IF(Meetings2!$B906=\"\",\"\",IF(Meetings2!$C906=\"\",\"\",LEFT(Meetings2!B906,FIND(\"(\",Meetings2!$B906)-2)))","v":""},{"$f":"IF(Meetings2!$B906=\"\",\"\",Meetings2!$B906)","v":""},{"$nulls":11},{"$f":"IF(AA906=\"\",\"\",IF(AA906=\"Career::\",Form!A904,\"\"))","v":""}]
[{"$nulls":12},{"$f":"IF(Meetings2!$B907=\"\",\"\",IF(Meetings2!$C907=\"\",\"\",LEFT(Meetings2!B907,FIND(\"(\",Meetings2!$B907)-2)))","v":""},{"$f":"IF(Meetings2!$B907=\"\",\"\",Meetings2!$B907)","v":""},{"$nulls":11},{"$f":"IF(AA907=\"\",\"\",IF(AA907=\"Career::\",Form!A905,\"\"))","v":""}]
[{"$nulls":12},{"$f":"IF(Meetings2!$B908=\"\",\"\",IF(Meetings2!$C908=\"\",\"\",LEFT(Meetings2!B908,FIND(\"(\",Meetings2!$B908)-2)))","v":""},{"$f":"IF(Meetings2!$B908=\"\",\"\",Meetings2!$B908)","v":""},{"$nulls":11},{"$f":"IF(AA908=\"\",\"\",IF(AA908=\"Career::\",Form!A906,\"\"))","v":""}]
[{"$nulls":12},{"$f":"IF(Meetings2!$B909=\"\",\"\",IF(Meetings2!$C909=\"\",\"\",LEFT(Meetings2!B909,FIND(\"(\",Meetings2!$B909)-2)))","v":""},{"$f":"IF(Meetings2!$B909=\"\",\"\",Meetings2!$B909)","v":""},{"$nulls":11},{"$f":"IF(AA909=\"\",\"\",IF(AA909=\"Career::\",Form!A907,\"\"))","v":""}]
[{"$nulls":12},{"$f":"IF(Meetings2!$B910=\"\",\"\",IF(Meetings2!$C910=\"\",\"\",LEFT(Meetings2!B910,FIND(\"(\",Meetings2!$B910)-2)))","v":""},{"$f":"IF(Meetings2!$B910=\"\",\"\",Meetings2!$B910)","v":""},{"$nulls":11},{"$f":"IF(AA910=\"\",\"\",IF(AA910=\"Career::\",Form!A908,\"\"))","v":""}]
[{"$nulls":12},{"$f":"IF(Meetings2!$B911=\"\",\"\",IF(Meetings2!$C911=\"\",\"\",LEFT(Meetings2!B911,FIND(\"(\",Meetings2!$B911)-2)))","v":""},{"$f":"IF(Meetings2!$B911=\"\",\"\",Meetings2!$B911)","v":""},{"$nulls":11},{"$f":"IF(AA911=\"\",\"\",IF(AA911=\"Career::\",Form!A909,\"\"))","v":""}]
[{"$nulls":12},{"$f":"IF(Meetings2!$B912=\"\",\"\",IF(Meetings2!$C912=\"\",\"\",LEFT(Meetings2!B912,FIND(\"(\",Meetings2!$B912)-2)))","v":""},{"$f":"IF(Meetings2!$B912=\"\",\"\",Meetings2!$B912)","v":""},{"$nulls":11},{"$f":"IF(AA912=\"\",\"\",IF(AA912=\"Career::\",Form!A910,\"\"))","v":""}]
[{"$nulls":12},{"$f":"IF(Meetings2!$B913=\"\",\"\",IF(Meetings2!$C913=\"\",\"\",LEFT(Meetings2!B913,FIND(\"(\",Meetings2!$B913)-2)))","v":""},{"$f":"IF(Meetings2!$B913=\"\",\"\",Meetings2!$B913)","v":""},{"$nulls":11},{"$f":"IF(AA913=\"\",\"\",IF(AA913=\"Career::\",Form!A911,\"\"))","v":""}]
[{"$nulls":12},{"$f":"IF(Meetings2!$B914=\"\",\"\",IF(Meetings2!$C914=\"\",\"\",LEFT(Meetings2!B914,FIND(\"(\",Meetings2!$B914)-2)))","v":""},{"$f":"IF(Meetings2!$B914=\"\",\"\",Meetings2!$B914)","v":""},{"$nulls":11},{"$f":"IF(AA914=\"\",\"\",IF(AA914=\"Career::\",Form!A912,\"\"))","v":""}]
[{"$nulls":12},{"$f":"IF(Meetings2!$B915=\"\",\"\",IF(Meetings2!$C915=\"\",\"\",LEFT(Meetings2!B915,FIND(\"(\",Meetings2!$B915)-2)))","v":""},{"$f":"IF(Meetings2!$B915=\"\",\"\",Meetings2!$B915)","v":""},{"$nulls":11},{"$f":"IF(AA915=\"\",\"\",IF(AA915=\"Career::\",Form!A913,\"\"))","v":""}]
[{"$nulls":12},{"$f":"IF(Meetings2!$B916=\"\",\"\",IF(Meetings2!$C916=\"\",\"\",LEFT(Meetings2!B916,FIND(\"(\",Meetings2!$B916)-2)))","v":""},{"$f":"IF(Meetings2!$B916=\"\",\"\",Meetings2!$B916)","v":""},{"$nulls":11},{"$f":"IF(AA916=\"\",\"\",IF(AA916=\"Career::\",Form!A914,\"\"))","v":""}]
[{"$nulls":12},{"$f":"IF(Meetings2!$B917=\"\",\"\",IF(Meetings2!$C917=\"\",\"\",LEFT(Meetings2!B917,FIND(\"(\",Meetings2!$B917)-2)))","v":""},{"$f":"IF(Meetings2!$B917=\"\",\"\",Meetings2!$B917)","v":""},{"$nulls":11},{"$f":"IF(AA917=\"\",\"\",IF(AA917=\"Career::\",Form!A915,\"\"))","v":""}]
[{"$nulls":12},{"$f":"IF(Meetings2!$B918=\"\",\"\",IF(Meetings2!$C918=\"\",\"\",LEFT(Meetings2!B918,FIND(\"(\",Meetings2!$B918)-2)))","v":""},{"$f":"IF(Meetings2!$B918=\"\",\"\",Meetings2!$B918)","v":""},{"$nulls":11},{"$f":"IF(AA918=\"\",\"\",IF(AA918=\"Career::\",Form!A916,\"\"))","v":""}]
[{"$nulls":12},{"$f":"IF(Meetings2!$B919=\"\",\"\",IF(Meetings2!$C919=\"\",\"\",LEFT(Meetings2!B919,FIND(\"(\",Meetings2!$B919)-2)))","v":""},{"$f":"IF(Meetings2!$B919=\"\",\"\",Meetings2!$B919)","v":""},{"$nulls":11},{"$f":"IF(AA919=\"\",\"\",IF(AA919=\"Career::\",Form!A917,\"\"))","v":""}]
[{"$nulls":12},{"$f":"IF(Meetings2!$B920=\"\",\"\",IF(Meetings2!$C920=\"\",\"\",LEFT(Meetings2!B920,FIND(\"(\",Meetings2!$B920)-2)))","v":""},{"$f":"IF(Meetings2!$B920=\"\",\"\",Meetings2!$B920)","v":""},{"$nulls":11},{"$f":"IF(AA920=\"\",\"\",IF(AA920=\"Career::\",Form!A918,\"\"))","v":""}]
[{"$nulls":12},{"$f":"IF(Meetings2!$B921=\"\",\"\",IF(Meetings2!$C921=\"\",\"\",LEFT(Meetings2!B921,FIND(\"(\",Meetings2!$B921)-2)))","v":""},{"$f":"IF(Meetings2!$B921=\"\",\"\",Meetings2!$B921)","v":""},{"$nulls":11},{"$f":"IF(AA921=\"\",\"\",IF(AA921=\"Career::\",Form!A919,\"\"))","v":""}]
[{"$nulls":12},{"$f":"IF(Meetings2!$B922=\"\",\"\",IF(Meetings2!$C922=\"\",\"\",LEFT(Meetings2!B922,FIND(\"(\",Meetings2!$B922)-2)))","v":""},{"$f":"IF(Meetings2!$B922=\"\",\"\",Meetings2!$B922)","v":""},{"$nulls":11},{"$f":"IF(AA922=\"\",\"\",IF(AA922=\"Career::\",Form!A920,\"\"))","v":""}]
[{"$nulls":12},{"$f":"IF(Meetings2!$B923=\"\",\"\",IF(Meetings2!$C923=\"\",\"\",LEFT(Meetings2!B923,FIND(\"(\",Meetings2!$B923)-2)))","v":""},{"$f":"IF(Meetings2!$B923=\"\",\"\",Meetings2!$B923)","v":""},{"$nulls":11},{"$f":"IF(AA923=\"\",\"\",IF(AA923=\"Career::\",Form!A921,\"\"))","v":""}]
[{"$nulls":12},{"$f":"IF(Meetings2!$B924=\"\",\"\",IF(Meetings2!$C924=\"\",\"\",LEFT(Meetings2!B924,FIND(\"(\",Meetings2!$B924)-2)))","v":""},{"$f":"IF(Meetings2!$B924=\"\",\"\",Meetings2!$B924)","v":""},{"$nulls":11},{"$f":"IF(AA924=\"\",\"\",IF(AA924=\"Career::\",Form!A922,\"\"))","v":""}]
[{"$nulls":12},{"$f":"IF(Meetings2!$B925=\"\",\"\",IF(Meetings2!$C925=\"\",\"\",LEFT(Meetings2!B925,FIND(\"(\",Meetings2!$B925)-2)))","v":""},{"$f":"IF(Meetings2!$B925=\"\",\"\",Meetings2!$B925)","v":""},{"$nulls":11},{"$f":"IF(AA925=\"\",\"\",IF(AA925=\"Career::\",Form!A923,\"\"))","v":""}]
[{"$nulls":12},{"$f":"IF(Meetings2!$B926=\"\",\"\",IF(Meetings2!$C926=\"\",\"\",LEFT(Meetings2!B926,FIND(\"(\",Meetings2!$B926)-2)))","v":""},{"$f":"IF(Meetings2!$B926=\"\",\"\",Meetings2!$B926)","v":""},{"$nulls":11},{"$f":"IF(AA926=\"\",\"\",IF(AA926=\"Career::\",Form!A924,\"\"))","v":""}]
[{"$nulls":12},{"$f":"IF(Meetings2!$B927=\"\",\"\",IF(Meetings2!$C927=\"\",\"\",LEFT(Meetings2!B927,FIND(\"(\",Meetings2!$B927)-2)))","v":""},{"$f":"IF(Meetings2!$B927=\"\",\"\",Meetings2!$B927)","v":""},{"$nulls":11},{"$f":"IF(AA927=\"\",\"\",IF(AA927=\"Career::\",Form!A925,\"\"))","v":""}]
[{"$nulls":12},{"$f":"IF(Meetings2!$B928=\"\",\"\",IF(Meetings2!$C928=\"\",\"\",LEFT(Meetings2!B928,FIND(\"(\",Meetings2!$B928)-2)))","v":""},{"$f":"IF(Meetings2!$B928=\"\",\"\",Meetings2!$B928)","v":""},{"$nulls":11},{"$f":"IF(AA928=\"\",\"\",IF(AA928=\"Career::\",Form!A926,\"\"))","v":""}]
[{"$nulls":12},{"$f":"IF(Meetings2!$B929=\"\",\"\",IF(Meetings2!$C929=\"\",\"\",LEFT(Meetings2!B929,FIND(\"(\",Meetings2!$B929)-2)))","v":""},{"$f":"IF(Meetings2!$B929=\"\",\"\",Meetings2!$B929)","v":""},{"$nulls":11},{"$f":"IF(AA929=\"\",\"\",IF(AA929=\"Career::\",Form!A927,\"\"))","v":""}]
[{"$nulls":12},{"$f":"IF(Meetings2!$B930=\"\",\"\",IF(Meetings2!$C930=\"\",\"\",LEFT(Meetings2!B930,FIND(\"(\",Meetings2!$B930)-2)))","v":""},{"$f":"IF(Meetings2!$B930=\"\",\"\",Meetings2!$B930)","v":""},{"$nulls":11},{"$f":"IF(AA930=\"\",\"\",IF(AA930=\"Career::\",Form!A928,\"\"))","v":""}]
[{"$nulls":12},{"$f":"IF(Meetings2!$B931=\"\",\"\",IF(Meetings2!$C931=\"\",\"\",LEFT(Meetings2!B931,FIND(\"(\",Meetings2!$B931)-2)))","v":""},{"$f":"IF(Meetings2!$B931=\"\",\"\",Meetings2!$B931)","v":""},{"$nulls":11},{"$f":"IF(AA931=\"\",\"\",IF(AA931=\"Career::\",Form!A929,\"\"))","v":""}]
[{"$nulls":12},{"$f":"IF(Meetings2!$B932=\"\",\"\",IF(Meetings2!$C932=\"\",\"\",LEFT(Meetings2!B932,FIND(\"(\",Meetings2!$B932)-2)))","v":""},{"$f":"IF(Meetings2!$B932=\"\",\"\",Meetings2!$B932)","v":""},{"$nulls":11},{"$f":"IF(AA932=\"\",\"\",IF(AA932=\"Career::\",Form!A930,\"\"))","v":""}]
[{"$nulls":12},{"$f":"IF(Meetings2!$B933=\"\",\"\",IF(Meetings2!$C933=\"\",\"\",LEFT(Meetings2!B933,FIND(\"(\",Meetings2!$B933)-2)))","v":""},{"$f":"IF(Meetings2!$B933=\"\",\"\",Meetings2!$B933)","v":""},{"$nulls":11},{"$f":"IF(AA933=\"\",\"\",IF(AA933=\"Career::\",Form!A931,\"\"))","v":""}]
[{"$nulls":12},{"$f":"IF(Meetings2!$B934=\"\",\"\",IF(Meetings2!$C934=\"\",\"\",LEFT(Meetings2!B934,FIND(\"(\",Meetings2!$B934)-2)))","v":""},{"$f":"IF(Meetings2!$B934=\"\",\"\",Meetings2!$B934)","v":""},{"$nulls":11},{"$f":"IF(AA934=\"\",\"\",IF(AA934=\"Career::\",Form!A932,\"\"))","v":""}]
[{"$nulls":12},{"$f":"IF(Meetings2!$B935=\"\",\"\",IF(Meetings2!$C935=\"\",\"\",LEFT(Meetings2!B935,FIND(\"(\",Meetings2!$B935)-2)))","v":""},{"$f":"IF(Meetings2!$B935=\"\",\"\",Meetings2!$B935)","v":""},{"$nulls":11},{"$f":"IF(AA935=\"\",\"\",IF(AA935=\"Career::\",Form!A933,\"\"))","v":""}]
[{"$nulls":12},{"$f":"IF(Meetings2!$B936=\"\",\"\",IF(Meetings2!$C936=\"\",\"\",LEFT(Meetings2!B936,FIND(\"(\",Meetings2!$B936)-2)))","v":""},{"$f":"IF(Meetings2!$B936=\"\",\"\",Meetings2!$B936)","v":""},{"$nulls":11},{"$f":"IF(AA936=\"\",\"\",IF(AA936=\"Career::\",Form!A934,\"\"))","v":""}]
[{"$nulls":12},{"$f":"IF(Meetings2!$B937=\"\",\"\",IF(Meetings2!$C937=\"\",\"\",LEFT(Meetings2!B937,FIND(\"(\",Meetings2!$B937)-2)))","v":""},{"$f":"IF(Meetings2!$B937=\"\",\"\",Meetings2!$B937)","v":""},{"$nulls":11},{"$f":"IF(AA937=\"\",\"\",IF(AA937=\"Career::\",Form!A935,\"\"))","v":""}]
[{"$nulls":12},{"$f":"IF(Meetings2!$B938=\"\",\"\",IF(Meetings2!$C938=\"\",\"\",LEFT(Meetings2!B938,FIND(\"(\",Meetings2!$B938)-2)))","v":""},{"$f":"IF(Meetings2!$B938=\"\",\"\",Meetings2!$B938)","v":""},{"$nulls":11},{"$f":"IF(AA938=\"\",\"\",IF(AA938=\"Career::\",Form!A936,\"\"))","v":""}]
[{"$nulls":12},{"$f":"IF(Meetings2!$B939=\"\",\"\",IF(Meetings2!$C939=\"\",\"\",LEFT(Meetings2!B939,FIND(\"(\",Meetings2!$B939)-2)))","v":""},{"$f":"IF(Meetings2!$B939=\"\",\"\",Meetings2!$B939)","v":""},{"$nulls":11},{"$f":"IF(AA939=\"\",\"\",IF(AA939=\"Career::\",Form!A937,\"\"))","v":""}]
[{"$nulls":12},{"$f":"IF(Meetings2!$B940=\"\",\"\",IF(Meetings2!$C940=\"\",\"\",LEFT(Meetings2!B940,FIND(\"(\",Meetings2!$B940)-2)))","v":""},{"$f":"IF(Meetings2!$B940=\"\",\"\",Meetings2!$B940)","v":""},{"$nulls":11},{"$f":"IF(AA940=\"\",\"\",IF(AA940=\"Career::\",Form!A938,\"\"))","v":""}]
[{"$nulls":12},{"$f":"IF(Meetings2!$B941=\"\",\"\",IF(Meetings2!$C941=\"\",\"\",LEFT(Meetings2!B941,FIND(\"(\",Meetings2!$B941)-2)))","v":""},{"$f":"IF(Meetings2!$B941=\"\",\"\",Meetings2!$B941)","v":""},{"$nulls":11},{"$f":"IF(AA941=\"\",\"\",IF(AA941=\"Career::\",Form!A939,\"\"))","v":""}]
[{"$nulls":12},{"$f":"IF(Meetings2!$B942=\"\",\"\",IF(Meetings2!$C942=\"\",\"\",LEFT(Meetings2!B942,FIND(\"(\",Meetings2!$B942)-2)))","v":""},{"$f":"IF(Meetings2!$B942=\"\",\"\",Meetings2!$B942)","v":""},{"$nulls":11},{"$f":"IF(AA942=\"\",\"\",IF(AA942=\"Career::\",Form!A940,\"\"))","v":""}]
[{"$nulls":12},{"$f":"IF(Meetings2!$B943=\"\",\"\",IF(Meetings2!$C943=\"\",\"\",LEFT(Meetings2!B943,FIND(\"(\",Meetings2!$B943)-2)))","v":""},{"$f":"IF(Meetings2!$B943=\"\",\"\",Meetings2!$B943)","v":""},{"$nulls":11},{"$f":"IF(AA943=\"\",\"\",IF(AA943=\"Career::\",Form!A941,\"\"))","v":""}]
[{"$nulls":12},{"$f":"IF(Meetings2!$B944=\"\",\"\",IF(Meetings2!$C944=\"\",\"\",LEFT(Meetings2!B944,FIND(\"(\",Meetings2!$B944)-2)))","v":""},{"$f":"IF(Meetings2!$B944=\"\",\"\",Meetings2!$B944)","v":""},{"$nulls":11},{"$f":"IF(AA944=\"\",\"\",IF(AA944=\"Career::\",Form!A942,\"\"))","v":""}]
[{"$nulls":12},{"$f":"IF(Meetings2!$B945=\"\",\"\",IF(Meetings2!$C945=\"\",\"\",LEFT(Meetings2!B945,FIND(\"(\",Meetings2!$B945)-2)))","v":""},{"$f":"IF(Meetings2!$B945=\"\",\"\",Meetings2!$B945)","v":""},{"$nulls":11},{"$f":"IF(AA945=\"\",\"\",IF(AA945=\"Career::\",Form!A943,\"\"))","v":""}]
[{"$nulls":12},{"$f":"IF(Meetings2!$B946=\"\",\"\",IF(Meetings2!$C946=\"\",\"\",LEFT(Meetings2!B946,FIND(\"(\",Meetings2!$B946)-2)))","v":""},{"$f":"IF(Meetings2!$B946=\"\",\"\",Meetings2!$B946)","v":""},{"$nulls":11},{"$f":"IF(AA946=\"\",\"\",IF(AA946=\"Career::\",Form!A944,\"\"))","v":""}]
[{"$nulls":12},{"$f":"IF(Meetings2!$B947=\"\",\"\",IF(Meetings2!$C947=\"\",\"\",LEFT(Meetings2!B947,FIND(\"(\",Meetings2!$B947)-2)))","v":""},{"$f":"IF(Meetings2!$B947=\"\",\"\",Meetings2!$B947)","v":""},{"$nulls":11},{"$f":"IF(AA947=\"\",\"\",IF(AA947=\"Career::\",Form!A945,\"\"))","v":""}]
[{"$nulls":12},{"$f":"IF(Meetings2!$B948=\"\",\"\",IF(Meetings2!$C948=\"\",\"\",LEFT(Meetings2!B948,FIND(\"(\",Meetings2!$B948)-2)))","v":""},{"$f":"IF(Meetings2!$B948=\"\",\"\",Meetings2!$B948)","v":""},{"$nulls":11},{"$f":"IF(AA948=\"\",\"\",IF(AA948=\"Career::\",Form!A946,\"\"))","v":""}]
[{"$nulls":12},{"$f":"IF(Meetings2!$B949=\"\",\"\",IF(Meetings2!$C949=\"\",\"\",LEFT(Meetings2!B949,FIND(\"(\",Meetings2!$B949)-2)))","v":""},{"$f":"IF(Meetings2!$B949=\"\",\"\",Meetings2!$B949)","v":""},{"$nulls":11},{"$f":"IF(AA949=\"\",\"\",IF(AA949=\"Career::\",Form!A947,\"\"))","v":""}]
[{"$nulls":12},{"$f":"IF(Meetings2!$B950=\"\",\"\",IF(Meetings2!$C950=\"\",\"\",LEFT(Meetings2!B950,FIND(\"(\",Meetings2!$B950)-2)))","v":""},{"$f":"IF(Meetings2!$B950=\"\",\"\",Meetings2!$B950)","v":""},{"$nulls":11},{"$f":"IF(AA950=\"\",\"\",IF(AA950=\"Career::\",Form!A948,\"\"))","v":""}]
[{"$nulls":12},{"$f":"IF(Meetings2!$B951=\"\",\"\",IF(Meetings2!$C951=\"\",\"\",LEFT(Meetings2!B951,FIND(\"(\",Meetings2!$B951)-2)))","v":""},{"$f":"IF(Meetings2!$B951=\"\",\"\",Meetings2!$B951)","v":""},{"$nulls":11},{"$f":"IF(AA951=\"\",\"\",IF(AA951=\"Career::\",Form!A949,\"\"))","v":""}]
[{"$nulls":12},{"$f":"IF(Meetings2!$B952=\"\",\"\",IF(Meetings2!$C952=\"\",\"\",LEFT(Meetings2!B952,FIND(\"(\",Meetings2!$B952)-2)))","v":""},{"$f":"IF(Meetings2!$B952=\"\",\"\",Meetings2!$B952)","v":""},{"$nulls":11},{"$f":"IF(AA952=\"\",\"\",IF(AA952=\"Career::\",Form!A950,\"\"))","v":""}]
[{"$nulls":12},{"$f":"IF(Meetings2!$B953=\"\",\"\",IF(Meetings2!$C953=\"\",\"\",LEFT(Meetings2!B953,FIND(\"(\",Meetings2!$B953)-2)))","v":""},{"$f":"IF(Meetings2!$B953=\"\",\"\",Meetings2!$B953)","v":""},{"$nulls":11},{"$f":"IF(AA953=\"\",\"\",IF(AA953=\"Career::\",Form!A951,\"\"))","v":""}]
[{"$nulls":12},{"$f":"IF(Meetings2!$B954=\"\",\"\",IF(Meetings2!$C954=\"\",\"\",LEFT(Meetings2!B954,FIND(\"(\",Meetings2!$B954)-2)))","v":""},{"$f":"IF(Meetings2!$B954=\"\",\"\",Meetings2!$B954)","v":""},{"$nulls":11},{"$f":"IF(AA954=\"\",\"\",IF(AA954=\"Career::\",Form!A952,\"\"))","v":""}]
[{"$nulls":12},{"$f":"IF(Meetings2!$B955=\"\",\"\",IF(Meetings2!$C955=\"\",\"\",LEFT(Meetings2!B955,FIND(\"(\",Meetings2!$B955)-2)))","v":""},{"$f":"IF(Meetings2!$B955=\"\",\"\",Meetings2!$B955)","v":""},{"$nulls":11},{"$f":"IF(AA955=\"\",\"\",IF(AA955=\"Career::\",Form!A953,\"\"))","v":""}]
[{"$nulls":12},{"$f":"IF(Meetings2!$B956=\"\",\"\",IF(Meetings2!$C956=\"\",\"\",LEFT(Meetings2!B956,FIND(\"(\",Meetings2!$B956)-2)))","v":""},{"$f":"IF(Meetings2!$B956=\"\",\"\",Meetings2!$B956)","v":""},{"$nulls":11},{"$f":"IF(AA956=\"\",\"\",IF(AA956=\"Career::\",Form!A954,\"\"))","v":""}]
[{"$nulls":12},{"$f":"IF(Meetings2!$B957=\"\",\"\",IF(Meetings2!$C957=\"\",\"\",LEFT(Meetings2!B957,FIND(\"(\",Meetings2!$B957)-2)))","v":""},{"$f":"IF(Meetings2!$B957=\"\",\"\",Meetings2!$B957)","v":""},{"$nulls":11},{"$f":"IF(AA957=\"\",\"\",IF(AA957=\"Career::\",Form!A955,\"\"))","v":""}]
[{"$nulls":12},{"$f":"IF(Meetings2!$B958=\"\",\"\",IF(Meetings2!$C958=\"\",\"\",LEFT(Meetings2!B958,FIND(\"(\",Meetings2!$B958)-2)))","v":""},{"$f":"IF(Meetings2!$B958=\"\",\"\",Meetings2!$B958)","v":""},{"$nulls":11},{"$f":"IF(AA958=\"\",\"\",IF(AA958=\"Career::\",Form!A956,\"\"))","v":""}]
[{"$nulls":12},{"$f":"IF(Meetings2!$B959=\"\",\"\",IF(Meetings2!$C959=\"\",\"\",LEFT(Meetings2!B959,FIND(\"(\",Meetings2!$B959)-2)))","v":""},{"$f":"IF(Meetings2!$B959=\"\",\"\",Meetings2!$B959)","v":""},{"$nulls":11},{"$f":"IF(AA959=\"\",\"\",IF(AA959=\"Career::\",Form!A957,\"\"))","v":""}]
[{"$nulls":12},{"$f":"IF(Meetings2!$B960=\"\",\"\",IF(Meetings2!$C960=\"\",\"\",LEFT(Meetings2!B960,FIND(\"(\",Meetings2!$B960)-2)))","v":""},{"$f":"IF(Meetings2!$B960=\"\",\"\",Meetings2!$B960)","v":""},{"$nulls":11},{"$f":"IF(AA960=\"\",\"\",IF(AA960=\"Career::\",Form!A958,\"\"))","v":""}]
[{"$nulls":12},{"$f":"IF(Meetings2!$B961=\"\",\"\",IF(Meetings2!$C961=\"\",\"\",LEFT(Meetings2!B961,FIND(\"(\",Meetings2!$B961)-2)))","v":""},{"$f":"IF(Meetings2!$B961=\"\",\"\",Meetings2!$B961)","v":""},{"$nulls":11},{"$f":"IF(AA961=\"\",\"\",IF(AA961=\"Career::\",Form!A959,\"\"))","v":""}]
[{"$nulls":12},{"$f":"IF(Meetings2!$B962=\"\",\"\",IF(Meetings2!$C962=\"\",\"\",LEFT(Meetings2!B962,FIND(\"(\",Meetings2!$B962)-2)))","v":""},{"$f":"IF(Meetings2!$B962=\"\",\"\",Meetings2!$B962)","v":""},{"$nulls":11},{"$f":"IF(AA962=\"\",\"\",IF(AA962=\"Career::\",Form!A960,\"\"))","v":""}]
[{"$nulls":12},{"$f":"IF(Meetings2!$B963=\"\",\"\",IF(Meetings2!$C963=\"\",\"\",LEFT(Meetings2!B963,FIND(\"(\",Meetings2!$B963)-2)))","v":""},{"$f":"IF(Meetings2!$B963=\"\",\"\",Meetings2!$B963)","v":""},{"$nulls":11},{"$f":"IF(AA963=\"\",\"\",IF(AA963=\"Career::\",Form!A961,\"\"))","v":""}]
[{"$nulls":12},{"$f":"IF(Meetings2!$B964=\"\",\"\",IF(Meetings2!$C964=\"\",\"\",LEFT(Meetings2!B964,FIND(\"(\",Meetings2!$B964)-2)))","v":""},{"$f":"IF(Meetings2!$B964=\"\",\"\",Meetings2!$B964)","v":""},{"$nulls":11},{"$f":"IF(AA964=\"\",\"\",IF(AA964=\"Career::\",Form!A962,\"\"))","v":""}]
[{"$nulls":12},{"$f":"IF(Meetings2!$B965=\"\",\"\",IF(Meetings2!$C965=\"\",\"\",LEFT(Meetings2!B965,FIND(\"(\",Meetings2!$B965)-2)))","v":""},{"$f":"IF(Meetings2!$B965=\"\",\"\",Meetings2!$B965)","v":""},{"$nulls":11},{"$f":"IF(AA965=\"\",\"\",IF(AA965=\"Career::\",Form!A963,\"\"))","v":""}]
[{"$nulls":12},{"$f":"IF(Meetings2!$B966=\"\",\"\",IF(Meetings2!$C966=\"\",\"\",LEFT(Meetings2!B966,FIND(\"(\",Meetings2!$B966)-2)))","v":""},{"$f":"IF(Meetings2!$B966=\"\",\"\",Meetings2!$B966)","v":""},{"$nulls":11},{"$f":"IF(AA966=\"\",\"\",IF(AA966=\"Career::\",Form!A964,\"\"))","v":""}]
[{"$nulls":12},{"$f":"IF(Meetings2!$B967=\"\",\"\",IF(Meetings2!$C967=\"\",\"\",LEFT(Meetings2!B967,FIND(\"(\",Meetings2!$B967)-2)))","v":""},{"$f":"IF(Meetings2!$B967=\"\",\"\",Meetings2!$B967)","v":""},{"$nulls":11},{"$f":"IF(AA967=\"\",\"\",IF(AA967=\"Career::\",Form!A965,\"\"))","v":""}]
[{"$nulls":12},{"$f":"IF(Meetings2!$B968=\"\",\"\",IF(Meetings2!$C968=\"\",\"\",LEFT(Meetings2!B968,FIND(\"(\",Meetings2!$B968)-2)))","v":""},{"$f":"IF(Meetings2!$B968=\"\",\"\",Meetings2!$B968)","v":""},{"$nulls":11},{"$f":"IF(AA968=\"\",\"\",IF(AA968=\"Career::\",Form!A966,\"\"))","v":""}]
[{"$nulls":12},{"$f":"IF(Meetings2!$B969=\"\",\"\",IF(Meetings2!$C969=\"\",\"\",LEFT(Meetings2!B969,FIND(\"(\",Meetings2!$B969)-2)))","v":""},{"$f":"IF(Meetings2!$B969=\"\",\"\",Meetings2!$B969)","v":""},{"$nulls":11},{"$f":"IF(AA969=\"\",\"\",IF(AA969=\"Career::\",Form!A967,\"\"))","v":""}]
[{"$nulls":12},{"$f":"IF(Meetings2!$B970=\"\",\"\",IF(Meetings2!$C970=\"\",\"\",LEFT(Meetings2!B970,FIND(\"(\",Meetings2!$B970)-2)))","v":""},{"$f":"IF(Meetings2!$B970=\"\",\"\",Meetings2!$B970)","v":""},{"$nulls":11},{"$f":"IF(AA970=\"\",\"\",IF(AA970=\"Career::\",Form!A968,\"\"))","v":""}]
[{"$nulls":12},{"$f":"IF(Meetings2!$B971=\"\",\"\",IF(Meetings2!$C971=\"\",\"\",LEFT(Meetings2!B971,FIND(\"(\",Meetings2!$B971)-2)))","v":""},{"$f":"IF(Meetings2!$B971=\"\",\"\",Meetings2!$B971)","v":""},{"$nulls":11},{"$f":"IF(AA971=\"\",\"\",IF(AA971=\"Career::\",Form!A969,\"\"))","v":""}]
[{"$nulls":12},{"$f":"IF(Meetings2!$B972=\"\",\"\",IF(Meetings2!$C972=\"\",\"\",LEFT(Meetings2!B972,FIND(\"(\",Meetings2!$B972)-2)))","v":""},{"$f":"IF(Meetings2!$B972=\"\",\"\",Meetings2!$B972)","v":""},{"$nulls":11},{"$f":"IF(AA972=\"\",\"\",IF(AA972=\"Career::\",Form!A970,\"\"))","v":""}]
[{"$nulls":12},{"$f":"IF(Meetings2!$B973=\"\",\"\",IF(Meetings2!$C973=\"\",\"\",LEFT(Meetings2!B973,FIND(\"(\",Meetings2!$B973)-2)))","v":""},{"$f":"IF(Meetings2!$B973=\"\",\"\",Meetings2!$B973)","v":""},{"$nulls":11},{"$f":"IF(AA973=\"\",\"\",IF(AA973=\"Career::\",Form!A971,\"\"))","v":""}]
[{"$nulls":12},{"$f":"IF(Meetings2!$B974=\"\",\"\",IF(Meetings2!$C974=\"\",\"\",LEFT(Meetings2!B974,FIND(\"(\",Meetings2!$B974)-2)))","v":""},{"$f":"IF(Meetings2!$B974=\"\",\"\",Meetings2!$B974)","v":""},{"$nulls":11},{"$f":"IF(AA974=\"\",\"\",IF(AA974=\"Career::\",Form!A972,\"\"))","v":""}]
[{"$nulls":12},{"$f":"IF(Meetings2!$B975=\"\",\"\",IF(Meetings2!$C975=\"\",\"\",LEFT(Meetings2!B975,FIND(\"(\",Meetings2!$B975)-2)))","v":""},{"$f":"IF(Meetings2!$B975=\"\",\"\",Meetings2!$B975)","v":""},{"$nulls":11},{"$f":"IF(AA975=\"\",\"\",IF(AA975=\"Career::\",Form!A973,\"\"))","v":""}]
[{"$nulls":12},{"$f":"IF(Meetings2!$B976=\"\",\"\",IF(Meetings2!$C976=\"\",\"\",LEFT(Meetings2!B976,FIND(\"(\",Meetings2!$B976)-2)))","v":""},{"$f":"IF(Meetings2!$B976=\"\",\"\",Meetings2!$B976)","v":""},{"$nulls":11},{"$f":"IF(AA976=\"\",\"\",IF(AA976=\"Career::\",Form!A974,\"\"))","v":""}]
[{"$nulls":12},{"$f":"IF(Meetings2!$B977=\"\",\"\",IF(Meetings2!$C977=\"\",\"\",LEFT(Meetings2!B977,FIND(\"(\",Meetings2!$B977)-2)))","v":""},{"$f":"IF(Meetings2!$B977=\"\",\"\",Meetings2!$B977)","v":""},{"$nulls":11},{"$f":"IF(AA977=\"\",\"\",IF(AA977=\"Career::\",Form!A975,\"\"))","v":""}]
[{"$nulls":12},{"$f":"IF(Meetings2!$B978=\"\",\"\",IF(Meetings2!$C978=\"\",\"\",LEFT(Meetings2!B978,FIND(\"(\",Meetings2!$B978)-2)))","v":""},{"$f":"IF(Meetings2!$B978=\"\",\"\",Meetings2!$B978)","v":""},{"$nulls":11},{"$f":"IF(AA978=\"\",\"\",IF(AA978=\"Career::\",Form!A976,\"\"))","v":""}]
[{"$nulls":12},{"$f":"IF(Meetings2!$B979=\"\",\"\",IF(Meetings2!$C979=\"\",\"\",LEFT(Meetings2!B979,FIND(\"(\",Meetings2!$B979)-2)))","v":""},{"$f":"IF(Meetings2!$B979=\"\",\"\",Meetings2!$B979)","v":""},{"$nulls":11},{"$f":"IF(AA979=\"\",\"\",IF(AA979=\"Career::\",Form!A977,\"\"))","v":""}]
[{"$nulls":12},{"$f":"IF(Meetings2!$B980=\"\",\"\",IF(Meetings2!$C980=\"\",\"\",LEFT(Meetings2!B980,FIND(\"(\",Meetings2!$B980)-2)))","v":""},{"$f":"IF(Meetings2!$B980=\"\",\"\",Meetings2!$B980)","v":""},{"$nulls":11},{"$f":"IF(AA980=\"\",\"\",IF(AA980=\"Career::\",Form!A978,\"\"))","v":""}]
[{"$nulls":12},{"$f":"IF(Meetings2!$B981=\"\",\"\",IF(Meetings2!$C981=\"\",\"\",LEFT(Meetings2!B981,FIND(\"(\",Meetings2!$B981)-2)))","v":""},{"$f":"IF(Meetings2!$B981=\"\",\"\",Meetings2!$B981)","v":""},{"$nulls":11},{"$f":"IF(AA981=\"\",\"\",IF(AA981=\"Career::\",Form!A979,\"\"))","v":""}]
[{"$nulls":12},{"$f":"IF(Meetings2!$B982=\"\",\"\",IF(Meetings2!$C982=\"\",\"\",LEFT(Meetings2!B982,FIND(\"(\",Meetings2!$B982)-2)))","v":""},{"$f":"IF(Meetings2!$B982=\"\",\"\",Meetings2!$B982)","v":""},{"$nulls":11},{"$f":"IF(AA982=\"\",\"\",IF(AA982=\"Career::\",Form!A980,\"\"))","v":""}]
[{"$nulls":12},{"$f":"IF(Meetings2!$B983=\"\",\"\",IF(Meetings2!$C983=\"\",\"\",LEFT(Meetings2!B983,FIND(\"(\",Meetings2!$B983)-2)))","v":""},{"$f":"IF(Meetings2!$B983=\"\",\"\",Meetings2!$B983)","v":""},{"$nulls":11},{"$f":"IF(AA983=\"\",\"\",IF(AA983=\"Career::\",Form!A981,\"\"))","v":""}]
[{"$nulls":12},{"$f":"IF(Meetings2!$B984=\"\",\"\",IF(Meetings2!$C984=\"\",\"\",LEFT(Meetings2!B984,FIND(\"(\",Meetings2!$B984)-2)))","v":""},{"$f":"IF(Meetings2!$B984=\"\",\"\",Meetings2!$B984)","v":""},{"$nulls":11},{"$f":"IF(AA984=\"\",\"\",IF(AA984=\"Career::\",Form!A982,\"\"))","v":""}]
[{"$nulls":12},{"$f":"IF(Meetings2!$B985=\"\",\"\",IF(Meetings2!$C985=\"\",\"\",LEFT(Meetings2!B985,FIND(\"(\",Meetings2!$B985)-2)))","v":""},{"$f":"IF(Meetings2!$B985=\"\",\"\",Meetings2!$B985)","v":""},{"$nulls":11},{"$f":"IF(AA985=\"\",\"\",IF(AA985=\"Career::\",Form!A983,\"\"))","v":""}]
[{"$nulls":12},{"$f":"IF(Meetings2!$B986=\"\",\"\",IF(Meetings2!$C986=\"\",\"\",LEFT(Meetings2!B986,FIND(\"(\",Meetings2!$B986)-2)))","v":""},{"$f":"IF(Meetings2!$B986=\"\",\"\",Meetings2!$B986)","v":""},{"$nulls":11},{"$f":"IF(AA986=\"\",\"\",IF(AA986=\"Career::\",Form!A984,\"\"))","v":""}]
[{"$nulls":12},{"$f":"IF(Meetings2!$B987=\"\",\"\",IF(Meetings2!$C987=\"\",\"\",LEFT(Meetings2!B987,FIND(\"(\",Meetings2!$B987)-2)))","v":""},{"$f":"IF(Meetings2!$B987=\"\",\"\",Meetings2!$B987)","v":""},{"$nulls":11},{"$f":"IF(AA987=\"\",\"\",IF(AA987=\"Career::\",Form!A985,\"\"))","v":""}]
[{"$nulls":12},{"$f":"IF(Meetings2!$B988=\"\",\"\",IF(Meetings2!$C988=\"\",\"\",LEFT(Meetings2!B988,FIND(\"(\",Meetings2!$B988)-2)))","v":""},{"$f":"IF(Meetings2!$B988=\"\",\"\",Meetings2!$B988)","v":""},{"$nulls":11},{"$f":"IF(AA988=\"\",\"\",IF(AA988=\"Career::\",Form!A986,\"\"))","v":""}]
[{"$nulls":12},{"$f":"IF(Meetings2!$B989=\"\",\"\",IF(Meetings2!$C989=\"\",\"\",LEFT(Meetings2!B989,FIND(\"(\",Meetings2!$B989)-2)))","v":""},{"$f":"IF(Meetings2!$B989=\"\",\"\",Meetings2!$B989)","v":""},{"$nulls":11},{"$f":"IF(AA989=\"\",\"\",IF(AA989=\"Career::\",Form!A987,\"\"))","v":""}]
[{"$nulls":12},{"$f":"IF(Meetings2!$B990=\"\",\"\",IF(Meetings2!$C990=\"\",\"\",LEFT(Meetings2!B990,FIND(\"(\",Meetings2!$B990)-2)))","v":""},{"$f":"IF(Meetings2!$B990=\"\",\"\",Meetings2!$B990)","v":""},{"$nulls":11},{"$f":"IF(AA990=\"\",\"\",IF(AA990=\"Career::\",Form!A988,\"\"))","v":""}]
[{"$nulls":12},{"$f":"IF(Meetings2!$B991=\"\",\"\",IF(Meetings2!$C991=\"\",\"\",LEFT(Meetings2!B991,FIND(\"(\",Meetings2!$B991)-2)))","v":""},{"$f":"IF(Meetings2!$B991=\"\",\"\",Meetings2!$B991)","v":""},{"$nulls":11},{"$f":"IF(AA991=\"\",\"\",IF(AA991=\"Career::\",Form!A989,\"\"))","v":""}]
[{"$nulls":12},{"$f":"IF(Meetings2!$B992=\"\",\"\",IF(Meetings2!$C992=\"\",\"\",LEFT(Meetings2!B992,FIND(\"(\",Meetings2!$B992)-2)))","v":""},{"$f":"IF(Meetings2!$B992=\"\",\"\",Meetings2!$B992)","v":""},{"$nulls":11},{"$f":"IF(AA992=\"\",\"\",IF(AA992=\"Career::\",Form!A990,\"\"))","v":""}]
[{"$nulls":12},{"$f":"IF(Meetings2!$B993=\"\",\"\",IF(Meetings2!$C993=\"\",\"\",LEFT(Meetings2!B993,FIND(\"(\",Meetings2!$B993)-2)))","v":""},{"$f":"IF(Meetings2!$B993=\"\",\"\",Meetings2!$B993)","v":""},{"$nulls":11},{"$f":"IF(AA993=\"\",\"\",IF(AA993=\"Career::\",Form!A991,\"\"))","v":""}]
[{"$nulls":12},{"$f":"IF(Meetings2!$B994=\"\",\"\",IF(Meetings2!$C994=\"\",\"\",LEFT(Meetings2!B994,FIND(\"(\",Meetings2!$B994)-2)))","v":""},{"$f":"IF(Meetings2!$B994=\"\",\"\",Meetings2!$B994)","v":""},{"$nulls":11},{"$f":"IF(AA994=\"\",\"\",IF(AA994=\"Career::\",Form!A992,\"\"))","v":""}]
[{"$nulls":12},{"$f":"IF(Meetings2!$B995=\"\",\"\",IF(Meetings2!$C995=\"\",\"\",LEFT(Meetings2!B995,FIND(\"(\",Meetings2!$B995)-2)))","v":""},{"$f":"IF(Meetings2!$B995=\"\",\"\",Meetings2!$B995)","v":""},{"$nulls":11},{"$f":"IF(AA995=\"\",\"\",IF(AA995=\"Career::\",Form!A993,\"\"))","v":""}]
[{"$nulls":12},{"$f":"IF(Meetings2!$B996=\"\",\"\",IF(Meetings2!$C996=\"\",\"\",LEFT(Meetings2!B996,FIND(\"(\",Meetings2!$B996)-2)))","v":""},{"$f":"IF(Meetings2!$B996=\"\",\"\",Meetings2!$B996)","v":""},{"$nulls":11},{"$f":"IF(AA996=\"\",\"\",IF(AA996=\"Career::\",Form!A994,\"\"))","v":""}]
[{"$nulls":12},{"$f":"IF(Meetings2!$B997=\"\",\"\",IF(Meetings2!$C997=\"\",\"\",LEFT(Meetings2!B997,FIND(\"(\",Meetings2!$B997)-2)))","v":""},{"$f":"IF(Meetings2!$B997=\"\",\"\",Meetings2!$B997)","v":""},{"$nulls":11},{"$f":"IF(AA997=\"\",\"\",IF(AA997=\"Career::\",Form!A995,\"\"))","v":""}]
[{"$nulls":12},{"$f":"IF(Meetings2!$B998=\"\",\"\",IF(Meetings2!$C998=\"\",\"\",LEFT(Meetings2!B998,FIND(\"(\",Meetings2!$B998)-2)))","v":""},{"$f":"IF(Meetings2!$B998=\"\",\"\",Meetings2!$B998)","v":""},{"$nulls":11},{"$f":"IF(AA998=\"\",\"\",IF(AA998=\"Career::\",Form!A996,\"\"))","v":""}]
[{"$nulls":12},{"$f":"IF(Meetings2!$B999=\"\",\"\",IF(Meetings2!$C999=\"\",\"\",LEFT(Meetings2!B999,FIND(\"(\",Meetings2!$B999)-2)))","v":""},{"$f":"IF(Meetings2!$B999=\"\",\"\",Meetings2!$B999)","v":""},{"$nulls":11},{"$f":"IF(AA999=\"\",\"\",IF(AA999=\"Career::\",Form!A997,\"\"))","v":""}]
[{"$nulls":12},{"$f":"IF(Meetings2!$B1000=\"\",\"\",IF(Meetings2!$C1000=\"\",\"\",LEFT(Meetings2!B1000,FIND(\"(\",Meetings2!$B1000)-2)))","v":""},{"$f":"IF(Meetings2!$B1000=\"\",\"\",Meetings2!$B1000)","v":""},{"$nulls":11},{"$f":"IF(AA1000=\"\",\"\",IF(AA1000=\"Career::\",Form!A998,\"\"))","v":""}]
[{"$nulls":12},{"$f":"IF(Meetings2!$B1001=\"\",\"\",IF(Meetings2!$C1001=\"\",\"\",LEFT(Meetings2!B1001,FIND(\"(\",Meetings2!$B1001)-2)))","v":""},{"$f":"IF(Meetings2!$B1001=\"\",\"\",Meetings2!$B1001)","v":""},{"$nulls":11},{"$f":"IF(AA1001=\"\",\"\",IF(AA1001=\"Career::\",Form!A999,\"\"))","v":""}]
[{"$nulls":12},{"$f":"IF(Meetings2!$B1002=\"\",\"\",IF(Meetings2!$C1002=\"\",\"\",LEFT(Meetings2!B1002,FIND(\"(\",Meetings2!$B1002)-2)))","v":""},{"$f":"IF(Meetings2!$B1002=\"\",\"\",Meetings2!$B1002)","v":""},{"$nulls":11},{"$f":"IF(AA1002=\"\",\"\",IF(AA1002=\"Career::\",Form!A1000,\"\"))","v":""}]
[{"$nulls":12},{"$f":"IF(Meetings2!$B1003=\"\",\"\",IF(Meetings2!$C1003=\"\",\"\",LEFT(Meetings2!B1003,FIND(\"(\",Meetings2!$B1003)-2)))","v":""},{"$f":"IF(Meetings2!$B1003=\"\",\"\",Meetings2!$B1003)","v":""},{"$nulls":11},{"$f":"IF(AA1003=\"\",\"\",IF(AA1003=\"Career::\",Form!A1001,\"\"))","v":""}]
[{"$nulls":12},{"$f":"IF(Meetings2!$B1004=\"\",\"\",IF(Meetings2!$C1004=\"\",\"\",LEFT(Meetings2!B1004,FIND(\"(\",Meetings2!$B1004)-2)))","v":""},{"$f":"IF(Meetings2!$B1004=\"\",\"\",Meetings2!$B1004)","v":""},{"$nulls":11},{"$f":"IF(AA1004=\"\",\"\",IF(AA1004=\"Career::\",Form!A1002,\"\"))","v":""}]
[{"$nulls":12},{"$f":"IF(Meetings2!$B1005=\"\",\"\",IF(Meetings2!$C1005=\"\",\"\",LEFT(Meetings2!B1005,FIND(\"(\",Meetings2!$B1005)-2)))","v":""},{"$f":"IF(Meetings2!$B1005=\"\",\"\",Meetings2!$B1005)","v":""},{"$nulls":11},{"$f":"IF(AA1005=\"\",\"\",IF(AA1005=\"Career::\",Form!A1003,\"\"))","v":""}]
[{"$nulls":12},{"$f":"IF(Meetings2!$B1006=\"\",\"\",IF(Meetings2!$C1006=\"\",\"\",LEFT(Meetings2!B1006,FIND(\"(\",Meetings2!$B1006)-2)))","v":""},{"$f":"IF(Meetings2!$B1006=\"\",\"\",Meetings2!$B1006)","v":""},{"$nulls":11},{"$f":"IF(AA1006=\"\",\"\",IF(AA1006=\"Career::\",Form!A1004,\"\"))","v":""}]
[{"$nulls":12},{"$f":"IF(Meetings2!$B1007=\"\",\"\",IF(Meetings2!$C1007=\"\",\"\",LEFT(Meetings2!B1007,FIND(\"(\",Meetings2!$B1007)-2)))","v":""},{"$f":"IF(Meetings2!$B1007=\"\",\"\",Meetings2!$B1007)","v":""},{"$nulls":11},{"$f":"IF(AA1007=\"\",\"\",IF(AA1007=\"Career::\",Form!A1005,\"\"))","v":""}]
[{"$nulls":12},{"$f":"IF(Meetings2!$B1008=\"\",\"\",IF(Meetings2!$C1008=\"\",\"\",LEFT(Meetings2!B1008,FIND(\"(\",Meetings2!$B1008)-2)))","v":""},{"$f":"IF(Meetings2!$B1008=\"\",\"\",Meetings2!$B1008)","v":""},{"$nulls":11},{"$f":"IF(AA1008=\"\",\"\",IF(AA1008=\"Career::\",Form!A1006,\"\"))","v":""}]
[{"$nulls":12},{"$f":"IF(Meetings2!$B1009=\"\",\"\",IF(Meetings2!$C1009=\"\",\"\",LEFT(Meetings2!B1009,FIND(\"(\",Meetings2!$B1009)-2)))","v":""},{"$f":"IF(Meetings2!$B1009=\"\",\"\",Meetings2!$B1009)","v":""},{"$nulls":11},{"$f":"IF(AA1009=\"\",\"\",IF(AA1009=\"Career::\",Form!A1007,\"\"))","v":""}]
[{"$nulls":12},{"$f":"IF(Meetings2!$B1010=\"\",\"\",IF(Meetings2!$C1010=\"\",\"\",LEFT(Meetings2!B1010,FIND(\"(\",Meetings2!$B1010)-2)))","v":""},{"$f":"IF(Meetings2!$B1010=\"\",\"\",Meetings2!$B1010)","v":""},{"$nulls":11},{"$f":"IF(AA1010=\"\",\"\",IF(AA1010=\"Career::\",Form!A1008,\"\"))","v":""}]
[{"$nulls":12},{"$f":"IF(Meetings2!$B1011=\"\",\"\",IF(Meetings2!$C1011=\"\",\"\",LEFT(Meetings2!B1011,FIND(\"(\",Meetings2!$B1011)-2)))","v":""},{"$f":"IF(Meetings2!$B1011=\"\",\"\",Meetings2!$B1011)","v":""},{"$nulls":11},{"$f":"IF(AA1011=\"\",\"\",IF(AA1011=\"Career::\",Form!A1009,\"\"))","v":""}]
[{"$nulls":12},{"$f":"IF(Meetings2!$B1012=\"\",\"\",IF(Meetings2!$C1012=\"\",\"\",LEFT(Meetings2!B1012,FIND(\"(\",Meetings2!$B1012)-2)))","v":""},{"$f":"IF(Meetings2!$B1012=\"\",\"\",Meetings2!$B1012)","v":""},{"$nulls":11},{"$f":"IF(AA1012=\"\",\"\",IF(AA1012=\"Career::\",Form!A1010,\"\"))","v":""}]
[{"$nulls":12},{"$f":"IF(Meetings2!$B1013=\"\",\"\",IF(Meetings2!$C1013=\"\",\"\",LEFT(Meetings2!B1013,FIND(\"(\",Meetings2!$B1013)-2)))","v":""},{"$f":"IF(Meetings2!$B1013=\"\",\"\",Meetings2!$B1013)","v":""},{"$nulls":11},{"$f":"IF(AA1013=\"\",\"\",IF(AA1013=\"Career::\",Form!A1011,\"\"))","v":""}]
[{"$nulls":12},{"$f":"IF(Meetings2!$B1014=\"\",\"\",IF(Meetings2!$C1014=\"\",\"\",LEFT(Meetings2!B1014,FIND(\"(\",Meetings2!$B1014)-2)))","v":""},{"$f":"IF(Meetings2!$B1014=\"\",\"\",Meetings2!$B1014)","v":""},{"$nulls":11},{"$f":"IF(AA1014=\"\",\"\",IF(AA1014=\"Career::\",Form!A1012,\"\"))","v":""}]
[{"$nulls":12},{"$f":"IF(Meetings2!$B1015=\"\",\"\",IF(Meetings2!$C1015=\"\",\"\",LEFT(Meetings2!B1015,FIND(\"(\",Meetings2!$B1015)-2)))","v":""},{"$f":"IF(Meetings2!$B1015=\"\",\"\",Meetings2!$B1015)","v":""},{"$nulls":11},{"$f":"IF(AA1015=\"\",\"\",IF(AA1015=\"Career::\",Form!A1013,\"\"))","v":""}]
[{"$nulls":12},{"$f":"IF(Meetings2!$B1016=\"\",\"\",IF(Meetings2!$C1016=\"\",\"\",LEFT(Meetings2!B1016,FIND(\"(\",Meetings2!$B1016)-2)))","v":""},{"$f":"IF(Meetings2!$B1016=\"\",\"\",Meetings2!$B1016)","v":""},{"$nulls":11},{"$f":"IF(AA1016=\"\",\"\",IF(AA1016=\"Career::\",Form!A1014,\"\"))","v":""}]
[{"$nulls":12},{"$f":"IF(Meetings2!$B1017=\"\",\"\",IF(Meetings2!$C1017=\"\",\"\",LEFT(Meetings2!B1017,FIND(\"(\",Meetings2!$B1017)-2)))","v":""},{"$f":"IF(Meetings2!$B1017=\"\",\"\",Meetings2!$B1017)","v":""},{"$nulls":11},{"$f":"IF(AA1017=\"\",\"\",IF(AA1017=\"Career::\",Form!A1015,\"\"))","v":""}]
[{"$nulls":12},{"$f":"IF(Meetings2!$B1018=\"\",\"\",IF(Meetings2!$C1018=\"\",\"\",LEFT(Meetings2!B1018,FIND(\"(\",Meetings2!$B1018)-2)))","v":""},{"$f":"IF(Meetings2!$B1018=\"\",\"\",Meetings2!$B1018)","v":""},{"$nulls":11},{"$f":"IF(AA1018=\"\",\"\",IF(AA1018=\"Career::\",Form!A1016,\"\"))","v":""}]
[{"$nulls":12},{"$f":"IF(Meetings2!$B1019=\"\",\"\",IF(Meetings2!$C1019=\"\",\"\",LEFT(Meetings2!B1019,FIND(\"(\",Meetings2!$B1019)-2)))","v":""},{"$f":"IF(Meetings2!$B1019=\"\",\"\",Meetings2!$B1019)","v":""},{"$nulls":11},{"$f":"IF(AA1019=\"\",\"\",IF(AA1019=\"Career::\",Form!A1017,\"\"))","v":""}]
[{"$nulls":12},{"$f":"IF(Meetings2!$B1020=\"\",\"\",IF(Meetings2!$C1020=\"\",\"\",LEFT(Meetings2!B1020,FIND(\"(\",Meetings2!$B1020)-2)))","v":""},{"$f":"IF(Meetings2!$B1020=\"\",\"\",Meetings2!$B1020)","v":""},{"$nulls":11},{"$f":"IF(AA1020=\"\",\"\",IF(AA1020=\"Career::\",Form!A1018,\"\"))","v":""}]
[{"$nulls":12},{"$f":"IF(Meetings2!$B1021=\"\",\"\",IF(Meetings2!$C1021=\"\",\"\",LEFT(Meetings2!B1021,FIND(\"(\",Meetings2!$B1021)-2)))","v":""},{"$f":"IF(Meetings2!$B1021=\"\",\"\",Meetings2!$B1021)","v":""},{"$nulls":11},{"$f":"IF(AA1021=\"\",\"\",IF(AA1021=\"Career::\",Form!A1019,\"\"))","v":""}]
[{"$nulls":12},{"$f":"IF(Meetings2!$B1022=\"\",\"\",IF(Meetings2!$C1022=\"\",\"\",LEFT(Meetings2!B1022,FIND(\"(\",Meetings2!$B1022)-2)))","v":""},{"$f":"IF(Meetings2!$B1022=\"\",\"\",Meetings2!$B1022)","v":""},{"$nulls":11},{"$f":"IF(AA1022=\"\",\"\",IF(AA1022=\"Career::\",Form!A1020,\"\"))","v":""}]
[{"$nulls":12},{"$f":"IF(Meetings2!$B1023=\"\",\"\",IF(Meetings2!$C1023=\"\",\"\",LEFT(Meetings2!B1023,FIND(\"(\",Meetings2!$B1023)-2)))","v":""},{"$f":"IF(Meetings2!$B1023=\"\",\"\",Meetings2!$B1023)","v":""},{"$nulls":11},{"$f":"IF(AA1023=\"\",\"\",IF(AA1023=\"Career::\",Form!A1021,\"\"))","v":""}]
[{"$nulls":12},{"$f":"IF(Meetings2!$B1024=\"\",\"\",IF(Meetings2!$C1024=\"\",\"\",LEFT(Meetings2!B1024,FIND(\"(\",Meetings2!$B1024)-2)))","v":""},{"$f":"IF(Meetings2!$B1024=\"\",\"\",Meetings2!$B1024)","v":""},{"$nulls":11},{"$f":"IF(AA1024=\"\",\"\",IF(AA1024=\"Career::\",Form!A1022,\"\"))","v":""}]
[{"$nulls":12},{"$f":"IF(Meetings2!$B1025=\"\",\"\",IF(Meetings2!$C1025=\"\",\"\",LEFT(Meetings2!B1025,FIND(\"(\",Meetings2!$B1025)-2)))","v":""},{"$f":"IF(Meetings2!$B1025=\"\",\"\",Meetings2!$B1025)","v":""},{"$nulls":11},{"$f":"IF(AA1025=\"\",\"\",IF(AA1025=\"Career::\",Form!A1023,\"\"))","v":""}]
[{"$nulls":12},{"$f":"IF(Meetings2!$B1026=\"\",\"\",IF(Meetings2!$C1026=\"\",\"\",LEFT(Meetings2!B1026,FIND(\"(\",Meetings2!$B1026)-2)))","v":""},{"$f":"IF(Meetings2!$B1026=\"\",\"\",Meetings2!$B1026)","v":""},{"$nulls":11},{"$f":"IF(AA1026=\"\",\"\",IF(AA1026=\"Career::\",Form!A1024,\"\"))","v":""}]
[{"$nulls":12},{"$f":"IF(Meetings2!$B1027=\"\",\"\",IF(Meetings2!$C1027=\"\",\"\",LEFT(Meetings2!B1027,FIND(\"(\",Meetings2!$B1027)-2)))","v":""},{"$f":"IF(Meetings2!$B1027=\"\",\"\",Meetings2!$B1027)","v":""},{"$nulls":11},{"$f":"IF(AA1027=\"\",\"\",IF(AA1027=\"Career::\",Form!A1025,\"\"))","v":""}]
[{"$nulls":12},{"$f":"IF(Meetings2!$B1028=\"\",\"\",IF(Meetings2!$C1028=\"\",\"\",LEFT(Meetings2!B1028,FIND(\"(\",Meetings2!$B1028)-2)))","v":""},{"$f":"IF(Meetings2!$B1028=\"\",\"\",Meetings2!$B1028)","v":""},{"$nulls":11},{"$f":"IF(AA1028=\"\",\"\",IF(AA1028=\"Career::\",Form!A1026,\"\"))","v":""}]
[{"$nulls":12},{"$f":"IF(Meetings2!$B1029=\"\",\"\",IF(Meetings2!$C1029=\"\",\"\",LEFT(Meetings2!B1029,FIND(\"(\",Meetings2!$B1029)-2)))","v":""},{"$f":"IF(Meetings2!$B1029=\"\",\"\",Meetings2!$B1029)","v":""},{"$nulls":11},{"$f":"IF(AA1029=\"\",\"\",IF(AA1029=\"Career::\",Form!A1027,\"\"))","v":""}]
[{"$nulls":12},{"$f":"IF(Meetings2!$B1030=\"\",\"\",IF(Meetings2!$C1030=\"\",\"\",LEFT(Meetings2!B1030,FIND(\"(\",Meetings2!$B1030)-2)))","v":""},{"$f":"IF(Meetings2!$B1030=\"\",\"\",Meetings2!$B1030)","v":""},{"$nulls":11},{"$f":"IF(AA1030=\"\",\"\",IF(AA1030=\"Career::\",Form!A1028,\"\"))","v":""}]
[{"$nulls":12},{"$f":"IF(Meetings2!$B1031=\"\",\"\",IF(Meetings2!$C1031=\"\",\"\",LEFT(Meetings2!B1031,FIND(\"(\",Meetings2!$B1031)-2)))","v":""},{"$f":"IF(Meetings2!$B1031=\"\",\"\",Meetings2!$B1031)","v":""},{"$nulls":11},{"$f":"IF(AA1031=\"\",\"\",IF(AA1031=\"Career::\",Form!A1029,\"\"))","v":""}]
[{"$nulls":12},{"$f":"IF(Meetings2!$B1032=\"\",\"\",IF(Meetings2!$C1032=\"\",\"\",LEFT(Meetings2!B1032,FIND(\"(\",Meetings2!$B1032)-2)))","v":""},{"$f":"IF(Meetings2!$B1032=\"\",\"\",Meetings2!$B1032)","v":""},{"$nulls":11},{"$f":"IF(AA1032=\"\",\"\",IF(AA1032=\"Career::\",Form!A1030,\"\"))","v":""}]
[{"$nulls":12},{"$f":"IF(Meetings2!$B1033=\"\",\"\",IF(Meetings2!$C1033=\"\",\"\",LEFT(Meetings2!B1033,FIND(\"(\",Meetings2!$B1033)-2)))","v":""},{"$f":"IF(Meetings2!$B1033=\"\",\"\",Meetings2!$B1033)","v":""},{"$nulls":11},{"$f":"IF(AA1033=\"\",\"\",IF(AA1033=\"Career::\",Form!A1031,\"\"))","v":""}]
[{"$nulls":12},{"$f":"IF(Meetings2!$B1034=\"\",\"\",IF(Meetings2!$C1034=\"\",\"\",LEFT(Meetings2!B1034,FIND(\"(\",Meetings2!$B1034)-2)))","v":""},{"$f":"IF(Meetings2!$B1034=\"\",\"\",Meetings2!$B1034)","v":""},{"$nulls":11},{"$f":"IF(AA1034=\"\",\"\",IF(AA1034=\"Career::\",Form!A1032,\"\"))","v":""}]
[{"$nulls":12},{"$f":"IF(Meetings2!$B1035=\"\",\"\",IF(Meetings2!$C1035=\"\",\"\",LEFT(Meetings2!B1035,FIND(\"(\",Meetings2!$B1035)-2)))","v":""},{"$f":"IF(Meetings2!$B1035=\"\",\"\",Meetings2!$B1035)","v":""},{"$nulls":11},{"$f":"IF(AA1035=\"\",\"\",IF(AA1035=\"Career::\",Form!A1033,\"\"))","v":""}]
[{"$nulls":12},{"$f":"IF(Meetings2!$B1036=\"\",\"\",IF(Meetings2!$C1036=\"\",\"\",LEFT(Meetings2!B1036,FIND(\"(\",Meetings2!$B1036)-2)))","v":""},{"$f":"IF(Meetings2!$B1036=\"\",\"\",Meetings2!$B1036)","v":""},{"$nulls":11},{"$f":"IF(AA1036=\"\",\"\",IF(AA1036=\"Career::\",Form!A1034,\"\"))","v":""}]
[{"$nulls":12},{"$f":"IF(Meetings2!$B1037=\"\",\"\",IF(Meetings2!$C1037=\"\",\"\",LEFT(Meetings2!B1037,FIND(\"(\",Meetings2!$B1037)-2)))","v":""},{"$f":"IF(Meetings2!$B1037=\"\",\"\",Meetings2!$B1037)","v":""},{"$nulls":11},{"$f":"IF(AA1037=\"\",\"\",IF(AA1037=\"Career::\",Form!A1035,\"\"))","v":""}]
[{"$nulls":12},{"$f":"IF(Meetings2!$B1038=\"\",\"\",IF(Meetings2!$C1038=\"\",\"\",LEFT(Meetings2!B1038,FIND(\"(\",Meetings2!$B1038)-2)))","v":""},{"$f":"IF(Meetings2!$B1038=\"\",\"\",Meetings2!$B1038)","v":""},{"$nulls":11},{"$f":"IF(AA1038=\"\",\"\",IF(AA1038=\"Career::\",Form!A1036,\"\"))","v":""}]
[{"$nulls":12},{"$f":"IF(Meetings2!$B1039=\"\",\"\",IF(Meetings2!$C1039=\"\",\"\",LEFT(Meetings2!B1039,FIND(\"(\",Meetings2!$B1039)-2)))","v":""},{"$f":"IF(Meetings2!$B1039=\"\",\"\",Meetings2!$B1039)","v":""},{"$nulls":11},{"$f":"IF(AA1039=\"\",\"\",IF(AA1039=\"Career::\",Form!A1037,\"\"))","v":""}]
[{"$nulls":12},{"$f":"IF(Meetings2!$B1040=\"\",\"\",IF(Meetings2!$C1040=\"\",\"\",LEFT(Meetings2!B1040,FIND(\"(\",Meetings2!$B1040)-2)))","v":""},{"$f":"IF(Meetings2!$B1040=\"\",\"\",Meetings2!$B1040)","v":""},{"$nulls":11},{"$f":"IF(AA1040=\"\",\"\",IF(AA1040=\"Career::\",Form!A1038,\"\"))","v":""}]
[{"$nulls":12},{"$f":"IF(Meetings2!$B1041=\"\",\"\",IF(Meetings2!$C1041=\"\",\"\",LEFT(Meetings2!B1041,FIND(\"(\",Meetings2!$B1041)-2)))","v":""},{"$f":"IF(Meetings2!$B1041=\"\",\"\",Meetings2!$B1041)","v":""},{"$nulls":11},{"$f":"IF(AA1041=\"\",\"\",IF(AA1041=\"Career::\",Form!A1039,\"\"))","v":""}]
[{"$nulls":12},{"$f":"IF(Meetings2!$B1042=\"\",\"\",IF(Meetings2!$C1042=\"\",\"\",LEFT(Meetings2!B1042,FIND(\"(\",Meetings2!$B1042)-2)))","v":""},{"$f":"IF(Meetings2!$B1042=\"\",\"\",Meetings2!$B1042)","v":""},{"$nulls":11},{"$f":"IF(AA1042=\"\",\"\",IF(AA1042=\"Career::\",Form!A1040,\"\"))","v":""}]
[{"$nulls":12},{"$f":"IF(Meetings2!$B1043=\"\",\"\",IF(Meetings2!$C1043=\"\",\"\",LEFT(Meetings2!B1043,FIND(\"(\",Meetings2!$B1043)-2)))","v":""},{"$f":"IF(Meetings2!$B1043=\"\",\"\",Meetings2!$B1043)","v":""},{"$nulls":11},{"$f":"IF(AA1043=\"\",\"\",IF(AA1043=\"Career::\",Form!A1041,\"\"))","v":""}]
[{"$nulls":12},{"$f":"IF(Meetings2!$B1044=\"\",\"\",IF(Meetings2!$C1044=\"\",\"\",LEFT(Meetings2!B1044,FIND(\"(\",Meetings2!$B1044)-2)))","v":""},{"$f":"IF(Meetings2!$B1044=\"\",\"\",Meetings2!$B1044)","v":""},{"$nulls":11},{"$f":"IF(AA1044=\"\",\"\",IF(AA1044=\"Career::\",Form!A1042,\"\"))","v":""}]
[{"$nulls":12},{"$f":"IF(Meetings2!$B1045=\"\",\"\",IF(Meetings2!$C1045=\"\",\"\",LEFT(Meetings2!B1045,FIND(\"(\",Meetings2!$B1045)-2)))","v":""},{"$f":"IF(Meetings2!$B1045=\"\",\"\",Meetings2!$B1045)","v":""},{"$nulls":11},{"$f":"IF(AA1045=\"\",\"\",IF(AA1045=\"Career::\",Form!A1043,\"\"))","v":""}]
[{"$nulls":12},{"$f":"IF(Meetings2!$B1046=\"\",\"\",IF(Meetings2!$C1046=\"\",\"\",LEFT(Meetings2!B1046,FIND(\"(\",Meetings2!$B1046)-2)))","v":""},{"$f":"IF(Meetings2!$B1046=\"\",\"\",Meetings2!$B1046)","v":""},{"$nulls":11},{"$f":"IF(AA1046=\"\",\"\",IF(AA1046=\"Career::\",Form!A1044,\"\"))","v":""}]
[{"$nulls":12},{"$f":"IF(Meetings2!$B1047=\"\",\"\",IF(Meetings2!$C1047=\"\",\"\",LEFT(Meetings2!B1047,FIND(\"(\",Meetings2!$B1047)-2)))","v":""},{"$f":"IF(Meetings2!$B1047=\"\",\"\",Meetings2!$B1047)","v":""},{"$nulls":11},{"$f":"IF(AA1047=\"\",\"\",IF(AA1047=\"Career::\",Form!A1045,\"\"))","v":""}]
[{"$nulls":12},{"$f":"IF(Meetings2!$B1048=\"\",\"\",IF(Meetings2!$C1048=\"\",\"\",LEFT(Meetings2!B1048,FIND(\"(\",Meetings2!$B1048)-2)))","v":""},{"$f":"IF(Meetings2!$B1048=\"\",\"\",Meetings2!$B1048)","v":""},{"$nulls":11},{"$f":"IF(AA1048=\"\",\"\",IF(AA1048=\"Career::\",Form!A1046,\"\"))","v":""}]
[{"$nulls":12},{"$f":"IF(Meetings2!$B1049=\"\",\"\",IF(Meetings2!$C1049=\"\",\"\",LEFT(Meetings2!B1049,FIND(\"(\",Meetings2!$B1049)-2)))","v":""},{"$f":"IF(Meetings2!$B1049=\"\",\"\",Meetings2!$B1049)","v":""},{"$nulls":11},{"$f":"IF(AA1049=\"\",\"\",IF(AA1049=\"Career::\",Form!A1047,\"\"))","v":""}]
[{"$nulls":12},{"$f":"IF(Meetings2!$B1050=\"\",\"\",IF(Meetings2!$C1050=\"\",\"\",LEFT(Meetings2!B1050,FIND(\"(\",Meetings2!$B1050)-2)))","v":""},{"$f":"IF(Meetings2!$B1050=\"\",\"\",Meetings2!$B1050)","v":""},{"$nulls":11},{"$f":"IF(AA1050=\"\",\"\",IF(AA1050=\"Career::\",Form!A1048,\"\"))","v":""}]
[{"$nulls":12},{"$f":"IF(Meetings2!$B1051=\"\",\"\",IF(Meetings2!$C1051=\"\",\"\",LEFT(Meetings2!B1051,FIND(\"(\",Meetings2!$B1051)-2)))","v":""},{"$f":"IF(Meetings2!$B1051=\"\",\"\",Meetings2!$B1051)","v":""},{"$nulls":11},{"$f":"IF(AA1051=\"\",\"\",IF(AA1051=\"Career::\",Form!A1049,\"\"))","v":""}]
[{"$nulls":12},{"$f":"IF(Meetings2!$B1052=\"\",\"\",IF(Meetings2!$C1052=\"\",\"\",LEFT(Meetings2!B1052,FIND(\"(\",Meetings2!$B1052)-2)))","v":""},{"$f":"IF(Meetings2!$B1052=\"\",\"\",Meetings2!$B1052)","v":""},{"$nulls":11},{"$f":"IF(AA1052=\"\",\"\",IF(AA1052=\"Career::\",Form!A1050,\"\"))","v":""}]
[{"$nulls":12},{"$f":"IF(Meetings2!$B1053=\"\",\"\",IF(Meetings2!$C1053=\"\",\"\",LEFT(Meetings2!B1053,FIND(\"(\",Meetings2!$B1053)-2)))","v":""},{"$f":"IF(Meetings2!$B1053=\"\",\"\",Meetings2!$B1053)","v":""},{"$nulls":11},{"$f":"IF(AA1053=\"\",\"\",IF(AA1053=\"Career::\",Form!A1051,\"\"))","v":""}]
[{"$nulls":12},{"$f":"IF(Meetings2!$B1054=\"\",\"\",IF(Meetings2!$C1054=\"\",\"\",LEFT(Meetings2!B1054,FIND(\"(\",Meetings2!$B1054)-2)))","v":""},{"$f":"IF(Meetings2!$B1054=\"\",\"\",Meetings2!$B1054)","v":""},{"$nulls":11},{"$f":"IF(AA1054=\"\",\"\",IF(AA1054=\"Career::\",Form!A1052,\"\"))","v":""}]
[{"$nulls":12},{"$f":"IF(Meetings2!$B1055=\"\",\"\",IF(Meetings2!$C1055=\"\",\"\",LEFT(Meetings2!B1055,FIND(\"(\",Meetings2!$B1055)-2)))","v":""},{"$f":"IF(Meetings2!$B1055=\"\",\"\",Meetings2!$B1055)","v":""},{"$nulls":11},{"$f":"IF(AA1055=\"\",\"\",IF(AA1055=\"Career::\",Form!A1053,\"\"))","v":""}]
[{"$nulls":12},{"$f":"IF(Meetings2!$B1056=\"\",\"\",IF(Meetings2!$C1056=\"\",\"\",LEFT(Meetings2!B1056,FIND(\"(\",Meetings2!$B1056)-2)))","v":""},{"$f":"IF(Meetings2!$B1056=\"\",\"\",Meetings2!$B1056)","v":""},{"$nulls":11},{"$f":"IF(AA1056=\"\",\"\",IF(AA1056=\"Career::\",Form!A1054,\"\"))","v":""}]
[{"$nulls":12},{"$f":"IF(Meetings2!$B1057=\"\",\"\",IF(Meetings2!$C1057=\"\",\"\",LEFT(Meetings2!B1057,FIND(\"(\",Meetings2!$B1057)-2)))","v":""},{"$f":"IF(Meetings2!$B1057=\"\",\"\",Meetings2!$B1057)","v":""},{"$nulls":11},{"$f":"IF(AA1057=\"\",\"\",IF(AA1057=\"Career::\",Form!A1055,\"\"))","v":""}]
[{"$nulls":12},{"$f":"IF(Meetings2!$B1058=\"\",\"\",IF(Meetings2!$C1058=\"\",\"\",LEFT(Meetings2!B1058,FIND(\"(\",Meetings2!$B1058)-2)))","v":""},{"$f":"IF(Meetings2!$B1058=\"\",\"\",Meetings2!$B1058)","v":""},{"$nulls":11},{"$f":"IF(AA1058=\"\",\"\",IF(AA1058=\"Career::\",Form!A1056,\"\"))","v":""}]
[{"$nulls":12},{"$f":"IF(Meetings2!$B1059=\"\",\"\",IF(Meetings2!$C1059=\"\",\"\",LEFT(Meetings2!B1059,FIND(\"(\",Meetings2!$B1059)-2)))","v":""},{"$f":"IF(Meetings2!$B1059=\"\",\"\",Meetings2!$B1059)","v":""},{"$nulls":11},{"$f":"IF(AA1059=\"\",\"\",IF(AA1059=\"Career::\",Form!A1057,\"\"))","v":""}]
[{"$nulls":12},{"$f":"IF(Meetings2!$B1060=\"\",\"\",IF(Meetings2!$C1060=\"\",\"\",LEFT(Meetings2!B1060,FIND(\"(\",Meetings2!$B1060)-2)))","v":""},{"$f":"IF(Meetings2!$B1060=\"\",\"\",Meetings2!$B1060)","v":""},{"$nulls":11},{"$f":"IF(AA1060=\"\",\"\",IF(AA1060=\"Career::\",Form!A1058,\"\"))","v":""}]
[{"$nulls":12},{"$f":"IF(Meetings2!$B1061=\"\",\"\",IF(Meetings2!$C1061=\"\",\"\",LEFT(Meetings2!B1061,FIND(\"(\",Meetings2!$B1061)-2)))","v":""},{"$f":"IF(Meetings2!$B1061=\"\",\"\",Meetings2!$B1061)","v":""},{"$nulls":11},{"$f":"IF(AA1061=\"\",\"\",IF(AA1061=\"Career::\",Form!A1059,\"\"))","v":""}]
[{"$nulls":12},{"$f":"IF(Meetings2!$B1062=\"\",\"\",IF(Meetings2!$C1062=\"\",\"\",LEFT(Meetings2!B1062,FIND(\"(\",Meetings2!$B1062)-2)))","v":""},{"$f":"IF(Meetings2!$B1062=\"\",\"\",Meetings2!$B1062)","v":""},{"$nulls":11},{"$f":"IF(AA1062=\"\",\"\",IF(AA1062=\"Career::\",Form!A1060,\"\"))","v":""}]
[{"$nulls":12},{"$f":"IF(Meetings2!$B1063=\"\",\"\",IF(Meetings2!$C1063=\"\",\"\",LEFT(Meetings2!B1063,FIND(\"(\",Meetings2!$B1063)-2)))","v":""},{"$f":"IF(Meetings2!$B1063=\"\",\"\",Meetings2!$B1063)","v":""},{"$nulls":11},{"$f":"IF(AA1063=\"\",\"\",IF(AA1063=\"Career::\",Form!A1061,\"\"))","v":""}]
[{"$nulls":12},{"$f":"IF(Meetings2!$B1064=\"\",\"\",IF(Meetings2!$C1064=\"\",\"\",LEFT(Meetings2!B1064,FIND(\"(\",Meetings2!$B1064)-2)))","v":""},{"$f":"IF(Meetings2!$B1064=\"\",\"\",Meetings2!$B1064)","v":""},{"$nulls":11},{"$f":"IF(AA1064=\"\",\"\",IF(AA1064=\"Career::\",Form!A1062,\"\"))","v":""}]
[{"$nulls":12},{"$f":"IF(Meetings2!$B1065=\"\",\"\",IF(Meetings2!$C1065=\"\",\"\",LEFT(Meetings2!B1065,FIND(\"(\",Meetings2!$B1065)-2)))","v":""},{"$f":"IF(Meetings2!$B1065=\"\",\"\",Meetings2!$B1065)","v":""},{"$nulls":11},{"$f":"IF(AA1065=\"\",\"\",IF(AA1065=\"Career::\",Form!A1063,\"\"))","v":""}]
[{"$nulls":12},{"$f":"IF(Meetings2!$B1066=\"\",\"\",IF(Meetings2!$C1066=\"\",\"\",LEFT(Meetings2!B1066,FIND(\"(\",Meetings2!$B1066)-2)))","v":""},{"$f":"IF(Meetings2!$B1066=\"\",\"\",Meetings2!$B1066)","v":""},{"$nulls":11},{"$f":"IF(AA1066=\"\",\"\",IF(AA1066=\"Career::\",Form!A1064,\"\"))","v":""}]
[{"$nulls":12},{"$f":"IF(Meetings2!$B1067=\"\",\"\",IF(Meetings2!$C1067=\"\",\"\",LEFT(Meetings2!B1067,FIND(\"(\",Meetings2!$B1067)-2)))","v":""},{"$f":"IF(Meetings2!$B1067=\"\",\"\",Meetings2!$B1067)","v":""},{"$nulls":11},{"$f":"IF(AA1067=\"\",\"\",IF(AA1067=\"Career::\",Form!A1065,\"\"))","v":""}]
[{"$nulls":12},{"$f":"IF(Meetings2!$B1068=\"\",\"\",IF(Meetings2!$C1068=\"\",\"\",LEFT(Meetings2!B1068,FIND(\"(\",Meetings2!$B1068)-2)))","v":""},{"$f":"IF(Meetings2!$B1068=\"\",\"\",Meetings2!$B1068)","v":""},{"$nulls":11},{"$f":"IF(AA1068=\"\",\"\",IF(AA1068=\"Career::\",Form!A1066,\"\"))","v":""}]
[{"$nulls":12},{"$f":"IF(Meetings2!$B1069=\"\",\"\",IF(Meetings2!$C1069=\"\",\"\",LEFT(Meetings2!B1069,FIND(\"(\",Meetings2!$B1069)-2)))","v":""},{"$f":"IF(Meetings2!$B1069=\"\",\"\",Meetings2!$B1069)","v":""},{"$nulls":11},{"$f":"IF(AA1069=\"\",\"\",IF(AA1069=\"Career::\",Form!A1067,\"\"))","v":""}]
[{"$nulls":12},{"$f":"IF(Meetings2!$B1070=\"\",\"\",IF(Meetings2!$C1070=\"\",\"\",LEFT(Meetings2!B1070,FIND(\"(\",Meetings2!$B1070)-2)))","v":""},{"$f":"IF(Meetings2!$B1070=\"\",\"\",Meetings2!$B1070)","v":""},{"$nulls":11},{"$f":"IF(AA1070=\"\",\"\",IF(AA1070=\"Career::\",Form!A1068,\"\"))","v":""}]
[{"$nulls":12},{"$f":"IF(Meetings2!$B1071=\"\",\"\",IF(Meetings2!$C1071=\"\",\"\",LEFT(Meetings2!B1071,FIND(\"(\",Meetings2!$B1071)-2)))","v":""},{"$f":"IF(Meetings2!$B1071=\"\",\"\",Meetings2!$B1071)","v":""},{"$nulls":11},{"$f":"IF(AA1071=\"\",\"\",IF(AA1071=\"Career::\",Form!A1069,\"\"))","v":""}]
[{"$nulls":12},{"$f":"IF(Meetings2!$B1072=\"\",\"\",IF(Meetings2!$C1072=\"\",\"\",LEFT(Meetings2!B1072,FIND(\"(\",Meetings2!$B1072)-2)))","v":""},{"$f":"IF(Meetings2!$B1072=\"\",\"\",Meetings2!$B1072)","v":""},{"$nulls":11},{"$f":"IF(AA1072=\"\",\"\",IF(AA1072=\"Career::\",Form!A1070,\"\"))","v":""}]
[{"$nulls":12},{"$f":"IF(Meetings2!$B1073=\"\",\"\",IF(Meetings2!$C1073=\"\",\"\",LEFT(Meetings2!B1073,FIND(\"(\",Meetings2!$B1073)-2)))","v":""},{"$f":"IF(Meetings2!$B1073=\"\",\"\",Meetings2!$B1073)","v":""},{"$nulls":11},{"$f":"IF(AA1073=\"\",\"\",IF(AA1073=\"Career::\",Form!A1071,\"\"))","v":""}]
[{"$nulls":12},{"$f":"IF(Meetings2!$B1074=\"\",\"\",IF(Meetings2!$C1074=\"\",\"\",LEFT(Meetings2!B1074,FIND(\"(\",Meetings2!$B1074)-2)))","v":""},{"$f":"IF(Meetings2!$B1074=\"\",\"\",Meetings2!$B1074)","v":""},{"$nulls":11},{"$f":"IF(AA1074=\"\",\"\",IF(AA1074=\"Career::\",Form!A1072,\"\"))","v":""}]
[{"$nulls":12},{"$f":"IF(Meetings2!$B1075=\"\",\"\",IF(Meetings2!$C1075=\"\",\"\",LEFT(Meetings2!B1075,FIND(\"(\",Meetings2!$B1075)-2)))","v":""},{"$f":"IF(Meetings2!$B1075=\"\",\"\",Meetings2!$B1075)","v":""},{"$nulls":11},{"$f":"IF(AA1075=\"\",\"\",IF(AA1075=\"Career::\",Form!A1073,\"\"))","v":""}]
[{"$nulls":12},{"$f":"IF(Meetings2!$B1076=\"\",\"\",IF(Meetings2!$C1076=\"\",\"\",LEFT(Meetings2!B1076,FIND(\"(\",Meetings2!$B1076)-2)))","v":""},{"$f":"IF(Meetings2!$B1076=\"\",\"\",Meetings2!$B1076)","v":""},{"$nulls":11},{"$f":"IF(AA1076=\"\",\"\",IF(AA1076=\"Career::\",Form!A1074,\"\"))","v":""}]
[{"$nulls":12},{"$f":"IF(Meetings2!$B1077=\"\",\"\",IF(Meetings2!$C1077=\"\",\"\",LEFT(Meetings2!B1077,FIND(\"(\",Meetings2!$B1077)-2)))","v":""},{"$f":"IF(Meetings2!$B1077=\"\",\"\",Meetings2!$B1077)","v":""},{"$nulls":11},{"$f":"IF(AA1077=\"\",\"\",IF(AA1077=\"Career::\",Form!A1075,\"\"))","v":""}]
[{"$nulls":12},{"$f":"IF(Meetings2!$B1078=\"\",\"\",IF(Meetings2!$C1078=\"\",\"\",LEFT(Meetings2!B1078,FIND(\"(\",Meetings2!$B1078)-2)))","v":""},{"$f":"IF(Meetings2!$B1078=\"\",\"\",Meetings2!$B1078)","v":""},{"$nulls":11},{"$f":"IF(AA1078=\"\",\"\",IF(AA1078=\"Career::\",Form!A1076,\"\"))","v":""}]
[{"$nulls":12},{"$f":"IF(Meetings2!$B1079=\"\",\"\",IF(Meetings2!$C1079=\"\",\"\",LEFT(Meetings2!B1079,FIND(\"(\",Meetings2!$B1079)-2)))","v":""},{"$f":"IF(Meetings2!$B1079=\"\",\"\",Meetings2!$B1079)","v":""},{"$nulls":11},{"$f":"IF(AA1079=\"\",\"\",IF(AA1079=\"Career::\",Form!A1077,\"\"))","v":""}]
[{"$nulls":12},{"$f":"IF(Meetings2!$B1080=\"\",\"\",IF(Meetings2!$C1080=\"\",\"\",LEFT(Meetings2!B1080,FIND(\"(\",Meetings2!$B1080)-2)))","v":""},{"$f":"IF(Meetings2!$B1080=\"\",\"\",Meetings2!$B1080)","v":""},{"$nulls":11},{"$f":"IF(AA1080=\"\",\"\",IF(AA1080=\"Career::\",Form!A1078,\"\"))","v":""}]
[{"$nulls":12},{"$f":"IF(Meetings2!$B1081=\"\",\"\",IF(Meetings2!$C1081=\"\",\"\",LEFT(Meetings2!B1081,FIND(\"(\",Meetings2!$B1081)-2)))","v":""},{"$f":"IF(Meetings2!$B1081=\"\",\"\",Meetings2!$B1081)","v":""},{"$nulls":11},{"$f":"IF(AA1081=\"\",\"\",IF(AA1081=\"Career::\",Form!A1079,\"\"))","v":""}]
[{"$nulls":12},{"$f":"IF(Meetings2!$B1082=\"\",\"\",IF(Meetings2!$C1082=\"\",\"\",LEFT(Meetings2!B1082,FIND(\"(\",Meetings2!$B1082)-2)))","v":""},{"$f":"IF(Meetings2!$B1082=\"\",\"\",Meetings2!$B1082)","v":""},{"$nulls":11},{"$f":"IF(AA1082=\"\",\"\",IF(AA1082=\"Career::\",Form!A1080,\"\"))","v":""}]
[{"$nulls":12},{"$f":"IF(Meetings2!$B1083=\"\",\"\",IF(Meetings2!$C1083=\"\",\"\",LEFT(Meetings2!B1083,FIND(\"(\",Meetings2!$B1083)-2)))","v":""},{"$f":"IF(Meetings2!$B1083=\"\",\"\",Meetings2!$B1083)","v":""},{"$nulls":11},{"$f":"IF(AA1083=\"\",\"\",IF(AA1083=\"Career::\",Form!A1081,\"\"))","v":""}]
[{"$nulls":12},{"$f":"IF(Meetings2!$B1084=\"\",\"\",IF(Meetings2!$C1084=\"\",\"\",LEFT(Meetings2!B1084,FIND(\"(\",Meetings2!$B1084)-2)))","v":""},{"$f":"IF(Meetings2!$B1084=\"\",\"\",Meetings2!$B1084)","v":""},{"$nulls":11},{"$f":"IF(AA1084=\"\",\"\",IF(AA1084=\"Career::\",Form!A1082,\"\"))","v":""}]
[{"$nulls":12},{"$f":"IF(Meetings2!$B1085=\"\",\"\",IF(Meetings2!$C1085=\"\",\"\",LEFT(Meetings2!B1085,FIND(\"(\",Meetings2!$B1085)-2)))","v":""},{"$f":"IF(Meetings2!$B1085=\"\",\"\",Meetings2!$B1085)","v":""},{"$nulls":11},{"$f":"IF(AA1085=\"\",\"\",IF(AA1085=\"Career::\",Form!A1083,\"\"))","v":""}]
[{"$nulls":12},{"$f":"IF(Meetings2!$B1086=\"\",\"\",IF(Meetings2!$C1086=\"\",\"\",LEFT(Meetings2!B1086,FIND(\"(\",Meetings2!$B1086)-2)))","v":""},{"$f":"IF(Meetings2!$B1086=\"\",\"\",Meetings2!$B1086)","v":""},{"$nulls":11},{"$f":"IF(AA1086=\"\",\"\",IF(AA1086=\"Career::\",Form!A1084,\"\"))","v":""}]
[{"$nulls":12},{"$f":"IF(Meetings2!$B1087=\"\",\"\",IF(Meetings2!$C1087=\"\",\"\",LEFT(Meetings2!B1087,FIND(\"(\",Meetings2!$B1087)-2)))","v":""},{"$f":"IF(Meetings2!$B1087=\"\",\"\",Meetings2!$B1087)","v":""},{"$nulls":11},{"$f":"IF(AA1087=\"\",\"\",IF(AA1087=\"Career::\",Form!A1085,\"\"))","v":""}]
[{"$nulls":12},{"$f":"IF(Meetings2!$B1088=\"\",\"\",IF(Meetings2!$C1088=\"\",\"\",LEFT(Meetings2!B1088,FIND(\"(\",Meetings2!$B1088)-2)))","v":""},{"$f":"IF(Meetings2!$B1088=\"\",\"\",Meetings2!$B1088)","v":""},{"$nulls":11},{"$f":"IF(AA1088=\"\",\"\",IF(AA1088=\"Career::\",Form!A1086,\"\"))","v":""}]
[{"$nulls":12},{"$f":"IF(Meetings2!$B1089=\"\",\"\",IF(Meetings2!$C1089=\"\",\"\",LEFT(Meetings2!B1089,FIND(\"(\",Meetings2!$B1089)-2)))","v":""},{"$f":"IF(Meetings2!$B1089=\"\",\"\",Meetings2!$B1089)","v":""},{"$nulls":11},{"$f":"IF(AA1089=\"\",\"\",IF(AA1089=\"Career::\",Form!A1087,\"\"))","v":""}]
[{"$nulls":12},{"$f":"IF(Meetings2!$B1090=\"\",\"\",IF(Meetings2!$C1090=\"\",\"\",LEFT(Meetings2!B1090,FIND(\"(\",Meetings2!$B1090)-2)))","v":""},{"$f":"IF(Meetings2!$B1090=\"\",\"\",Meetings2!$B1090)","v":""},{"$nulls":11},{"$f":"IF(AA1090=\"\",\"\",IF(AA1090=\"Career::\",Form!A1088,\"\"))","v":""}]
[{"$nulls":12},{"$f":"IF(Meetings2!$B1091=\"\",\"\",IF(Meetings2!$C1091=\"\",\"\",LEFT(Meetings2!B1091,FIND(\"(\",Meetings2!$B1091)-2)))","v":""},{"$f":"IF(Meetings2!$B1091=\"\",\"\",Meetings2!$B1091)","v":""},{"$nulls":11},{"$f":"IF(AA1091=\"\",\"\",IF(AA1091=\"Career::\",Form!A1089,\"\"))","v":""}]
[{"$nulls":12},{"$f":"IF(Meetings2!$B1092=\"\",\"\",IF(Meetings2!$C1092=\"\",\"\",LEFT(Meetings2!B1092,FIND(\"(\",Meetings2!$B1092)-2)))","v":""},{"$f":"IF(Meetings2!$B1092=\"\",\"\",Meetings2!$B1092)","v":""},{"$nulls":11},{"$f":"IF(AA1092=\"\",\"\",IF(AA1092=\"Career::\",Form!A1090,\"\"))","v":""}]
[{"$nulls":12},{"$f":"IF(Meetings2!$B1093=\"\",\"\",IF(Meetings2!$C1093=\"\",\"\",LEFT(Meetings2!B1093,FIND(\"(\",Meetings2!$B1093)-2)))","v":""},{"$f":"IF(Meetings2!$B1093=\"\",\"\",Meetings2!$B1093)","v":""},{"$nulls":11},{"$f":"IF(AA1093=\"\",\"\",IF(AA1093=\"Career::\",Form!A1091,\"\"))","v":""}]
[{"$nulls":12},{"$f":"IF(Meetings2!$B1094=\"\",\"\",IF(Meetings2!$C1094=\"\",\"\",LEFT(Meetings2!B1094,FIND(\"(\",Meetings2!$B1094)-2)))","v":""},{"$f":"IF(Meetings2!$B1094=\"\",\"\",Meetings2!$B1094)","v":""},{"$nulls":11},{"$f":"IF(AA1094=\"\",\"\",IF(AA1094=\"Career::\",Form!A1092,\"\"))","v":""}]
[{"$nulls":12},{"$f":"IF(Meetings2!$B1095=\"\",\"\",IF(Meetings2!$C1095=\"\",\"\",LEFT(Meetings2!B1095,FIND(\"(\",Meetings2!$B1095)-2)))","v":""},{"$f":"IF(Meetings2!$B1095=\"\",\"\",Meetings2!$B1095)","v":""},{"$nulls":11},{"$f":"IF(AA1095=\"\",\"\",IF(AA1095=\"Career::\",Form!A1093,\"\"))","v":""}]
[{"$nulls":12},{"$f":"IF(Meetings2!$B1096=\"\",\"\",IF(Meetings2!$C1096=\"\",\"\",LEFT(Meetings2!B1096,FIND(\"(\",Meetings2!$B1096)-2)))","v":""},{"$f":"IF(Meetings2!$B1096=\"\",\"\",Meetings2!$B1096)","v":""},{"$nulls":11},{"$f":"IF(AA1096=\"\",\"\",IF(AA1096=\"Career::\",Form!A1094,\"\"))","v":""}]
[{"$nulls":12},{"$f":"IF(Meetings2!$B1097=\"\",\"\",IF(Meetings2!$C1097=\"\",\"\",LEFT(Meetings2!B1097,FIND(\"(\",Meetings2!$B1097)-2)))","v":""},{"$f":"IF(Meetings2!$B1097=\"\",\"\",Meetings2!$B1097)","v":""},{"$nulls":11},{"$f":"IF(AA1097=\"\",\"\",IF(AA1097=\"Career::\",Form!A1095,\"\"))","v":""}]
[{"$nulls":12},{"$f":"IF(Meetings2!$B1098=\"\",\"\",IF(Meetings2!$C1098=\"\",\"\",LEFT(Meetings2!B1098,FIND(\"(\",Meetings2!$B1098)-2)))","v":""},{"$f":"IF(Meetings2!$B1098=\"\",\"\",Meetings2!$B1098)","v":""},{"$nulls":11},{"$f":"IF(AA1098=\"\",\"\",IF(AA1098=\"Career::\",Form!A1096,\"\"))","v":""}]
[{"$nulls":12},{"$f":"IF(Meetings2!$B1099=\"\",\"\",IF(Meetings2!$C1099=\"\",\"\",LEFT(Meetings2!B1099,FIND(\"(\",Meetings2!$B1099)-2)))","v":""},{"$f":"IF(Meetings2!$B1099=\"\",\"\",Meetings2!$B1099)","v":""},{"$nulls":11},{"$f":"IF(AA1099=\"\",\"\",IF(AA1099=\"Career::\",Form!A1097,\"\"))","v":""}]
[{"$nulls":12},{"$f":"IF(Meetings2!$B1100=\"\",\"\",IF(Meetings2!$C1100=\"\",\"\",LEFT(Meetings2!B1100,FIND(\"(\",Meetings2!$B1100)-2)))","v":""},{"$f":"IF(Meetings2!$B1100=\"\",\"\",Meetings2!$B1100)","v":""},{"$nulls":11},{"$f":"IF(AA1100=\"\",\"\",IF(AA1100=\"Career::\",Form!A1098,\"\"))","v":""}]
[{"$nulls":12},{"$f":"IF(Meetings2!$B1101=\"\",\"\",IF(Meetings2!$C1101=\"\",\"\",LEFT(Meetings2!B1101,FIND(\"(\",Meetings2!$B1101)-2)))","v":""},{"$f":"IF(Meetings2!$B1101=\"\",\"\",Meetings2!$B1101)","v":""},{"$nulls":11},{"$f":"IF(AA1101=\"\",\"\",IF(AA1101=\"Career::\",Form!A1099,\"\"))","v":""}]
[{"$nulls":12},{"$f":"IF(Meetings2!$B1102=\"\",\"\",IF(Meetings2!$C1102=\"\",\"\",LEFT(Meetings2!B1102,FIND(\"(\",Meetings2!$B1102)-2)))","v":""},{"$f":"IF(Meetings2!$B1102=\"\",\"\",Meetings2!$B1102)","v":""},{"$nulls":11},{"$f":"IF(AA1102=\"\",\"\",IF(AA1102=\"Career::\",Form!A1100,\"\"))","v":""}]
[{"$nulls":12},{"$f":"IF(Meetings2!$B1103=\"\",\"\",IF(Meetings2!$C1103=\"\",\"\",LEFT(Meetings2!B1103,FIND(\"(\",Meetings2!$B1103)-2)))","v":""},{"$f":"IF(Meetings2!$B1103=\"\",\"\",Meetings2!$B1103)","v":""},{"$nulls":11},{"$f":"IF(AA1103=\"\",\"\",IF(AA1103=\"Career::\",Form!A1101,\"\"))","v":""}]
[{"$nulls":12},{"$f":"IF(Meetings2!$B1104=\"\",\"\",IF(Meetings2!$C1104=\"\",\"\",LEFT(Meetings2!B1104,FIND(\"(\",Meetings2!$B1104)-2)))","v":""},{"$f":"IF(Meetings2!$B1104=\"\",\"\",Meetings2!$B1104)","v":""},{"$nulls":11},{"$f":"IF(AA1104=\"\",\"\",IF(AA1104=\"Career::\",Form!A1102,\"\"))","v":""}]
[{"$nulls":12},{"$f":"IF(Meetings2!$B1105=\"\",\"\",IF(Meetings2!$C1105=\"\",\"\",LEFT(Meetings2!B1105,FIND(\"(\",Meetings2!$B1105)-2)))","v":""},{"$f":"IF(Meetings2!$B1105=\"\",\"\",Meetings2!$B1105)","v":""},{"$nulls":11},{"$f":"IF(AA1105=\"\",\"\",IF(AA1105=\"Career::\",Form!A1103,\"\"))","v":""}]
[{"$nulls":12},{"$f":"IF(Meetings2!$B1106=\"\",\"\",IF(Meetings2!$C1106=\"\",\"\",LEFT(Meetings2!B1106,FIND(\"(\",Meetings2!$B1106)-2)))","v":""},{"$f":"IF(Meetings2!$B1106=\"\",\"\",Meetings2!$B1106)","v":""},{"$nulls":11},{"$f":"IF(AA1106=\"\",\"\",IF(AA1106=\"Career::\",Form!A1104,\"\"))","v":""}]
[{"$nulls":12},{"$f":"IF(Meetings2!$B1107=\"\",\"\",IF(Meetings2!$C1107=\"\",\"\",LEFT(Meetings2!B1107,FIND(\"(\",Meetings2!$B1107)-2)))","v":""},{"$f":"IF(Meetings2!$B1107=\"\",\"\",Meetings2!$B1107)","v":""},{"$nulls":11},{"$f":"IF(AA1107=\"\",\"\",IF(AA1107=\"Career::\",Form!A1105,\"\"))","v":""}]
[{"$nulls":12},{"$f":"IF(Meetings2!$B1108=\"\",\"\",IF(Meetings2!$C1108=\"\",\"\",LEFT(Meetings2!B1108,FIND(\"(\",Meetings2!$B1108)-2)))","v":""},{"$f":"IF(Meetings2!$B1108=\"\",\"\",Meetings2!$B1108)","v":""},{"$nulls":11},{"$f":"IF(AA1108=\"\",\"\",IF(AA1108=\"Career::\",Form!A1106,\"\"))","v":""}]
[{"$nulls":12},{"$f":"IF(Meetings2!$B1109=\"\",\"\",IF(Meetings2!$C1109=\"\",\"\",LEFT(Meetings2!B1109,FIND(\"(\",Meetings2!$B1109)-2)))","v":""},{"$f":"IF(Meetings2!$B1109=\"\",\"\",Meetings2!$B1109)","v":""},{"$nulls":11},{"$f":"IF(AA1109=\"\",\"\",IF(AA1109=\"Career::\",Form!A1107,\"\"))","v":""}]
[{"$nulls":12},{"$f":"IF(Meetings2!$B1110=\"\",\"\",IF(Meetings2!$C1110=\"\",\"\",LEFT(Meetings2!B1110,FIND(\"(\",Meetings2!$B1110)-2)))","v":""},{"$f":"IF(Meetings2!$B1110=\"\",\"\",Meetings2!$B1110)","v":""},{"$nulls":11},{"$f":"IF(AA1110=\"\",\"\",IF(AA1110=\"Career::\",Form!A1108,\"\"))","v":""}]
[{"$nulls":12},{"$f":"IF(Meetings2!$B1111=\"\",\"\",IF(Meetings2!$C1111=\"\",\"\",LEFT(Meetings2!B1111,FIND(\"(\",Meetings2!$B1111)-2)))","v":""},{"$f":"IF(Meetings2!$B1111=\"\",\"\",Meetings2!$B1111)","v":""},{"$nulls":11},{"$f":"IF(AA1111=\"\",\"\",IF(AA1111=\"Career::\",Form!A1109,\"\"))","v":""}]
[{"$nulls":12},{"$f":"IF(Meetings2!$B1112=\"\",\"\",IF(Meetings2!$C1112=\"\",\"\",LEFT(Meetings2!B1112,FIND(\"(\",Meetings2!$B1112)-2)))","v":""},{"$f":"IF(Meetings2!$B1112=\"\",\"\",Meetings2!$B1112)","v":""},{"$nulls":11},{"$f":"IF(AA1112=\"\",\"\",IF(AA1112=\"Career::\",Form!A1110,\"\"))","v":""}]
[{"$nulls":12},{"$f":"IF(Meetings2!$B1113=\"\",\"\",IF(Meetings2!$C1113=\"\",\"\",LEFT(Meetings2!B1113,FIND(\"(\",Meetings2!$B1113)-2)))","v":""},{"$f":"IF(Meetings2!$B1113=\"\",\"\",Meetings2!$B1113)","v":""},{"$nulls":11},{"$f":"IF(AA1113=\"\",\"\",IF(AA1113=\"Career::\",Form!A1111,\"\"))","v":""}]
[{"$nulls":12},{"$f":"IF(Meetings2!$B1114=\"\",\"\",IF(Meetings2!$C1114=\"\",\"\",LEFT(Meetings2!B1114,FIND(\"(\",Meetings2!$B1114)-2)))","v":""},{"$f":"IF(Meetings2!$B1114=\"\",\"\",Meetings2!$B1114)","v":""},{"$nulls":11},{"$f":"IF(AA1114=\"\",\"\",IF(AA1114=\"Career::\",Form!A1112,\"\"))","v":""}]
[{"$nulls":12},{"$f":"IF(Meetings2!$B1115=\"\",\"\",IF(Meetings2!$C1115=\"\",\"\",LEFT(Meetings2!B1115,FIND(\"(\",Meetings2!$B1115)-2)))","v":""},{"$f":"IF(Meetings2!$B1115=\"\",\"\",Meetings2!$B1115)","v":""},{"$nulls":11},{"$f":"IF(AA1115=\"\",\"\",IF(AA1115=\"Career::\",Form!A1113,\"\"))","v":""}]
[{"$nulls":12},{"$f":"IF(Meetings2!$B1116=\"\",\"\",IF(Meetings2!$C1116=\"\",\"\",LEFT(Meetings2!B1116,FIND(\"(\",Meetings2!$B1116)-2)))","v":""},{"$f":"IF(Meetings2!$B1116=\"\",\"\",Meetings2!$B1116)","v":""},{"$nulls":11},{"$f":"IF(AA1116=\"\",\"\",IF(AA1116=\"Career::\",Form!A1114,\"\"))","v":""}]
[{"$nulls":12},{"$f":"IF(Meetings2!$B1117=\"\",\"\",IF(Meetings2!$C1117=\"\",\"\",LEFT(Meetings2!B1117,FIND(\"(\",Meetings2!$B1117)-2)))","v":""},{"$f":"IF(Meetings2!$B1117=\"\",\"\",Meetings2!$B1117)","v":""},{"$nulls":11},{"$f":"IF(AA1117=\"\",\"\",IF(AA1117=\"Career::\",Form!A1115,\"\"))","v":""}]
[{"$nulls":12},{"$f":"IF(Meetings2!$B1118=\"\",\"\",IF(Meetings2!$C1118=\"\",\"\",LEFT(Meetings2!B1118,FIND(\"(\",Meetings2!$B1118)-2)))","v":""},{"$f":"IF(Meetings2!$B1118=\"\",\"\",Meetings2!$B1118)","v":""},{"$nulls":11},{"$f":"IF(AA1118=\"\",\"\",IF(AA1118=\"Career::\",Form!A1116,\"\"))","v":""}]
[{"$nulls":12},{"$f":"IF(Meetings2!$B1119=\"\",\"\",IF(Meetings2!$C1119=\"\",\"\",LEFT(Meetings2!B1119,FIND(\"(\",Meetings2!$B1119)-2)))","v":""},{"$f":"IF(Meetings2!$B1119=\"\",\"\",Meetings2!$B1119)","v":""},{"$nulls":11},{"$f":"IF(AA1119=\"\",\"\",IF(AA1119=\"Career::\",Form!A1117,\"\"))","v":""}]
[{"$nulls":12},{"$f":"IF(Meetings2!$B1120=\"\",\"\",IF(Meetings2!$C1120=\"\",\"\",LEFT(Meetings2!B1120,FIND(\"(\",Meetings2!$B1120)-2)))","v":""},{"$f":"IF(Meetings2!$B1120=\"\",\"\",Meetings2!$B1120)","v":""},{"$nulls":11},{"$f":"IF(AA1120=\"\",\"\",IF(AA1120=\"Career::\",Form!A1118,\"\"))","v":""}]
[{"$nulls":12},{"$f":"IF(Meetings2!$B1121=\"\",\"\",IF(Meetings2!$C1121=\"\",\"\",LEFT(Meetings2!B1121,FIND(\"(\",Meetings2!$B1121)-2)))","v":""},{"$f":"IF(Meetings2!$B1121=\"\",\"\",Meetings2!$B1121)","v":""},{"$nulls":11},{"$f":"IF(AA1121=\"\",\"\",IF(AA1121=\"Career::\",Form!A1119,\"\"))","v":""}]
[{"$nulls":12},{"$f":"IF(Meetings2!$B1122=\"\",\"\",IF(Meetings2!$C1122=\"\",\"\",LEFT(Meetings2!B1122,FIND(\"(\",Meetings2!$B1122)-2)))","v":""},{"$f":"IF(Meetings2!$B1122=\"\",\"\",Meetings2!$B1122)","v":""},{"$nulls":11},{"$f":"IF(AA1122=\"\",\"\",IF(AA1122=\"Career::\",Form!A1120,\"\"))","v":""}]
[{"$nulls":12},{"$f":"IF(Meetings2!$B1123=\"\",\"\",IF(Meetings2!$C1123=\"\",\"\",LEFT(Meetings2!B1123,FIND(\"(\",Meetings2!$B1123)-2)))","v":""},{"$f":"IF(Meetings2!$B1123=\"\",\"\",Meetings2!$B1123)","v":""},{"$nulls":11},{"$f":"IF(AA1123=\"\",\"\",IF(AA1123=\"Career::\",Form!A1121,\"\"))","v":""}]
[{"$nulls":12},{"$f":"IF(Meetings2!$B1124=\"\",\"\",IF(Meetings2!$C1124=\"\",\"\",LEFT(Meetings2!B1124,FIND(\"(\",Meetings2!$B1124)-2)))","v":""},{"$f":"IF(Meetings2!$B1124=\"\",\"\",Meetings2!$B1124)","v":""},{"$nulls":11},{"$f":"IF(AA1124=\"\",\"\",IF(AA1124=\"Career::\",Form!A1122,\"\"))","v":""}]
[{"$nulls":12},{"$f":"IF(Meetings2!$B1125=\"\",\"\",IF(Meetings2!$C1125=\"\",\"\",LEFT(Meetings2!B1125,FIND(\"(\",Meetings2!$B1125)-2)))","v":""},{"$f":"IF(Meetings2!$B1125=\"\",\"\",Meetings2!$B1125)","v":""},{"$nulls":11},{"$f":"IF(AA1125=\"\",\"\",IF(AA1125=\"Career::\",Form!A1123,\"\"))","v":""}]
[{"$nulls":12},{"$f":"IF(Meetings2!$B1126=\"\",\"\",IF(Meetings2!$C1126=\"\",\"\",LEFT(Meetings2!B1126,FIND(\"(\",Meetings2!$B1126)-2)))","v":""},{"$f":"IF(Meetings2!$B1126=\"\",\"\",Meetings2!$B1126)","v":""},{"$nulls":11},{"$f":"IF(AA1126=\"\",\"\",IF(AA1126=\"Career::\",Form!A1124,\"\"))","v":""}]
[{"$nulls":12},{"$f":"IF(Meetings2!$B1127=\"\",\"\",IF(Meetings2!$C1127=\"\",\"\",LEFT(Meetings2!B1127,FIND(\"(\",Meetings2!$B1127)-2)))","v":""},{"$f":"IF(Meetings2!$B1127=\"\",\"\",Meetings2!$B1127)","v":""},{"$nulls":11},{"$f":"IF(AA1127=\"\",\"\",IF(AA1127=\"Career::\",Form!A1125,\"\"))","v":""}]
[{"$nulls":12},{"$f":"IF(Meetings2!$B1128=\"\",\"\",IF(Meetings2!$C1128=\"\",\"\",LEFT(Meetings2!B1128,FIND(\"(\",Meetings2!$B1128)-2)))","v":""},{"$f":"IF(Meetings2!$B1128=\"\",\"\",Meetings2!$B1128)","v":""},{"$nulls":11},{"$f":"IF(AA1128=\"\",\"\",IF(AA1128=\"Career::\",Form!A1126,\"\"))","v":""}]
[{"$nulls":12},{"$f":"IF(Meetings2!$B1129=\"\",\"\",IF(Meetings2!$C1129=\"\",\"\",LEFT(Meetings2!B1129,FIND(\"(\",Meetings2!$B1129)-2)))","v":""},{"$f":"IF(Meetings2!$B1129=\"\",\"\",Meetings2!$B1129)","v":""},{"$nulls":11},{"$f":"IF(AA1129=\"\",\"\",IF(AA1129=\"Career::\",Form!A1127,\"\"))","v":""}]
[{"$nulls":12},{"$f":"IF(Meetings2!$B1130=\"\",\"\",IF(Meetings2!$C1130=\"\",\"\",LEFT(Meetings2!B1130,FIND(\"(\",Meetings2!$B1130)-2)))","v":""},{"$f":"IF(Meetings2!$B1130=\"\",\"\",Meetings2!$B1130)","v":""},{"$nulls":11},{"$f":"IF(AA1130=\"\",\"\",IF(AA1130=\"Career::\",Form!A1128,\"\"))","v":""}]
[{"$nulls":12},{"$f":"IF(Meetings2!$B1131=\"\",\"\",IF(Meetings2!$C1131=\"\",\"\",LEFT(Meetings2!B1131,FIND(\"(\",Meetings2!$B1131)-2)))","v":""},{"$f":"IF(Meetings2!$B1131=\"\",\"\",Meetings2!$B1131)","v":""},{"$nulls":11},{"$f":"IF(AA1131=\"\",\"\",IF(AA1131=\"Career::\",Form!A1129,\"\"))","v":""}]
[{"$nulls":12},{"$f":"IF(Meetings2!$B1132=\"\",\"\",IF(Meetings2!$C1132=\"\",\"\",LEFT(Meetings2!B1132,FIND(\"(\",Meetings2!$B1132)-2)))","v":""},{"$f":"IF(Meetings2!$B1132=\"\",\"\",Meetings2!$B1132)","v":""},{"$nulls":11},{"$f":"IF(AA1132=\"\",\"\",IF(AA1132=\"Career::\",Form!A1130,\"\"))","v":""}]
[{"$nulls":12},{"$f":"IF(Meetings2!$B1133=\"\",\"\",IF(Meetings2!$C1133=\"\",\"\",LEFT(Meetings2!B1133,FIND(\"(\",Meetings2!$B1133)-2)))","v":""},{"$f":"IF(Meetings2!$B1133=\"\",\"\",Meetings2!$B1133)","v":""},{"$nulls":11},{"$f":"IF(AA1133=\"\",\"\",IF(AA1133=\"Career::\",Form!A1131,\"\"))","v":""}]
[{"$nulls":12},{"$f":"IF(Meetings2!$B1134=\"\",\"\",IF(Meetings2!$C1134=\"\",\"\",LEFT(Meetings2!B1134,FIND(\"(\",Meetings2!$B1134)-2)))","v":""},{"$f":"IF(Meetings2!$B1134=\"\",\"\",Meetings2!$B1134)","v":""},{"$nulls":11},{"$f":"IF(AA1134=\"\",\"\",IF(AA1134=\"Career::\",Form!A1132,\"\"))","v":""}]
[{"$nulls":12},{"$f":"IF(Meetings2!$B1135=\"\",\"\",IF(Meetings2!$C1135=\"\",\"\",LEFT(Meetings2!B1135,FIND(\"(\",Meetings2!$B1135)-2)))","v":""},{"$f":"IF(Meetings2!$B1135=\"\",\"\",Meetings2!$B1135)","v":""},{"$nulls":11},{"$f":"IF(AA1135=\"\",\"\",IF(AA1135=\"Career::\",Form!A1133,\"\"))","v":""}]
[{"$nulls":12},{"$f":"IF(Meetings2!$B1136=\"\",\"\",IF(Meetings2!$C1136=\"\",\"\",LEFT(Meetings2!B1136,FIND(\"(\",Meetings2!$B1136)-2)))","v":""},{"$f":"IF(Meetings2!$B1136=\"\",\"\",Meetings2!$B1136)","v":""},{"$nulls":11},{"$f":"IF(AA1136=\"\",\"\",IF(AA1136=\"Career::\",Form!A1134,\"\"))","v":""}]
[{"$nulls":12},{"$f":"IF(Meetings2!$B1137=\"\",\"\",IF(Meetings2!$C1137=\"\",\"\",LEFT(Meetings2!B1137,FIND(\"(\",Meetings2!$B1137)-2)))","v":""},{"$f":"IF(Meetings2!$B1137=\"\",\"\",Meetings2!$B1137)","v":""},{"$nulls":11},{"$f":"IF(AA1137=\"\",\"\",IF(AA1137=\"Career::\",Form!A1135,\"\"))","v":""}]
[{"$nulls":12},{"$f":"IF(Meetings2!$B1138=\"\",\"\",IF(Meetings2!$C1138=\"\",\"\",LEFT(Meetings2!B1138,FIND(\"(\",Meetings2!$B1138)-2)))","v":""},{"$f":"IF(Meetings2!$B1138=\"\",\"\",Meetings2!$B1138)","v":""},{"$nulls":11},{"$f":"IF(AA1138=\"\",\"\",IF(AA1138=\"Career::\",Form!A1136,\"\"))","v":""}]
[{"$nulls":12},{"$f":"IF(Meetings2!$B1139=\"\",\"\",IF(Meetings2!$C1139=\"\",\"\",LEFT(Meetings2!B1139,FIND(\"(\",Meetings2!$B1139)-2)))","v":""},{"$f":"IF(Meetings2!$B1139=\"\",\"\",Meetings2!$B1139)","v":""},{"$nulls":11},{"$f":"IF(AA1139=\"\",\"\",IF(AA1139=\"Career::\",Form!A1137,\"\"))","v":""}]
[{"$nulls":12},{"$f":"IF(Meetings2!$B1140=\"\",\"\",IF(Meetings2!$C1140=\"\",\"\",LEFT(Meetings2!B1140,FIND(\"(\",Meetings2!$B1140)-2)))","v":""},{"$f":"IF(Meetings2!$B1140=\"\",\"\",Meetings2!$B1140)","v":""},{"$nulls":11},{"$f":"IF(AA1140=\"\",\"\",IF(AA1140=\"Career::\",Form!A1138,\"\"))","v":""}]
[{"$nulls":12},{"$f":"IF(Meetings2!$B1141=\"\",\"\",IF(Meetings2!$C1141=\"\",\"\",LEFT(Meetings2!B1141,FIND(\"(\",Meetings2!$B1141)-2)))","v":""},{"$f":"IF(Meetings2!$B1141=\"\",\"\",Meetings2!$B1141)","v":""},{"$nulls":11},{"$f":"IF(AA1141=\"\",\"\",IF(AA1141=\"Career::\",Form!A1139,\"\"))","v":""}]
[{"$nulls":12},{"$f":"IF(Meetings2!$B1142=\"\",\"\",IF(Meetings2!$C1142=\"\",\"\",LEFT(Meetings2!B1142,FIND(\"(\",Meetings2!$B1142)-2)))","v":""},{"$f":"IF(Meetings2!$B1142=\"\",\"\",Meetings2!$B1142)","v":""},{"$nulls":11},{"$f":"IF(AA1142=\"\",\"\",IF(AA1142=\"Career::\",Form!A1140,\"\"))","v":""}]
[{"$nulls":12},{"$f":"IF(Meetings2!$B1143=\"\",\"\",IF(Meetings2!$C1143=\"\",\"\",LEFT(Meetings2!B1143,FIND(\"(\",Meetings2!$B1143)-2)))","v":""},{"$f":"IF(Meetings2!$B1143=\"\",\"\",Meetings2!$B1143)","v":""},{"$nulls":11},{"$f":"IF(AA1143=\"\",\"\",IF(AA1143=\"Career::\",Form!A1141,\"\"))","v":""}]
[{"$nulls":12},{"$f":"IF(Meetings2!$B1144=\"\",\"\",IF(Meetings2!$C1144=\"\",\"\",LEFT(Meetings2!B1144,FIND(\"(\",Meetings2!$B1144)-2)))","v":""},{"$f":"IF(Meetings2!$B1144=\"\",\"\",Meetings2!$B1144)","v":""},{"$nulls":11},{"$f":"IF(AA1144=\"\",\"\",IF(AA1144=\"Career::\",Form!A1142,\"\"))","v":""}]
[{"$nulls":12},{"$f":"IF(Meetings2!$B1145=\"\",\"\",IF(Meetings2!$C1145=\"\",\"\",LEFT(Meetings2!B1145,FIND(\"(\",Meetings2!$B1145)-2)))","v":""},{"$f":"IF(Meetings2!$B1145=\"\",\"\",Meetings2!$B1145)","v":""},{"$nulls":11},{"$f":"IF(AA1145=\"\",\"\",IF(AA1145=\"Career::\",Form!A1143,\"\"))","v":""}]
[{"$nulls":12},{"$f":"IF(Meetings2!$B1146=\"\",\"\",IF(Meetings2!$C1146=\"\",\"\",LEFT(Meetings2!B1146,FIND(\"(\",Meetings2!$B1146)-2)))","v":""},{"$f":"IF(Meetings2!$B1146=\"\",\"\",Meetings2!$B1146)","v":""},{"$nulls":11},{"$f":"IF(AA1146=\"\",\"\",IF(AA1146=\"Career::\",Form!A1144,\"\"))","v":""}]
[{"$nulls":12},{"$f":"IF(Meetings2!$B1147=\"\",\"\",IF(Meetings2!$C1147=\"\",\"\",LEFT(Meetings2!B1147,FIND(\"(\",Meetings2!$B1147)-2)))","v":""},{"$f":"IF(Meetings2!$B1147=\"\",\"\",Meetings2!$B1147)","v":""},{"$nulls":11},{"$f":"IF(AA1147=\"\",\"\",IF(AA1147=\"Career::\",Form!A1145,\"\"))","v":""}]
[{"$nulls":12},{"$f":"IF(Meetings2!$B1148=\"\",\"\",IF(Meetings2!$C1148=\"\",\"\",LEFT(Meetings2!B1148,FIND(\"(\",Meetings2!$B1148)-2)))","v":""},{"$f":"IF(Meetings2!$B1148=\"\",\"\",Meetings2!$B1148)","v":""},{"$nulls":11},{"$f":"IF(AA1148=\"\",\"\",IF(AA1148=\"Career::\",Form!A1146,\"\"))","v":""}]
[{"$nulls":12},{"$f":"IF(Meetings2!$B1149=\"\",\"\",IF(Meetings2!$C1149=\"\",\"\",LEFT(Meetings2!B1149,FIND(\"(\",Meetings2!$B1149)-2)))","v":""},{"$f":"IF(Meetings2!$B1149=\"\",\"\",Meetings2!$B1149)","v":""},{"$nulls":11},{"$f":"IF(AA1149=\"\",\"\",IF(AA1149=\"Career::\",Form!A1147,\"\"))","v":""}]
[{"$nulls":12},{"$f":"IF(Meetings2!$B1150=\"\",\"\",IF(Meetings2!$C1150=\"\",\"\",LEFT(Meetings2!B1150,FIND(\"(\",Meetings2!$B1150)-2)))","v":""},{"$f":"IF(Meetings2!$B1150=\"\",\"\",Meetings2!$B1150)","v":""},{"$nulls":11},{"$f":"IF(AA1150=\"\",\"\",IF(AA1150=\"Career::\",Form!A1148,\"\"))","v":""}]
[{"$nulls":12},{"$f":"IF(Meetings2!$B1151=\"\",\"\",IF(Meetings2!$C1151=\"\",\"\",LEFT(Meetings2!B1151,FIND(\"(\",Meetings2!$B1151)-2)))","v":""},{"$f":"IF(Meetings2!$B1151=\"\",\"\",Meetings2!$B1151)","v":""},{"$nulls":11},{"$f":"IF(AA1151=\"\",\"\",IF(AA1151=\"Career::\",Form!A1149,\"\"))","v":""}]
[{"$nulls":12},{"$f":"IF(Meetings2!$B1152=\"\",\"\",IF(Meetings2!$C1152=\"\",\"\",LEFT(Meetings2!B1152,FIND(\"(\",Meetings2!$B1152)-2)))","v":""},{"$f":"IF(Meetings2!$B1152=\"\",\"\",Meetings2!$B1152)","v":""},{"$nulls":11},{"$f":"IF(AA1152=\"\",\"\",IF(AA1152=\"Career::\",Form!A1150,\"\"))","v":""}]
[{"$nulls":12},{"$f":"IF(Meetings2!$B1153=\"\",\"\",IF(Meetings2!$C1153=\"\",\"\",LEFT(Meetings2!B1153,FIND(\"(\",Meetings2!$B1153)-2)))","v":""},{"$f":"IF(Meetings2!$B1153=\"\",\"\",Meetings2!$B1153)","v":""},{"$nulls":11},{"$f":"IF(AA1153=\"\",\"\",IF(AA1153=\"Career::\",Form!A1151,\"\"))","v":""}]
[{"$nulls":12},{"$f":"IF(Meetings2!$B1154=\"\",\"\",IF(Meetings2!$C1154=\"\",\"\",LEFT(Meetings2!B1154,FIND(\"(\",Meetings2!$B1154)-2)))","v":""},{"$f":"IF(Meetings2!$B1154=\"\",\"\",Meetings2!$B1154)","v":""},{"$nulls":11},{"$f":"IF(AA1154=\"\",\"\",IF(AA1154=\"Career::\",Form!A1152,\"\"))","v":""}]
[{"$nulls":12},{"$f":"IF(Meetings2!$B1155=\"\",\"\",IF(Meetings2!$C1155=\"\",\"\",LEFT(Meetings2!B1155,FIND(\"(\",Meetings2!$B1155)-2)))","v":""},{"$f":"IF(Meetings2!$B1155=\"\",\"\",Meetings2!$B1155)","v":""},{"$nulls":11},{"$f":"IF(AA1155=\"\",\"\",IF(AA1155=\"Career::\",Form!A1153,\"\"))","v":""}]
[{"$nulls":12},{"$f":"IF(Meetings2!$B1156=\"\",\"\",IF(Meetings2!$C1156=\"\",\"\",LEFT(Meetings2!B1156,FIND(\"(\",Meetings2!$B1156)-2)))","v":""},{"$f":"IF(Meetings2!$B1156=\"\",\"\",Meetings2!$B1156)","v":""},{"$nulls":11},{"$f":"IF(AA1156=\"\",\"\",IF(AA1156=\"Career::\",Form!A1154,\"\"))","v":""}]
[{"$nulls":12},{"$f":"IF(Meetings2!$B1157=\"\",\"\",IF(Meetings2!$C1157=\"\",\"\",LEFT(Meetings2!B1157,FIND(\"(\",Meetings2!$B1157)-2)))","v":""},{"$f":"IF(Meetings2!$B1157=\"\",\"\",Meetings2!$B1157)","v":""},{"$nulls":11},{"$f":"IF(AA1157=\"\",\"\",IF(AA1157=\"Career::\",Form!A1155,\"\"))","v":""}]
[{"$nulls":12},{"$f":"IF(Meetings2!$B1158=\"\",\"\",IF(Meetings2!$C1158=\"\",\"\",LEFT(Meetings2!B1158,FIND(\"(\",Meetings2!$B1158)-2)))","v":""},{"$f":"IF(Meetings2!$B1158=\"\",\"\",Meetings2!$B1158)","v":""},{"$nulls":11},{"$f":"IF(AA1158=\"\",\"\",IF(AA1158=\"Career::\",Form!A1156,\"\"))","v":""}]
[{"$nulls":12},{"$f":"IF(Meetings2!$B1159=\"\",\"\",IF(Meetings2!$C1159=\"\",\"\",LEFT(Meetings2!B1159,FIND(\"(\",Meetings2!$B1159)-2)))","v":""},{"$f":"IF(Meetings2!$B1159=\"\",\"\",Meetings2!$B1159)","v":""},{"$nulls":11},{"$f":"IF(AA1159=\"\",\"\",IF(AA1159=\"Career::\",Form!A1157,\"\"))","v":""}]
[{"$nulls":12},{"$f":"IF(Meetings2!$B1160=\"\",\"\",IF(Meetings2!$C1160=\"\",\"\",LEFT(Meetings2!B1160,FIND(\"(\",Meetings2!$B1160)-2)))","v":""},{"$f":"IF(Meetings2!$B1160=\"\",\"\",Meetings2!$B1160)","v":""},{"$nulls":11},{"$f":"IF(AA1160=\"\",\"\",IF(AA1160=\"Career::\",Form!A1158,\"\"))","v":""}]
[{"$nulls":12},{"$f":"IF(Meetings2!$B1161=\"\",\"\",IF(Meetings2!$C1161=\"\",\"\",LEFT(Meetings2!B1161,FIND(\"(\",Meetings2!$B1161)-2)))","v":""},{"$f":"IF(Meetings2!$B1161=\"\",\"\",Meetings2!$B1161)","v":""},{"$nulls":11},{"$f":"IF(AA1161=\"\",\"\",IF(AA1161=\"Career::\",Form!A1159,\"\"))","v":""}]
[{"$nulls":12},{"$f":"IF(Meetings2!$B1162=\"\",\"\",IF(Meetings2!$C1162=\"\",\"\",LEFT(Meetings2!B1162,FIND(\"(\",Meetings2!$B1162)-2)))","v":""},{"$f":"IF(Meetings2!$B1162=\"\",\"\",Meetings2!$B1162)","v":""},{"$nulls":11},{"$f":"IF(AA1162=\"\",\"\",IF(AA1162=\"Career::\",Form!A1160,\"\"))","v":""}]

{"sheet":"Results","index":8,"n_rows":14983,"n_cols":45,"rows_kept":14983,"cut":false,"hidden":false,"merged":[[1,22,1,24]]}
[{"$nulls":9},{"$f":"IF(ISNUMBER(F1),F1,\"\")","v":""},{"$f":"IF(ISNUMBER(G1),G1,\"\")","v":""},"1st","2nd","3rd","4th","5th","Quin","Tri","F4",{"$f":"IF(F1=\"win\",1,\"\")","v":""},{"$nulls":19},{"$f":"TRIM(CLEAN(LEFT(AF1,FIND(\" \",AF1)-1)))","v":{"$error":"#VALUE!"}},{"$f":"TRIM(CLEAN(RIGHT(AF1,LEN(AF1)-FIND(\" \",AF1,1))))","v":{"$error":"#VALUE!"}},{"$f":"IF(ISERROR(AN1),\"\",AG1)","v":""}]
[{"$nulls":9},{"$f":"IF(ISNUMBER(F2),F2,\"\")","v":""},{"$f":"IF(ISNUMBER(G2),G2,\"\")","v":""},{"$f":"IF(AND($A2=\"1St\",$F2>0),$F2,\"\")","v":""},{"$f":"IF(AND($A2=\"2nd\",$F2>0),$F2,\"\")","v":""},{"$f":"IF(AND($A2=\"3rd\",$F2>0),$F2,\"\")","v":""},{"$f":"IF(AND($A2=\"4th\",$F2>0),$F2,\"\")","v":""},{"$f":"IF(AND($A2=\"5th\",$F2>0),$F2,\"\")","v":""},{"$f":"IF(AND($H2=\"Quin\",$I2>0),$I2,\"\")","v":""},{"$f":"IF(AND($H2=\"Tri\",$I2>0),$I2,\"\")","v":""},{"$f":"IF(AND($H2=\"F4\",$I2>0),$I2,\"\")","v":""},{"$f":"IF(F2=\"win\",1,\"\")","v":""},null,null,"Results",{"$nulls":16},{"$f":"TRIM(CLEAN(LEFT(AF2,FIND(\" \",AF2)-1)))","v":{"$error":"#VALUE!"}},{"$f":"TRIM(CLEAN(RIGHT(AF2,LEN(AF2)-FIND(\" \",AF2,1))))","v":{"$error":"#VALUE!"}},{"$f":"IF(ISERROR(AN2),\"\",AG2)","v":""},null,"[b]Todays Results[/b]"]
[{"$nulls":11},"",{"$f":"IF(AND($A3=\"2nd\",$F3>0),$F3,\"\")","v":""},"","","",{"$f":"IF(AND($H3=\"Quin\",$I3>0),$I3,\"\")","v":""},{"$f":"IF(AND($H3=\"Tri\",$I3>0),$I3,\"\")","v":""},{"$f":"IF(AND($H3=\"F4\",$I3>0),$I3,\"\")","v":""},"",null,{"$f":"IF(V8=\"\",\"\",1)","v":1},{"$f":"IF(W8=\"\",\"\",1)","v":1},1,1,1,{"$f":"RaceList!E5*U5","v":0},{"$nulls":12},{"$error":"#VALUE!"},{"$error":"#VALUE!"},"",null,{"$f":"\"[table]\"","v":"[table]"}]
[{"$nulls":11},"","","","","","","","","","Races","1st Sel","2nd Sel","3rd Sel","4th Sel","5th Sel","Total",{"$nulls":12},{"$error":"#VALUE!"},{"$error":"#VALUE!"},"",null,{"$f":"\"[tr]\"","v":"[tr]"}]
[{"$nulls":11},"","","","","","","","","",{"$f":"COUNT(T1:T1000)","v":0},{"$f":"COUNT(L2:L1000)","v":0},{"$f":"COUNT(M2:M1000)","v":0},{"$f":"COUNT(N2:N1000)","v":0},{"$f":"COUNT(O2:O1000)","v":0},{"$f":"COUNT(P2:P1000)","v":0},{"$f":"SUM(V5:Z5)","v":0},{"$nulls":12},{"$error":"#VALUE!"},{"$error":"#VALUE!"},"",null,null,{"$f":"\"[td]\"&U$4&\"[/td]\"","v":"[td]Races[/td]"}]
[{"$nulls":11},"","","","","","","","","","Strike Rate",{"$f":"IF(V5=0,\"\",V5/$U$5)","v":""},"","","","","",{"$nulls":12},{"$error":"#VALUE!"},{"$error":"#VALUE!"},"",null,null,{"$f":"\"[td]\"&V$4&\"[/td]\"","v":"[td]1st Sel[/td]"}]
[{"$nulls":11},"","","","","","","","","","A/Price",{"$f":"IF(V5=0,\"\",SUM(L2:L1000)/V5)","v":""},{"$f":"IF(W5=0,\"\",SUM(M2:M1000)/W5)","v":""},{"$f":"IF(X5=0,\"\",SUM(N2:N1000)/X5)","v":""},{"$f":"IF(Y5=0,\"\",SUM(O2:O1000)/Y5)","v":""},{"$f":"IF(Z5=0,\"\",SUM(P2:P1000)/Z5)","v":""},{"$f":"IF(AA5=0,\"\",SUM(L2:P1000)/AA5)","v":""},{"$nulls":12},{"$error":"#VALUE!"},{"$error":"#VALUE!"},"",null,null,{"$f":"\"[td]\"&W$4&\"[/td]\"","v":"[td]2nd Sel[/td]"}]
[{"$nulls":11},"","","","","","","","","","Profit/Loss",{"$f":"V15","v":0},{"$f":"W15","v":0},0,0,0,{"$f":"IF(AA6=\"\",\"\",SUM(V15:Z15))","v":""},{"$nulls":12},{"$error":"#VALUE!"},{"$error":"#VALUE!"},"",null,null,{"$f":"\"[td]\"&X$4&\"[/td]\"","v":"[td]3rd Sel[/td]"}]
[{"$nulls":11},"","","","","","","","","",{"$nulls":5},"POT",{"$f":"AA8/AA3","v":{"$error":"#VALUE!"}},{"$nulls":12},{"$error":"#VALUE!"},{"$error":"#VALUE!"},"",null,null,{"$f":"\"[td]\"&Y$4&\"[/td]\"","v":"[td]4th Sel[/td]"}]
[{"$nulls":11},"","","","","","","","","",null,"Wins","S/R","P/L",{"$nulls":15},{"$error":"#VALUE!"},{"$error":"#VALUE!"},"",null,null,{"$f":"\"[td]\"&Z$4&\"[/td]\"","v":"[td]5th Sel[/td]"}]
[{"$nulls":11},"","","","","","","","","","Quinella",{"$f":"COUNT(Q2:Q1000)","v":0},{"$f":"IF(V11=0,\"\",V11/$U$5)","v":""},{"$f":"SUM(Q2:Q1000)-U5*10","v":0},{"$nulls":15},{"$error":"#VALUE!"},{"$error":"#VALUE!"},"",null,null,{"$f":"\"[td]\"&AA$4&\"[/td]\"","v":"[td]Total[/td]"}]
[{"$nulls":11},"","","","","","","","","","Trifecta",{"$f":"COUNT(R2:R1000)","v":0},{"$f":"IF(V12=0,\"\",V12/$U$5)","v":""},{"$f":"SUM(R2:R1001)-U5*60","v":0},{"$nulls":15},{"$error":"#VALUE!"},{"$error":"#VALUE!"},"",null,{"$f":"\"[/tr]\"","v":"[/tr]"}]
[{"$nulls":11},"","","","","","","","","","F4",{"$f":"COUNT(S2:S1000)","v":0},{"$f":"IF(V13=0,\"\",V13/$U$5)","v":""},{"$nulls":16},{"$error":"#VALUE!"},{"$error":"#VALUE!"},"",null,{"$f":"\"[tr]\"","v":"[tr]"}]
[{"$nulls":11},"","","","","","","","","",{"$nulls":19},{"$error":"#VALUE!"},{"$error":"#VALUE!"},"",null,null,{"$f":"\"[td]\"&U$5&\"[/td]\"","v":"[td]0[/td]"}]
[{"$nulls":11},"","","","","","","","","",null,{"$f":"IF(RaceList!$E$5>0,SUM(L2:L1000)-$U$5,\"\")","v":0},{"$f":"IF(RaceList!$E$5>1,SUM(M2:M1000)-$U$5,\"\")","v":0},{"$f":"IF(RaceList!$E$5>2,SUM(N2:N1000)-$U$5,\"\")","v":0},{"$f":"IF(RaceList!$E$5>3,SUM(O2:O1000)-$U$5,\"\")","v":0},{"$f":"IF(RaceList!$E$5>4,SUM(P2:P1000)-$U$5,\"\")","v":0},{"$nulls":13},{"$error":"#VALUE!"},{"$error":"#VALUE!"},"",null,null,{"$f":"\"[td]\"&V$5&\"[/td]\"","v":"[td]0[/td]"}]
[{"$nulls":9},"","","","","","","","","","","","BBC",{"$nulls":18},{"$error":"#VALUE!"},{"$error":"#VALUE!"},"",null,null,{"$f":"\"[td]\"&W$5&\"[/td]\"","v":"[td]0[/td]"}]
[{"$nulls":9},"","","","","","","","","","","",{"$nulls":19},{"$error":"#VALUE!"},{"$error":"#VALUE!"},"",null,null,{"$f":"\"[td]\"&X$5&\"[/td]\"","v":"[td]0[/td]"}]
[{"$nulls":9},"","","","","","","","","","","",{"$nulls":19},{"$error":"#VALUE!"},{"$error":"#VALUE!"},"",null,null,{"$f":"\"[td]\"&Y$5&\"[/td]\"","v":"[td]0[/td]"}]
[{"$nulls":9},"","","","","","","","","","","",{"$nulls":19},{"$error":"#VALUE!"},{"$error":"#VALUE!"},"",null,null,{"$f":"\"[td]\"&Z$5&\"[/td]\"","v":"[td]0[/td]"}]
[{"$nulls":9},"","","","","","","","","","","",{"$nulls":19},{"$error":"#VALUE!"},{"$error":"#VALUE!"},"",null,null,{"$f":"\"[td]\"&AA$5&\"[/td]\"","v":"[td]0[/td]"}]
[{"$nulls":9},"","","","","","","","","","","",{"$nulls":19},{"$error":"#VALUE!"},{"$error":"#VALUE!"},"",null,{"$f":"\"[/tr]\"","v":"[/tr]"}]
[{"$nulls":9},"","","","","","","","","","","",{"$nulls":19},{"$error":"#VALUE!"},{"$error":"#VALUE!"},"",null,{"$f":"\"[tr]\"","v":"[tr]"}]
[{"$nulls":9},"","","","","","","","","","","",{"$nulls":19},{"$error":"#VALUE!"},{"$error":"#VALUE!"},"",null,null,{"$f":"\"[td]\"&U$6&\"[/td]\"","v":"[td]Strike Rate[/td]"}]
[{"$nulls":9},"","","","","","","","","","","",{"$nulls":19},{"$error":"#VALUE!"},{"$error":"#VALUE!"},"",null,null,{"$f":"\"[td]\"&TEXT(V$6,\"0.00%\")&\"[/td]\"","v":"[td][/td]"}]
[{"$nulls":9},"","","","","","","","","","","",{"$nulls":19},{"$error":"#VALUE!"},{"$error":"#VALUE!"},"",null,null,{"$f":"\"[td]\"&TEXT(W$6,\"0.00%\")&\"[/td]\"","v":"[td][/td]"}]
[{"$nulls":9},"","","","","","","","","","","",{"$nulls":19},{"$error":"#VALUE!"},{"$error":"#VALUE!"},"",null,null,{"$f":"\"[td]\"&TEXT(X$6,\"0.00%\")&\"[/td]\"","v":"[td][/td]"}]
[{"$nulls":9},"","","","","","","","","","","",{"$nulls":19},{"$error":"#VALUE!"},{"$error":"#VALUE!"},"",null,null,{"$f":"\"[td]\"&TEXT(Y$6,\"0.00%\")&\"[/td]\"","v":"[td][/td]"}]
[{"$nulls":9},"","","","","","","","","","","",{"$nulls":19},{"$error":"#VALUE!"},{"$error":"#VALUE!"},"",null,null,{"$f":"\"[td]\"&TEXT(Z$6,\"0.00%\")&\"[/td]\"","v":"[td][/td]"}]
[{"$nulls":9},"","","","","","","","","","","",{"$nulls":19},{"$error":"#VALUE!"},{"$error":"#VALUE!"},"",null,null,{"$f":"\"[td]\"&TEXT(AA6,\"0.00%\")&\"[/td]\"","v":"[td][/td]"}]
[{"$nulls":9},"","","","","","","","","","","",{"$nulls":19},{"$error":"#VALUE!"},{"$error":"#VALUE!"},"",null,{"$f":"\"[/tr]\"","v":"[/tr]"}]
[{"$nulls":9},"","","","","","","","","","","",{"$nulls":19},{"$error":"#VALUE!"},{"$error":"#VALUE!"},"",null,{"$f":"\"[tr]\"","v":"[tr]"}]
[{"$nulls":9},"","","","","","","","","","","",{"$nulls":19},{"$error":"#VALUE!"},{"$error":"#VALUE!"},"",null,null,{"$f":"\"[td]\"&U$7&\"[/td]\"","v":"[td]A/Price[/td]"}]
[{"$nulls":9},"","","","","","","","","","","",{"$nulls":19},{"$error":"#VALUE!"},{"$error":"#VALUE!"},"",null,null,{"$f":"\"[td]\"&TEXT(V$7,\"0.00\")&\"[/td]\"","v":"[td][/td]"}]
[{"$nulls":9},"","","","","","","","","","","",{"$nulls":19},{"$error":"#VALUE!"},{"$error":"#VALUE!"},"",null,null,{"$f":"\"[td]\"&TEXT(W$7,\"0.00\")&\"[/td]\"","v":"[td][/td]"}]
[{"$nulls":9},"","","","","","","","","","","",{"$nulls":19},{"$error":"#VALUE!"},{"$error":"#VALUE!"},"",null,null,{"$f":"\"[td]\"&TEXT(X$7,\"0.00\")&\"[/td]\"","v":"[td][/td]"}]
[{"$nulls":9},"","","","","","","","","","","",{"$nulls":19},{"$error":"#VALUE!"},{"$error":"#VALUE!"},"",null,null,{"$f":"\"[td]\"&TEXT(Y$7,\"0.00\")&\"[/td]\"","v":"[td][/td]"}]
[{"$nulls":9},"","","","","","","","","","","",{"$nulls":19},{"$error":"#VALUE!"},{"$error":"#VALUE!"},"",null,null,{"$f":"\"[td]\"&TEXT(Z$7,\"0.00\")&\"[/td]\"","v":"[td][/td]"}]
[{"$nulls":9},"","","","","","","","","","","",{"$nulls":24},{"$f":"\"[td]\"&TEXT(AA$7,\"0.00\")&\"[/td]\"","v":"[td][/td]"}]
[{"$nulls":9},"","","","","","","","","","","",{"$nulls":23},{"$f":"\"[/tr]\"","v":"[/tr]"}]
[{"$nulls":9},"","","","","","","","","","","",{"$nulls":23},{"$f":"\"[tr]\"","v":"[tr]"}]
[{"$nulls":9},"","","","","","","","","","","",{"$nulls":24},{"$f":"\"[td]\"&U$8&\"[/td]\"","v":"[td]Profit/Loss[/td]"}]
[{"$nulls":9},"","","","","","","","","","","",{"$nulls":24},{"$f":"\"[td]\"&TEXT(V$8,\"0.00\")&\"[/td]\"","v":"[td]0.00[/td]"}]
[{"$nulls":9},"","","","","","","","","","","",{"$nulls":24},{"$f":"\"[td]\"&TEXT(W$8,\"0.00\")&\"[/td]\"","v":"[td]0.00[/td]"}]
[{"$nulls":9},"","","","","","","","","","","",{"$nulls":24},{"$f":"\"[td]\"&TEXT(X$8,\"0.00\")&\"[/td]\"","v":"[td]0.00[/td]"}]
[{"$nulls":9},"","","","","","","","","","","",{"$nulls":24},{"$f":"\"[td]\"&TEXT(Y$8,\"0.00\")&\"[/td]\"","v":"[td]0.00[/td]"}]
[{"$nulls":9},"","","","","","","","","","","",{"$nulls":24},{"$f":"\"[td]\"&TEXT(Z$8,\"0.00\")&\"[/td]\"","v":"[td]0.00[/td]"}]
[{"$nulls":9},"","","","","","","","","","","",{"$nulls":24},{"$f":"\"[td]\"&TEXT(AA$8,\"0.00\")&\"[/td]\"","v":"[td][/td]"}]
[{"$nulls":9},"","","","","","","","","","","",{"$nulls":23},{"$f":"\"[/tr]\"","v":"[/tr]"}]
[{"$nulls":9},"","","","","","","","","","","",{"$nulls":23},{"$f":"\"[tr]\"","v":"[tr]"}]
[{"$nulls":9},"","","","","","","","","","","",{"$nulls":24},{"$f":"\"[td]\"&Z$9&\"[/td]\"","v":"[td]POT[/td]"}]
[{"$nulls":11},"","","","","","","","","",{"$nulls":24},{"$f":"\"[td]\"&TEXT(AA9,\"0.00%\")&\"[/td]\"","v":{"$error":"#VALUE!"}}]
[{"$nulls":11},"","","","","","","","","",{"$nulls":23},{"$f":"\"[/tr]\"","v":"[/tr]"}]
[{"$nulls":11},"","","","","","","","","",{"$nulls":23},{"$f":"\"[/table]\"","v":"[/table]"}]
[{"$nulls":11},"","","","","","","","",""]
[{"$nulls":11},"","","","","","","","",""]
[{"$nulls":11},"","","","","","","","",""]
[{"$nulls":11},"","","","","","","","",""]
[{"$nulls":11},"","","","","","","","",""]
[{"$nulls":11},"","","","","","","","",""]
[{"$nulls":11},"","","","","","","","",""]
[{"$nulls":11},"","","","","","","","",""]
[{"$nulls":11},"","","","","","","","",""]
[{"$nulls":11},"","","","","","","","",""]
[{"$nulls":11},"","","","","","","","",""]
[{"$nulls":11},"","","","","","","","",""]
[{"$nulls":11},{"$f":"IF(AND($A66=\"1St\",$F66>0),$F66,\"\")","v":""},"",{"$f":"IF(AND($A66=\"3rd\",$F66>0),$F66,\"\")","v":""},{"$f":"IF(AND($A66=\"4th\",$F66>0),$F66,\"\")","v":""},{"$f":"IF(AND($A66=\"5th\",$F66>0),$F66,\"\")","v":""},"","","",{"$f":"IF(F66=\"win\",1,\"\")","v":""}]
[{"$nulls":11},"",{"$f":"IF(AND($A67=\"2nd\",$F67>0),$F67,\"\")","v":""},"","","",{"$f":"IF(AND($H67=\"Quin\",$I67>0),$I67,\"\")","v":""},{"$f":"IF(AND($H67=\"Tri\",$I67>0),$I67,\"\")","v":""},{"$f":"IF(AND($H67=\"F4\",$I67>0),$I67,\"\")","v":""},""]
[{"$nulls":11},"","","","","","","","",""]
[{"$nulls":11},"","","","","","","","",""]
[{"$nulls":11},"","","","","","","","",""]
[{"$nulls":11},"","","","","","","","",""]
[{"$nulls":11},"","","","","","","","",""]
[{"$nulls":11},"","","","","","","","",""]
[{"$nulls":11},"","","","","","","","",""]
[{"$nulls":11},"","","","","","","","",""]
[{"$nulls":11},"","","","","","","","",""]
[{"$nulls":11},"","","","","","","","",""]
[{"$nulls":11},"","","","","","","","",""]
[{"$nulls":11},"","","","","","","","",""]
[{"$nulls":11},"","","","","","","","",""]
[{"$nulls":11},"","","","","","","","",""]
[{"$nulls":11},"","","","","","","","",""]
[{"$nulls":11},"","","","","","","","",""]
[{"$nulls":11},"","","","","","","","",""]
[{"$nulls":11},"","","","","","","","",""]
[{"$nulls":11},"","","","","","","","",""]
[{"$nulls":11},"","","","","","","","",""]
[{"$nulls":11},"","","","","","","","",""]
[{"$nulls":11},"","","","","","","","",""]
[{"$nulls":11},"","","","","","","","",""]
[{"$nulls":11},"","","","","","","","",""]
[{"$nulls":11},"","","","","","","","",""]
[{"$nulls":11},"","","","","","","","",""]
[{"$nulls":11},"","","","","","","","",""]
[{"$nulls":11},"","","","","","","","",""]
[{"$nulls":11},"","","","","","","","",""]
[{"$nulls":11},"","","","","","","","",""]
[{"$nulls":11},"","","","","","","","",""]
[{"$nulls":11},"","","","","","","","",""]
[{"$nulls":11},"","","","","","","","",""]
[{"$nulls":11},"","","","","","","","",""]
[{"$nulls":11},"","","","","","","","",""]
[{"$nulls":11},"","","","","","","","",""]
[{"$nulls":11},"","","","","","","","",""]
[{"$nulls":11},"","","","","","","","",""]
[{"$nulls":11},"","","","","","","","",""]
[{"$nulls":11},"","","","","","","","",""]
[{"$nulls":11},"","","","","","","","",""]
[{"$nulls":11},"","","","","","","","",""]
[{"$nulls":11},"","","","","","","","",""]
[{"$nulls":11},"","","","","","","","",""]
[{"$nulls":11},"","","","","","","","",""]
[{"$nulls":11},"","","","","","","","",""]
[{"$nulls":11},"","","","","","","","",""]
[{"$nulls":9},{"$f":"IF(ISNUMBER(F115),F115,\"\")","v":""},{"$f":"IF(ISNUMBER(G115),G115,\"\")","v":""},"","","","","","","","",""]
[{"$nulls":9},"","","","","","","","","","",""]
[{"$nulls":9},"","","","","","","","","","",""]
[{"$nulls":9},"","","","","","","","","","",""]
[{"$nulls":9},"","","","","","","","","","",""]
[{"$nulls":9},"","","","","","","","","","",""]
[{"$nulls":9},"","","","","","","","","","",""]
[{"$nulls":9},"","","","","","","","","","",""]
[{"$nulls":9},"","","","","","","","","","",""]
[{"$nulls":9},"","","","","","","","","","",""]
[{"$nulls":9},"","","","","","","","","","",""]
[{"$nulls":9},"","","","","","","","","","",""]
[{"$nulls":9},"","","","","","","","","","",""]
[{"$nulls":9},"","","","","","","","","","",""]
[{"$nulls":9},"","","","","","","","","","",""]
[{"$nulls":9},{"$f":"IF(ISNUMBER(F130),F130,\"\")","v":""},{"$f":"IF(ISNUMBER(G130),G130,\"\")","v":""},{"$f":"IF(AND($A130=\"1St\",$F130>0),$F130,\"\")","v":""},"",{"$f":"IF(AND($A130=\"3rd\",$F130>0),$F130,\"\")","v":""},{"$f":"IF(AND($A130=\"4th\",$F130>0),$F130,\"\")","v":""},{"$f":"IF(AND($A130=\"5th\",$F130>0),$F130,\"\")","v":""},"","","",{"$f":"IF(F130=\"win\",1,\"\")","v":""}]
[{"$nulls":9},"","","",{"$f":"IF(AND($A131=\"2nd\",$F131>0),$F131,\"\")","v":""},"","","",{"$f":"IF(AND($H131=\"Quin\",$I131>0),$I131,\"\")","v":""},{"$f":"IF(AND($H131=\"Tri\",$I131>0),$I131,\"\")","v":""},{"$f":"IF(AND($H131=\"F4\",$I131>0),$I131,\"\")","v":""},""]
[{"$nulls":9},"","","","","","","","","","",""]
[{"$nulls":9},"","","","","","","","","","",""]
[{"$nulls":9},"","","","","","","","","","",""]
[{"$nulls":9},"","","","","","","","","","",""]
[{"$nulls":9},"","","","","","","","","","",""]
[{"$nulls":9},"","","","","","","","","","",""]
[{"$nulls":9},"","","","","","","","","","",""]
[{"$nulls":9},"","","","","","","","","","",""]
[{"$nulls":9},"","","","","","","","","","",""]
[{"$nulls":9},"","","","","","","","","","",""]
[{"$nulls":9},"","","","","","","","","","",""]
[{"$nulls":9},"","","","","","","","","","",""]
[{"$nulls":9},"","","","","","","","","","",""]
[{"$nulls":9},"","","","","","","","","","",""]
[{"$nulls":9},"","","","","","","","","","",""]
[{"$nulls":9},"","","","","","","","","","",""]
[{"$nulls":9},"","","","","","","","","","",""]
[{"$nulls":9},"","","","","","","","","","",""]
[{"$nulls":9},"","","","","","","","","","",""]
[{"$nulls":9},"","","","","","","","","","",""]
[{"$nulls":9},"","","","","","","","","","",""]
[{"$nulls":9},"","","","","","","","","","",""]
[{"$nulls":9},"","","","","","","","","","",""]
[{"$nulls":9},"","","","","","","","","","",""]
[{"$nulls":9},"","","","","","","","","","",""]
[{"$nulls":9},"","","","","","","","","","",""]
[{"$nulls":9},"","","","","","","","","","",""]
[{"$nulls":9},"","","","","","","","","","",""]
[{"$nulls":9},"","","","","","","","","","",""]
[{"$nulls":9},"","","","","","","","","","",""]
[{"$nulls":9},"","","","","","","","","","",""]
[{"$nulls":9},"","","","","","","","","","",""]
[{"$nulls":9},"","","","","","","","","","",""]
[{"$nulls":9},"","","","","","","","","","",""]
[{"$nulls":9},"","","","","","","","","","",""]
[{"$nulls":9},"","","","","","","","","","",""]
[{"$nulls":9},"","","","","","","","","","",""]
[{"$nulls":9},"","","","","","","","","","",""]
[{"$nulls":9},"","","","","","","","","","",""]
[{"$nulls":9},"","","","","","","","","","",""]
[{"$nulls":9},"","","","","","","","","","",""]
[{"$nulls":9},"","","","","","","","","","",""]
[{"$nulls":9},"","","","","","","","","","",""]
[{"$nulls":9},"","","","","","","","","","",""]
[{"$nulls":9},"","","","","","","","","","",""]
[{"$nulls":9},"","","","","","","","","","",""]
[{"$nulls":9},"","","","","","","","","","",""]
[{"$nulls":9},"","","","","","","","","","",""]
[{"$nulls":9},"","","","","","","","","","",""]
[{"$nulls":9},"","","","","","","","","","",""]
[{"$nulls":9},"","","","","","","","","","",""]
[{"$nulls":9},"","","","","","","","","","",""]
[{"$nulls":9},"","","","","","","","","","",""]
[{"$nulls":9},"","","","","","","","","","",""]
[{"$nulls":9},"","","","","","","","","","",""]
[{"$nulls":9},"","","","","","","","","","",""]
[{"$nulls":9},"","","","","","","","","","",""]
[{"$nulls":9},"","","","","","","","","","",""]
[{"$nulls":9},"","","","","","","","","","",""]
[{"$nulls":9},"","","","","","","","","","",""]
[{"$nulls":9},"","","","","","","","","","",""]
[{"$nulls":9},"","","","","","","","","","",""]
[{"$nulls":9},{"$f":"IF(ISNUMBER(F194),F194,\"\")","v":""},{"$f":"IF(ISNUMBER(G194),G194,\"\")","v":""},{"$f":"IF(AND($A194=\"1St\",$F194>0),$F194,\"\")","v":""},"",{"$f":"IF(AND($A194=\"3rd\",$F194>0),$F194,\"\")","v":""},{"$f":"IF(AND($A194=\"4th\",$F194>0),$F194,\"\")","v":""},{"$f":"IF(AND($A194=\"5th\",$F194>0),$F194,\"\")","v":""},"","","",{"$f":"IF(F194=\"win\",1,\"\")","v":""}]
[{"$nulls":9},"","","",{"$f":"IF(AND($A195=\"2nd\",$F195>0),$F195,\"\")","v":""},"","","",{"$f":"IF(AND($H195=\"Quin\",$I195>0),$I195,\"\")","v":""},{"$f":"IF(AND($H195=\"Tri\",$I195>0),$I195,\"\")","v":""},{"$f":"IF(AND($H195=\"F4\",$I195>0),$I195,\"\")","v":""},""]
[{"$nulls":9},"","","","","","","","","","",""]
[{"$nulls":9},"","","","","","","","","","",""]
[{"$nulls":9},"","","","","","","","","","",""]
[{"$nulls":9},"","","","","","","","","","",""]
[{"$nulls":9},"","","","","","","","","","",""]
[{"$nulls":9},"","","","","","","","","","",""]
[{"$nulls":9},"","","","","","","","","","",""]
[{"$nulls":9},"","","","","","","","","","",""]
[{"$nulls":9},"","","","","","","","","","",""]
[{"$nulls":9},"","","","","","","","","","",""]
[{"$nulls":9},"","","","","","","","","","",""]
[{"$nulls":9},"","","","","","","","","","",""]
[{"$nulls":9},"","","","","","","","","","",""]
[{"$nulls":9},"","","","","","","","","","",""]
[{"$nulls":9},"","","","","","","","","","",""]
[{"$nulls":9},"","","","","","","","","","",""]
[{"$nulls":9},"","","","","","","","","","",""]
[{"$nulls":9},"","","","","","","","","","",""]
[{"$nulls":9},"","","","","","","","","","",""]
[{"$nulls":9},"","","","","","","","","","",""]
[{"$nulls":9},"","","","","","","","","","",""]
[{"$nulls":9},"","","","","","","","","","",""]
[{"$nulls":9},"","","","","","","","","","",""]
[{"$nulls":9},"","","","","","","","","","",""]
[{"$nulls":9},"","","","","","","","","","",""]
[{"$nulls":9},"","","","","","","","","","",""]
[{"$nulls":9},"","","","","","","","","","",""]
[{"$nulls":9},"","","","","","","","","","",""]
[{"$nulls":9},"","","","","","","","","","",""]
[{"$nulls":9},"","","","","","","","","","",""]
[{"$nulls":9},"","","","","","","","","","",""]
[{"$nulls":9},"","","","","","","","","","",""]
[{"$nulls":9},"","","","","","","","","","",""]
[{"$nulls":9},"","","","","","","","","","",""]
[{"$nulls":9},"","","","","","","","","","",""]
[{"$nulls":9},"","","","","","","","","","",""]
[{"$nulls":9},"","","","","","","","","","",""]
[{"$nulls":9},"","","","","","","","","","",""]
[{"$nulls":9},"","","","","","","","","","",""]
[{"$nulls":9},"","","","","","","","","","",""]
[{"$nulls":9},"","","","","","","","","","",""]
[{"$nulls":9},"","","","","","","","","","",""]
[{"$nulls":9},"","","","","","","","","","",""]
[{"$nulls":9},"","","","","","","","","","",""]
[{"$nulls":9},"","","","","","","","","","",""]
[{"$nulls":9},"","","","","","","","","","",""]
[{"$nulls":9},"","","","","","","","","","",""]
[{"$nulls":9},"","","","","","","","","","",""]
[{"$nulls":9},"","","","","","","","","","",""]
[{"$nulls":9},"","","","","","","","","","",""]
[{"$nulls":9},"","","","","","","","","","",""]
[{"$nulls":9},"","","","","","","","","","",""]
[{"$nulls":9},"","","","","","","","","","",""]
[{"$nulls":9},"","","","","","","","","","",""]
[{"$nulls":9},"","","","","","","","","","",""]
[{"$nulls":9},"","","","","","","","","","",""]
[{"$nulls":9},"","","","","","","","","","",""]
[{"$nulls":9},"","","","","","","","","","",""]
[{"$nulls":9},"","","","","","","","","","",""]
[{"$nulls":9},"","","","","","","","","","",""]
[{"$nulls":9},"","","","","","","","","","",""]
[{"$nulls":9},"","","","","","","","","","",""]
[{"$nulls":9},{"$f":"IF(ISNUMBER(F258),F258,\"\")","v":""},{"$f":"IF(ISNUMBER(G258),G258,\"\")","v":""},{"$f":"IF(AND($A258=\"1St\",$F258>0),$F258,\"\")","v":""},"",{"$f":"IF(AND($A258=\"3rd\",$F258>0),$F258,\"\")","v":""},{"$f":"IF(AND($A258=\"4th\",$F258>0),$F258,\"\")","v":""},{"$f":"IF(AND($A258=\"5th\",$F258>0),$F258,\"\")","v":""},"","","",{"$f":"IF(F258=\"win\",1,\"\")","v":""}]
[{"$nulls":9},"","","",{"$f":"IF(AND($A259=\"2nd\",$F259>0),$F259,\"\")","v":""},"","","",{"$f":"IF(AND($H259=\"Quin\",$I259>0),$I259,\"\")","v":""},{"$f":"IF(AND($H259=\"Tri\",$I259>0),$I259,\"\")","v":""},{"$f":"IF(AND($H259=\"F4\",$I259>0),$I259,\"\")","v":""},""]
[{"$nulls":9},"","","","","","","","","","",""]
[{"$nulls":9},"","","","","","","","","","",""]
[{"$nulls":9},"","","","","","","","","","",""]
[{"$nulls":9},"","","","","","","","","","",""]
[{"$nulls":9},"","","","","","","","","","",""]
[{"$nulls":9},"","","","","","","","","","",""]
[{"$nulls":9},"","","","","","","","","","",""]
[{"$nulls":9},"","","","","","","","","","",""]
[{"$nulls":9},"","","","","","","","","","",""]
[{"$nulls":9},"","","","","","","","","","",""]
[{"$nulls":9},"","","","","","","","","","",""]
[{"$nulls":9},"","","","","","","","","","",""]
[{"$nulls":9},"","","","","","","","","","",""]
[{"$nulls":9},"","","","","","","","","","",""]
[{"$nulls":9},"","","","","","","","","","",""]
[{"$nulls":9},"","","","","","","","","","",""]
[{"$nulls":9},"","","","","","","","","","",""]
[{"$nulls":9},"","","","","","","","","","",""]
[{"$nulls":9},"","","","","","","","","","",""]
[{"$nulls":9},"","","","","","","","","","",""]
[{"$nulls":9},"","","","","","","","","","",""]
[{"$nulls":9},"","","","","","","","","","",""]
[{"$nulls":9},"","","","","","","","","","",""]
[{"$nulls":9},"","","","","","","","","","",""]
[{"$nulls":9},"","","","","","","","","","",""]
[{"$nulls":9},"","","","","","","","","","",""]
[{"$nulls":9},"","","","","","","","","","",""]
[{"$nulls":9},"","","","","","","","","","",""]
[{"$nulls":9},"","","","","","","","","","",""]
[{"$nulls":9},"","","","","","","","","","",""]
[{"$nulls":9},"","","","","","","","","","",""]
[{"$nulls":9},"","","","","","","","","","",""]
[{"$nulls":9},"","","","","","","","","","",""]
[{"$nulls":9},"","","","","","","","","","",""]
[{"$nulls":9},"","","","","","","","","","",""]
[{"$nulls":9},"","","","","","","","","","",""]
[{"$nulls":9},"","","","","","","","","","",""]
[{"$nulls":9},"","","","","","","","","","",""]
[{"$nulls":9},"","","","","","","","","","",""]
[{"$nulls":9},"","","","","","","","","","",""]
[{"$nulls":9},"","","","","","","","","","",""]
[{"$nulls":9},"","","","","","","","","","",""]
[{"$nulls":9},"","","","","","","","","","",""]
[{"$nulls":9},"","","","","","","","","","",""]
[{"$nulls":9},"","","","","","","","","","",""]
[{"$nulls":9},"","","","","","","","","","",""]
[{"$nulls":9},"","","","","","","","","","",""]
[{"$nulls":9},"","","","","","","","","","",""]
[{"$nulls":9},"","","","","","","","","","",""]
[{"$nulls":9},"","","","","","","","","","",""]
[{"$nulls":9},"","","","","","","","","","",""]
[{"$nulls":9},"","","","","","","","","","",""]
[{"$nulls":9},"","","","","","","","","","",""]
[{"$nulls":9},"","","","","","","","","","",""]
[{"$nulls":9},"","","","","","","","","","",""]
[{"$nulls":9},"","","","","","","","","","",""]
[{"$nulls":9},"","","","","","","","","","",""]
[{"$nulls":9},"","","","","","","","","","",""]
[{"$nulls":9},"","","","","","","","","","",""]
[{"$nulls":9},"","","","","","","","","","",""]
[{"$nulls":9},"","","","","","","","","","",""]
[{"$nulls":9},"","","","","","","","","","",""]
[{"$nulls":9},{"$f":"IF(ISNUMBER(F322),F322,\"\")","v":""},{"$f":"IF(ISNUMBER(G322),G322,\"\")","v":""},{"$f":"IF(AND($A322=\"1St\",$F322>0),$F322,\"\")","v":""},"",{"$f":"IF(AND($A322=\"3rd\",$F322>0),$F322,\"\")","v":""},{"$f":"IF(AND($A322=\"4th\",$F322>0),$F322,\"\")","v":""},{"$f":"IF(AND($A322=\"5th\",$F322>0),$F322,\"\")","v":""},"","","",{"$f":"IF(F322=\"win\",1,\"\")","v":""}]
[{"$nulls":9},"","","",{"$f":"IF(AND($A323=\"2nd\",$F323>0),$F323,\"\")","v":""},"","","",{"$f":"IF(AND($H323=\"Quin\",$I323>0),$I323,\"\")","v":""},{"$f":"IF(AND($H323=\"Tri\",$I323>0),$I323,\"\")","v":""},{"$f":"IF(AND($H323=\"F4\",$I323>0),$I323,\"\")","v":""},""]
[{"$nulls":9},"","","","","","","","","","",""]
[{"$nulls":9},"","","","","","","","","","",""]
[{"$nulls":9},"","","","","","","","","","",""]
[{"$nulls":9},"","","","","","","","","","",""]
[{"$nulls":9},"","","","","","","","","","",""]
[{"$nulls":9},"","","","","","","","","","",""]
[{"$nulls":9},"","","","","","","","","","",""]
[{"$nulls":9},"","","","","","","","","","",""]
[{"$nulls":9},"","","","","","","","","","",""]
[{"$nulls":9},"","","","","","","","","","",""]
[{"$nulls":9},"","","","","","","","","","",""]
[{"$nulls":9},"","","","","","","","","","",""]
[{"$nulls":9},"","","","","","","","","","",""]
[{"$nulls":9},"","","","","","","","","","",""]
[{"$nulls":9},"","","","","","","","","","",""]
[{"$nulls":18},"",""]
[{"$nulls":9},"","","","","","","","","","",""]
[{"$nulls":9},"","","","","","","","","","",""]
[{"$nulls":9},"","","","","","","","","","",""]
[{"$nulls":9},"","","","","","","","","","",""]
[{"$nulls":9},"","","","","","","","","","",""]
[{"$nulls":9},"","","","","","","","","","",""]
[{"$nulls":9},"","","","","","","","","","",""]
[{"$nulls":9},"","","","","","","","","","",""]
[{"$nulls":9},"","","","","","","","","","",""]
[{"$nulls":9},"","","","","","","","","","",""]
[{"$nulls":9},"","","","","","","","","","",""]
[{"$nulls":9},"","","","","","","","","","",""]
[{"$nulls":9},"","","","","","","","","","",""]
[{"$nulls":9},"","","","","","","","","","",""]
[{"$nulls":9},"","","","","","","","","","",""]
[{"$nulls":9},"","","","","","","","","","",""]
[{"$nulls":9},"","","","","","","","","","",""]
[{"$nulls":9},"","","","","","","","","","",""]
[{"$nulls":9},"","","","","","","","","","",""]
[{"$nulls":9},"","","","","","","","","","",""]
[{"$nulls":9},"","","","","","","","","","",""]
[{"$nulls":9},"","","","","","","","","","",""]
[{"$nulls":9},"","","","","","","","","","",""]
[{"$nulls":9},"","","","","","","","","","",""]
[{"$nulls":9},"","","","","","","","","","",""]
[{"$nulls":9},"","","","","","","","","","",""]
[{"$nulls":9},"","","","","","","","","","",""]
[{"$nulls":9},"","","","","","","","","","",""]
[{"$nulls":9},"","","","","","","","","","",""]
[{"$nulls":9},"","","","","","","","","","",""]
[{"$nulls":9},"","","","","","","","","","",""]
[{"$nulls":9},"","","","","","","","","","",""]
[{"$nulls":9},"","","","","","","","","","",""]
[{"$nulls":9},"","","","","","","","","","",""]
[{"$nulls":9},"","","","","","","","","","",""]
[{"$nulls":9},"","","","","","","","","","",""]
[{"$nulls":9},"","","","","","","","","","",""]
[{"$nulls":9},"","","","","","","","","","",""]
[{"$nulls":9},"","","","","","","","","","",""]
[{"$nulls":9},"","","","","","","","","","",""]
[{"$nulls":9},"","","","","","","","","","",""]
[{"$nulls":9},"","","","","","","","","","",""]
[{"$nulls":9},"","","","","","","","","","",""]
[{"$nulls":9},"","","","","","","","","","",""]
[{"$nulls":9},"","","","","","","","","","",""]
[{"$nulls":9},"","","","","","","","","","",""]
[{"$nulls":9},{"$f":"IF(ISNUMBER(F386),F386,\"\")","v":""},{"$f":"IF(ISNUMBER(G386),G386,\"\")","v":""},{"$f":"IF(AND($A386=\"1St\",$F386>0),$F386,\"\")","v":""},"",{"$f":"IF(AND($A386=\"3rd\",$F386>0),$F386,\"\")","v":""},{"$f":"IF(AND($A386=\"4th\",$F386>0),$F386,\"\")","v":""},{"$f":"IF(AND($A386=\"5th\",$F386>0),$F386,\"\")","v":""},"","","",{"$f":"IF(F386=\"win\",1,\"\")","v":""}]
[{"$nulls":9},"","","",{"$f":"IF(AND($A387=\"2nd\",$F387>0),$F387,\"\")","v":""},"","","",{"$f":"IF(AND($H387=\"Quin\",$I387>0),$I387,\"\")","v":""},{"$f":"IF(AND($H387=\"Tri\",$I387>0),$I387,\"\")","v":""},{"$f":"IF(AND($H387=\"F4\",$I387>0),$I387,\"\")","v":""},""]
[{"$nulls":9},"","","","","","","","","","",""]
[{"$nulls":9},"","","","","","","","","","",""]
[{"$nulls":9},"","","","","","","","","","",""]
[{"$nulls":9},"","","","","","","","","","",""]
[{"$nulls":9},"","","","","","","","","","",""]
[{"$nulls":9},"","","","","","","","","","",""]
[{"$nulls":9},"","","","","","","","","","",""]
[{"$nulls":9},"","","","","","","","","","",""]
[{"$nulls":9},"","","","","","","","","","",""]
[{"$nulls":9},"","","","","","","","","","",""]
[{"$nulls":9},"","","","","","","","","","",""]
[{"$nulls":9},"","","","","","","","","","",""]
[{"$nulls":9},"","","","","","","","","","",""]
[{"$nulls":9},"","","","","","","","","","",""]
[{"$nulls":9},"","","","","","","","","","",""]
[{"$nulls":9},"","","","","","","","","","",""]
[{"$nulls":9},"","","","","","","","","","",""]
[{"$nulls":9},"","","","","","","","","","",""]
[{"$nulls":9},"","","","","","","","","","",""]
[{"$nulls":9},"","","","","","","","","","",""]
[{"$nulls":9},"","","","","","","","","","",""]
[{"$nulls":9},"","","","","","","","","","",""]
[{"$nulls":9},"","","","","","","","","","",""]
[{"$nulls":9},"","","","","","","","","","",""]
[{"$nulls":9},"","","","","","","","","","",""]
[{"$nulls":9},"","","","","","","","","","",""]
[{"$nulls":9},"","","","","","","","","","",""]
[{"$nulls":9},"","","","","","","","","","",""]
[{"$nulls":9},"","","","","","","","","","",""]
[{"$nulls":9},"","","","","","","","","","",""]
[{"$nulls":9},"","","","","","","","","","",""]
[{"$nulls":9},"","","","","","","","","","",""]
[{"$nulls":9},"","","","","","","","","","",""]
[{"$nulls":9},"","","","","","","","","","",""]
[{"$nulls":9},"","","","","","","","","","",""]
[{"$nulls":9},"","","","","","","","","","",""]
[{"$nulls":9},"","","","","","","","","","",""]
[{"$nulls":9},"","","","","","","","","","",""]
[{"$nulls":9},"","","","","","","","","","",""]
[{"$nulls":9},"","","","","","","","","","",""]
[{"$nulls":9},"","","","","","","","","","",""]
[{"$nulls":9},"","","","","","","","","","",""]
[{"$nulls":9},"","","","","","","","","","",""]
[{"$nulls":9},"","","","","","","","","","",""]
[{"$nulls":9},"","","","","","","","","","",""]
[{"$nulls":9},"","","","","","","","","","",""]
[{"$nulls":9},"","","","","","","","","","",""]
[{"$nulls":9},"","","","","","","","","","",""]
[{"$nulls":9},"","","","","","","","","","",""]
[{"$nulls":9},"","","","","","","","","","",""]
[{"$nulls":9},"","","","","","","","","","",""]
[{"$nulls":9},"","","","","","","","","","",""]
[{"$nulls":9},"","","","","","","","","","",""]
[{"$nulls":9},"","","","","","","","","","",""]
[{"$nulls":9},"","","","","","","","","","",""]
[{"$nulls":9},"","","","","","","","","","",""]
[{"$nulls":9},"","","","","","","","","","",""]
[{"$nulls":9},"","","","","","","","","","",""]
[{"$nulls":9},"","","","","","","","","","",""]
[{"$nulls":9},"","","","","","","","","","",""]
[{"$nulls":9},"","","","","","","","","","",""]
[{"$nulls":9},"","","","","","","","","","",""]
[{"$nulls":9},{"$f":"IF(ISNUMBER(F450),F450,\"\")","v":""},{"$f":"IF(ISNUMBER(G450),G450,\"\")","v":""},{"$f":"IF(AND($A450=\"1St\",$F450>0),$F450,\"\")","v":""},"",{"$f":"IF(AND($A450=\"3rd\",$F450>0),$F450,\"\")","v":""},{"$f":"IF(AND($A450=\"4th\",$F450>0),$F450,\"\")","v":""},{"$f":"IF(AND($A450=\"5th\",$F450>0),$F450,\"\")","v":""},"","","",{"$f":"IF(F450=\"win\",1,\"\")","v":""}]
[{"$nulls":9},"","","",{"$f":"IF(AND($A451=\"2nd\",$F451>0),$F451,\"\")","v":""},"","","",{"$f":"IF(AND($H451=\"Quin\",$I451>0),$I451,\"\")","v":""},{"$f":"IF(AND($H451=\"Tri\",$I451>0),$I451,\"\")","v":""},{"$f":"IF(AND($H451=\"F4\",$I451>0),$I451,\"\")","v":""},""]
[{"$nulls":9},"","","","","","","","","","",""]
[{"$nulls":9},"","","","","","","","","","",""]
[{"$nulls":9},"","","","","","","","","","",""]
[{"$nulls":9},"","","","","","","","","","",""]
[{"$nulls":9},"","","","","","","","","","",""]
[{"$nulls":9},"","","","","","","","","","",""]
[{"$nulls":9},"","","","","","","","","","",""]
[{"$nulls":9},"","","","","","","","","","",""]
[{"$nulls":9},"","","","","","","","","","",""]
[{"$nulls":9},"","","","","","","","","","",""]
[{"$nulls":9},"","","","","","","","","","",""]
[{"$nulls":9},"","","","","","","","","","",""]
[{"$nulls":9},"","","","","","","","","","",""]
[{"$nulls":9},"","","","","","","","","","",""]
[{"$nulls":9},"","","","","","","","","","",""]
[{"$nulls":9},"","","","","","","","","","",""]
[{"$nulls":9},"","","","","","","","","","",""]
[{"$nulls":9},"","","","","","","","","","",""]
[{"$nulls":9},"","","","","","","","","","",""]
[{"$nulls":9},"","","","","","","","","","",""]
[{"$nulls":9},"","","","","","","","","","",""]
[{"$nulls":9},"","","","","","","","","","",""]
[{"$nulls":9},"","","","","","","","","","",""]
[{"$nulls":9},"","","","","","","","","","",""]
[{"$nulls":9},"","","","","","","","","","",""]
[{"$nulls":9},"","","","","","","","","","",""]
[{"$nulls":9},"","","","","","","","","","",""]
[{"$nulls":9},"","","","","","","","","","",""]
[{"$nulls":9},"","","","","","","","","","",""]
[{"$nulls":9},"","","","","","","","","","",""]
[{"$nulls":9},"","","","","","","","","","",""]
[{"$nulls":9},"","","","","","","","","","",""]
[{"$nulls":9},"","","","","","","","","","",""]
[{"$nulls":9},"","","","","","","","","","",""]
[{"$nulls":9},"","","","","","","","","","",""]
[{"$nulls":9},"","","","","","","","","","",""]
[{"$nulls":9},"","","","","","","","","","",""]
[{"$nulls":9},"","","","","","","","","","",""]
[{"$nulls":9},"","","","","","","","","","",""]
[{"$nulls":9},"","","","","","","","","","",""]
[{"$nulls":9},"","","","","","","","","","",""]
[{"$nulls":9},"","","","","","","","","","",""]
[{"$nulls":9},"","","","","","","","","","",""]
[{"$nulls":9},"","","","","","","","","","",""]
[{"$nulls":9},"","","","","","","","","","",""]
[{"$nulls":9},"","","","","","","","","","",""]
[{"$nulls":9},"","","","","","","","","","",""]
[{"$nulls":9},"","","","","","","","","","",""]
[{"$nulls":9},"","","","","","","","","","",""]
[{"$nulls":9},"","","","","","","","","","",""]
[{"$nulls":9},"","","","","","","","","","",""]
[{"$nulls":9},"","","","","","","","","","",""]
[{"$nulls":9},"","","","","","","","","","",""]
[{"$nulls":9},"","","","","","","","","","",""]
[{"$nulls":9},"","","","","","","","","","",""]
[{"$nulls":9},"","","","","","","","","","",""]
[{"$nulls":9},"","","","","","","","","","",""]
[{"$nulls":9},"","","","","","","","","","",""]
[{"$nulls":9},"","","","","","","","","","",""]
[{"$nulls":9},"","","","","","","","","","",""]
[{"$nulls":9},"","","","","","","","","","",""]
[{"$nulls":9},"","","","","","","","","","",""]
[{"$nulls":9},{"$f":"IF(ISNUMBER(F514),F514,\"\")","v":""},{"$f":"IF(ISNUMBER(G514),G514,\"\")","v":""},{"$f":"IF(AND($A514=\"1St\",$F514>0),$F514,\"\")","v":""},"",{"$f":"IF(AND($A514=\"3rd\",$F514>0),$F514,\"\")","v":""},{"$f":"IF(AND($A514=\"4th\",$F514>0),$F514,\"\")","v":""},{"$f":"IF(AND($A514=\"5th\",$F514>0),$F514,\"\")","v":""},"","","",{"$f":"IF(F514=\"win\",1,\"\")","v":""}]
[{"$nulls":9},"","","",{"$f":"IF(AND($A515=\"2nd\",$F515>0),$F515,\"\")","v":""},"","","",{"$f":"IF(AND($H515=\"Quin\",$I515>0),$I515,\"\")","v":""},{"$f":"IF(AND($H515=\"Tri\",$I515>0),$I515,\"\")","v":""},{"$f":"IF(AND($H515=\"F4\",$I515>0),$I515,\"\")","v":""},""]
[{"$nulls":9},"","","","","","","","","","",""]
[{"$nulls":9},"","","","","","","","","","",""]
[{"$nulls":9},"","","","","","","","","","",""]
[{"$nulls":9},"","","","","","","","","","",""]
[{"$nulls":9},"","","","","","","","","","",""]
[{"$nulls":9},"","","","","","","","","","",""]
[{"$nulls":9},"","","","","","","","","","",""]
[{"$nulls":9},"","","","","","","","","","",""]
[{"$nulls":9},"","","","","","","","","","",""]
[{"$nulls":9},"","","","","","","","","","",""]
[{"$nulls":9},"","","","","","","","","","",""]
[{"$nulls":9},"","","","","","","","","","",""]
[{"$nulls":9},"","","","","","","","","","",""]
[{"$nulls":9},"","","","","","","","","","",""]
[{"$nulls":9},"","","","","","","","","","",""]
[{"$nulls":9},"","","","","","","","","","",""]
[{"$nulls":9},"","","","","","","","","","",""]
[{"$nulls":9},"","","","","","","","","","",""]
[{"$nulls":9},"","","","","","","","","","",""]
[{"$nulls":9},"","","","","","","","","","",""]
[{"$nulls":9},"","","","","","","","","","",""]
[{"$nulls":9},"","","","","","","","","","",""]
[{"$nulls":9},"","","","","","","","","","",""]
[{"$nulls":9},"","","","","","","","","","",""]
[{"$nulls":9},"","","","","","","","","","",""]
[{"$nulls":9},"","","","","","","","","","",""]
[{"$nulls":9},"","","","","","","","","","",""]
[{"$nulls":9},"","","","","","","","","","",""]
[{"$nulls":9},"","","","","","","","","","",""]
[{"$nulls":9},"","","","","","","","","","",""]
[{"$nulls":9},"","","","","","","","","","",""]
[{"$nulls":9},"","","","","","","","","","",""]
[{"$nulls":9},"","","","","","","","","","",""]
[{"$nulls":9},"","","","","","","","","","",""]
[{"$nulls":9},"","","","","","","","","","",""]
[{"$nulls":9},"","","","","","","","","","",""]
[{"$nulls":9},"","","","","","","","","","",""]
[{"$nulls":9},"","","","","","","","","","",""]
[{"$nulls":9},"","","","","","","","","","",""]
[{"$nulls":9},"","","","","","","","","","",""]
[{"$nulls":9},"","","","","","","","","","",""]
[{"$nulls":9},"","","","","","","","","","",""]
[{"$nulls":9},"","","","","","","","","","",""]
[{"$nulls":9},"","","","","","","","","","",""]
[{"$nulls":9},"","","","","","","","","","",""]
[{"$nulls":9},"","","","","","","","","","",""]
[{"$nulls":9},"","","","","","","","","","",""]
[{"$nulls":9},"","","","","","","","","","",""]
[{"$nulls":9},"","","","","","","","","","",""]
[{"$nulls":9},"","","","","","","","","","",""]
[{"$nulls":9},"","","","","","","","","","",""]
[{"$nulls":9},"","","","","","","","","","",""]
[{"$nulls":9},"","","","","","","","","","",""]
[{"$nulls":9},"","","","","","","","","","",""]
[{"$nulls":9},"","","","","","","","","","",""]
[{"$nulls":9},"","","","","","","","","","",""]
[{"$nulls":9},"","","","","","","","","","",""]
[{"$nulls":9},"","","","","","","","","","",""]
[{"$nulls":9},"","","","","","","","","","",""]
[{"$nulls":9},"","","","","","","","","","",""]
[{"$nulls":9},"","","","","","","","","","",""]
[{"$nulls":9},"","","","","","","","","","",""]
[{"$nulls":9},{"$f":"IF(ISNUMBER(F578),F578,\"\")","v":""},{"$f":"IF(ISNUMBER(G578),G578,\"\")","v":""},{"$f":"IF(AND($A578=\"1St\",$F578>0),$F578,\"\")","v":""},"",{"$f":"IF(AND($A578=\"3rd\",$F578>0),$F578,\"\")","v":""},{"$f":"IF(AND($A578=\"4th\",$F578>0),$F578,\"\")","v":""},{"$f":"IF(AND($A578=\"5th\",$F578>0),$F578,\"\")","v":""},"","","",{"$f":"IF(F578=\"win\",1,\"\")","v":""}]
[{"$nulls":9},"","","",{"$f":"IF(AND($A579=\"2nd\",$F579>0),$F579,\"\")","v":""},"","","",{"$f":"IF(AND($H579=\"Quin\",$I579>0),$I579,\"\")","v":""},{"$f":"IF(AND($H579=\"Tri\",$I579>0),$I579,\"\")","v":""},{"$f":"IF(AND($H579=\"F4\",$I579>0),$I579,\"\")","v":""},""]
[{"$nulls":9},"","","","","","","","","","",""]
[{"$nulls":9},"","","","","","","","","","",""]
[{"$nulls":9},"","","","","","","","","","",""]
[{"$nulls":9},"","","","","","","","","","",""]
[{"$nulls":9},"","","","","","","","","","",""]
[{"$nulls":9},"","","","","","","","","","",""]
[{"$nulls":9},"","","","","","","","","","",""]
[{"$nulls":9},"","","","","","","","","","",""]
[{"$nulls":9},"","","","","","","","","","",""]
[{"$nulls":9},"","","","","","","","","","",""]
[{"$nulls":9},"","","","","","","","","","",""]
[{"$nulls":9},"","","","","","","","","","",""]
[{"$nulls":9},"","","","","","","","","","",""]
[{"$nulls":9},"","","","","","","","","","",""]
[{"$nulls":9},"","","","","","","","","","",""]
[{"$nulls":9},"","","","","","","","","","",""]
[{"$nulls":9},"","","","","","","","","","",""]
[{"$nulls":9},"","","","","","","","","","",""]
[{"$nulls":9},"","","","","","","","","","",""]
[{"$nulls":9},"","","","","","","","","","",""]
[{"$nulls":9},"","","","","","","","","","",""]
[{"$nulls":9},"","","","","","","","","","",""]
[{"$nulls":9},"","","","","","","","","","",""]
[{"$nulls":9},"","","","","","","","","","",""]
[{"$nulls":9},"","","","","","","","","","",""]
[{"$nulls":9},"","","","","","","","","","",""]
[{"$nulls":9},"","","","","","","","","","",""]
[{"$nulls":9},"","","","","","","","","","",""]
[{"$nulls":9},"","","","","","","","","","",""]
[{"$nulls":9},"","","","","","","","","","",""]
[{"$nulls":9},"","","","","","","","","","",""]
[{"$nulls":9},"","","","","","","","","","",""]
[{"$nulls":9},"","","","","","","","","","",""]
[{"$nulls":9},"","","","","","","","","","",""]
[{"$nulls":9},"","","","","","","","","","",""]
[{"$nulls":9},"","","","","","","","","","",""]
[{"$nulls":9},"","","","","","","","","","",""]
[{"$nulls":9},"","","","","","","","","","",""]
[{"$nulls":9},"","","","","","","","","","",""]
[{"$nulls":9},"","","","","","","","","","",""]
[{"$nulls":9},"","","","","","","","","","",""]
[{"$nulls":9},"","","","","","","","","","",""]
[{"$nulls":9},"","","","","","","","","","",""]
[{"$nulls":9},"","","","","","","","","","",""]
[{"$nulls":9},"","","","","","","","","","",""]
[{"$nulls":9},"","","","","","","","","","",""]
[{"$nulls":9},"","","","","","","","","","",""]
[{"$nulls":9},"","","","","","","","","","",""]
[{"$nulls":9},"","","","","","","","","","",""]
[{"$nulls":9},"","","","","","","","","","",""]
[{"$nulls":9},"","","","","","","","","","",""]
[{"$nulls":9},"","","","","","","","","","",""]
[{"$nulls":9},"","","","","","","","","","",""]
[{"$nulls":9},"","","","","","","","","","",""]
[{"$nulls":9},"","","","","","","","","","",""]
[{"$nulls":9},"","","","","","","","","","",""]
[{"$nulls":9},"","","","","","","","","","",""]
[{"$nulls":9},"","","","","","","","","","",""]
[{"$nulls":9},"","","","","","","","","","",""]
[{"$nulls":9},"","","","","","","","","","",""]
[{"$nulls":9},"","","","","","","","","","",""]
[{"$nulls":9},"","","","","","","","","","",""]
[{"$nulls":9},{"$f":"IF(ISNUMBER(F642),F642,\"\")","v":""},{"$f":"IF(ISNUMBER(G642),G642,\"\")","v":""},{"$f":"IF(AND($A642=\"1St\",$F642>0),$F642,\"\")","v":""},"",{"$f":"IF(AND($A642=\"3rd\",$F642>0),$F642,\"\")","v":""},{"$f":"IF(AND($A642=\"4th\",$F642>0),$F642,\"\")","v":""},{"$f":"IF(AND($A642=\"5th\",$F642>0),$F642,\"\")","v":""},"","","",{"$f":"IF(F642=\"win\",1,\"\")","v":""}]
[{"$nulls":9},"","","",{"$f":"IF(AND($A643=\"2nd\",$F643>0),$F643,\"\")","v":""},"","","",{"$f":"IF(AND($H643=\"Quin\",$I643>0),$I643,\"\")","v":""},{"$f":"IF(AND($H643=\"Tri\",$I643>0),$I643,\"\")","v":""},{"$f":"IF(AND($H643=\"F4\",$I643>0),$I643,\"\")","v":""},""]
[{"$nulls":9},"","","","","","","","","","",""]
[{"$nulls":9},"","","","","","","","","","",""]
[{"$nulls":9},"","","","","","","","","","",""]
[{"$nulls":9},"","","","","","","","","","",""]
[{"$nulls":9},"","","","","","","","","","",""]
[{"$nulls":9},"","","","","","","","","","",""]
[{"$nulls":9},"","","","","","","","","","",""]
[{"$nulls":9},"","","","","","","","","","",""]
[{"$nulls":9},"","","","","","","","","","",""]
[{"$nulls":9},"","","","","","","","","","",""]
[{"$nulls":9},"","","","","","","","","","",""]
[{"$nulls":9},"","","","","","","","","","",""]
[{"$nulls":9},"","","","","","","","","","",""]
[{"$nulls":9},"","","","","","","","","","",""]
[{"$nulls":9},"","","","","","","","","","",""]
[{"$nulls":9},"","","","","","","","","","",""]
[{"$nulls":9},"","","","","","","","","","",""]
[{"$nulls":9},"","","","","","","","","","",""]
[{"$nulls":9},"","","","","","","","","","",""]
[{"$nulls":9},"","","","","","","","","","",""]
[{"$nulls":9},"","","","","","","","","","",""]
[{"$nulls":9},"","","","","","","","","","",""]
[{"$nulls":9},"","","","","","","","","","",""]
[{"$nulls":9},"","","","","","","","","","",""]
[{"$nulls":9},"","","","","","","","","","",""]
[{"$nulls":9},"","","","","","","","","","",""]
[{"$nulls":9},"","","","","","","","","","",""]
[{"$nulls":9},"","","","","","","","","","",""]
[{"$nulls":9},"","","","","","","","","","",""]
[{"$nulls":9},"","","","","","","","","","",""]
[{"$nulls":9},"","","","","","","","","","",""]
[{"$nulls":9},"","","","","","","","","","",""]
[{"$nulls":9},"","","","","","","","","","",""]
[{"$nulls":9},"","","","","","","","","","",""]
[{"$nulls":9},"","","","","","","","","","",""]
[{"$nulls":9},"","","","","","","","","","",""]
[{"$nulls":9},"","","","","","","","","","",""]
[{"$nulls":9},"","","","","","","","","","",""]
[{"$nulls":9},"","","","","","","","","","",""]
[{"$nulls":9},"","","","","","","","","","",""]
[{"$nulls":9},"","","","","","","","","","",""]
[{"$nulls":9},"","","","","","","","","","",""]
[{"$nulls":9},"","","","","","","","","","",""]
[{"$nulls":9},"","","","","","","","","","",""]
[{"$nulls":9},"","","","","","","","","","",""]
[{"$nulls":9},"","","","","","","","","","",""]
[{"$nulls":9},"","","","","","","","","","",""]
[{"$nulls":9},"","","","","","","","","","",""]
[{"$nulls":9},"","","","","","","","","","",""]
[{"$nulls":9},"","","","","","","","","","",""]
[{"$nulls":9},"","","","","","","","","","",""]
[{"$nulls":9},"","","","","","","","","","",""]
[{"$nulls":9},"","","","","","","","","","",""]
[{"$nulls":9},"","","","","","","","","","",""]
[{"$nulls":9},"","","","","","","","","","",""]
[{"$nulls":9},"","","","","","","","","","",""]
[{"$nulls":9},"","","","","","","","","","",""]
[{"$nulls":9},"","","","","","","","","","",""]
[{"$nulls":9},"","","","","","","","","","",""]
[{"$nulls":9},"","","","","","","","","","",""]
[{"$nulls":9},"","","","","","","","","","",""]
[{"$nulls":9},"","","","","","","","","","",""]
[{"$nulls":9},{"$f":"IF(ISNUMBER(F706),F706,\"\")","v":""},{"$f":"IF(ISNUMBER(G706),G706,\"\")","v":""},{"$f":"IF(AND($A706=\"1St\",$F706>0),$F706,\"\")","v":""},"",{"$f":"IF(AND($A706=\"3rd\",$F706>0),$F706,\"\")","v":""},{"$f":"IF(AND($A706=\"4th\",$F706>0),$F706,\"\")","v":""},{"$f":"IF(AND($A706=\"5th\",$F706>0),$F706,\"\")","v":""},"","","",{"$f":"IF(F706=\"win\",1,\"\")","v":""}]
[{"$nulls":9},"","","",{"$f":"IF(AND($A707=\"2nd\",$F707>0),$F707,\"\")","v":""},"","","",{"$f":"IF(AND($H707=\"Quin\",$I707>0),$I707,\"\")","v":""},{"$f":"IF(AND($H707=\"Tri\",$I707>0),$I707,\"\")","v":""},{"$f":"IF(AND($H707=\"F4\",$I707>0),$I707,\"\")","v":""},""]
[{"$nulls":9},"","","","","","","","","","",""]
[{"$nulls":9},"","","","","","","","","","",""]
[{"$nulls":9},"","","","","","","","","","",""]
[{"$nulls":9},"","","","","","","","","","",""]
[{"$nulls":9},"","","","","","","","","","",""]
[{"$nulls":9},"","","","","","","","","","",""]
[{"$nulls":9},"","","","","","","","","","",""]
[{"$nulls":9},"","","","","","","","","","",""]
[{"$nulls":9},"","","","","","","","","","",""]
[{"$nulls":9},"","","","","","","","","","",""]
[{"$nulls":9},"","","","","","","","","","",""]
[{"$nulls":9},"","","","","","","","","","",""]
[{"$nulls":9},"","","","","","","","","","",""]
[{"$nulls":9},"","","","","","","","","","",""]
[{"$nulls":9},"","","","","","","","","","",""]
[{"$nulls":9},"","","","","","","","","","",""]
[{"$nulls":9},"","","","","","","","","","",""]
[{"$nulls":9},"","","","","","","","","","",""]
[{"$nulls":9},"","","","","","","","","","",""]
[{"$nulls":9},"","","","","","","","","","",""]
[{"$nulls":9},"","","","","","","","","","",""]
[{"$nulls":9},"","","","","","","","","","",""]
[{"$nulls":9},"","","","","","","","","","",""]
[{"$nulls":9},"","","","","","","","","","",""]
[{"$nulls":9},"","","","","","","","","","",""]
[{"$nulls":9},"","","","","","","","","","",""]
[{"$nulls":9},"","","","","","","","","","",""]
[{"$nulls":9},"","","","","","","","","","",""]
[{"$nulls":9},"","","","","","","","","","",""]
[{"$nulls":9},"","","","","","","","","","",""]
[{"$nulls":9},"","","","","","","","","","",""]
[{"$nulls":9},"","","","","","","","","","",""]
[{"$nulls":9},"","","","","","","","","","",""]
[{"$nulls":9},"","","","","","","","","","",""]
[{"$nulls":9},"","","","","","","","","","",""]
[{"$nulls":9},"","","","","","","","","","",""]
[{"$nulls":9},"","","","","","","","","","",""]
[{"$nulls":9},"","","","","","","","","","",""]
[{"$nulls":9},"","","","","","","","","","",""]
[{"$nulls":9},"","","","","","","","","","",""]
[{"$nulls":9},"","","","","","","","","","",""]
[{"$nulls":9},"","","","","","","","","","",""]
[{"$nulls":9},"","","","","","","","","","",""]
[{"$nulls":9},"","","","","","","","","","",""]
[{"$nulls":9},"","","","","","","","","","",""]
[{"$nulls":9},"","","","","","","","","","",""]
[{"$nulls":9},"","","","","","","","","","",""]
[{"$nulls":9},"","","","","","","","","","",""]
[{"$nulls":9},"","","","","","","","","","",""]
[{"$nulls":9},"","","","","","","","","","",""]
[{"$nulls":9},"","","","","","","","","","",""]
[{"$nulls":9},"","","","","","","","","","",""]
[{"$nulls":9},"","","","","","","","","","",""]
[{"$nulls":9},"","","","","","","","","","",""]
[{"$nulls":9},"","","","","","","","","","",""]
[{"$nulls":9},"","","","","","","","","","",""]
[{"$nulls":9},"","","","","","","","","","",""]
[{"$nulls":9},"","","","","","","","","","",""]
[{"$nulls":9},"","","","","","","","","","",""]
[{"$nulls":9},"","","","","","","","","","",""]
[{"$nulls":9},"","","","","","","","","","",""]
[{"$nulls":9},"","","","","","","","","","",""]
[{"$nulls":9},{"$f":"IF(ISNUMBER(F770),F770,\"\")","v":""},{"$f":"IF(ISNUMBER(G770),G770,\"\")","v":""},{"$f":"IF(AND($A770=\"1St\",$F770>0),$F770,\"\")","v":""},"",{"$f":"IF(AND($A770=\"3rd\",$F770>0),$F770,\"\")","v":""},{"$f":"IF(AND($A770=\"4th\",$F770>0),$F770,\"\")","v":""},{"$f":"IF(AND($A770=\"5th\",$F770>0),$F770,\"\")","v":""},"","","",{"$f":"IF(F770=\"win\",1,\"\")","v":""}]
[{"$nulls":9},"","","",{"$f":"IF(AND($A771=\"2nd\",$F771>0),$F771,\"\")","v":""},"","","",{"$f":"IF(AND($H771=\"Quin\",$I771>0),$I771,\"\")","v":""},{"$f":"IF(AND($H771=\"Tri\",$I771>0),$I771,\"\")","v":""},{"$f":"IF(AND($H771=\"F4\",$I771>0),$I771,\"\")","v":""},""]
[{"$nulls":9},"","","","","","","","","","",""]
[{"$nulls":9},"","","","","","","","","","",""]
[{"$nulls":9},"","","","","","","","","","",""]
[{"$nulls":9},"","","","","","","","","","",""]
[{"$nulls":9},"","","","","","","","","","",""]
[{"$nulls":9},"","","","","","","","","","",""]
[{"$nulls":9},"","","","","","","","","","",""]
[{"$nulls":9},"","","","","","","","","","",""]
[{"$nulls":9},"","","","","","","","","","",""]
[{"$nulls":9},"","","","","","","","","","",""]
[{"$nulls":9},"","","","","","","","","","",""]
[{"$nulls":9},"","","","","","","","","","",""]
[{"$nulls":9},"","","","","","","","","","",""]
[{"$nulls":9},"","","","","","","","","","",""]
[{"$nulls":9},"","","","","","","","","","",""]
[{"$nulls":9},"","","","","","","","","","",""]
[{"$nulls":9},"","","","","","","","","","",""]
[{"$nulls":9},"","","","","","","","","","",""]
[{"$nulls":9},"","","","","","","","","","",""]
[{"$nulls":9},"","","","","","","","","","",""]
[{"$nulls":9},"","","","","","","","","","",""]
[{"$nulls":9},"","","","","","","","","","",""]
[{"$nulls":9},"","","","","","","","","","",""]
[{"$nulls":9},"","","","","","","","","","",""]
[{"$nulls":9},"","","","","","","","","","",""]
[{"$nulls":9},"","","","","","","","","","",""]
[{"$nulls":9},"","","","","","","","","","",""]
[{"$nulls":9},"","","","","","","","","","",""]
[{"$nulls":9},"","","","","","","","","","",""]
[{"$nulls":9},"","","","","","","","","","",""]
[{"$nulls":9},"","","","","","","","","","",""]
[{"$nulls":9},"","","","","","","","","","",""]
[{"$nulls":9},"","","","","","","","","","",""]
[{"$nulls":9},"","","","","","","","","","",""]
[{"$nulls":9},"","","","","","","","","","",""]
[{"$nulls":9},"","","","","","","","","","",""]
[{"$nulls":9},"","","","","","","","","","",""]
[{"$nulls":9},"","","","","","","","","","",""]
[{"$nulls":9},"","","","","","","","","","",""]
[{"$nulls":9},"","","","","","","","","","",""]
[{"$nulls":9},"","","","","","","","","","",""]
[{"$nulls":9},"","","","","","","","","","",""]
[{"$nulls":9},"","","","","","","","","","",""]
[{"$nulls":9},"","","","","","","","","","",""]
[{"$nulls":9},"","","","","","","","","","",""]
[{"$nulls":9},"","","","","","","","","","",""]
[{"$nulls":9},"","","","","","","","","","",""]
[{"$nulls":9},"","","","","","","","","","",""]
[{"$nulls":9},"","","","","","","","","","",""]
[{"$nulls":9},"","","","","","","","","","",""]
[{"$nulls":9},"","","","","","","","","","",""]
[{"$nulls":9},"","","","","","","","","","",""]
[{"$nulls":9},"","","","","","","","","","",""]
[{"$nulls":9},"","","","","","","","","","",""]
[{"$nulls":9},"","","","","","","","","","",""]
[{"$nulls":9},"","","","","","","","","","",""]
[{"$nulls":9},"","","","","","","","","","",""]
[{"$nulls":9},"","","","","","","","","","",""]
[{"$nulls":9},"","","","","","","","","","",""]
[{"$nulls":9},"","","","","","","","","","",""]
[{"$nulls":9},"","","","","","","","","","",""]
[{"$nulls":9},"","","","","","","","","","",""]
[{"$nulls":9},{"$f":"IF(ISNUMBER(F834),F834,\"\")","v":""},{"$f":"IF(ISNUMBER(G834),G834,\"\")","v":""},{"$f":"IF(AND($A834=\"1St\",$F834>0),$F834,\"\")","v":""},"",{"$f":"IF(AND($A834=\"3rd\",$F834>0),$F834,\"\")","v":""},{"$f":"IF(AND($A834=\"4th\",$F834>0),$F834,\"\")","v":""},{"$f":"IF(AND($A834=\"5th\",$F834>0),$F834,\"\")","v":""},"","","",{"$f":"IF(F834=\"win\",1,\"\")","v":""}]
[{"$nulls":9},"","","",{"$f":"IF(AND($A835=\"2nd\",$F835>0),$F835,\"\")","v":""},"","","",{"$f":"IF(AND($H835=\"Quin\",$I835>0),$I835,\"\")","v":""},{"$f":"IF(AND($H835=\"Tri\",$I835>0),$I835,\"\")","v":""},{"$f":"IF(AND($H835=\"F4\",$I835>0),$I835,\"\")","v":""},""]
[{"$nulls":9},"","","","","","","","","","",""]
[{"$nulls":9},"","","","","","","","","","",""]
[{"$nulls":9},"","","","","","","","","","",""]
[{"$nulls":9},"","","","","","","","","","",""]
[{"$nulls":9},"","","","","","","","","","",""]
[{"$nulls":9},"","","","","","","","","","",""]
[{"$nulls":9},"","","","","","","","","","",""]
[{"$nulls":9},"","","","","","","","","","",""]
[{"$nulls":9},"","","","","","","","","","",""]
[{"$nulls":9},"","","","","","","","","","",""]
[{"$nulls":9},"","","","","","","","","","",""]
[{"$nulls":9},"","","","","","","","","","",""]
[{"$nulls":9},"","","","","","","","","","",""]
[{"$nulls":9},"","","","","","","","","","",""]
[{"$nulls":9},"","","","","","","","","","",""]
[{"$nulls":9},"","","","","","","","","","",""]
[{"$nulls":9},"","","","","","","","","","",""]
[{"$nulls":9},"","","","","","","","","","",""]
[{"$nulls":9},"","","","","","","","","","",""]
[{"$nulls":9},"","","","","","","","","","",""]
[{"$nulls":9},"","","","","","","","","","",""]
[{"$nulls":9},"","","","","","","","","","",""]
[{"$nulls":9},"","","","","","","","","","",""]
[{"$nulls":9},"","","","","","","","","","",""]
[{"$nulls":9},"","","","","","","","","","",""]
[{"$nulls":9},"","","","","","","","","","",""]
[{"$nulls":9},"","","","","","","","","","",""]
[{"$nulls":9},"","","","","","","","","","",""]
[{"$nulls":9},"","","","","","","","","","",""]
[{"$nulls":9},"","","","","","","","","","",""]
[{"$nulls":9},"","","","","","","","","","",""]
[{"$nulls":9},"","","","","","","","","","",""]
[{"$nulls":9},"","","","","","","","","","",""]
[{"$nulls":9},"","","","","","","","","","",""]
[{"$nulls":9},"","","","","","","","","","",""]
[{"$nulls":9},"","","","","","","","","","",""]
[{"$nulls":9},"","","","","","","","","","",""]
[{"$nulls":9},"","","","","","","","","","",""]
[{"$nulls":9},"","","","","","","","","","",""]
[{"$nulls":9},"","","","","","","","","","",""]
[{"$nulls":9},"","","","","","","","","","",""]
[{"$nulls":9},"","","","","","","","","","",""]
[{"$nulls":9},"","","","","","","","","","",""]
[{"$nulls":9},"","","","","","","","","","",""]
[{"$nulls":9},"","","","","","","","","","",""]
[{"$nulls":9},"","","","","","","","","","",""]
[{"$nulls":9},"","","","","","","","","","",""]
[{"$nulls":9},"","","","","","","","","","",""]
[{"$nulls":9},"","","","","","","","","","",""]
[{"$nulls":9},"","","","","","","","","","",""]
[{"$nulls":9},"","","","","","","","","","",""]
[{"$nulls":9},"","","","","","","","","","",""]
[{"$nulls":9},"","","","","","","","","","",""]
[{"$nulls":9},"","","","","","","","","","",""]
[{"$nulls":9},"","","","","","","","","","",""]
[{"$nulls":9},"","","","","","","","","","",""]
[{"$nulls":9},"","","","","","","","","","",""]
[{"$nulls":9},"","","","","","","","","","",""]
[{"$nulls":9},"","","","","","","","","","",""]
[{"$nulls":9},"","","","","","","","","","",""]
[{"$nulls":9},"","","","","","","","","","",""]
[{"$nulls":9},"","","","","","","","","","",""]
[{"$nulls":9},{"$f":"IF(ISNUMBER(F898),F898,\"\")","v":""},{"$f":"IF(ISNUMBER(G898),G898,\"\")","v":""},{"$f":"IF(AND($A898=\"1St\",$F898>0),$F898,\"\")","v":""},"",{"$f":"IF(AND($A898=\"3rd\",$F898>0),$F898,\"\")","v":""},{"$f":"IF(AND($A898=\"4th\",$F898>0),$F898,\"\")","v":""},{"$f":"IF(AND($A898=\"5th\",$F898>0),$F898,\"\")","v":""},"","","",{"$f":"IF(F898=\"win\",1,\"\")","v":""}]
[{"$nulls":9},"","","",{"$f":"IF(AND($A899=\"2nd\",$F899>0),$F899,\"\")","v":""},"","","",{"$f":"IF(AND($H899=\"Quin\",$I899>0),$I899,\"\")","v":""},{"$f":"IF(AND($H899=\"Tri\",$I899>0),$I899,\"\")","v":""},{"$f":"IF(AND($H899=\"F4\",$I899>0),$I899,\"\")","v":""},""]
[{"$nulls":9},"","","","","","","","","","",""]
[{"$nulls":9},"","","","","","","","","","",""]
[{"$nulls":9},"","","","","","","","","","",""]
[{"$nulls":9},"","","","","","","","","","",""]
[{"$nulls":9},"","","","","","","","","","",""]
[{"$nulls":9},"","","","","","","","","","",""]
[{"$nulls":9},"","","","","","","","","","",""]
[{"$nulls":9},"","","","","","","","","","",""]
[{"$nulls":9},"","","","","","","","","","",""]
[{"$nulls":9},"","","","","","","","","","",""]
[{"$nulls":9},"","","","","","","","","","",""]
[{"$nulls":9},"","","","","","","","","","",""]
[{"$nulls":9},"","","","","","","","","","",""]
[{"$nulls":9},"","","","","","","","","","",""]
[{"$nulls":9},"","","","","","","","","","",""]
[{"$nulls":9},"","","","","","","","","","",""]
[{"$nulls":9},"","","","","","","","","","",""]
[{"$nulls":9},"","","","","","","","","","",""]
[{"$nulls":9},"","","","","","","","","","",""]
[{"$nulls":9},"","","","","","","","","","",""]
[{"$nulls":9},"","","","","","","","","","",""]
[{"$nulls":9},"","","","","","","","","","",""]
[{"$nulls":9},"","","","","","","","","","",""]
[{"$nulls":9},"","","","","","","","","","",""]
[{"$nulls":9},"","","","","","","","","","",""]
[{"$nulls":9},"","","","","","","","","","",""]
[{"$nulls":9},"","","","","","","","","","",""]
[{"$nulls":9},"","","","","","","","","","",""]
[{"$nulls":9},"","","","","","","","","","",""]
[{"$nulls":9},"","","","","","","","","","",""]
[{"$nulls":9},"","","","","","","","","","",""]
[{"$nulls":9},"","","","","","","","","","",""]
[{"$nulls":9},"","","","","","","","","","",""]
[{"$nulls":9},"","","","","","","","","","",""]
[{"$nulls":9},"","","","","","","","","","",""]
[{"$nulls":9},"","","","","","","","","","",""]
[{"$nulls":9},"","","","","","","","","","",""]
[{"$nulls":9},"","","","","","","","","","",""]
[{"$nulls":9},"","","","","","","","","","",""]
[{"$nulls":9},"","","","","","","","","","",""]
[{"$nulls":9},"","","","","","","","","","",""]
[{"$nulls":9},"","","","","","","","","","",""]
[{"$nulls":9},"","","","","","","","","","",""]
[{"$nulls":9},"","","","","","","","","","",""]
[{"$nulls":9},"","","","","","","","","","",""]
[{"$nulls":9},"","","","","","","","","","",""]
[{"$nulls":9},"","","","","","","","","","",""]
[{"$nulls":9},"","","","","","","","","","",""]
[{"$nulls":9},"","","","","","","","","","",""]
[{"$nulls":9},"","","","","","","","","","",""]
[{"$nulls":9},"","","","","","","","","","",""]
[{"$nulls":9},"","","","","","","","","","",""]
[{"$nulls":9},"","","","","","","","","","",""]
[{"$nulls":9},"","","","","","","","","","",""]
[{"$nulls":9},"","","","","","","","","","",""]
[{"$nulls":9},"","","","","","","","","","",""]
[{"$nulls":9},"","","","","","","","","","",""]
[{"$nulls":9},"","","","","","","","","","",""]
[{"$nulls":9},"","","","","","","","","","",""]
[{"$nulls":9},"","","","","","","","","","",""]
[{"$nulls":9},"","","","","","","","","","",""]
[{"$nulls":9},"","","","","","","","","","",""]
[{"$nulls":9},{"$f":"IF(ISNUMBER(F962),F962,\"\")","v":""},{"$f":"IF(ISNUMBER(G962),G962,\"\")","v":""},{"$f":"IF(AND($A962=\"1St\",$F962>0),$F962,\"\")","v":""},"",{"$f":"IF(AND($A962=\"3rd\",$F962>0),$F962,\"\")","v":""},{"$f":"IF(AND($A962=\"4th\",$F962>0),$F962,\"\")","v":""},{"$f":"IF(AND($A962=\"5th\",$F962>0),$F962,\"\")","v":""},"","","",{"$f":"IF(F962=\"win\",1,\"\")","v":""}]
[{"$nulls":9},"","","",{"$f":"IF(AND($A963=\"2nd\",$F963>0),$F963,\"\")","v":""},"","","",{"$f":"IF(AND($H963=\"Quin\",$I963>0),$I963,\"\")","v":""},{"$f":"IF(AND($H963=\"Tri\",$I963>0),$I963,\"\")","v":""},{"$f":"IF(AND($H963=\"F4\",$I963>0),$I963,\"\")","v":""},""]
[{"$nulls":9},"","","","","","","","","","",""]
[{"$nulls":9},"","","","","","","","","","",""]
[{"$nulls":9},"","","","","","","","","","",""]
[{"$nulls":9},"","","","","","","","","","",""]
[{"$nulls":9},"","","","","","","","","","",""]
[{"$nulls":9},"","","","","","","","","","",""]
[{"$nulls":9},"","","","","","","","","","",""]
[{"$nulls":9},"","","","","","","","","","",""]
[{"$nulls":9},"","","","","","","","","","",""]
[{"$nulls":9},"","","","","","","","","","",""]
[{"$nulls":9},"","","","","","","","","","",""]
[{"$nulls":9},"","","","","","","","","","",""]
[{"$nulls":9},"","","","","","","","","","",""]
[{"$nulls":9},"","","","","","","","","","",""]
[{"$nulls":9},"","","","","","","","","","",""]
[{"$nulls":9},"","","","","","","","","","",""]
[{"$nulls":9},"","","","","","","","","","",""]
[{"$nulls":9},"","","","","","","","","","",""]
[{"$nulls":9},"","","","","","","","","","",""]
[{"$nulls":9},"","","","","","","","","","",""]
[{"$nulls":9},"","","","","","","","","","",""]
[{"$nulls":9},"","","","","","","","","","",""]
[{"$nulls":9},"","","","","","","","","","",""]
[{"$nulls":9},"","","","","","","","","","",""]
[{"$nulls":9},"","","","","","","","","","",""]
[{"$nulls":9},"","","","","","","","","","",""]
[{"$nulls":9},"","","","","","","","","","",""]
[{"$nulls":9},"","","","","","","","","","",""]
[{"$nulls":9},"","","","","","","","","","",""]
[{"$nulls":9},"","","","","","","","","","",""]
[{"$nulls":9},"","","","","","","","","","",""]
[{"$nulls":9},"","","","","","","","","","",""]
[{"$nulls":9},"","","","","","","","","","",""]
[{"$nulls":9},"","","","","","","","","","",""]
[{"$nulls":9},"","","","","","","","","","",""]
[{"$nulls":9},"","","","","","","","","","",""]
[{"$nulls":9},"","","","","","","","","","",""]
[{"$nulls":9},"","","","","","","","","","","",null,"[td]1. Extra Zero[/td]"]
[{"$nulls":9},"","","","","","","","","","","",null,"[td]$6.06[/td]"]
[{"$nulls":9},"","","","","","","","","","","",null,"[td][/td]"]
[{"$nulls":9},"","","","","","","","","","","",null,"[td][/td]"]
[{"$nulls":9},"","","","","","","","","","","","[/tr]"]
[{"$nulls":9},"","","","","","","","","","","","[tr]"]
[{"$nulls":9},"","","","","","","","","","","",null,"[td]14. Cosmic Fury[/td]"]
[{"$nulls":9},"","","","","","","","","","","",null,"[td]$7.79[/td]"]
[{"$nulls":9},"","","","","","","","","","","",null,"[td][/td]"]
[{"$nulls":9},"","","","","","","","","","","",null,"[td][/td]"]
[{"$nulls":9},"","","","","","","","","","","","[/tr]"]
[{"$nulls":9},"","","","","","","","","","","","[tr]"]
[{"$nulls":9},"","","","","","","","","","","",null,"[td]2. Lucky Eighty Eight[/td]"]
[{"$nulls":9},"","","","","","","","","","","",null,"[td]$16.38[/td]"]
[{"$nulls":9},"","","","","","","","","","","",null,"[td][/td]"]
[{"$nulls":9},"","","","","","","","","","","",null,"[td][/td]"]
[{"$nulls":9},"","","","","","","","","","","","[/tr]"]
[{"$nulls":9},"","","","","","","","","","","","[/table]"]
[{"$nulls":9},"","","","","","","","","","",""]
[{"$nulls":9},"","","","","","","","","","","","[table]"]
[{"$nulls":9},"","","","","","","","","","","","[tr]"]
[{"$nulls":9},"","","","","","","","","","","",null,"[td][url=http://www.tabonline.com.au/2012/05/04/CR08.html]Wagga   Race   8[/url][/td]"]
[{"$nulls":9},"","","","","","","","","","","",null,"[td][color=yellow]Wagga Wagga Marketplace (Bm70)[/color][/td]"]
[{"$nulls":9},"","","","","","","","","","","",null,"[td]$27250[/td]"]
[{"$nulls":9},"","","","","","","","","","","",null,"[td][color=lime]Benchmark 70[/color][/td]"]
[{"$nulls":9},{"$f":"IF(ISNUMBER(F1026),F1026,\"\")","v":""},{"$f":"IF(ISNUMBER(G1026),G1026,\"\")","v":""},{"$f":"IF(AND($A1026=\"1St\",$F1026>0),$F1026,\"\")","v":""},"",{"$f":"IF(AND($A1026=\"3rd\",$F1026>0),$F1026,\"\")","v":""},{"$f":"IF(AND($A1026=\"4th\",$F1026>0),$F1026,\"\")","v":""},{"$f":"IF(AND($A1026=\"5th\",$F1026>0),$F1026,\"\")","v":""},"","","",{"$f":"IF(F1026=\"win\",1,\"\")","v":""},"[/tr]"]
[{"$nulls":9},"","","",{"$f":"IF(AND($A1027=\"2nd\",$F1027>0),$F1027,\"\")","v":""},"","","",{"$f":"IF(AND($H1027=\"Quin\",$I1027>0),$I1027,\"\")","v":""},{"$f":"IF(AND($H1027=\"Tri\",$I1027>0),$I1027,\"\")","v":""},{"$f":"IF(AND($H1027=\"F4\",$I1027>0),$I1027,\"\")","v":""},"","[tr]"]
[{"$nulls":9},"","","","","","","","","","","",null,"[td]No Horse[/td]"]
[{"$nulls":9},"","","","","","","","","","","",null,"[td]Rated Price[/td]"]
[{"$nulls":9},"","","","","","","","","","","",null,"[td]Win[/td]"]
[{"$nulls":9},"","","","","","","","","","","",null,"[td]Place[/td]"]
[{"$nulls":9},"","","","","","","","","","","","[/tr]"]
[{"$nulls":9},"","","","","","","","","","","","[tr]"]
[{"$nulls":9},"","","","","","","","","","","",null,"[td]4. Tahitian Black[/td]"]
[{"$nulls":9},"","","","","","","","","","","",null,"[td]$2.43[/td]"]
[{"$nulls":9},"","","","","","","","","","","",null,"[td][/td]"]
[{"$nulls":9},"","","","","","","","","","","",null,"[td][/td]"]
[{"$nulls":9},"","","","","","","","","","","","[/tr]"]
[{"$nulls":9},"","","","","","","","","","","","[tr]"]
[{"$nulls":9},"","","","","","","","","","","",null,"[td]8. Tarrabandra[/td]"]
[{"$nulls":9},"","","","","","","","","","","",null,"[td]$4.82[/td]"]
[{"$nulls":9},"","","","","","","","","","","",null,"[td][/td]"]
[{"$nulls":9},"","","","","","","","","","","",null,"[td][/td]"]
[{"$nulls":9},"","","","","","","","","","","","[/tr]"]
[{"$nulls":9},"","","","","","","","","","","","[tr]"]
[{"$nulls":9},"","","","","","","","","","","",null,"[td]16. High Expectation[/td]"]
[{"$nulls":9},"","","","","","","","","","","",null,"[td]$4.82[/td]"]
[{"$nulls":9},"","","","","","","","","","","",null,"[td][/td]"]
[{"$nulls":9},"","","","","","","","","","","",null,"[td][/td]"]
[{"$nulls":9},"","","","","","","","","","","","[/tr]"]
[{"$nulls":9},"","","","","","","","","","","","[tr]"]
[{"$nulls":9},"","","","","","","","","","","",null,"[td]10. Riverina Lad[/td]"]
[{"$nulls":9},"","","","","","","","","","","",null,"[td]$5.39[/td]"]
[{"$nulls":9},"","","","","","","","","","","",null,"[td][/td]"]
[{"$nulls":9},"","","","","","","","","","","",null,"[td][/td]"]
[{"$nulls":9},"","","","","","","","","","","","[/tr]"]
[{"$nulls":9},"","","","","","","","","","","","[tr]"]
[{"$nulls":9},"","","","","","","","","","","",null,"[td]15. Freetoair[/td]"]
[{"$nulls":9},"","","","","","","","","","","",null,"[td]$6.08[/td]"]
[{"$nulls":9},"","","","","","","","","","","",null,"[td][/td]"]
[{"$nulls":9},"","","","","","","","","","","",null,"[td][/td]"]
[{"$nulls":9},"","","","","","","","","","","","[/tr]"]
[{"$nulls":9},"","","","","","","","","","","","[tr]"]
[{"$nulls":9},"","","","","","","","","","","",null,"[td]12. Thereheiz[/td]"]
[{"$nulls":9},"","","","","","","","","","","",null,"[td]$9.68[/td]"]
[{"$nulls":9},"","","","","","","","","","","",null,"[td][/td]"]
[{"$nulls":9},"","","","","","","","","","","",null,"[td][/td]"]
[{"$nulls":9},"","","","","","","","","","","","[/tr]"]
[{"$nulls":9},"","","","","","","","","","","","[/table]"]
[{"$nulls":9},"","","","","","","","","","",""]
[{"$nulls":9},"","","","","","","","","","","","[table]"]
[{"$nulls":9},"","","","","","","","","","","","[tr]"]
[{"$nulls":9},"","","","","","","","","","","",null,"[td][url=http://www.tabonline.com.au/2012/05/05/QR07.html]Gold Coast   Race   7[/url][/td]"]
[{"$nulls":9},"","","","","","","","","","","",null,"[td][color=yellow]Carlton Prime Minister's Cup[/color][/td]"]
[{"$nulls":9},"","","","","","","","","","","",null,"[td]$176400[/td]"]
[{"$nulls":9},"","","","","","","","","","","",null,"[td][color=lime]LR[/color][/td]"]
[{"$nulls":9},"","","","","","","","","","","","[/tr]"]
[{"$nulls":9},"","","","","","","","","","","","[tr]"]
[{"$nulls":9},"","","","","","","","","","","",null,"[td]No Horse[/td]"]
[{"$nulls":9},"","","","","","","","","","","",null,"[td]Rated Price[/td]"]
[{"$nulls":9},"","","","","","","","","","","",null,"[td]Win[/td]"]
[{"$nulls":9},"","","","","","","","","","","",null,"[td]Place[/td]"]
[{"$nulls":9},"","","","","","","","","","","","[/tr]"]
[{"$nulls":9},"","","","","","","","","","","","[tr]"]
[{"$nulls":9},"","","","","","","","","","","",null,"[td]3. Mid Summer Music[/td]"]
[{"$nulls":9},"","","","","","","","","","","",null,"[td]$2.79[/td]"]
[{"$nulls":9},"","","","","","","","","","","",null,"[td][/td]"]
[{"$nulls":9},"","","","","","","","","","","",null,"[td][/td]"]
[{"$nulls":9},"","","","","","","","","","","","[/tr]"]
[{"$nulls":9},{"$f":"IF(ISNUMBER(F1090),F1090,\"\")","v":""},{"$f":"IF(ISNUMBER(G1090),G1090,\"\")","v":""},{"$f":"IF(AND($A1090=\"1St\",$F1090>0),$F1090,\"\")","v":""},"",{"$f":"IF(AND($A1090=\"3rd\",$F1090>0),$F1090,\"\")","v":""},{"$f":"IF(AND($A1090=\"4th\",$F1090>0),$F1090,\"\")","v":""},{"$f":"IF(AND($A1090=\"5th\",$F1090>0),$F1090,\"\")","v":""},"","","",{"$f":"IF(F1090=\"win\",1,\"\")","v":""},"[tr]"]
[{"$nulls":9},"","","",{"$f":"IF(AND($A1091=\"2nd\",$F1091>0),$F1091,\"\")","v":""},"","","",{"$f":"IF(AND($H1091=\"Quin\",$I1091>0),$I1091,\"\")","v":""},{"$f":"IF(AND($H1091=\"Tri\",$I1091>0),$I1091,\"\")","v":""},{"$f":"IF(AND($H1091=\"F4\",$I1091>0),$I1091,\"\")","v":""},"",null,"[td]7. Parables[/td]"]
[{"$nulls":9},"","","","","","","","","","","",null,"[td]$3.44[/td]"]
[{"$nulls":9},"","","","","","","","","","","",null,"[td][/td]"]
[{"$nulls":9},"","","","","","","","","","","",null,"[td][/td]"]
[{"$nulls":9},"","","","","","","","","","","","[/tr]"]
[{"$nulls":9},"","","","","","","","","","","","[tr]"]
[{"$nulls":9},"","","","","","","","","","","",null,"[td]11. Meet George[/td]"]
[{"$nulls":9},"","","","","","","","","","","",null,"[td]$4.02[/td]"]
[{"$nulls":9},"","","","","","","","","","","",null,"[td][/td]"]
[{"$nulls":9},"","","","","","","","","","","",null,"[td][/td]"]
[{"$nulls":9},"","","","","","","","","","","","[/tr]"]
[{"$nulls":9},"","","","","","","","","","","","[tr]"]
[{"$nulls":9},"","","","","","","","","","","",null,"[td]13. Mr Armstrong[/td]"]
[{"$nulls":9},"","","","","","","","","","","",null,"[td]$6.42[/td]"]
[{"$nulls":9},"","","","","","","","","","","",null,"[td][/td]"]
[{"$nulls":9},"","","","","","","","","","","",null,"[td][/td]"]
[{"$nulls":9},"","","","","","","","","","","","[/tr]"]
[{"$nulls":9},"","","","","","","","","","","","[tr]"]
[{"$nulls":9},"","","","","","","","","","","",null,"[td]1. Phelan Ready[/td]"]
[{"$nulls":9},"","","","","","","","","","","",null,"[td]$8.11[/td]"]
[{"$nulls":9},"","","","","","","","","","","",null,"[td][/td]"]
[{"$nulls":9},"","","","","","","","","","","",null,"[td][/td]"]
[{"$nulls":9},"","","","","","","","","","","","[/tr]"]
[{"$nulls":9},"","","","","","","","","","","","[tr]"]
[{"$nulls":9},"","","","","","","","","","","",null,"[td]16. Celtic Dancer[/td]"]
[{"$nulls":9},"","","","","","","","","","","",null,"[td]$14.62[/td]"]
[{"$nulls":9},"","","","","","","","","","","",null,"[td][/td]"]
[{"$nulls":9},"","","","","","","","","","","",null,"[td][/td]"]
[{"$nulls":9},"","","","","","","","","","","","[/tr]"]
[{"$nulls":9},"","","","","","","","","","","","[/table]"]
[{"$nulls":9},"","","","","","","","","","",""]
[{"$nulls":9},"","","","","","","","","","","","[table]"]
[{"$nulls":9},"","","","","","","","","","","","[tr]"]
[{"$nulls":9},"","","","","","","","","","","",null,"[td][url=http://www.tabonline.com.au/2012/05/05/QR08.html]Gold Coast   Race   8[/url][/td]"]
[{"$nulls":9},"","","","","","","","","","","",null,"[td][color=yellow]G.C. Bulletin A D Hollindale[/color][/td]"]
[{"$nulls":9},"","","","","","","","","","","",null,"[td]$301400[/td]"]
[{"$nulls":9},"","","","","","","","","","","",null,"[td][color=lime]G2[/color][/td]"]
[{"$nulls":9},"","","","","","","","","","","","[/tr]"]
[{"$nulls":9},"","","","","","","","","","","","[tr]"]
[{"$nulls":9},"","","","","","","","","","","",null,"[td]No Horse[/td]"]
[{"$nulls":9},"","","","","","","","","","","",null,"[td]Rated Price[/td]"]
[{"$nulls":9},"","","","","","","","","","","",null,"[td]Win[/td]"]
[{"$nulls":9},"","","","","","","","","","","",null,"[td]Place[/td]"]
[{"$nulls":9},"","","","","","","","","","","","[/tr]"]
[{"$nulls":9},"","","","","","","","","","","","[tr]"]
[{"$nulls":9},"","","","","","","","","","","",null,"[td]14. Lights Of Heaven[/td]"]
[{"$nulls":9},"","","","","","","","","","","",null,"[td]$3.25[/td]"]
[{"$nulls":9},"","","","","","","","","","","",null,"[td][/td]"]
[{"$nulls":9},"","","","","","","","","","","",null,"[td][/td]"]
[{"$nulls":9},"","","","","","","","","","","","[/tr]"]
[{"$nulls":9},"","","","","","","","","","","","[tr]"]
[{"$nulls":9},"","","","","","","","","","","",null,"[td]13. Shez Sinsational[/td]"]
[{"$nulls":9},"","","","","","","","","","","",null,"[td]$3.84[/td]"]
[{"$nulls":9},"","","","","","","","","","","",null,"[td][/td]"]
[{"$nulls":9},"","","","","","","","","","","",null,"[td][/td]"]
[{"$nulls":9},"","","","","","","","","","","","[/tr]"]
[{"$nulls":9},"","","","","","","","","","","","[tr]"]
[{"$nulls":9},"","","","","","","","","","","",null,"[td]2. Triple Honour[/td]"]
[{"$nulls":9},"","","","","","","","","","","",null,"[td]$4.62[/td]"]
[{"$nulls":9},"","","","","","","","","","","",null,"[td][/td]"]
[{"$nulls":9},"","","","","","","","","","","",null,"[td][/td]"]
[{"$nulls":9},"","","","","","","","","","","","[/tr]"]
[{"$nulls":9},"","","","","","","","","","","","[tr]"]
[{"$nulls":9},{"$f":"IF(ISNUMBER(F1154),F1154,\"\")","v":""},{"$f":"IF(ISNUMBER(G1154),G1154,\"\")","v":""},{"$f":"IF(AND($A1154=\"1St\",$F1154>0),$F1154,\"\")","v":""},"",{"$f":"IF(AND($A1154=\"3rd\",$F1154>0),$F1154,\"\")","v":""},{"$f":"IF(AND($A1154=\"4th\",$F1154>0),$F1154,\"\")","v":""},{"$f":"IF(AND($A1154=\"5th\",$F1154>0),$F1154,\"\")","v":""},"","","",{"$f":"IF(F1154=\"win\",1,\"\")","v":""},null,"[td]3. Wall Street[/td]"]
[{"$nulls":9},"","","",{"$f":"IF(AND($A1155=\"2nd\",$F1155>0),$F1155,\"\")","v":""},"","","",{"$f":"IF(AND($H1155=\"Quin\",$I1155>0),$I1155,\"\")","v":""},{"$f":"IF(AND($H1155=\"Tri\",$I1155>0),$I1155,\"\")","v":""},{"$f":"IF(AND($H1155=\"F4\",$I1155>0),$I1155,\"\")","v":""},"",null,"[td]$4.62[/td]"]
[{"$nulls":9},"","","","","","","","","","","",null,"[td][/td]"]
[{"$nulls":9},"","","","","","","","","","","",null,"[td][/td]"]
[{"$nulls":9},"","","","","","","","","","","","[/tr]"]
[{"$nulls":9},"","","","","","","","","","","","[tr]"]
[{"$nulls":9},"","","","","","","","","","","",null,"[td]12. Mawingo[/td]"]
[{"$nulls":9},"","","","","","","","","","","",null,"[td]$5.71[/td]"]
[{"$nulls":9},"","","","","","","","","","","",null,"[td][/td]"]
[{"$nulls":9},"","","","","","","","","","","",null,"[td][/td]"]
[{"$nulls":9},"","","","","","","","","","","","[/tr]"]
[{"$nulls":9},"","","","","","","","","","","","[tr]"]
[{"$nulls":9},"","","","","","","","","","","",null,"[td]1. Scenic Shot[/td]"]
[{"$nulls":9},"","","","","","","","","","","",null,"[td]$12.31[/td]"]
[{"$nulls":9},"","","","","","","","","","","",null,"[td][/td]"]
[{"$nulls":9},"","","","","","","","","","","",null,"[td][/td]"]
[{"$nulls":9},"","","","","","","","","","","","[/tr]"]
[{"$nulls":9},"","","","","","","","","","","","[/table]"]
[{"$nulls":9},"","","","","","","","","","",""]
[{"$nulls":9},"","","","","","","","","","","","[table]"]
[{"$nulls":9},"","","","","","","","","","","","[tr]"]
[{"$nulls":9},"","","","","","","","","","","",null,"[td][url=http://www.tabonline.com.au/2012/05/05/SR06.html]Hawkesbury   Race   6[/url][/td]"]
[{"$nulls":9},"","","","","","","","","","","",null,"[td][color=yellow]XXXX Gold H'bury Rowley Mile[/color][/td]"]
[{"$nulls":9},"","","","","","","","","","","",null,"[td]$151500[/td]"]
[{"$nulls":9},"","","","","","","","","","","",null,"[td][color=lime]LR[/color][/td]"]
[{"$nulls":9},"","","","","","","","","","","","[/tr]"]
[{"$nulls":9},"","","","","","","","","","","","[tr]"]
[{"$nulls":9},"","","","","","","","","","","",null,"[td]No Horse[/td]"]
[{"$nulls":9},"","","","","","","","","","","",null,"[td]Rated Price[/td]"]
[{"$nulls":9},"","","","","","","","","","","",null,"[td]Win[/td]"]
[{"$nulls":9},"","","","","","","","","","","",null,"[td]Place[/td]"]
[{"$nulls":9},"","","","","","","","","","","","[/tr]"]
[{"$nulls":9},"","","","","","","","","","","","[tr]"]
[{"$nulls":9},"","","","","","","","","","","",null,"[td]2. Western Symbol[/td]"]
[{"$nulls":9},"","","","","","","","","","","",null,"[td]$3.01[/td]"]
[{"$nulls":9},"","","","","","","","","","","",null,"[td][/td]"]
[{"$nulls":9},"","","","","","","","","","","",null,"[td][/td]"]
[{"$nulls":9},"","","","","","","","","","","","[/tr]"]
[{"$nulls":9},"","","","","","","","","","","","[tr]"]
[{"$nulls":9},"","","","","","","","","","","",null,"[td]1. Fast Clip[/td]"]
[{"$nulls":9},"","","","","","","","","","","",null,"[td]$3.19[/td]"]
[{"$nulls":9},"","","","","","","","","","","",null,"[td][/td]"]
[{"$nulls":9},"","","","","","","","","","","",null,"[td][/td]"]
[{"$nulls":9},"","","","","","","","","","","","[/tr]"]
[{"$nulls":9},"","","","","","","","","","","","[tr]"]
[{"$nulls":9},"","","","","","","","","","","",null,"[td]5. Star Of Octagonal[/td]"]
[{"$nulls":9},"","","","","","","","","","","",null,"[td]$4.11[/td]"]
[{"$nulls":9},"","","","","","","","","","","",null,"[td][/td]"]
[{"$nulls":9},"","","","","","","","","","","",null,"[td][/td]"]
[{"$nulls":9},"","","","","","","","","","","","[/tr]"]
[{"$nulls":9},"","","","","","","","","","","","[tr]"]
[{"$nulls":9},"","","","","","","","","","","",null,"[td]3. Raspberries[/td]"]
[{"$nulls":9},"","","","","","","","","","","",null,"[td]$5.10[/td]"]
[{"$nulls":9},"","","","","","","","","","","",null,"[td][/td]"]
[{"$nulls":9},"","","","","","","","","","","",null,"[td][/td]"]
[{"$nulls":9},"","","","","","","","","","","","[/tr]"]
[{"$nulls":9},"","","","","","","","","","","","[tr]"]
[{"$nulls":9},"","","","","","","","","","","",null,"[td]7. Almas Fury[/td]"]
[{"$nulls":9},"","","","","","","","","","","",null,"[td]$10.92[/td]"]
[{"$nulls":9},"","","","","","","","","","","",null,"[td][/td]"]
[{"$nulls":9},"","","","","","","","","","","",null,"[td][/td]"]
[{"$nulls":9},"","","","","","","","","","","","[/tr]"]
[{"$nulls":9},"","","","","","","","","","","","[tr]"]
[{"$nulls":9},"","","","","","","","","","","",null,"[td]6. Wazn[/td]"]
[{"$nulls":9},{"$f":"IF(ISNUMBER(F1218),F1218,\"\")","v":""},{"$f":"IF(ISNUMBER(G1218),G1218,\"\")","v":""},{"$f":"IF(AND($A1218=\"1St\",$F1218>0),$F1218,\"\")","v":""},"",{"$f":"IF(AND($A1218=\"3rd\",$F1218>0),$F1218,\"\")","v":""},{"$f":"IF(AND($A1218=\"4th\",$F1218>0),$F1218,\"\")","v":""},{"$f":"IF(AND($A1218=\"5th\",$F1218>0),$F1218,\"\")","v":""},"","","",{"$f":"IF(F1218=\"win\",1,\"\")","v":""},null,"[td]$21.21[/td]"]
[{"$nulls":9},"","","",{"$f":"IF(AND($A1219=\"2nd\",$F1219>0),$F1219,\"\")","v":""},"","","",{"$f":"IF(AND($H1219=\"Quin\",$I1219>0),$I1219,\"\")","v":""},{"$f":"IF(AND($H1219=\"Tri\",$I1219>0),$I1219,\"\")","v":""},{"$f":"IF(AND($H1219=\"F4\",$I1219>0),$I1219,\"\")","v":""},"",null,"[td][/td]"]
[{"$nulls":9},"","","","","","","","","","","",null,"[td][/td]"]
[{"$nulls":9},"","","","","","","","","","","","[/tr]"]
[{"$nulls":9},"","","","","","","","","","","","[/table]"]
[{"$nulls":9},"","","","","","","","","","",""]
[{"$nulls":9},"","","","","","","","","","","","[table]"]
[{"$nulls":9},"","","","","","","","","","","","[tr]"]
[{"$nulls":9},"","","","","","","","","","","",null,"[td][url=http://www.tabonline.com.au/2012/05/05/QR07.html]Gold Coast   Race   7[/url][/td]"]
[{"$nulls":9},"","","","","","","","","","","",null,"[td][color=yellow]Carlton Prime Minister's Cup[/color][/td]"]
[{"$nulls":9},"","","","","","","","","","","",null,"[td]$176400[/td]"]
[{"$nulls":9},"","","","","","","","","","","",null,"[td][color=lime]LR[/color][/td]"]
[{"$nulls":9},"","","","","","","","","","","","[/tr]"]
[{"$nulls":9},"","","","","","","","","","","","[tr]"]
[{"$nulls":9},"","","","","","","","","","","",null,"[td]No Horse[/td]"]
[{"$nulls":9},"","","","","","","","","","","",null,"[td]Rated Price[/td]"]
[{"$nulls":9},"","","","","","","","","","","",null,"[td]Win[/td]"]
[{"$nulls":9},"","","","","","","","","","","",null,"[td]Place[/td]"]
[{"$nulls":9},"","","","","","","","","","","","[/tr]"]
[{"$nulls":9},"","","","","","","","","","","","[tr]"]
[{"$nulls":9},"","","","","","","","","","","",null,"[td]3. Mid Summer Music[/td]"]
[{"$nulls":9},"","","","","","","","","","","",null,"[td]$2.79[/td]"]
[{"$nulls":9},"","","","","","","","","","","",null,"[td][/td]"]
[{"$nulls":9},"","","","","","","","","","","",null,"[td][/td]"]
[{"$nulls":9},"","","","","","","","","","","","[/tr]"]
[{"$nulls":9},"","","","","","","","","","","","[tr]"]
[{"$nulls":9},"","","","","","","","","","","",null,"[td]7. Parables[/td]"]
[{"$nulls":9},"","","","","","","","","","","",null,"[td]$3.44[/td]"]
[{"$nulls":9},"","","","","","","","","","","",null,"[td][/td]"]
[{"$nulls":9},"","","","","","","","","","","",null,"[td][/td]"]
[{"$nulls":9},"","","","","","","","","","","","[/tr]"]
[{"$nulls":9},"","","","","","","","","","","","[tr]"]
[{"$nulls":9},"","","","","","","","","","","",null,"[td]11. Meet George[/td]"]
[{"$nulls":9},"","","","","","","","","","","",null,"[td]$4.02[/td]"]
[{"$nulls":9},"","","","","","","","","","","",null,"[td][/td]"]
[{"$nulls":9},"","","","","","","","","","","",null,"[td][/td]"]
[{"$nulls":9},"","","","","","","","","","","","[/tr]"]
[{"$nulls":9},"","","","","","","","","","","","[tr]"]
[{"$nulls":9},"","","","","","","","","","","",null,"[td]13. Mr Armstrong[/td]"]
[{"$nulls":9},"","","","","","","","","","","",null,"[td]$6.42[/td]"]
[{"$nulls":9},"","","","","","","","","","","",null,"[td][/td]"]
[{"$nulls":9},"","","","","","","","","","","",null,"[td][/td]"]
[{"$nulls":9},"","","","","","","","","","","","[/tr]"]
[{"$nulls":9},"","","","","","","","","","","","[tr]"]
[{"$nulls":9},"","","","","","","","","","","",null,"[td]1. Phelan Ready[/td]"]
[{"$nulls":9},"","","","","","","","","","","",null,"[td]$8.11[/td]"]
[{"$nulls":9},"","","","","","","","","","","",null,"[td][/td]"]
[{"$nulls":9},"","","","","","","","","","","",null,"[td][/td]"]
[{"$nulls":9},"","","","","","","","","","","","[/tr]"]
[{"$nulls":9},"","","","","","","","","","","","[tr]"]
[{"$nulls":9},"","","","","","","","","","","",null,"[td]16. Celtic Dancer[/td]"]
[{"$nulls":9},"","","","","","","","","","","",null,"[td]$14.62[/td]"]
[{"$nulls":9},"","","","","","","","","","","",null,"[td][/td]"]
[{"$nulls":9},"","","","","","","","","","","",null,"[td][/td]"]
[{"$nulls":9},"","","","","","","","","","","","[/tr]"]
[{"$nulls":9},"","","","","","","","","","","","[/table]"]
[{"$nulls":9},"","","","","","","","","","",""]
[{"$nulls":9},"","","","","","","","","","","","[table]"]
[{"$nulls":9},"","","","","","","","","","","","[tr]"]
[{"$nulls":9},"","","","","","","","","","","",null,"[td][url=http://www.tabonline.com.au/2012/05/05/QR08.html]Gold Coast   Race   8[/url][/td]"]
[{"$nulls":9},"","","","","","","","","","","",null,"[td][color=yellow]G.C. Bulletin A D Hollindale[/color][/td]"]
[{"$nulls":9},"","","","","","","","","","","",null,"[td]$301400[/td]"]
[{"$nulls":9},"","","","","","","","","","","",null,"[td][color=lime]G2[/color][/td]"]
[{"$nulls":9},"","","","","","","","","","","","[/tr]"]
[{"$nulls":9},{"$f":"IF(ISNUMBER(F1282),F1282,\"\")","v":""},{"$f":"IF(ISNUMBER(G1282),G1282,\"\")","v":""},{"$f":"IF(AND($A1282=\"1St\",$F1282>0),$F1282,\"\")","v":""},"",{"$f":"IF(AND($A1282=\"3rd\",$F1282>0),$F1282,\"\")","v":""},{"$f":"IF(AND($A1282=\"4th\",$F1282>0),$F1282,\"\")","v":""},{"$f":"IF(AND($A1282=\"5th\",$F1282>0),$F1282,\"\")","v":""},"","","",{"$f":"IF(F1282=\"win\",1,\"\")","v":""},"[tr]"]
[{"$nulls":9},"","","",{"$f":"IF(AND($A1283=\"2nd\",$F1283>0),$F1283,\"\")","v":""},"","","",{"$f":"IF(AND($H1283=\"Quin\",$I1283>0),$I1283,\"\")","v":""},{"$f":"IF(AND($H1283=\"Tri\",$I1283>0),$I1283,\"\")","v":""},{"$f":"IF(AND($H1283=\"F4\",$I1283>0),$I1283,\"\")","v":""},"",null,"[td]No Horse[/td]"]
[{"$nulls":9},"","","","","","","","","","","",null,"[td]Rated Price[/td]"]
[{"$nulls":9},"","","","","","","","","","","",null,"[td]Win[/td]"]
[{"$nulls":9},"","","","","","","","","","","",null,"[td]Place[/td]"]
[{"$nulls":9},"","","","","","","","","","","","[/tr]"]
[{"$nulls":9},"","","","","","","","","","","","[tr]"]
[{"$nulls":9},"","","","","","","","","","","",null,"[td]14. Lights Of Heaven[/td]"]
[{"$nulls":9},"","","","","","","","","","","",null,"[td]$3.25[/td]"]
[{"$nulls":9},"","","","","","","","","","","",null,"[td][/td]"]
[{"$nulls":9},"","","","","","","","","","","",null,"[td][/td]"]
[{"$nulls":9},"","","","","","","","","","","","[/tr]"]
[{"$nulls":9},"","","","","","","","","","","","[tr]"]
[{"$nulls":9},"","","","","","","","","","","",null,"[td]13. Shez Sinsational[/td]"]
[{"$nulls":9},"","","","","","","","","","","",null,"[td]$3.84[/td]"]
[{"$nulls":9},"","","","","","","","","","","",null,"[td][/td]"]
[{"$nulls":9},"","","","","","","","","","","",null,"[td][/td]"]
[{"$nulls":9},"","","","","","","","","","","","[/tr]"]
[{"$nulls":9},"","","","","","","","","","","","[tr]"]
[{"$nulls":9},"","","","","","","","","","","",null,"[td]2. Triple Honour[/td]"]
[{"$nulls":9},"","","","","","","","","","","",null,"[td]$4.62[/td]"]
[{"$nulls":9},"","","","","","","","","","","",null,"[td][/td]"]
[{"$nulls":9},"","","","","","","","","","","",null,"[td][/td]"]
[{"$nulls":9},"","","","","","","","","","","","[/tr]"]
[{"$nulls":9},"","","","","","","","","","","","[tr]"]
[{"$nulls":9},"","","","","","","","","","","",null,"[td]3. Wall Street[/td]"]
[{"$nulls":9},"","","","","","","","","","","",null,"[td]$4.62[/td]"]
[{"$nulls":9},"","","","","","","","","","","",null,"[td][/td]"]
[{"$nulls":9},"","","","","","","","","","","",null,"[td][/td]"]
[{"$nulls":9},"","","","","","","","","","","","[/tr]"]
[{"$nulls":9},"","","","","","","","","","","","[tr]"]
[{"$nulls":9},"","","","","","","","","","","",null,"[td]12. Mawingo[/td]"]
[{"$nulls":9},"","","","","","","","","","","",null,"[td]$5.71[/td]"]
[{"$nulls":9},"","","","","","","","","","","",null,"[td][/td]"]
[{"$nulls":9},"","","","","","","","","","","",null,"[td][/td]"]
[{"$nulls":9},"","","","","","","","","","","","[/tr]"]
[{"$nulls":9},"","","","","","","","","","","","[tr]"]
[{"$nulls":9},"","","","","","","","","","","",null,"[td]1. Scenic Shot[/td]"]
[{"$nulls":9},"","","","","","","","","","","",null,"[td]$12.31[/td]"]
[{"$nulls":9},"","","","","","","","","","","",null,"[td][/td]"]
[{"$nulls":9},"","","","","","","","","","","",null,"[td][/td]"]
[{"$nulls":9},"","","","","","","","","","","","[/tr]"]
[{"$nulls":9},"","","","","","","","","","","","[/table]"]
[{"$nulls":9},"","","","","","","","","","",""]
[{"$nulls":9},"","","","","","","","","","","","[table]"]
[{"$nulls":9},"","","","","","","","","","","","[tr]"]
[{"$nulls":9},"","","","","","","","","","","",null,"[td][url=http://www.tabonline.com.au/2012/05/05/SR06.html]Hawkesbury   Race   6[/url][/td]"]
[{"$nulls":9},"","","","","","","","","","","",null,"[td][color=yellow]XXXX Gold H'bury Rowley Mile[/color][/td]"]
[{"$nulls":9},"","","","","","","","","","","",null,"[td]$151500[/td]"]
[{"$nulls":9},"","","","","","","","","","","",null,"[td][color=lime]LR[/color][/td]"]
[{"$nulls":9},"","","","","","","","","","","","[/tr]"]
[{"$nulls":9},"","","","","","","","","","","","[tr]"]
[{"$nulls":9},"","","","","","","","","","","",null,"[td]No Horse[/td]"]
[{"$nulls":9},"","","","","","","","","","","",null,"[td]Rated Price[/td]"]
[{"$nulls":9},"","","","","","","","","","","",null,"[td]Win[/td]"]
[{"$nulls":9},"","","","","","","","","","","",null,"[td]Place[/td]"]
[{"$nulls":9},"","","","","","","","","","","","[/tr]"]
[{"$nulls":9},"","","","","","","","","","","","[tr]"]
[{"$nulls":9},"","","","","","","","","","","",null,"[td]2. Western Symbol[/td]"]
[{"$nulls":9},"","","","","","","","","","","",null,"[td]$3.01[/td]"]
[{"$nulls":9},"","","","","","","","","","","",null,"[td][/td]"]
[{"$nulls":9},"","","","","","","","","","","",null,"[td][/td]"]
[{"$nulls":9},"","","","","","","","","","","","[/tr]"]
[{"$nulls":9},"","","","","","","","","","","","[tr]"]
[{"$nulls":9},{"$f":"IF(ISNUMBER(F1346),F1346,\"\")","v":""},{"$f":"IF(ISNUMBER(G1346),G1346,\"\")","v":""},{"$f":"IF(AND($A1346=\"1St\",$F1346>0),$F1346,\"\")","v":""},"",{"$f":"IF(AND($A1346=\"3rd\",$F1346>0),$F1346,\"\")","v":""},{"$f":"IF(AND($A1346=\"4th\",$F1346>0),$F1346,\"\")","v":""},{"$f":"IF(AND($A1346=\"5th\",$F1346>0),$F1346,\"\")","v":""},"","","",{"$f":"IF(F1346=\"win\",1,\"\")","v":""},null,"[td]1. Fast Clip[/td]"]
[{"$nulls":9},"","","",{"$f":"IF(AND($A1347=\"2nd\",$F1347>0),$F1347,\"\")","v":""},"","","",{"$f":"IF(AND($H1347=\"Quin\",$I1347>0),$I1347,\"\")","v":""},{"$f":"IF(AND($H1347=\"Tri\",$I1347>0),$I1347,\"\")","v":""},{"$f":"IF(AND($H1347=\"F4\",$I1347>0),$I1347,\"\")","v":""},"",null,"[td]$3.19[/td]"]
[{"$nulls":9},"","","","","","","","","","","",null,"[td][/td]"]
[{"$nulls":9},"","","","","","","","","","","",null,"[td][/td]"]
[{"$nulls":9},"","","","","","","","","","","","[/tr]"]
[{"$nulls":9},"","","","","","","","","","","","[tr]"]
[{"$nulls":9},"","","","","","","","","","","",null,"[td]5. Star Of Octagonal[/td]"]
[{"$nulls":9},"","","","","","","","","","","",null,"[td]$4.11[/td]"]
[{"$nulls":9},"","","","","","","","","","","",null,"[td][/td]"]
[{"$nulls":9},"","","","","","","","","","","",null,"[td][/td]"]
[{"$nulls":9},"","","","","","","","","","","","[/tr]"]
[{"$nulls":9},"","","","","","","","","","","","[tr]"]
[{"$nulls":9},"","","","","","","","","","","",null,"[td]3. Raspberries[/td]"]
[{"$nulls":9},"","","","","","","","","","","",null,"[td]$5.10[/td]"]
[{"$nulls":9},"","","","","","","","","","","",null,"[td][/td]"]
[{"$nulls":9},"","","","","","","","","","","",null,"[td][/td]"]
[{"$nulls":9},"","","","","","","","","","","","[/tr]"]
[{"$nulls":9},"","","","","","","","","","","","[tr]"]
[{"$nulls":9},"","","","","","","","","","","",null,"[td]7. Almas Fury[/td]"]
[{"$nulls":9},"","","","","","","","","","","",null,"[td]$10.92[/td]"]
[{"$nulls":9},"","","","","","","","","","","",null,"[td][/td]"]
[{"$nulls":9},"","","","","","","","","","","",null,"[td][/td]"]
[{"$nulls":9},"","","","","","","","","","","","[/tr]"]
[{"$nulls":9},"","","","","","","","","","","","[tr]"]
[{"$nulls":9},"","","","","","","","","","","",null,"[td]6. Wazn[/td]"]
[{"$nulls":9},"","","","","","","","","","","",null,"[td]$21.21[/td]"]
[{"$nulls":9},"","","","","","","","","","","",null,"[td][/td]"]
[{"$nulls":9},"","","","","","","","","","","",null,"[td][/td]"]
[{"$nulls":9},"","","","","","","","","","","","[/tr]"]
[{"$nulls":9},"","","","","","","","","","","","[/table]"]
[{"$nulls":9},"","","","","","","","","","",""]
[{"$nulls":9},"","","","","","","","","","","","[table]"]
[{"$nulls":9},"","","","","","","","","","","","[tr]"]
[{"$nulls":9},"","","","","","","","","","","",null,"[td][url=http://www.tabonline.com.au/2012/05/05/AR02.html]Morphettville   Race   2[/url][/td]"]
[{"$nulls":9},"","","","","","","","","","","",null,"[td][color=yellow]Centrebet's Superbestplus Hcp[/color][/td]"]
[{"$nulls":9},"","","","","","","","","","","",null,"[td]$40000[/td]"]
[{"$nulls":9},"","","","","","","","","","","",null,"[td][color=lime]Open[/color][/td]"]
[{"$nulls":9},"","","","","","","","","","","","[/tr]"]
[{"$nulls":9},"","","","","","","","","","","","[tr]"]
[{"$nulls":9},"","","","","","","","","","","",null,"[td]No Horse[/td]"]
[{"$nulls":9},"","","","","","","","","","","",null,"[td]Rated Price[/td]"]
[{"$nulls":9},"","","","","","","","","","","",null,"[td]Win[/td]"]
[{"$nulls":9},"","","","","","","","","","","",null,"[td]Place[/td]"]
[{"$nulls":9},"","","","","","","","","","","","[/tr]"]
[{"$nulls":9},"","","","","","","","","","","","[tr]"]
[{"$nulls":9},"","","","","","","","","","","",null,"[td]1. Day Procedure[/td]"]
[{"$nulls":9},"","","","","","","","","","","",null,"[td]$2.80[/td]"]
[{"$nulls":9},"","","","","","","","","","","",null,"[td][/td]"]
[{"$nulls":9},"","","","","","","","","","","",null,"[td][/td]"]
[{"$nulls":9},"","","","","","","","","","","","[/tr]"]
[{"$nulls":9},"","","","","","","","","","","","[tr]"]
[{"$nulls":9},"","","","","","","","","","","",null,"[td]3. Impulse Buy[/td]"]
[{"$nulls":9},"","","","","","","","","","","",null,"[td]$2.80[/td]"]
[{"$nulls":9},"","","","","","","","","","","",null,"[td][/td]"]
[{"$nulls":9},"","","","","","","","","","","",null,"[td][/td]"]
[{"$nulls":9},"","","","","","","","","","","","[/tr]"]
[{"$nulls":9},"","","","","","","","","","","","[tr]"]
[{"$nulls":9},"","","","","","","","","","","",null,"[td]2. Beau Jez[/td]"]
[{"$nulls":9},"","","","","","","","","","","",null,"[td]$4.01[/td]"]
[{"$nulls":9},"","","","","","","","","","","",null,"[td][/td]"]
[{"$nulls":9},"","","","","","","","","","","",null,"[td][/td]"]
[{"$nulls":9},"","","","","","","","","","","","[/tr]"]
[{"$nulls":9},"","","","","","","","","","","","[tr]"]
[{"$nulls":9},"","","","","","","","","","","",null,"[td]10. Secretmensbusiness[/td]"]
[{"$nulls":9},{"$f":"IF(ISNUMBER(F1410),F1410,\"\")","v":""},{"$f":"IF(ISNUMBER(G1410),G1410,\"\")","v":""},{"$f":"IF(AND($A1410=\"1St\",$F1410>0),$F1410,\"\")","v":""},"",{"$f":"IF(AND($A1410=\"3rd\",$F1410>0),$F1410,\"\")","v":""},{"$f":"IF(AND($A1410=\"4th\",$F1410>0),$F1410,\"\")","v":""},{"$f":"IF(AND($A1410=\"5th\",$F1410>0),$F1410,\"\")","v":""},"","","",{"$f":"IF(F1410=\"win\",1,\"\")","v":""},null,"[td]$6.87[/td]"]
[{"$nulls":9},"","","",{"$f":"IF(AND($A1411=\"2nd\",$F1411>0),$F1411,\"\")","v":""},"","","",{"$f":"IF(AND($H1411=\"Quin\",$I1411>0),$I1411,\"\")","v":""},{"$f":"IF(AND($H1411=\"Tri\",$I1411>0),$I1411,\"\")","v":""},{"$f":"IF(AND($H1411=\"F4\",$I1411>0),$I1411,\"\")","v":""},"",null,"[td][/td]"]
[{"$nulls":9},"","","","","","","","","","","",null,"[td][/td]"]
[{"$nulls":9},"","","","","","","","","","","","[/tr]"]
[{"$nulls":9},"","","","","","","","","","","","[tr]"]
[{"$nulls":9},"","","","","","","","","","","",null,"[td]8. Hanks Nephew[/td]"]
[{"$nulls":9},"","","","","","","","","","","",null,"[td]$15.11[/td]"]
[{"$nulls":9},"","","","","","","","","","","",null,"[td][/td]"]
[{"$nulls":9},"","","","","","","","","","","",null,"[td][/td]"]
[{"$nulls":9},"","","","","","","","","","","","[/tr]"]
[{"$nulls":9},"","","","","","","","","","","","[tr]"]
[{"$nulls":9},"","","","","","","","","","","",null,"[td]12. Dancers Dream[/td]"]
[{"$nulls":9},"","","","","","","","","","","",null,"[td]$18.96[/td]"]
[{"$nulls":9},"","","","","","","","","","","",null,"[td][/td]"]
[{"$nulls":9},"","","","","","","","","","","",null,"[td][/td]"]
[{"$nulls":9},"","","","","","","","","","","","[/tr]"]
[{"$nulls":9},"","","","","","","","","","","","[/table]"]
[{"$nulls":9},"","","","","","","","","","",""]
[{"$nulls":9},"","","","","","","","","","","","[table]"]
[{"$nulls":9},"","","","","","","","","","","","[tr]"]
[{"$nulls":9},"","","","","","","","","","","",null,"[td][url=http://www.tabonline.com.au/2012/05/05/QR07.html]Gold Coast   Race   7[/url][/td]"]
[{"$nulls":9},"","","","","","","","","","","",null,"[td][color=yellow]Carlton Prime Minister's Cup[/color][/td]"]
[{"$nulls":9},"","","","","","","","","","","",null,"[td]$176400[/td]"]
[{"$nulls":9},"","","","","","","","","","","",null,"[td][color=lime]LR[/color][/td]"]
[{"$nulls":9},"","","","","","","","","","","","[/tr]"]
[{"$nulls":9},"","","","","","","","","","","","[tr]"]
[{"$nulls":9},"","","","","","","","","","","",null,"[td]No Horse[/td]"]
[{"$nulls":9},"","","","","","","","","","","",null,"[td]Rated Price[/td]"]
[{"$nulls":9},"","","","","","","","","","","",null,"[td]Win[/td]"]
[{"$nulls":9},"","","","","","","","","","","",null,"[td]Place[/td]"]
[{"$nulls":9},"","","","","","","","","","","","[/tr]"]
[{"$nulls":9},"","","","","","","","","","","","[tr]"]
[{"$nulls":9},"","","","","","","","","","","",null,"[td]3. Mid Summer Music[/td]"]
[{"$nulls":9},"","","","","","","","","","","",null,"[td]$2.79[/td]"]
[{"$nulls":9},"","","","","","","","","","","",null,"[td][/td]"]
[{"$nulls":9},"","","","","","","","","","","",null,"[td][/td]"]
[{"$nulls":9},"","","","","","","","","","","","[/tr]"]
[{"$nulls":9},"","","","","","","","","","","","[tr]"]
[{"$nulls":9},"","","","","","","","","","","",null,"[td]7. Parables[/td]"]
[{"$nulls":9},"","","","","","","","","","","",null,"[td]$3.44[/td]"]
[{"$nulls":9},"","","","","","","","","","","",null,"[td][/td]"]
[{"$nulls":9},"","","","","","","","","","","",null,"[td][/td]"]
[{"$nulls":9},"","","","","","","","","","","","[/tr]"]
[{"$nulls":9},"","","","","","","","","","","","[/table]"]
[{"$nulls":9},"","","","","","","","","","",""]
[{"$nulls":9},"","","","","","","","","","","","[table]"]
[{"$nulls":9},"","","","","","","","","","","","[tr]"]
[{"$nulls":9},"","","","","","","","","","","",null,"[td][url=http://www.tabonline.com.au/2012/05/05/QR08.html]Gold Coast   Race   8[/url][/td]"]
[{"$nulls":9},"","","","","","","","","","","",null,"[td][color=yellow]G.C. Bulletin A D Hollindale[/color][/td]"]
[{"$nulls":9},"","","","","","","","","","","",null,"[td]$301400[/td]"]
[{"$nulls":9},"","","","","","","","","","","",null,"[td][color=lime]G2[/color][/td]"]
[{"$nulls":9},"","","","","","","","","","","","[/tr]"]
[{"$nulls":9},"","","","","","","","","","","","[tr]"]
[{"$nulls":9},"","","","","","","","","","","",null,"[td]No Horse[/td]"]
[{"$nulls":9},"","","","","","","","","","","",null,"[td]Rated Price[/td]"]
[{"$nulls":9},"","","","","","","","","","","",null,"[td]Win[/td]"]
[{"$nulls":9},"","","","","","","","","","","",null,"[td]Place[/td]"]
[{"$nulls":9},"","","","","","","","","","","","[/tr]"]
[{"$nulls":9},"","","","","","","","","","","","[tr]"]
[{"$nulls":9},"","","","","","","","","","","",null,"[td]14. Lights Of Heaven[/td]"]
[{"$nulls":9},"","","","","","","","","","","",null,"[td]$3.25[/td]"]
[{"$nulls":9},"","","","","","","","","","","",null,"[td][/td]"]
[{"$nulls":9},"","","","","","","","","","","",null,"[td][/td]"]
[{"$nulls":9},"","","","","","","","","","","","[/tr]"]
[{"$nulls":9},{"$f":"IF(ISNUMBER(F1474),F1474,\"\")","v":""},{"$f":"IF(ISNUMBER(G1474),G1474,\"\")","v":""},{"$f":"IF(AND($A1474=\"1St\",$F1474>0),$F1474,\"\")","v":""},"",{"$f":"IF(AND($A1474=\"3rd\",$F1474>0),$F1474,\"\")","v":""},{"$f":"IF(AND($A1474=\"4th\",$F1474>0),$F1474,\"\")","v":""},{"$f":"IF(AND($A1474=\"5th\",$F1474>0),$F1474,\"\")","v":""},"","","",{"$f":"IF(F1474=\"win\",1,\"\")","v":""},"[tr]"]
[{"$nulls":9},"","","",{"$f":"IF(AND($A1475=\"2nd\",$F1475>0),$F1475,\"\")","v":""},"","","",{"$f":"IF(AND($H1475=\"Quin\",$I1475>0),$I1475,\"\")","v":""},{"$f":"IF(AND($H1475=\"Tri\",$I1475>0),$I1475,\"\")","v":""},{"$f":"IF(AND($H1475=\"F4\",$I1475>0),$I1475,\"\")","v":""},"",null,"[td]13. Shez Sinsational[/td]"]
[{"$nulls":9},"","","","","","","","","","","",null,"[td]$3.84[/td]"]
[{"$nulls":9},"","","","","","","","","","","",null,"[td][/td]"]
[{"$nulls":9},"","","","","","","","","","","",null,"[td][/td]"]
[{"$nulls":9},"","","","","","","","","","","","[/tr]"]
[{"$nulls":9},"","","","","","","","","","","","[/table]"]
[{"$nulls":9},"","","","","","","","","","",""]
[{"$nulls":9},"","","","","","","","","","","","[table]"]
[{"$nulls":9},"","","","","","","","","","","","[tr]"]
[{"$nulls":9},"","","","","","","","","","","",null,"[td][url=http://www.tabonline.com.au/2012/05/05/SR06.html]Hawkesbury   Race   6[/url][/td]"]
[{"$nulls":9},"","","","","","","","","","","",null,"[td][color=yellow]XXXX Gold H'bury Rowley Mile[/color][/td]"]
[{"$nulls":9},"","","","","","","","","","","",null,"[td]$151500[/td]"]
[{"$nulls":9},"","","","","","","","","","","",null,"[td][color=lime]LR[/color][/td]"]
[{"$nulls":9},"","","","","","","","","","","","[/tr]"]
[{"$nulls":9},"","","","","","","","","","","","[tr]"]
[{"$nulls":9},"","","","","","","","","","","",null,"[td]No Horse[/td]"]
[{"$nulls":9},"","","","","","","","","","","",null,"[td]Rated Price[/td]"]
[{"$nulls":9},"","","","","","","","","","","",null,"[td]Win[/td]"]
[{"$nulls":9},"","","","","","","","","","","",null,"[td]Place[/td]"]
[{"$nulls":9},"","","","","","","","","","","","[/tr]"]
[{"$nulls":9},"","","","","","","","","","","","[tr]"]
[{"$nulls":9},"","","","","","","","","","","",null,"[td]2. Western Symbol[/td]"]
[{"$nulls":9},"","","","","","","","","","","",null,"[td]$3.01[/td]"]
[{"$nulls":9},"","","","","","","","","","","",null,"[td][/td]"]
[{"$nulls":9},"","","","","","","","","","","",null,"[td][/td]"]
[{"$nulls":9},"","","","","","","","","","","","[/tr]"]
[{"$nulls":9},"","","","","","","","","","","","[tr]"]
[{"$nulls":9},"","","","","","","","","","","",null,"[td]1. Fast Clip[/td]"]
[{"$nulls":9},"","","","","","","","","","","",null,"[td]$3.19[/td]"]
[{"$nulls":9},"","","","","","","","","","","",null,"[td][/td]"]
[{"$nulls":9},"","","","","","","","","","","",null,"[td][/td]"]
[{"$nulls":9},"","","","","","","","","","","","[/tr]"]
[{"$nulls":9},"","","","","","","","","","","","[/table]"]
[{"$nulls":9},"","","","","","","","","","",""]
[{"$nulls":9},"","","","","","","","","","","","[table]"]
[{"$nulls":9},"","","","","","","","","","","","[tr]"]
[{"$nulls":9},"","","","","","","","","","","",null,"[td][url=http://www.tabonline.com.au/2012/05/05/AR01.html]Morphettville   Race   1[/url][/td]"]
[{"$nulls":9},"","","","","","","","","","","",null,"[td][color=yellow]Adelaide Casino Oaklands Plate[/color][/td]"]
[{"$nulls":9},"","","","","","","","","","","",null,"[td]$80400[/td]"]
[{"$nulls":9},"","","","","","","","","","","",null,"[td][color=lime]LR[/color][/td]"]
[{"$nulls":9},"","","","","","","","","","","","[/tr]"]
[{"$nulls":9},"","","","","","","","","","","","[tr]"]
[{"$nulls":9},"","","","","","","","","","","",null,"[td]No Horse[/td]"]
[{"$nulls":9},"","","","","","","","","","","",null,"[td]Rated Price[/td]"]
[{"$nulls":9},"","","","","","","","","","","",null,"[td]Win[/td]"]
[{"$nulls":9},"","","","","","","","","","","",null,"[td]Place[/td]"]
[{"$nulls":9},"","","","","","","","","","","","[/tr]"]
[{"$nulls":9},"","","","","","","","","","","","[tr]"]
[{"$nulls":9},"","","","","","","","","","","",null,"[td]1. Chosen Moment[/td]"]
[{"$nulls":9},"","","","","","","","","","","",null,"[td]$2.77[/td]"]
[{"$nulls":9},"","","","","","","","","","","",null,"[td][/td]"]
[{"$nulls":9},"","","","","","","","","","","",null,"[td][/td]"]
[{"$nulls":9},"","","","","","","","","","","","[/tr]"]
[{"$nulls":9},"","","","","","","","","","","","[tr]"]
[{"$nulls":9},"","","","","","","","","","","",null,"[td]4. Monica Kate[/td]"]
[{"$nulls":9},"","","","","","","","","","","",null,"[td]$3.68[/td]"]
[{"$nulls":9},"","","","","","","","","","","",null,"[td][/td]"]
[{"$nulls":9},"","","","","","","","","","","",null,"[td][/td]"]
[{"$nulls":9},"","","","","","","","","","","","[/tr]"]
[{"$nulls":9},"","","","","","","","","","","","[/table]"]
[{"$nulls":9},"","","","","","","","","","",""]
[{"$nulls":9},"","","","","","","","","","","","[table]"]
[{"$nulls":9},"","","","","","","","","","","","[tr]"]
[{"$nulls":9},{"$f":"IF(ISNUMBER(F1538),F1538,\"\")","v":""},{"$f":"IF(ISNUMBER(G1538),G1538,\"\")","v":""},{"$f":"IF(AND($A1538=\"1St\",$F1538>0),$F1538,\"\")","v":""},"",{"$f":"IF(AND($A1538=\"3rd\",$F1538>0),$F1538,\"\")","v":""},{"$f":"IF(AND($A1538=\"4th\",$F1538>0),$F1538,\"\")","v":""},{"$f":"IF(AND($A1538=\"5th\",$F1538>0),$F1538,\"\")","v":""},"","","",{"$f":"IF(F1538=\"win\",1,\"\")","v":""},null,"[td][url=http://www.tabonline.com.au/2012/05/05/AR02.html]Morphettville   Race   2[/url][/td]"]
[{"$nulls":9},"","","",{"$f":"IF(AND($A1539=\"2nd\",$F1539>0),$F1539,\"\")","v":""},"","","",{"$f":"IF(AND($H1539=\"Quin\",$I1539>0),$I1539,\"\")","v":""},{"$f":"IF(AND($H1539=\"Tri\",$I1539>0),$I1539,\"\")","v":""},{"$f":"IF(AND($H1539=\"F4\",$I1539>0),$I1539,\"\")","v":""},"",null,"[td][color=yellow]Centrebet's Superbestplus Hcp[/color][/td]"]
[{"$nulls":9},"","","","","","","","","","","",null,"[td]$40000[/td]"]
[{"$nulls":9},"","","","","","","","","","","",null,"[td][color=lime]Open[/color][/td]"]
[{"$nulls":9},"","","","","","","","","","","","[/tr]"]
[{"$nulls":9},"","","","","","","","","","","","[tr]"]
[{"$nulls":9},"","","","","","","","","","","",null,"[td]No Horse[/td]"]
[{"$nulls":9},"","","","","","","","","","","",null,"[td]Rated Price[/td]"]
[{"$nulls":9},"","","","","","","","","","","",null,"[td]Win[/td]"]
[{"$nulls":9},"","","","","","","","","","","",null,"[td]Place[/td]"]
[{"$nulls":9},"","","","","","","","","","","","[/tr]"]
[{"$nulls":9},"","","","","","","","","","","","[tr]"]
[{"$nulls":9},"","","","","","","","","","","",null,"[td]1. Day Procedure[/td]"]
[{"$nulls":9},"","","","","","","","","","","",null,"[td]$2.80[/td]"]
[{"$nulls":9},"","","","","","","","","","","",null,"[td][/td]"]
[{"$nulls":9},"","","","","","","","","","","",null,"[td][/td]"]
[{"$nulls":9},"","","","","","","","","","","","[/tr]"]
[{"$nulls":9},"","","","","","","","","","","","[tr]"]
[{"$nulls":9},"","","","","","","","","","","",null,"[td]3. Impulse Buy[/td]"]
[{"$nulls":9},"","","","","","","","","","","",null,"[td]$2.80[/td]"]
[{"$nulls":9},"","","","","","","","","","","",null,"[td][/td]"]
[{"$nulls":9},"","","","","","","","","","","",null,"[td][/td]"]
[{"$nulls":9},"","","","","","","","","","","","[/tr]"]
[{"$nulls":9},"","","","","","","","","","","","[/table]"]
[{"$nulls":9},"","","","","","","","","","",""]
[{"$nulls":9},"","","","","","","","","","","","[table]"]
[{"$nulls":9},"","","","","","","","","","","","[tr]"]
[{"$nulls":9},"","","","","","","","","","","",null,"[td][url=http://www.tabonline.com.au/2012/05/05/AR03.html]Morphettville   Race   3[/url][/td]"]
[{"$nulls":9},"","","","","","","","","","","",null,"[td][color=yellow]Centrebet's Best Of Best (94)[/color][/td]"]
[{"$nulls":9},"","","","","","","","","","","",null,"[td]$34000[/td]"]
[{"$nulls":9},"","","","","","","","","","","",null,"[td][color=lime]Restricted 94[/color][/td]"]
[{"$nulls":9},"","","","","","","","","","","","[/tr]"]
[{"$nulls":9},"","","","","","","","","","","","[tr]"]
[{"$nulls":9},"","","","","","","","","","","",null,"[td]No Horse[/td]"]
[{"$nulls":9},"","","","","","","","","","","",null,"[td]Rated Price[/td]"]
[{"$nulls":9},"","","","","","","","","","","",null,"[td]Win[/td]"]
[{"$nulls":9},"","","","","","","","","","","",null,"[td]Place[/td]"]
[{"$nulls":9},"","","","","","","","","","","","[/tr]"]
[{"$nulls":9},"","","","","","","","","","","","[tr]"]
[{"$nulls":9},"","","","","","","","","","","",null,"[td]2. Beldara[/td]"]
[{"$nulls":9},"","","","","","","","","","","",null,"[td]$2.48[/td]"]
[{"$nulls":9},"","","","","","","","","","","",null,"[td][/td]"]
[{"$nulls":9},"","","","","","","","","","","",null,"[td][/td]"]
[{"$nulls":9},"","","","","","","","","","","","[/tr]"]
[{"$nulls":9},"","","","","","","","","","","","[tr]"]
[{"$nulls":9},"","","","","","","","","","","",null,"[td]3. North Beach[/td]"]
[{"$nulls":9},"","","","","","","","","","","",null,"[td]$4.36[/td]"]
[{"$nulls":9},"","","","","","","","","","","",null,"[td][/td]"]
[{"$nulls":9},"","","","","","","","","","","",null,"[td][/td]"]
[{"$nulls":9},"","","","","","","","","","","","[/tr]"]
[{"$nulls":9},"","","","","","","","","","","","[/table]"]
[{"$nulls":9},"","","","","","","","","","",""]
[{"$nulls":9},"","","","","","","","","","","","[table]"]
[{"$nulls":9},"","","","","","","","","","","","[tr]"]
[{"$nulls":9},"","","","","","","","","","","",null,"[td][url=http://www.tabonline.com.au/2012/05/05/AR04.html]Morphettville   Race   4[/url][/td]"]
[{"$nulls":9},"","","","","","","","","","","",null,"[td][color=yellow]Peter Elberg Funerals Hcp[/color][/td]"]
[{"$nulls":9},"","","","","","","","","","","",null,"[td]$40000[/td]"]
[{"$nulls":9},"","","","","","","","","","","",null,"[td][color=lime]Open[/color][/td]"]
[{"$nulls":9},"","","","","","","","","","","","[/tr]"]
[{"$nulls":9},"","","","","","","","","","","","[tr]"]
[{"$nulls":9},"","","","","","","","","","","",null,"[td]No Horse[/td]"]
[{"$nulls":9},"","","","","","","","","","","",null,"[td]Rated Price[/td]"]
[{"$nulls":9},"","","","","","","","","","","",null,"[td]Win[/td]"]
[{"$nulls":9},"","","","","","","","","","","",null,"[td]Place[/td]"]
[{"$nulls":9},{"$f":"IF(ISNUMBER(F1602),F1602,\"\")","v":""},{"$f":"IF(ISNUMBER(G1602),G1602,\"\")","v":""},{"$f":"IF(AND($A1602=\"1St\",$F1602>0),$F1602,\"\")","v":""},"",{"$f":"IF(AND($A1602=\"3rd\",$F1602>0),$F1602,\"\")","v":""},{"$f":"IF(AND($A1602=\"4th\",$F1602>0),$F1602,\"\")","v":""},{"$f":"IF(AND($A1602=\"5th\",$F1602>0),$F1602,\"\")","v":""},"","","",{"$f":"IF(F1602=\"win\",1,\"\")","v":""},"[/tr]"]
[{"$nulls":9},"","","",{"$f":"IF(AND($A1603=\"2nd\",$F1603>0),$F1603,\"\")","v":""},"","","",{"$f":"IF(AND($H1603=\"Quin\",$I1603>0),$I1603,\"\")","v":""},{"$f":"IF(AND($H1603=\"Tri\",$I1603>0),$I1603,\"\")","v":""},{"$f":"IF(AND($H1603=\"F4\",$I1603>0),$I1603,\"\")","v":""},"","[tr]"]
[{"$nulls":9},"","","","","","","","","","","",null,"[td]3. Hidden Value[/td]"]
[{"$nulls":9},"","","","","","","","","","","",null,"[td]$2.71[/td]"]
[{"$nulls":9},"","","","","","","","","","","",null,"[td][/td]"]
[{"$nulls":9},"","","","","","","","","","","",null,"[td][/td]"]
[{"$nulls":9},"","","","","","","","","","","","[/tr]"]
[{"$nulls":9},"","","","","","","","","","","","[tr]"]
[{"$nulls":9},"","","","","","","","","","","",null,"[td]1. Petman[/td]"]
[{"$nulls":9},"","","","","","","","","","","",null,"[td]$4.75[/td]"]
[{"$nulls":9},"","","","","","","","","","","",null,"[td][/td]"]
[{"$nulls":9},"","","","","","","","","","","",null,"[td][/td]"]
[{"$nulls":9},"","","","","","","","","","","","[/tr]"]
[{"$nulls":9},"","","","","","","","","","","","[/table]"]
[{"$nulls":9},"","","","","","","","","","",""]
[{"$nulls":9},"","","","","","","","","","","","[table]"]
[{"$nulls":9},"","","","","","","","","","","","[tr]"]
[{"$nulls":9},"","","","","","","","","","","",null,"[td][url=http://www.tabonline.com.au/2012/05/05/AR05.html]Morphettville   Race   5[/url][/td]"]
[{"$nulls":9},"","","","","","","","","","","",null,"[td][color=yellow]Adelaide Guineas[/color][/td]"]
[{"$nulls":9},"","","","","","","","","","","",null,"[td]$80400[/td]"]
[{"$nulls":9},"","","","","","","","","","","",null,"[td][color=lime]LR[/color][/td]"]
[{"$nulls":9},"","","","","","","","","","","","[/tr]"]
[{"$nulls":9},"","","","","","","","","","","","[tr]"]
[{"$nulls":9},"","","","","","","","","","","",null,"[td]No Horse[/td]"]
[{"$nulls":9},"","","","","","","","","","","",null,"[td]Rated Price[/td]"]
[{"$nulls":9},"","","","","","","","","","","",null,"[td]Win[/td]"]
[{"$nulls":9},"","","","","","","","","","","",null,"[td]Place[/td]"]
[{"$nulls":9},"","","","","","","","","","","","[/tr]"]
[{"$nulls":9},"","","","","","","","","","","","[tr]"]
[{"$nulls":9},"","","","","","","","","","","",null,"[td]4. Riziz[/td]"]
[{"$nulls":9},"","","","","","","","","","","",null,"[td]$3.11[/td]"]
[{"$nulls":9},"","","","","","","","","","","",null,"[td][/td]"]
[{"$nulls":9},"","","","","","","","","","","",null,"[td][/td]"]
[{"$nulls":9},"","","","","","","","","","","","[/tr]"]
[{"$nulls":9},"","","","","","","","","","","","[tr]"]
[{"$nulls":9},"","","","","","","","","","","",null,"[td]1. The New Boy[/td]"]
[{"$nulls":9},"","","","","","","","","","","",null,"[td]$3.35[/td]"]
[{"$nulls":9},"","","","","","","","","","","",null,"[td][/td]"]
[{"$nulls":9},"","","","","","","","","","","",null,"[td][/td]"]
[{"$nulls":9},"","","","","","","","","","","","[/tr]"]
[{"$nulls":9},"","","","","","","","","","","","[/table]"]
[{"$nulls":9},"","","","","","","","","","",""]
[{"$nulls":9},"","","","","","","","","","","","[table]"]
[{"$nulls":9},"","","","","","","","","","","","[tr]"]
[{"$nulls":9},"","","","","","","","","","","",null,"[td][url=http://www.tabonline.com.au/2012/05/05/AR06.html]Morphettville   Race   6[/url][/td]"]
[{"$nulls":9},"","","","","","","","","","","",null,"[td][color=yellow]T'bred Racing Series Final[/color][/td]"]
[{"$nulls":9},"","","","","","","","","","","",null,"[td]$100000[/td]"]
[{"$nulls":9},"","","","","","","","","","","",null,"[td][color=lime]Special Condition[/color][/td]"]
[{"$nulls":9},"","","","","","","","","","","","[/tr]"]
[{"$nulls":9},"","","","","","","","","","","","[tr]"]
[{"$nulls":9},"","","","","","","","","","","",null,"[td]No Horse[/td]"]
[{"$nulls":9},"","","","","","","","","","","",null,"[td]Rated Price[/td]"]
[{"$nulls":9},"","","","","","","","","","","",null,"[td]Win[/td]"]
[{"$nulls":9},"","","","","","","","","","","",null,"[td]Place[/td]"]
[{"$nulls":9},"","","","","","","","","","","","[/tr]"]
[{"$nulls":9},"","","","","","","","","","","","[tr]"]
[{"$nulls":9},"","","","","","","","","","","",null,"[td]11. Detox[/td]"]
[{"$nulls":9},"","","","","","","","","","","",null,"[td]$2.62[/td]"]
[{"$nulls":9},"","","","","","","","","","","",null,"[td][/td]"]
[{"$nulls":9},"","","","","","","","","","","",null,"[td][/td]"]
[{"$nulls":9},"","","","","","","","","","","","[/tr]"]
[{"$nulls":9},"","","","","","","","","","","","[tr]"]
[{"$nulls":9},"","","","","","","","","","","",null,"[td]3. Silent Attitude[/td]"]
[{"$nulls":9},"","","","","","","","","","","",null,"[td]$3.25[/td]"]
[{"$nulls":9},{"$f":"IF(ISNUMBER(F1666),F1666,\"\")","v":""},{"$f":"IF(ISNUMBER(G1666),G1666,\"\")","v":""},{"$f":"IF(AND($A1666=\"1St\",$F1666>0),$F1666,\"\")","v":""},"",{"$f":"IF(AND($A1666=\"3rd\",$F1666>0),$F1666,\"\")","v":""},{"$f":"IF(AND($A1666=\"4th\",$F1666>0),$F1666,\"\")","v":""},{"$f":"IF(AND($A1666=\"5th\",$F1666>0),$F1666,\"\")","v":""},"","","",{"$f":"IF(F1666=\"win\",1,\"\")","v":""},null,"[td][/td]"]
[{"$nulls":9},"","","",{"$f":"IF(AND($A1667=\"2nd\",$F1667>0),$F1667,\"\")","v":""},"","","",{"$f":"IF(AND($H1667=\"Quin\",$I1667>0),$I1667,\"\")","v":""},{"$f":"IF(AND($H1667=\"Tri\",$I1667>0),$I1667,\"\")","v":""},{"$f":"IF(AND($H1667=\"F4\",$I1667>0),$I1667,\"\")","v":""},"",null,"[td][/td]"]
[{"$nulls":9},"","","","","","","","","","","","[/tr]"]
[{"$nulls":9},"","","","","","","","","","","","[/table]"]
[{"$nulls":9},"","","","","","","","","","",""]
[{"$nulls":9},"","","","","","","","","","","","[table]"]
[{"$nulls":9},"","","","","","","","","","","","[tr]"]
[{"$nulls":9},"","","","","","","","","","","",null,"[td][url=http://www.tabonline.com.au/2012/05/05/AR07.html]Morphettville   Race   7[/url][/td]"]
[{"$nulls":9},"","","","","","","","","","","",null,"[td][color=yellow]Centrebet S A Australian Derby[/color][/td]"]
[{"$nulls":9},"","","","","","","","","","","",null,"[td]$500500[/td]"]
[{"$nulls":9},"","","","","","","","","","","",null,"[td][color=lime]G1[/color][/td]"]
[{"$nulls":9},"","","","","","","","","","","","[/tr]"]
[{"$nulls":9},"","","","","","","","","","","","[tr]"]
[{"$nulls":9},"","","","","","","","","","","",null,"[td]No Horse[/td]"]
[{"$nulls":9},"","","","","","","","","","","",null,"[td]Rated Price[/td]"]
[{"$nulls":9},"","","","","","","","","","","",null,"[td]Win[/td]"]
[{"$nulls":9},"","","","","","","","","","","",null,"[td]Place[/td]"]
[{"$nulls":9},"","","","","","","","","","","","[/tr]"]
[{"$nulls":9},"","","","","","","","","","","","[tr]"]
[{"$nulls":9},"","","","","","","","","","","",null,"[td]1. Strike The Stars[/td]"]
[{"$nulls":9},"","","","","","","","","","","",null,"[td]$3.14[/td]"]
[{"$nulls":9},"","","","","","","","","","","",null,"[td][/td]"]
[{"$nulls":9},"","","","","","","","","","","",null,"[td][/td]"]
[{"$nulls":9},"","","","","","","","","","","","[/tr]"]
[{"$nulls":9},"","","","","","","","","","","","[tr]"]
[{"$nulls":9},"","","","","","","","","","","",null,"[td]4. Cornell[/td]"]
[{"$nulls":9},"","","","","","","","","","","",null,"[td]$4.11[/td]"]
[{"$nulls":9},"","","","","","","","","","","",null,"[td][/td]"]
[{"$nulls":9},"","","","","","","","","","","",null,"[td][/td]"]
[{"$nulls":9},"","","","","","","","","","","","[/tr]"]
[{"$nulls":9},"","","","","","","","","","","","[/table]"]
[{"$nulls":9},"","","","","","","","","","",""]
[{"$nulls":9},"","","","","","","","","","","","[table]"]
[{"$nulls":9},"","","","","","","","","","","","[tr]"]
[{"$nulls":9},"","","","","","","","","","","",null,"[td][url=http://www.tabonline.com.au/2012/05/05/AR08.html]Morphettville   Race   8[/url][/td]"]
[{"$nulls":9},"","","","","","","","","","","",null,"[td][color=yellow]Centrebet's Iphone App Hcp-68+[/color][/td]"]
[{"$nulls":9},"","","","","","","","","","","",null,"[td]$40000[/td]"]
[{"$nulls":9},"","","","","","","","","","","",null,"[td][color=lime]Open[/color][/td]"]
[{"$nulls":9},"","","","","","","","","","","","[/tr]"]
[{"$nulls":9},"","","","","","","","","","","","[tr]"]
[{"$nulls":9},"","","","","","","","","","","",null,"[td]No Horse[/td]"]
[{"$nulls":9},"","","","","","","","","","","",null,"[td]Rated Price[/td]"]
[{"$nulls":9},"","","","","","","","","","","",null,"[td]Win[/td]"]
[{"$nulls":9},"","","","","","","","","","","",null,"[td]Place[/td]"]
[{"$nulls":9},"","","","","","","","","","","","[/tr]"]
[{"$nulls":9},"","","","","","","","","","","","[tr]"]
[{"$nulls":9},"","","","","","","","","","","",null,"[td]1. Adamantium[/td]"]
[{"$nulls":9},"","","","","","","","","","","",null,"[td]$2.48[/td]"]
[{"$nulls":9},"","","","","","","","","","","",null,"[td][/td]"]
[{"$nulls":9},"","","","","","","","","","","",null,"[td][/td]"]
[{"$nulls":9},"","","","","","","","","","","","[/tr]"]
[{"$nulls":9},"","","","","","","","","","","","[tr]"]
[{"$nulls":9},"","","","","","","","","","","",null,"[td]8. Streetcar Reality[/td]"]
[{"$nulls":9},"","","","","","","","","","","",null,"[td]$3.27[/td]"]
[{"$nulls":9},"","","","","","","","","","","",null,"[td][/td]"]
[{"$nulls":9},"","","","","","","","","","","",null,"[td][/td]"]
[{"$nulls":9},"","","","","","","","","","","","[/tr]"]
[{"$nulls":9},"","","","","","","","","","","","[/table]"]
[{"$nulls":9},"","","","","","","","","","",""]
[{"$nulls":9},"","","","","","","","","","","","[table]"]
[{"$nulls":9},"","","","","","","","","","","","[tr]"]
[{"$nulls":9},"","","","","","","","","","","",null,"[td][url=http://www.tabonline.com.au/2012/05/05/QR07.html]Gold Coast   Race   7[/url][/td]"]
[{"$nulls":9},"","","","","","","","","","","",null,"[td][color=yellow]Carlton Prime Minister's Cup[/color][/td]"]
[{"$nulls":9},"","","","","","","","","","","",null,"[td]$176400[/td]"]
[{"$nulls":9},{"$f":"IF(ISNUMBER(F1730),F1730,\"\")","v":""},{"$f":"IF(ISNUMBER(G1730),G1730,\"\")","v":""},{"$f":"IF(AND($A1730=\"1St\",$F1730>0),$F1730,\"\")","v":""},"",{"$f":"IF(AND($A1730=\"3rd\",$F1730>0),$F1730,\"\")","v":""},{"$f":"IF(AND($A1730=\"4th\",$F1730>0),$F1730,\"\")","v":""},{"$f":"IF(AND($A1730=\"5th\",$F1730>0),$F1730,\"\")","v":""},"","","",{"$f":"IF(F1730=\"win\",1,\"\")","v":""},null,"[td][color=lime]LR[/color][/td]"]
[{"$nulls":9},"","","",{"$f":"IF(AND($A1731=\"2nd\",$F1731>0),$F1731,\"\")","v":""},"","","",{"$f":"IF(AND($H1731=\"Quin\",$I1731>0),$I1731,\"\")","v":""},{"$f":"IF(AND($H1731=\"Tri\",$I1731>0),$I1731,\"\")","v":""},{"$f":"IF(AND($H1731=\"F4\",$I1731>0),$I1731,\"\")","v":""},"","[/tr]"]
[{"$nulls":9},"","","","","","","","","","","","[tr]"]
[{"$nulls":9},"","","","","","","","","","","",null,"[td]No Horse[/td]"]
[{"$nulls":9},"","","","","","","","","","","",null,"[td]Rated Price[/td]"]
[{"$nulls":9},"","","","","","","","","","","",null,"[td]Win[/td]"]
[{"$nulls":9},"","","","","","","","","","","",null,"[td]Place[/td]"]
[{"$nulls":9},"","","","","","","","","","","","[/tr]"]
[{"$nulls":9},"","","","","","","","","","","","[tr]"]
[{"$nulls":9},"","","","","","","","","","","",null,"[td]3. Mid Summer Music[/td]"]
[{"$nulls":9},"","","","","","","","","","","",null,"[td]$2.79[/td]"]
[{"$nulls":9},"","","","","","","","","","","",null,"[td][/td]"]
[{"$nulls":9},"","","","","","","","","","","",null,"[td][/td]"]
[{"$nulls":9},"","","","","","","","","","","","[/tr]"]
[{"$nulls":9},"","","","","","","","","","","","[tr]"]
[{"$nulls":9},"","","","","","","","","","","",null,"[td]7. Parables[/td]"]
[{"$nulls":9},"","","","","","","","","","","",null,"[td]$3.44[/td]"]
[{"$nulls":9},"","","","","","","","","","","",null,"[td][/td]"]
[{"$nulls":9},"","","","","","","","","","","",null,"[td][/td]"]
[{"$nulls":9},"","","","","","","","","","","","[/tr]"]
[{"$nulls":9},"","","","","","","","","","","","[/table]"]
[{"$nulls":9},"","","","","","","","","","",""]
[{"$nulls":9},"","","","","","","","","","","","[table]"]
[{"$nulls":9},"","","","","","","","","","","","[tr]"]
[{"$nulls":9},"","","","","","","","","","","",null,"[td][url=http://www.tabonline.com.au/2012/05/05/QR08.html]Gold Coast   Race   8[/url][/td]"]
[{"$nulls":9},"","","","","","","","","","","",null,"[td][color=yellow]G.C. Bulletin A D Hollindale[/color][/td]"]
[{"$nulls":9},"","","","","","","","","","","",null,"[td]$301400[/td]"]
[{"$nulls":9},"","","","","","","","","","","",null,"[td][color=lime]G2[/color][/td]"]
[{"$nulls":9},"","","","","","","","","","","","[/tr]"]
[{"$nulls":9},"","","","","","","","","","","","[tr]"]
[{"$nulls":9},"","","","","","","","","","","",null,"[td]No Horse[/td]"]
[{"$nulls":9},"","","","","","","","","","","",null,"[td]Rated Price[/td]"]
[{"$nulls":9},"","","","","","","","","","","",null,"[td]Win[/td]"]
[{"$nulls":9},"","","","","","","","","","","",null,"[td]Place[/td]"]
[{"$nulls":9},"","","","","","","","","","","","[/tr]"]
[{"$nulls":9},"","","","","","","","","","","","[tr]"]
[{"$nulls":9},"","","","","","","","","","","",null,"[td]14. Lights Of Heaven[/td]"]
[{"$nulls":9},"","","","","","","","","","","",null,"[td]$3.25[/td]"]
[{"$nulls":9},"","","","","","","","","","","",null,"[td][/td]"]
[{"$nulls":9},"","","","","","","","","","","",null,"[td][/td]"]
[{"$nulls":9},"","","","","","","","","","","","[/tr]"]
[{"$nulls":9},"","","","","","","","","","","","[tr]"]
[{"$nulls":9},"","","","","","","","","","","",null,"[td]13. Shez Sinsational[/td]"]
[{"$nulls":9},"","","","","","","","","","","",null,"[td]$3.84[/td]"]
[{"$nulls":9},"","","","","","","","","","","",null,"[td][/td]"]
[{"$nulls":9},"","","","","","","","","","","",null,"[td][/td]"]
[{"$nulls":9},"","","","","","","","","","","","[/tr]"]
[{"$nulls":9},"","","","","","","","","","","","[/table]"]
[{"$nulls":9},"","","","","","","","","","",""]
[{"$nulls":9},"","","","","","","","","","","","[table]"]
[{"$nulls":9},"","","","","","","","","","","","[tr]"]
[{"$nulls":9},"","","","","","","","","","","",null,"[td][url=http://www.tabonline.com.au/2012/05/05/SR06.html]Hawkesbury   Race   6[/url][/td]"]
[{"$nulls":9},"","","","","","","","","","","",null,"[td][color=yellow]XXXX Gold H'bury Rowley Mile[/color][/td]"]
[{"$nulls":9},"","","","","","","","","","","",null,"[td]$151500[/td]"]
[{"$nulls":9},"","","","","","","","","","","",null,"[td][color=lime]LR[/color][/td]"]
[{"$nulls":9},"","","","","","","","","","","","[/tr]"]
[{"$nulls":9},"","","","","","","","","","","","[tr]"]
[{"$nulls":9},"","","","","","","","","","","",null,"[td]No Horse[/td]"]
[{"$nulls":9},"","","","","","","","","","","",null,"[td]Rated Price[/td]"]
[{"$nulls":9},"","","","","","","","","","","",null,"[td]Win[/td]"]
[{"$nulls":9},"","","","","","","","","","","",null,"[td]Place[/td]"]
[{"$nulls":9},"","","","","","","","","","","","[/tr]"]
[{"$nulls":9},"","","","","","","","","","","","[tr]"]
[{"$nulls":9},"","","","","","","","","","","",null,"[td]2. Western Symbol[/td]"]
[{"$nulls":9},{"$f":"IF(ISNUMBER(F1794),F1794,\"\")","v":""},{"$f":"IF(ISNUMBER(G1794),G1794,\"\")","v":""},{"$f":"IF(AND($A1794=\"1St\",$F1794>0),$F1794,\"\")","v":""},"",{"$f":"IF(AND($A1794=\"3rd\",$F1794>0),$F1794,\"\")","v":""},{"$f":"IF(AND($A1794=\"4th\",$F1794>0),$F1794,\"\")","v":""},{"$f":"IF(AND($A1794=\"5th\",$F1794>0),$F1794,\"\")","v":""},"","","",{"$f":"IF(F1794=\"win\",1,\"\")","v":""},null,"[td]$3.01[/td]"]
[{"$nulls":9},"","","",{"$f":"IF(AND($A1795=\"2nd\",$F1795>0),$F1795,\"\")","v":""},"","","",{"$f":"IF(AND($H1795=\"Quin\",$I1795>0),$I1795,\"\")","v":""},{"$f":"IF(AND($H1795=\"Tri\",$I1795>0),$I1795,\"\")","v":""},{"$f":"IF(AND($H1795=\"F4\",$I1795>0),$I1795,\"\")","v":""},"",null,"[td][/td]"]
[{"$nulls":9},"","","","","","","","","","","",null,"[td][/td]"]
[{"$nulls":9},"","","","","","","","","","","","[/tr]"]
[{"$nulls":9},"","","","","","","","","","","","[tr]"]
[{"$nulls":9},"","","","","","","","","","","",null,"[td]1. Fast Clip[/td]"]
[{"$nulls":9},"","","","","","","","","","","",null,"[td]$3.19[/td]"]
[{"$nulls":9},"","","","","","","","","","","",null,"[td][/td]"]
[{"$nulls":9},"","","","","","","","","","","",null,"[td][/td]"]
[{"$nulls":9},"","","","","","","","","","","","[/tr]"]
[{"$nulls":9},"","","","","","","","","","","","[/table]"]
[{"$nulls":9},"","","","","","","","","","",""]
[{"$nulls":9},"","","","","","","","","","","","[table]"]
[{"$nulls":9},"","","","","","","","","","","","[tr]"]
[{"$nulls":9},"","","","","","","","","","","",null,"[td][url=http://www.tabonline.com.au/2012/05/05/QR07.html]Gold Coast   Race   7[/url][/td]"]
[{"$nulls":9},"","","","","","","","","","","",null,"[td][color=yellow]Carlton Prime Minister's Cup[/color][/td]"]
[{"$nulls":9},"","","","","","","","","","","",null,"[td]$176400[/td]"]
[{"$nulls":9},"","","","","","","","","","","",null,"[td][color=lime]LR[/color][/td]"]
[{"$nulls":9},"","","","","","","","","","","","[/tr]"]
[{"$nulls":9},"","","","","","","","","","","","[tr]"]
[{"$nulls":9},"","","","","","","","","","","",null,"[td]No Horse[/td]"]
[{"$nulls":9},"","","","","","","","","","","",null,"[td]Rated Price[/td]"]
[{"$nulls":9},"","","","","","","","","","","",null,"[td]Win[/td]"]
[{"$nulls":9},"","","","","","","","","","","",null,"[td]Place[/td]"]
[{"$nulls":9},"","","","","","","","","","","","[/tr]"]
[{"$nulls":9},"","","","","","","","","","","","[tr]"]
[{"$nulls":9},"","","","","","","","","","","",null,"[td]3. Mid Summer Music[/td]"]
[{"$nulls":9},"","","","","","","","","","","",null,"[td]$2.79[/td]"]
[{"$nulls":9},"","","","","","","","","","","",null,"[td][/td]"]
[{"$nulls":9},"","","","","","","","","","","",null,"[td][/td]"]
[{"$nulls":9},"","","","","","","","","","","","[/tr]"]
[{"$nulls":9},"","","","","","","","","","","","[tr]"]
[{"$nulls":9},"","","","","","","","","","","",null,"[td]7. Parables[/td]"]
[{"$nulls":9},"","","","","","","","","","","",null,"[td]$3.44[/td]"]
[{"$nulls":9},"","","","","","","","","","","",null,"[td][/td]"]
[{"$nulls":9},"","","","","","","","","","","",null,"[td][/td]"]
[{"$nulls":9},"","","","","","","","","","","","[/tr]"]
[{"$nulls":9},"","","","","","","","","","","","[/table]"]
[{"$nulls":9},"","","","","","","","","","",""]
[{"$nulls":9},"","","","","","","","","","","","[table]"]
[{"$nulls":9},"","","","","","","","","","","","[tr]"]
[{"$nulls":9},"","","","","","","","","","","",null,"[td][url=http://www.tabonline.com.au/2012/05/05/QR08.html]Gold Coast   Race   8[/url][/td]"]
[{"$nulls":9},"","","","","","","","","","","",null,"[td][color=yellow]G.C. Bulletin A D Hollindale[/color][/td]"]
[{"$nulls":9},"","","","","","","","","","","",null,"[td]$301400[/td]"]
[{"$nulls":9},"","","","","","","","","","","",null,"[td][color=lime]G2[/color][/td]"]
[{"$nulls":9},"","","","","","","","","","","","[/tr]"]
[{"$nulls":9},"","","","","","","","","","","","[tr]"]
[{"$nulls":9},"","","","","","","","","","","",null,"[td]No Horse[/td]"]
[{"$nulls":9},"","","","","","","","","","","",null,"[td]Rated Price[/td]"]
[{"$nulls":9},"","","","","","","","","","","",null,"[td]Win[/td]"]
[{"$nulls":9},"","","","","","","","","","","",null,"[td]Place[/td]"]
[{"$nulls":9},"","","","","","","","","","","","[/tr]"]
[{"$nulls":9},"","","","","","","","","","","","[tr]"]
[{"$nulls":9},"","","","","","","","","","","",null,"[td]14. Lights Of Heaven[/td]"]
[{"$nulls":9},"","","","","","","","","","","",null,"[td]$3.25[/td]"]
[{"$nulls":9},"","","","","","","","","","","",null,"[td][/td]"]
[{"$nulls":9},"","","","","","","","","","","",null,"[td][/td]"]
[{"$nulls":9},"","","","","","","","","","","","[/tr]"]
[{"$nulls":9},"","","","","","","","","","","","[tr]"]
[{"$nulls":9},"","","","","","","","","","","",null,"[td]13. Shez Sinsational[/td]"]
[{"$nulls":9},"","","","","","","","","","","",null,"[td]$3.84[/td]"]
[{"$nulls":9},"","","","","","","","","","","",null,"[td][/td]"]
[{"$nulls":9},"","","","","","","","","","","",null,"[td][/td]"]
[{"$nulls":9},"","","","","","","","","","","","[/tr]"]
[{"$nulls":9},{"$f":"IF(ISNUMBER(F1858),F1858,\"\")","v":""},{"$f":"IF(ISNUMBER(G1858),G1858,\"\")","v":""},{"$f":"IF(AND($A1858=\"1St\",$F1858>0),$F1858,\"\")","v":""},"",{"$f":"IF(AND($A1858=\"3rd\",$F1858>0),$F1858,\"\")","v":""},{"$f":"IF(AND($A1858=\"4th\",$F1858>0),$F1858,\"\")","v":""},{"$f":"IF(AND($A1858=\"5th\",$F1858>0),$F1858,\"\")","v":""},"","","",{"$f":"IF(F1858=\"win\",1,\"\")","v":""},"[/table]"]
[{"$nulls":9},"","","",{"$f":"IF(AND($A1859=\"2nd\",$F1859>0),$F1859,\"\")","v":""},"","","",{"$f":"IF(AND($H1859=\"Quin\",$I1859>0),$I1859,\"\")","v":""},{"$f":"IF(AND($H1859=\"Tri\",$I1859>0),$I1859,\"\")","v":""},{"$f":"IF(AND($H1859=\"F4\",$I1859>0),$I1859,\"\")","v":""},""]
[{"$nulls":9},"","","","","","","","","","","","[table]"]
[{"$nulls":9},"","","","","","","","","","","","[tr]"]
[{"$nulls":9},"","","","","","","","","","","",null,"[td][url=http://www.tabonline.com.au/2012/05/05/SR06.html]Hawkesbury   Race   6[/url][/td]"]
[{"$nulls":9},"","","","","","","","","","","",null,"[td][color=yellow]XXXX Gold H'bury Rowley Mile[/color][/td]"]
[{"$nulls":9},"","","","","","","","","","","",null,"[td]$151500[/td]"]
[{"$nulls":9},"","","","","","","","","","","",null,"[td][color=lime]LR[/color][/td]"]
[{"$nulls":9},"","","","","","","","","","","","[/tr]"]
[{"$nulls":9},"","","","","","","","","","","","[tr]"]
[{"$nulls":9},"","","","","","","","","","","",null,"[td]No Horse[/td]"]
[{"$nulls":9},"","","","","","","","","","","",null,"[td]Rated Price[/td]"]
[{"$nulls":9},"","","","","","","","","","","",null,"[td]Win[/td]"]
[{"$nulls":9},"","","","","","","","","","","",null,"[td]Place[/td]"]
[{"$nulls":9},"","","","","","","","","","","","[/tr]"]
[{"$nulls":9},"","","","","","","","","","","","[tr]"]
[{"$nulls":9},"","","","","","","","","","","",null,"[td]2. Western Symbol[/td]"]
[{"$nulls":9},"","","","","","","","","","","",null,"[td]$3.01[/td]"]
[{"$nulls":9},"","","","","","","","","","","",null,"[td][/td]"]
[{"$nulls":9},"","","","","","","","","","","",null,"[td][/td]"]
[{"$nulls":9},"","","","","","","","","","","","[/tr]"]
[{"$nulls":9},"","","","","","","","","","","","[tr]"]
[{"$nulls":9},"","","","","","","","","","","",null,"[td]1. Fast Clip[/td]"]
[{"$nulls":9},"","","","","","","","","","","",null,"[td]$3.19[/td]"]
[{"$nulls":9},"","","","","","","","","","","",null,"[td][/td]"]
[{"$nulls":9},"","","","","","","","","","","",null,"[td][/td]"]
[{"$nulls":9},"","","","","","","","","","","","[/tr]"]
[{"$nulls":9},"","","","","","","","","","","","[/table]"]
[{"$nulls":9},"","","","","","","","","","",""]
[{"$nulls":9},"","","","","","","","","","","","[table]"]
[{"$nulls":9},"","","","","","","","","","","","[tr]"]
[{"$nulls":9},"","","","","","","","","","","",null,"[td][url=http://www.tabonline.com.au/2012/05/05/AR01.html]Morphettville   Race   1[/url][/td]"]
[{"$nulls":9},"","","","","","","","","","","",null,"[td][color=yellow]Adelaide Casino Oaklands Plate[/color][/td]"]
[{"$nulls":9},"","","","","","","","","","","",null,"[td]$80400[/td]"]
[{"$nulls":9},"","","","","","","","","","","",null,"[td][color=lime]LR[/color][/td]"]
[{"$nulls":9},"","","","","","","","","","","","[/tr]"]
[{"$nulls":9},"","","","","","","","","","","","[tr]"]
[{"$nulls":9},"","","","","","","","","","","",null,"[td]No Horse[/td]"]
[{"$nulls":9},"","","","","","","","","","","",null,"[td]Rated Price[/td]"]
[{"$nulls":9},"","","","","","","","","","","",null,"[td]Win[/td]"]
[{"$nulls":9},"","","","","","","","","","","",null,"[td]Place[/td]"]
[{"$nulls":9},"","","","","","","","","","","","[/tr]"]
[{"$nulls":9},"","","","","","","","","","","","[tr]"]
[{"$nulls":9},"","","","","","","","","","","",null,"[td]1. Chosen Moment[/td]"]
[{"$nulls":9},"","","","","","","","","","","",null,"[td]$2.77[/td]"]
[{"$nulls":9},"","","","","","","","","","","",null,"[td][/td]"]
[{"$nulls":9},"","","","","","","","","","","",null,"[td][/td]"]
[{"$nulls":9},"","","","","","","","","","","","[/tr]"]
[{"$nulls":9},"","","","","","","","","","","","[tr]"]
[{"$nulls":9},"","","","","","","","","","","",null,"[td]4. Monica Kate[/td]"]
[{"$nulls":9},"","","","","","","","","","","",null,"[td]$3.68[/td]"]
[{"$nulls":9},"","","","","","","","","","","",null,"[td][/td]"]
[{"$nulls":9},"","","","","","","","","","","",null,"[td][/td]"]
[{"$nulls":9},"","","","","","","","","","","","[/tr]"]
[{"$nulls":9},"","","","","","","","","","","","[/table]"]
[{"$nulls":9},"","","","","","","","","","",""]
[{"$nulls":9},"","","","","","","","","","","","[table]"]
[{"$nulls":9},"","","","","","","","","","","","[tr]"]
[{"$nulls":9},"","","","","","","","","","","",null,"[td][url=http://www.tabonline.com.au/2012/05/05/AR02.html]Morphettville   Race   2[/url][/td]"]
[{"$nulls":9},"","","","","","","","","","","",null,"[td][color=yellow]Centrebet's Superbestplus Hcp[/color][/td]"]
[{"$nulls":9},"","","","","","","","","","","",null,"[td]$40000[/td]"]
[{"$nulls":9},"","","","","","","","","","","",null,"[td][color=lime]Open[/color][/td]"]
[{"$nulls":9},"","","","","","","","","","","","[/tr]"]
[{"$nulls":9},"","","","","","","","","","","","[tr]"]
[{"$nulls":9},{"$f":"IF(ISNUMBER(F1922),F1922,\"\")","v":""},{"$f":"IF(ISNUMBER(G1922),G1922,\"\")","v":""},{"$f":"IF(AND($A1922=\"1St\",$F1922>0),$F1922,\"\")","v":""},"",{"$f":"IF(AND($A1922=\"3rd\",$F1922>0),$F1922,\"\")","v":""},{"$f":"IF(AND($A1922=\"4th\",$F1922>0),$F1922,\"\")","v":""},{"$f":"IF(AND($A1922=\"5th\",$F1922>0),$F1922,\"\")","v":""},"","","",{"$f":"IF(F1922=\"win\",1,\"\")","v":""},null,"[td]No Horse[/td]"]
[{"$nulls":9},"","","",{"$f":"IF(AND($A1923=\"2nd\",$F1923>0),$F1923,\"\")","v":""},"","","",{"$f":"IF(AND($H1923=\"Quin\",$I1923>0),$I1923,\"\")","v":""},{"$f":"IF(AND($H1923=\"Tri\",$I1923>0),$I1923,\"\")","v":""},{"$f":"IF(AND($H1923=\"F4\",$I1923>0),$I1923,\"\")","v":""},"",null,"[td]Rated Price[/td]"]
[{"$nulls":9},"","","","","","","","","","","",null,"[td]Win[/td]"]
[{"$nulls":9},"","","","","","","","","","","",null,"[td]Place[/td]"]
[{"$nulls":9},"","","","","","","","","","","","[/tr]"]
[{"$nulls":9},"","","","","","","","","","","","[tr]"]
[{"$nulls":9},"","","","","","","","","","","",null,"[td]1. Day Procedure[/td]"]
[{"$nulls":9},"","","","","","","","","","","",null,"[td]$2.80[/td]"]
[{"$nulls":9},"","","","","","","","","","","",null,"[td][/td]"]
[{"$nulls":9},"","","","","","","","","","","",null,"[td][/td]"]
[{"$nulls":9},"","","","","","","","","","","","[/tr]"]
[{"$nulls":9},"","","","","","","","","","","","[tr]"]
[{"$nulls":9},"","","","","","","","","","","",null,"[td]3. Impulse Buy[/td]"]
[{"$nulls":9},"","","","","","","","","","","",null,"[td]$2.80[/td]"]
[{"$nulls":9},"","","","","","","","","","","",null,"[td][/td]"]
[{"$nulls":9},"","","","","","","","","","","",null,"[td][/td]"]
[{"$nulls":9},"","","","","","","","","","","","[/tr]"]
[{"$nulls":9},"","","","","","","","","","","","[/table]"]
[{"$nulls":9},"","","","","","","","","","",""]
[{"$nulls":9},"","","","","","","","","","","","[table]"]
[{"$nulls":9},"","","","","","","","","","","","[tr]"]
[{"$nulls":9},"","","","","","","","","","","",null,"[td][url=http://www.tabonline.com.au/2012/05/05/AR03.html]Morphettville   Race   3[/url][/td]"]
[{"$nulls":9},"","","","","","","","","","","",null,"[td][color=yellow]Centrebet's Best Of Best (94)[/color][/td]"]
[{"$nulls":9},"","","","","","","","","","","",null,"[td]$34000[/td]"]
[{"$nulls":9},"","","","","","","","","","","",null,"[td][color=lime]Restricted 94[/color][/td]"]
[{"$nulls":9},"","","","","","","","","","","","[/tr]"]
[{"$nulls":9},"","","","","","","","","","","","[tr]"]
[{"$nulls":9},"","","","","","","","","","","",null,"[td]No Horse[/td]"]
[{"$nulls":9},"","","","","","","","","","","",null,"[td]Rated Price[/td]"]
[{"$nulls":9},"","","","","","","","","","","",null,"[td]Win[/td]"]
[{"$nulls":9},"","","","","","","","","","","",null,"[td]Place[/td]"]
[{"$nulls":9},"","","","","","","","","","","","[/tr]"]
[{"$nulls":9},"","","","","","","","","","","","[tr]"]
[{"$nulls":9},"","","","","","","","","","","",null,"[td]2. Beldara[/td]"]
[{"$nulls":9},"","","","","","","","","","","",null,"[td]$2.48[/td]"]
[{"$nulls":9},"","","","","","","","","","","",null,"[td][/td]"]
[{"$nulls":9},"","","","","","","","","","","",null,"[td][/td]"]
[{"$nulls":9},"","","","","","","","","","","","[/tr]"]
[{"$nulls":9},"","","","","","","","","","","","[tr]"]
[{"$nulls":9},"","","","","","","","","","","",null,"[td]3. North Beach[/td]"]
[{"$nulls":9},"","","","","","","","","","","",null,"[td]$4.36[/td]"]
[{"$nulls":9},"","","","","","","","","","","",null,"[td][/td]"]
[{"$nulls":9},"","","","","","","","","","","",null,"[td][/td]"]
[{"$nulls":9},"","","","","","","","","","","","[/tr]"]
[{"$nulls":9},"","","","","","","","","","","","[/table]"]
[{"$nulls":9},"","","","","","","","","","",""]
[{"$nulls":9},"","","","","","","","","","","","[table]"]
[{"$nulls":9},"","","","","","","","","","","","[tr]"]
[{"$nulls":9},"","","","","","","","","","","",null,"[td][url=http://www.tabonline.com.au/2012/05/05/AR04.html]Morphettville   Race   4[/url][/td]"]
[{"$nulls":9},"","","","","","","","","","","",null,"[td][color=yellow]Peter Elberg Funerals Hcp[/color][/td]"]
[{"$nulls":9},"","","","","","","","","","","",null,"[td]$40000[/td]"]
[{"$nulls":9},"","","","","","","","","","","",null,"[td][color=lime]Open[/color][/td]"]
[{"$nulls":9},"","","","","","","","","","","","[/tr]"]
[{"$nulls":9},"","","","","","","","","","","","[tr]"]
[{"$nulls":9},"","","","","","","","","","","",null,"[td]No Horse[/td]"]
[{"$nulls":9},"","","","","","","","","","","",null,"[td]Rated Price[/td]"]
[{"$nulls":9},"","","","","","","","","","","",null,"[td]Win[/td]"]
[{"$nulls":9},"","","","","","","","","","","",null,"[td]Place[/td]"]
[{"$nulls":9},"","","","","","","","","","","","[/tr]"]
[{"$nulls":9},"","","","","","","","","","","","[tr]"]
[{"$nulls":9},"","","","","","","","","","","",null,"[td]3. Hidden Value[/td]"]
[{"$nulls":9},"","","","","","","","","","","",null,"[td]$2.71[/td]"]
[{"$nulls":9},"","","","","","","","","","","",null,"[td][/td]"]
[{"$nulls":9},"","","","","","","","","","","",null,"[td][/td]"]
[{"$nulls":9},{"$f":"IF(ISNUMBER(F1986),F1986,\"\")","v":""},{"$f":"IF(ISNUMBER(G1986),G1986,\"\")","v":""},{"$f":"IF(AND($A1986=\"1St\",$F1986>0),$F1986,\"\")","v":""},"",{"$f":"IF(AND($A1986=\"3rd\",$F1986>0),$F1986,\"\")","v":""},{"$f":"IF(AND($A1986=\"4th\",$F1986>0),$F1986,\"\")","v":""},{"$f":"IF(AND($A1986=\"5th\",$F1986>0),$F1986,\"\")","v":""},"","","",{"$f":"IF(F1986=\"win\",1,\"\")","v":""},"[/tr]"]
[{"$nulls":9},"","","",{"$f":"IF(AND($A1987=\"2nd\",$F1987>0),$F1987,\"\")","v":""},"","","",{"$f":"IF(AND($H1987=\"Quin\",$I1987>0),$I1987,\"\")","v":""},{"$f":"IF(AND($H1987=\"Tri\",$I1987>0),$I1987,\"\")","v":""},{"$f":"IF(AND($H1987=\"F4\",$I1987>0),$I1987,\"\")","v":""},"","[tr]"]
[{"$nulls":9},"","","","","","","","","","","",null,"[td]1. Petman[/td]"]
[{"$nulls":9},"","","","","","","","","","","",null,"[td]$4.75[/td]"]
[{"$nulls":9},"","","","","","","","","","","",null,"[td][/td]"]
[{"$nulls":9},"","","","","","","","","","","",null,"[td][/td]"]
[{"$nulls":9},"","","","","","","","","","","","[/tr]"]
[{"$nulls":9},"","","","","","","","","","","","[/table]"]
[{"$nulls":9},"","","","","","","","","","",""]
[{"$nulls":9},"","","","","","","","","","","","[table]"]
[{"$nulls":9},"","","","","","","","","","","","[tr]"]
[{"$nulls":9},"","","","","","","","","","","",null,"[td][url=http://www.tabonline.com.au/2012/05/05/AR05.html]Morphettville   Race   5[/url][/td]"]
[{"$nulls":9},"","","","","","","","","","","",null,"[td][color=yellow]Adelaide Guineas[/color][/td]"]
[{"$nulls":9},"","","","","","","","","","","",null,"[td]$80400[/td]"]
[{"$nulls":9},"","","","","","","","","","","",null,"[td][color=lime]LR[/color][/td]"]
[{"$nulls":9},"","","","","","","","","","","","[/tr]"]
[{"$nulls":9},"","","","","","","","","","","","[tr]"]
[{"$nulls":9},"","","","","","","","","","","",null,"[td]No Horse[/td]"]
[{"$nulls":9},"","","","","","","","","","","",null,"[td]Rated Price[/td]"]
[{"$nulls":9},"","","","","","","","","","","",null,"[td]Win[/td]"]
[{"$nulls":9},"","","","","","","","","","","",null,"[td]Place[/td]"]
[{"$nulls":9},"","","","","","","","","","","","[/tr]"]
[{"$nulls":9},"","","","","","","","","","","","[tr]"]
[{"$nulls":9},"","","","","","","","","","","",null,"[td]4. Riziz[/td]"]
[{"$nulls":9},"","","","","","","","","","","",null,"[td]$3.11[/td]"]
[{"$nulls":9},"","","","","","","","","","","",null,"[td][/td]"]
[{"$nulls":9},"","","","","","","","","","","",null,"[td][/td]"]
[{"$nulls":9},"","","","","","","","","","","","[/tr]"]
[{"$nulls":9},"","","","","","","","","","","","[tr]"]
[{"$nulls":9},"","","","","","","","","","","",null,"[td]1. The New Boy[/td]"]
[{"$nulls":9},"","","","","","","","","","","",null,"[td]$3.35[/td]"]
[{"$nulls":9},"","","","","","","","","","","",null,"[td][/td]"]
[{"$nulls":9},"","","","","","","","","","","",null,"[td][/td]"]
[{"$nulls":9},"","","","","","","","","","","","[/tr]"]
[{"$nulls":9},"","","","","","","","","","","","[/table]"]
[{"$nulls":9},"","","","","","","","","","",""]
[{"$nulls":9},"","","","","","","","","","","","[table]"]
[{"$nulls":9},"","","","","","","","","","","","[tr]"]
[{"$nulls":9},"","","","","","","","","","","",null,"[td][url=http://www.tabonline.com.au/2012/05/05/AR06.html]Morphettville   Race   6[/url][/td]"]
[{"$nulls":9},"","","","","","","","","","","",null,"[td][color=yellow]T'bred Racing Series Final[/color][/td]"]
[{"$nulls":9},"","","","","","","","","","","",null,"[td]$100000[/td]"]
[{"$nulls":9},"","","","","","","","","","","",null,"[td][color=lime]Special Condition[/color][/td]"]
[{"$nulls":9},"","","","","","","","","","","","[/tr]"]
[{"$nulls":9},"","","","","","","","","","","","[tr]"]
[{"$nulls":9},"","","","","","","","","","","",null,"[td]No Horse[/td]"]
[{"$nulls":9},"","","","","","","","","","","",null,"[td]Rated Price[/td]"]
[{"$nulls":9},"","","","","","","","","","","",null,"[td]Win[/td]"]
[{"$nulls":9},"","","","","","","","","","","",null,"[td]Place[/td]"]
[{"$nulls":9},"","","","","","","","","","","","[/tr]"]
[{"$nulls":9},"","","","","","","","","","","","[tr]"]
[{"$nulls":9},"","","","","","","","","","","",null,"[td]11. Detox[/td]"]
[{"$nulls":9},"","","","","","","","","","","",null,"[td]$2.62[/td]"]
[{"$nulls":9},"","","","","","","","","","","",null,"[td][/td]"]
[{"$nulls":9},"","","","","","","","","","","",null,"[td][/td]"]
[{"$nulls":9},"","","","","","","","","","","","[/tr]"]
[{"$nulls":9},"","","","","","","","","","","","[tr]"]
[{"$nulls":9},"","","","","","","","","","","",null,"[td]3. Silent Attitude[/td]"]
[{"$nulls":9},"","","","","","","","","","","",null,"[td]$3.25[/td]"]
[{"$nulls":9},"","","","","","","","","","","",null,"[td][/td]"]
[{"$nulls":9},"","","","","","","","","","","",null,"[td][/td]"]
[{"$nulls":9},"","","","","","","","","","","","[/tr]"]
[{"$nulls":9},"","","","","","","","","","","","[/table]"]
[{"$nulls":9},"","","","","","","","","","",""]
[{"$nulls":9},"","","","","","","","","","","","[table]"]
[{"$nulls":9},{"$f":"IF(ISNUMBER(F2050),F2050,\"\")","v":""},{"$f":"IF(ISNUMBER(G2050),G2050,\"\")","v":""},{"$f":"IF(AND($A2050=\"1St\",$F2050>0),$F2050,\"\")","v":""},"",{"$f":"IF(AND($A2050=\"3rd\",$F2050>0),$F2050,\"\")","v":""},{"$f":"IF(AND($A2050=\"4th\",$F2050>0),$F2050,\"\")","v":""},{"$f":"IF(AND($A2050=\"5th\",$F2050>0),$F2050,\"\")","v":""},"","","",{"$f":"IF(F2050=\"win\",1,\"\")","v":""},"[tr]"]
[{"$nulls":9},"","","",{"$f":"IF(AND($A2051=\"2nd\",$F2051>0),$F2051,\"\")","v":""},"","","",{"$f":"IF(AND($H2051=\"Quin\",$I2051>0),$I2051,\"\")","v":""},{"$f":"IF(AND($H2051=\"Tri\",$I2051>0),$I2051,\"\")","v":""},{"$f":"IF(AND($H2051=\"F4\",$I2051>0),$I2051,\"\")","v":""},"",null,"[td][url=http://www.tabonline.com.au/2012/05/05/AR07.html]Morphettville   Race   7[/url][/td]"]
[{"$nulls":9},"","","","","","","","","","","",null,"[td][color=yellow]Centrebet S A Australian Derby[/color][/td]"]
[{"$nulls":9},"","","","","","","","","","","",null,"[td]$500500[/td]"]
[{"$nulls":9},"","","","","","","","","","","",null,"[td][color=lime]G1[/color][/td]"]
[{"$nulls":9},"","","","","","","","","","","","[/tr]"]
[{"$nulls":9},"","","","","","","","","","","","[tr]"]
[{"$nulls":9},"","","","","","","","","","","",null,"[td]No Horse[/td]"]
[{"$nulls":9},"","","","","","","","","","","",null,"[td]Rated Price[/td]"]
[{"$nulls":9},"","","","","","","","","","","",null,"[td]Win[/td]"]
[{"$nulls":9},"","","","","","","","","","","",null,"[td]Place[/td]"]
[{"$nulls":9},"","","","","","","","","","","","[/tr]"]
[{"$nulls":9},"","","","","","","","","","","","[tr]"]
[{"$nulls":9},"","","","","","","","","","","",null,"[td]1. Strike The Stars[/td]"]
[{"$nulls":9},"","","","","","","","","","","",null,"[td]$3.14[/td]"]
[{"$nulls":9},"","","","","","","","","","","",null,"[td][/td]"]
[{"$nulls":9},"","","","","","","","","","","",null,"[td][/td]"]
[{"$nulls":9},"","","","","","","","","","","","[/tr]"]
[{"$nulls":9},"","","","","","","","","","","","[tr]"]
[{"$nulls":9},"","","","","","","","","","","",null,"[td]4. Cornell[/td]"]
[{"$nulls":9},"","","","","","","","","","","",null,"[td]$4.11[/td]"]
[{"$nulls":9},"","","","","","","","","","","",null,"[td][/td]"]
[{"$nulls":9},"","","","","","","","","","","",null,"[td][/td]"]
[{"$nulls":9},"","","","","","","","","","","","[/tr]"]
[{"$nulls":9},"","","","","","","","","","","","[/table]"]
[{"$nulls":9},"","","","","","","","","","",""]
[{"$nulls":9},"","","","","","","","","","","","[table]"]
[{"$nulls":9},"","","","","","","","","","","","[tr]"]
[{"$nulls":9},"","","","","","","","","","","",null,"[td][url=http://www.tabonline.com.au/2012/05/05/AR08.html]Morphettville   Race   8[/url][/td]"]
[{"$nulls":9},"","","","","","","","","","","",null,"[td][color=yellow]Centrebet's Iphone App Hcp-68+[/color][/td]"]
[{"$nulls":9},"","","","","","","","","","","",null,"[td]$40000[/td]"]
[{"$nulls":9},"","","","","","","","","","","",null,"[td][color=lime]Open[/color][/td]"]
[{"$nulls":9},"","","","","","","","","","","","[/tr]"]
[{"$nulls":9},"","","","","","","","","","","","[tr]"]
[{"$nulls":9},"","","","","","","","","","","",null,"[td]No Horse[/td]"]
[{"$nulls":9},"","","","","","","","","","","",null,"[td]Rated Price[/td]"]
[{"$nulls":9},"","","","","","","","","","","",null,"[td]Win[/td]"]
[{"$nulls":9},"","","","","","","","","","","",null,"[td]Place[/td]"]
[{"$nulls":9},"","","","","","","","","","","","[/tr]"]
[{"$nulls":9},"","","","","","","","","","","","[tr]"]
[{"$nulls":9},"","","","","","","","","","","",null,"[td]1. Adamantium[/td]"]
[{"$nulls":9},"","","","","","","","","","","",null,"[td]$2.48[/td]"]
[{"$nulls":9},"","","","","","","","","","","",null,"[td][/td]"]
[{"$nulls":9},"","","","","","","","","","","",null,"[td][/td]"]
[{"$nulls":9},"","","","","","","","","","","","[/tr]"]
[{"$nulls":9},"","","","","","","","","","","","[tr]"]
[{"$nulls":9},"","","","","","","","","","","",null,"[td]8. Streetcar Reality[/td]"]
[{"$nulls":9},"","","","","","","","","","","",null,"[td]$3.27[/td]"]
[{"$nulls":9},"","","","","","","","","","","",null,"[td][/td]"]
[{"$nulls":9},"","","","","","","","","","","",null,"[td][/td]"]
[{"$nulls":9},"","","","","","","","","","","","[/tr]"]
[{"$nulls":9},"","","","","","","","","","","","[/table]"]
[{"$nulls":9},"","","","","","","","","","",""]
[{"$nulls":9},"","","","","","","","","","","","[table]"]
[{"$nulls":9},"","","","","","","","","","","","[tr]"]
[{"$nulls":9},"","","","","","","","","","","",null,"[td][url=http://www.tabonline.com.au/2012/05/06/TR07.html]Devonport Synthe   Race   7[/url][/td]"]
[{"$nulls":9},"","","","","","","","","","","",null,"[td][color=yellow]Sport Of Kings (Bm78)[/color][/td]"]
[{"$nulls":9},"","","","","","","","","","","",null,"[td]$12500[/td]"]
[{"$nulls":9},"","","","","","","","","","","",null,"[td][color=lime]Benchmark 78[/color][/td]"]
[{"$nulls":9},"","","","","","","","","","","","[/tr]"]
[{"$nulls":9},"","","","","","","","","","","","[tr]"]
[{"$nulls":9},"","","","","","","","","","","",null,"[td]No Horse[/td]"]
[{"$nulls":9},"","","","","","","","","","","",null,"[td]Rated Price[/td]"]
[{"$nulls":9},"","","","","","","","","","","",null,"[td]Win[/td]"]
[{"$nulls":9},{"$f":"IF(ISNUMBER(F2114),F2114,\"\")","v":""},{"$f":"IF(ISNUMBER(G2114),G2114,\"\")","v":""},{"$f":"IF(AND($A2114=\"1St\",$F2114>0),$F2114,\"\")","v":""},"",{"$f":"IF(AND($A2114=\"3rd\",$F2114>0),$F2114,\"\")","v":""},{"$f":"IF(AND($A2114=\"4th\",$F2114>0),$F2114,\"\")","v":""},{"$f":"IF(AND($A2114=\"5th\",$F2114>0),$F2114,\"\")","v":""},"","","",{"$f":"IF(F2114=\"win\",1,\"\")","v":""},null,"[td]Place[/td]"]
[{"$nulls":9},"","","",{"$f":"IF(AND($A2115=\"2nd\",$F2115>0),$F2115,\"\")","v":""},"","","",{"$f":"IF(AND($H2115=\"Quin\",$I2115>0),$I2115,\"\")","v":""},{"$f":"IF(AND($H2115=\"Tri\",$I2115>0),$I2115,\"\")","v":""},{"$f":"IF(AND($H2115=\"F4\",$I2115>0),$I2115,\"\")","v":""},"","[/tr]"]
[{"$nulls":9},"","","","","","","","","","","","[tr]"]
[{"$nulls":9},"","","","","","","","","","","",null,"[td]3. The Invincible One[/td]"]
[{"$nulls":9},"","","","","","","","","","","",null,"[td]$2.74[/td]"]
[{"$nulls":9},"","","","","","","","","","","",null,"[td][/td]"]
[{"$nulls":9},"","","","","","","","","","","",null,"[td][/td]"]
[{"$nulls":9},"","","","","","","","","","","","[/tr]"]
[{"$nulls":9},"","","","","","","","","","","","[tr]"]
[{"$nulls":9},"","","","","","","","","","","",null,"[td]8. Copper Dancer[/td]"]
[{"$nulls":9},"","","","","","","","","","","",null,"[td]$3.46[/td]"]
[{"$nulls":9},"","","","","","","","","","","",null,"[td][/td]"]
[{"$nulls":9},"","","","","","","","","","","",null,"[td][/td]"]
[{"$nulls":9},"","","","","","","","","","","","[/tr]"]
[{"$nulls":9},"","","","","","","","","","","","[/table]"]
[{"$nulls":9},"","","","","","","","","","",""]
[{"$nulls":9},"","","","","","","","","","","","[table]"]
[{"$nulls":9},"","","","","","","","","","","","[tr]"]
[{"$nulls":9},"","","","","","","","","","","",null,"[td][url=http://www.tabonline.com.au/2012/05/06/VR07.html]Geelong Syntheti   Race   7[/url][/td]"]
[{"$nulls":9},"","","","","","","","","","","",null,"[td][color=yellow]Centrebet (Bm72)[/color][/td]"]
[{"$nulls":9},"","","","","","","","","","","",null,"[td]$22500[/td]"]
[{"$nulls":9},"","","","","","","","","","","",null,"[td][color=lime]Benchmark 72[/color][/td]"]
[{"$nulls":9},"","","","","","","","","","","","[/tr]"]
[{"$nulls":9},"","","","","","","","","","","","[tr]"]
[{"$nulls":9},"","","","","","","","","","","",null,"[td]No Horse[/td]"]
[{"$nulls":9},"","","","","","","","","","","",null,"[td]Rated Price[/td]"]
[{"$nulls":9},"","","","","","","","","","","",null,"[td]Win[/td]"]
[{"$nulls":9},"","","","","","","","","","","",null,"[td]Place[/td]"]
[{"$nulls":20},"[/tr]"]
[{"$nulls":20},"[tr]"]
[{"$nulls":21},"[td]11. Campeao[/td]"]
[{"$nulls":21},"[td]$2.60[/td]"]
[{"$nulls":21},"[td][/td]"]
[{"$nulls":21},"[td][/td]"]
[{"$nulls":20},"[/tr]"]
[{"$nulls":20},"[tr]"]
[{"$nulls":21},"[td]6. Whiskey Cruyff[/td]"]
[{"$nulls":21},"[td]$3.03[/td]"]
[{"$nulls":21},"[td][/td]"]
[{"$nulls":21},"[td][/td]"]
[{"$nulls":20},"[/tr]"]
[{"$nulls":20},"[/table]"]
[]
[{"$nulls":20},"[table]"]
[{"$nulls":20},"[tr]"]
[{"$nulls":21},"[td][url=http://www.tabonline.com.au/2012/05/06/CR07.html]Mudgee   Race   7[/url][/td]"]
[{"$nulls":21},"[td][color=yellow]2012 Sky Gold Gooree Cup[/color][/td]"]
[{"$nulls":21},"[td]$30000[/td]"]
[{"$nulls":21},"[td][color=lime]Open[/color][/td]"]
[{"$nulls":20},"[/tr]"]
[{"$nulls":20},"[tr]"]
[{"$nulls":21},"[td]No Horse[/td]"]
[{"$nulls":21},"[td]Rated Price[/td]"]
[{"$nulls":21},"[td]Win[/td]"]
[{"$nulls":21},"[td]Place[/td]"]
[{"$nulls":20},"[/tr]"]
[{"$nulls":20},"[tr]"]
[{"$nulls":21},"[td]5. Ideal Position[/td]"]
[{"$nulls":21},"[td]$3.03[/td]"]
[{"$nulls":21},"[td][/td]"]
[{"$nulls":21},"[td][/td]"]
[{"$nulls":20},"[/tr]"]
[{"$nulls":20},"[tr]"]
[{"$nulls":21},"[td]1. Moment of Clarity[/td]"]
[{"$nulls":21},"[td]$4.36[/td]"]
[{"$nulls":21},"[td][/td]"]
[{"$nulls":21},"[td][/td]"]
[{"$nulls":20},"[/tr]"]
[{"$nulls":20},"[/table]"]
[]
[{"$nulls":20},"[table]"]
[{"$nulls":20},"[tr]"]
[{"$nulls":21},"[td][url=http://www.tabonline.com.au/2012/05/06/AR08.html]Penola   Race   8[/url][/td]"]
[{"$nulls":21},"[td][color=yellow]Scott Group Millicent Cup[/color][/td]"]
[{"$nulls":21},"[td]$30850[/td]"]
[{"$nulls":21},"[td][color=lime]Open[/color][/td]"]
[{"$nulls":20},"[/tr]"]
[{"$nulls":20},"[tr]"]
[{"$nulls":21},"[td]No Horse[/td]"]
[{"$nulls":21},"[td]Rated Price[/td]"]
[{"$nulls":21},"[td]Win[/td]"]
[{"$nulls":21},"[td]Place[/td]"]
[{"$nulls":20},"[/tr]"]
[{"$nulls":20},"[tr]"]
[{"$nulls":21},"[td]6. Evenmoreaction[/td]"]
[{"$nulls":21},"[td]$2.57[/td]"]
[{"$nulls":21},"[td][/td]"]
[{"$nulls":21},"[td][/td]"]
[{"$nulls":20},"[/tr]"]
[{"$nulls":20},"[tr]"]
[{"$nulls":21},"[td]1. Texan Warney[/td]"]
[{"$nulls":21},"[td]$2.73[/td]"]
[{"$nulls":21},"[td][/td]"]
[{"$nulls":21},"[td][/td]"]
[{"$nulls":20},"[/tr]"]
[{"$nulls":20},"[/table]"]
[]
[{"$nulls":20},"[table]"]
[{"$nulls":20},"[tr]"]
[{"$nulls":21},"[td][url=http://www.tabonline.com.au/2012/05/06/ER05.html]Sale   Race   5[/url][/td]"]
[{"$nulls":21},"[td][color=yellow]Betfair (Bm72)[/color][/td]"]
[{"$nulls":21},"[td]$17500[/td]"]
[{"$nulls":21},"[td][color=lime]Benchmark 72[/color][/td]"]
[{"$nulls":20},"[/tr]"]
[{"$nulls":20},"[tr]"]
[{"$nulls":21},"[td]No Horse[/td]"]
[{"$nulls":21},"[td]Rated Price[/td]"]
[{"$nulls":21},"[td]Win[/td]"]
[{"$nulls":21},"[td]Place[/td]"]
[{"$nulls":20},"[/tr]"]
[{"$nulls":20},"[tr]"]
[{"$nulls":21},"[td]3. Stratocracy[/td]"]
[{"$nulls":21},"[td]$2.13[/td]"]
[{"$nulls":21},"[td][/td]"]
[{"$nulls":21},"[td][/td]"]
[{"$nulls":20},"[/tr]"]
[{"$nulls":20},"[tr]"]
[{"$nulls":21},"[td]11. Little Bro[/td]"]
[{"$nulls":21},"[td]$2.99[/td]"]
[{"$nulls":21},"[td][/td]"]
[{"$nulls":21},"[td][/td]"]
[{"$nulls":20},"[/tr]"]
[{"$nulls":20},"[/table]"]
[]
[{"$nulls":20},"[table]"]
[{"$nulls":20},"[tr]"]
[{"$nulls":21},"[td][url=http://www.tabonline.com.au/2012/05/06/QR06.html]Sunshine Coast   Race   6[/url][/td]"]
[{"$nulls":21},"[td][color=yellow]Cooroy Hotel Hcp (C4)[/color][/td]"]
[{"$nulls":21},"[td]$12000[/td]"]
[{"$nulls":21},"[td][color=lime]Class 4[/color][/td]"]
[{"$nulls":20},"[/tr]"]
[{"$nulls":20},"[tr]"]
[{"$nulls":21},"[td]No Horse[/td]"]
[{"$nulls":21},"[td]Rated Price[/td]"]
[{"$nulls":21},"[td]Win[/td]"]
[{"$nulls":21},"[td]Place[/td]"]
[{"$nulls":20},"[/tr]"]
[{"$nulls":20},"[tr]"]
[{"$nulls":21},"[td]2. Cash n Style[/td]"]
[{"$nulls":21},"[td]$2.89[/td]"]
[{"$nulls":21},"[td][/td]"]
[{"$nulls":21},"[td][/td]"]
[{"$nulls":20},"[/tr]"]
[{"$nulls":20},"[tr]"]
[{"$nulls":21},"[td]1. Modern Al[/td]"]
[{"$nulls":21},"[td]$4.29[/td]"]
[{"$nulls":21},"[td][/td]"]
[{"$nulls":21},"[td][/td]"]
[{"$nulls":20},"[/tr]"]
[{"$nulls":20},"[/table]"]
[]
[{"$nulls":20},"[table]"]
[{"$nulls":20},"[tr]"]
[{"$nulls":21},"[td][url=http://www.tabonline.com.au/2012/05/06/TR07.html]Devonport Synthe   Race   7[/url][/td]"]
[{"$nulls":21},"[td][color=yellow]Sport Of Kings (Bm78)[/color][/td]"]
[{"$nulls":21},"[td]$12500[/td]"]
[{"$nulls":21},"[td][color=lime]Benchmark 78[/color][/td]"]
[{"$nulls":20},"[/tr]"]
[{"$nulls":20},"[tr]"]
[{"$nulls":21},"[td]No Horse[/td]"]
[{"$nulls":21},"[td]Rated Price[/td]"]
[{"$nulls":21},"[td]Win[/td]"]
[{"$nulls":21},"[td]Place[/td]"]
[{"$nulls":20},"[/tr]"]
[{"$nulls":20},"[tr]"]
[{"$nulls":21},"[td]3. The Invincible One[/td]"]
[{"$nulls":21},"[td]$1.81[/td]"]
[{"$nulls":21},"[td][/td]"]
[{"$nulls":21},"[td][/td]"]
[{"$nulls":20},"[/tr]"]
[{"$nulls":20},"[tr]"]
[{"$nulls":21},"[td]2. Arton[/td]"]
[{"$nulls":21},"[td]$3.02[/td]"]
[{"$nulls":21},"[td][/td]"]
[{"$nulls":21},"[td][/td]"]
[{"$nulls":20},"[/tr]"]
[{"$nulls":20},"[/table]"]
[]
[{"$nulls":20},"[table]"]
[{"$nulls":20},"[tr]"]
[{"$nulls":21},"[td][url=http://www.tabonline.com.au/2012/05/06/VR07.html]Geelong Syntheti   Race   7[/url][/td]"]
[{"$nulls":21},"[td][color=yellow]Centrebet (Bm72)[/color][/td]"]
[{"$nulls":21},"[td]$22500[/td]"]
[{"$nulls":21},"[td][color=lime]Benchmark 72[/color][/td]"]
[{"$nulls":20},"[/tr]"]
[{"$nulls":20},"[tr]"]
[{"$nulls":21},"[td]No Horse[/td]"]
[{"$nulls":21},"[td]Rated Price[/td]"]
[{"$nulls":21},"[td]Win[/td]"]
[{"$nulls":21},"[td]Place[/td]"]
[{"$nulls":20},"[/tr]"]
[{"$nulls":20},"[tr]"]
[{"$nulls":21},"[td]11. Campeao[/td]"]
[{"$nulls":21},"[td]$2.60[/td]"]
[{"$nulls":21},"[td][/td]"]
[{"$nulls":21},"[td][/td]"]
[{"$nulls":20},"[/tr]"]
[{"$nulls":20},"[tr]"]
[{"$nulls":21},"[td]6. Whiskey Cruyff[/td]"]
[{"$nulls":21},"[td]$3.03[/td]"]
[{"$nulls":21},"[td][/td]"]
[{"$nulls":21},"[td][/td]"]
[{"$nulls":20},"[/tr]"]
[{"$nulls":20},"[/table]"]
[]
[{"$nulls":20},"[table]"]
[{"$nulls":20},"[tr]"]
[{"$nulls":21},"[td][url=http://www.tabonline.com.au/2012/05/06/CR07.html]Mudgee   Race   7[/url][/td]"]
[{"$nulls":21},"[td][color=yellow]2012 Sky Gold Gooree Cup[/color][/td]"]
[{"$nulls":21},"[td]$30000[/td]"]
[{"$nulls":21},"[td][color=lime]Open[/color][/td]"]
[{"$nulls":20},"[/tr]"]
[{"$nulls":20},"[tr]"]
[{"$nulls":21},"[td]No Horse[/td]"]
[{"$nulls":21},"[td]Rated Price[/td]"]
[{"$nulls":21},"[td]Win[/td]"]
[{"$nulls":21},"[td]Place[/td]"]
[{"$nulls":20},"[/tr]"]
[{"$nulls":20},"[tr]"]
[{"$nulls":21},"[td]5. Ideal Position[/td]"]
[{"$nulls":21},"[td]$3.03[/td]"]
[{"$nulls":21},"[td][/td]"]
[{"$nulls":21},"[td][/td]"]
[{"$nulls":20},"[/tr]"]
[{"$nulls":20},"[tr]"]
[{"$nulls":21},"[td]1. Moment of Clarity[/td]"]
[{"$nulls":21},"[td]$4.36[/td]"]
[{"$nulls":21},"[td][/td]"]
[{"$nulls":21},"[td][/td]"]
[{"$nulls":20},"[/tr]"]
[{"$nulls":20},"[/table]"]
[]
[{"$nulls":20},"[table]"]
[{"$nulls":20},"[tr]"]
[{"$nulls":21},"[td][url=http://www.tabonline.com.au/2012/05/06/AR08.html]Penola   Race   8[/url][/td]"]
[{"$nulls":21},"[td][color=yellow]Scott Group Millicent Cup[/color][/td]"]
[{"$nulls":21},"[td]$30850[/td]"]
[{"$nulls":21},"[td][color=lime]Open[/color][/td]"]
[{"$nulls":20},"[/tr]"]
[{"$nulls":20},"[tr]"]
[{"$nulls":21},"[td]No Horse[/td]"]
[{"$nulls":21},"[td]Rated Price[/td]"]
[{"$nulls":21},"[td]Win[/td]"]
[{"$nulls":21},"[td]Place[/td]"]
[{"$nulls":20},"[/tr]"]
[{"$nulls":20},"[tr]"]
[{"$nulls":21},"[td]6. Evenmoreaction[/td]"]
[{"$nulls":21},"[td]$2.57[/td]"]
[{"$nulls":21},"[td][/td]"]
[{"$nulls":21},"[td][/td]"]
[{"$nulls":20},"[/tr]"]
[{"$nulls":20},"[tr]"]
[{"$nulls":21},"[td]1. Texan Warney[/td]"]
[{"$nulls":21},"[td]$2.73[/td]"]
[{"$nulls":21},"[td][/td]"]
[{"$nulls":21},"[td][/td]"]
[{"$nulls":20},"[/tr]"]
[{"$nulls":20},"[/table]"]
[]
[{"$nulls":20},"[table]"]
[{"$nulls":20},"[tr]"]
[{"$nulls":21},"[td][url=http://www.tabonline.com.au/2012/05/06/ER05.html]Sale   Race   5[/url][/td]"]
[{"$nulls":21},"[td][color=yellow]Betfair (Bm72)[/color][/td]"]
[{"$nulls":21},"[td]$17500[/td]"]
[{"$nulls":21},"[td][color=lime]Benchmark 72[/color][/td]"]
[{"$nulls":20},"[/tr]"]
[{"$nulls":20},"[tr]"]
[{"$nulls":21},"[td]No Horse[/td]"]
[{"$nulls":21},"[td]Rated Price[/td]"]
[{"$nulls":21},"[td]Win[/td]"]
[{"$nulls":21},"[td]Place[/td]"]
[{"$nulls":20},"[/tr]"]
[{"$nulls":20},"[tr]"]
[{"$nulls":21},"[td]3. Stratocracy[/td]"]
[{"$nulls":21},"[td]$2.35[/td]"]
[{"$nulls":21},"[td][/td]"]
[{"$nulls":21},"[td][/td]"]
[{"$nulls":20},"[/tr]"]
[{"$nulls":20},"[tr]"]
[{"$nulls":21},"[td]11. Little Bro[/td]"]
[{"$nulls":21},"[td]$2.68[/td]"]
[{"$nulls":21},"[td][/td]"]
[{"$nulls":21},"[td][/td]"]
[{"$nulls":20},"[/tr]"]
[{"$nulls":20},"[/table]"]
[]
[{"$nulls":20},"[table]"]
[{"$nulls":20},"[tr]"]
[{"$nulls":21},"[td][url=http://www.tabonline.com.au/2012/05/06/QR06.html]Sunshine Coast   Race   6[/url][/td]"]
[{"$nulls":21},"[td][color=yellow]Cooroy Hotel Hcp (C4)[/color][/td]"]
[{"$nulls":21},"[td]$12000[/td]"]
[{"$nulls":21},"[td][color=lime]Class 4[/color][/td]"]
[{"$nulls":20},"[/tr]"]
[{"$nulls":20},"[tr]"]
[{"$nulls":21},"[td]No Horse[/td]"]
[{"$nulls":21},"[td]Rated Price[/td]"]
[{"$nulls":21},"[td]Win[/td]"]
[{"$nulls":21},"[td]Place[/td]"]
[{"$nulls":20},"[/tr]"]
[{"$nulls":20},"[tr]"]
[{"$nulls":21},"[td]2. Cash n Style[/td]"]
[{"$nulls":21},"[td]$2.89[/td]"]
[{"$nulls":21},"[td][/td]"]
[{"$nulls":21},"[td][/td]"]
[{"$nulls":20},"[/tr]"]
[{"$nulls":20},"[tr]"]
[{"$nulls":21},"[td]1. Modern Al[/td]"]
[{"$nulls":21},"[td]$4.29[/td]"]
[{"$nulls":21},"[td][/td]"]
[{"$nulls":21},"[td][/td]"]
[{"$nulls":20},"[/tr]"]
[{"$nulls":20},"[/table]"]
[]
[{"$nulls":20},"[table]"]
[{"$nulls":20},"[tr]"]
[{"$nulls":21},"[td][url=http://www.tabonline.com.au/2012/05/06/TR06.html]Devonport Synthe   Race   6[/url][/td]"]
[{"$nulls":21},"[td][color=yellow]Seba Sheetmetal Hcp (C1)[/color][/td]"]
[{"$nulls":21},"[td]$12500[/td]"]
[{"$nulls":21},"[td][color=lime]Class 1[/color][/td]"]
[{"$nulls":20},"[/tr]"]
[{"$nulls":20},"[tr]"]
[{"$nulls":21},"[td]No Horse[/td]"]
[{"$nulls":21},"[td]Rated Price[/td]"]
[{"$nulls":21},"[td]Win[/td]"]
[{"$nulls":21},"[td]Place[/td]"]
[{"$nulls":20},"[/tr]"]
[{"$nulls":20},"[tr]"]
[{"$nulls":21},"[td]1. Bianforgetful[/td]"]
[{"$nulls":21},"[td]$2.29[/td]"]
[{"$nulls":21},"[td][/td]"]
[{"$nulls":21},"[td][/td]"]
[{"$nulls":20},"[/tr]"]
[{"$nulls":20},"[tr]"]
[{"$nulls":21},"[td]2. Coastal Rose[/td]"]
[{"$nulls":21},"[td]$3.26[/td]"]
[{"$nulls":21},"[td][/td]"]
[{"$nulls":21},"[td][/td]"]
[{"$nulls":20},"[/tr]"]
[{"$nulls":20},"[/table]"]
[]
[{"$nulls":20},"[table]"]
[{"$nulls":20},"[tr]"]
[{"$nulls":21},"[td][url=http://www.tabonline.com.au/2012/05/06/TR07.html]Devonport Synthe   Race   7[/url][/td]"]
[{"$nulls":21},"[td][color=yellow]Sport Of Kings (Bm78)[/color][/td]"]
[{"$nulls":21},"[td]$12500[/td]"]
[{"$nulls":21},"[td][color=lime]Benchmark 78[/color][/td]"]
[{"$nulls":20},"[/tr]"]
[{"$nulls":20},"[tr]"]
[{"$nulls":21},"[td]No Horse[/td]"]
[{"$nulls":21},"[td]Rated Price[/td]"]
[{"$nulls":21},"[td]Win[/td]"]
[{"$nulls":21},"[td]Place[/td]"]
[{"$nulls":20},"[/tr]"]
[{"$nulls":20},"[tr]"]
[{"$nulls":21},"[td]3. The Invincible One[/td]"]
[{"$nulls":21},"[td]$1.81[/td]"]
[{"$nulls":21},"[td][/td]"]
[{"$nulls":21},"[td][/td]"]
[{"$nulls":20},"[/tr]"]
[{"$nulls":20},"[tr]"]
[{"$nulls":21},"[td]2. Arton[/td]"]
[{"$nulls":21},"[td]$3.02[/td]"]
[{"$nulls":21},"[td][/td]"]
[{"$nulls":21},"[td][/td]"]
[{"$nulls":20},"[/tr]"]
[{"$nulls":20},"[/table]"]
[]
[{"$nulls":20},"[table]"]
[{"$nulls":20},"[tr]"]
[{"$nulls":21},"[td][url=http://www.tabonline.com.au/2012/05/06/TR08.html]Devonport Synthe   Race   8[/url][/td]"]
[{"$nulls":21},"[td][color=yellow]Ross Hamilton Memorial Hcp-C2[/color][/td]"]
[{"$nulls":21},"[td]$12500[/td]"]
[{"$nulls":21},"[td][color=lime]Class 2[/color][/td]"]
[{"$nulls":20},"[/tr]"]
[{"$nulls":20},"[tr]"]
[{"$nulls":21},"[td]No Horse[/td]"]
[{"$nulls":21},"[td]Rated Price[/td]"]
[{"$nulls":21},"[td]Win[/td]"]
[{"$nulls":21},"[td]Place[/td]"]
[{"$nulls":20},"[/tr]"]
[{"$nulls":20},"[tr]"]
[{"$nulls":21},"[td]5. Tap It In[/td]"]
[{"$nulls":21},"[td]$2.81[/td]"]
[{"$nulls":21},"[td][/td]"]
[{"$nulls":21},"[td][/td]"]
[{"$nulls":20},"[/tr]"]
[{"$nulls":20},"[tr]"]
[{"$nulls":21},"[td]7. We Say[/td]"]
[{"$nulls":21},"[td]$2.81[/td]"]
[{"$nulls":21},"[td][/td]"]
[{"$nulls":21},"[td][/td]"]
[{"$nulls":20},"[/tr]"]
[{"$nulls":20},"[/table]"]
[]
[{"$nulls":20},"[table]"]
[{"$nulls":20},"[tr]"]
[{"$nulls":21},"[td][url=http://www.tabonline.com.au/2012/05/06/TR09.html]Devonport Synthe   Race   9[/url][/td]"]
[{"$nulls":21},"[td][color=yellow]Tapeta Footings (Bm68)[/color][/td]"]
[{"$nulls":21},"[td]$12500[/td]"]
[{"$nulls":21},"[td][color=lime]Benchmark 68[/color][/td]"]
[{"$nulls":20},"[/tr]"]
[{"$nulls":20},"[tr]"]
[{"$nulls":21},"[td]No Horse[/td]"]
[{"$nulls":21},"[td]Rated Price[/td]"]
[{"$nulls":21},"[td]Win[/td]"]
[{"$nulls":21},"[td]Place[/td]"]
[{"$nulls":20},"[/tr]"]
[{"$nulls":20},"[tr]"]
[{"$nulls":21},"[td]2. Tough Kisses[/td]"]
[{"$nulls":21},"[td]$2.14[/td]"]
[{"$nulls":21},"[td][/td]"]
[{"$nulls":21},"[td][/td]"]
[{"$nulls":20},"[/tr]"]
[{"$nulls":20},"[tr]"]
[{"$nulls":21},"[td]4. Redbougg[/td]"]
[{"$nulls":21},"[td]$3.28[/td]"]
[{"$nulls":21},"[td][/td]"]
[{"$nulls":21},"[td][/td]"]
[{"$nulls":20},"[/tr]"]
[{"$nulls":20},"[/table]"]
[]
[{"$nulls":20},"[table]"]
[{"$nulls":20},"[tr]"]
[{"$nulls":21},"[td][url=http://www.tabonline.com.au/2012/05/06/VR06.html]Geelong Syntheti   Race   6[/url][/td]"]
[{"$nulls":21},"[td][color=yellow]Viatek Hcp (C1)[/color][/td]"]
[{"$nulls":21},"[td]$22500[/td]"]
[{"$nulls":21},"[td][color=lime]Class 1[/color][/td]"]
[{"$nulls":20},"[/tr]"]
[{"$nulls":20},"[tr]"]
[{"$nulls":21},"[td]No Horse[/td]"]
[{"$nulls":21},"[td]Rated Price[/td]"]
[{"$nulls":21},"[td]Win[/td]"]
[{"$nulls":21},"[td]Place[/td]"]
[{"$nulls":20},"[/tr]"]
[{"$nulls":20},"[tr]"]
[{"$nulls":21},"[td]4. Lesprit[/td]"]
[{"$nulls":21},"[td]$3.21[/td]"]
[{"$nulls":21},"[td][/td]"]
[{"$nulls":21},"[td][/td]"]
[{"$nulls":20},"[/tr]"]
[{"$nulls":20},"[tr]"]
[{"$nulls":21},"[td]5. Nothing Known[/td]"]
[{"$nulls":21},"[td]$3.87[/td]"]
[{"$nulls":21},"[td][/td]"]
[{"$nulls":21},"[td][/td]"]
[{"$nulls":20},"[/tr]"]
[{"$nulls":20},"[/table]"]
[]
[{"$nulls":20},"[table]"]
[{"$nulls":20},"[tr]"]
[{"$nulls":21},"[td][url=http://www.tabonline.com.au/2012/05/06/VR07.html]Geelong Syntheti   Race   7[/url][/td]"]
[{"$nulls":21},"[td][color=yellow]Centrebet (Bm72)[/color][/td]"]
[{"$nulls":21},"[td]$22500[/td]"]
[{"$nulls":21},"[td][color=lime]Benchmark 72[/color][/td]"]
[{"$nulls":20},"[/tr]"]
[{"$nulls":20},"[tr]"]
[{"$nulls":21},"[td]No Horse[/td]"]
[{"$nulls":21},"[td]Rated Price[/td]"]
[{"$nulls":21},"[td]Win[/td]"]
[{"$nulls":21},"[td]Place[/td]"]
[{"$nulls":20},"[/tr]"]
[{"$nulls":20},"[tr]"]
[{"$nulls":21},"[td]11. Campeao[/td]"]
[{"$nulls":21},"[td]$2.19[/td]"]
[{"$nulls":21},"[td][/td]"]
[{"$nulls":21},"[td][/td]"]
[{"$nulls":20},"[/tr]"]
[{"$nulls":20},"[tr]"]
[{"$nulls":21},"[td]6. Whiskey Cruyff[/td]"]
[{"$nulls":21},"[td]$3.15[/td]"]
[{"$nulls":21},"[td][/td]"]
[{"$nulls":21},"[td][/td]"]
[{"$nulls":20},"[/tr]"]
[{"$nulls":20},"[/table]"]
[]
[{"$nulls":20},"[table]"]
[{"$nulls":20},"[tr]"]
[{"$nulls":21},"[td][url=http://www.tabonline.com.au/2012/05/06/VR08.html]Geelong Syntheti   Race   8[/url][/td]"]
[{"$nulls":21},"[td][color=yellow]Bc3 Thoroughbreds Hcp (62)[/color][/td]"]
[{"$nulls":21},"[td]$15000[/td]"]
[{"$nulls":21},"[td][color=lime]Restricted 62[/color][/td]"]
[{"$nulls":20},"[/tr]"]
[{"$nulls":20},"[tr]"]
[{"$nulls":21},"[td]No Horse[/td]"]
[{"$nulls":21},"[td]Rated Price[/td]"]
[{"$nulls":21},"[td]Win[/td]"]
[{"$nulls":21},"[td]Place[/td]"]
[{"$nulls":20},"[/tr]"]
[{"$nulls":20},"[tr]"]
[{"$nulls":21},"[td]2. The Luckiest[/td]"]
[{"$nulls":21},"[td]$2.76[/td]"]
[{"$nulls":21},"[td][/td]"]
[{"$nulls":21},"[td][/td]"]
[{"$nulls":20},"[/tr]"]
[{"$nulls":20},"[tr]"]
[{"$nulls":21},"[td]1. Buratti[/td]"]
[{"$nulls":21},"[td]$3.46[/td]"]
[{"$nulls":21},"[td][/td]"]
[{"$nulls":21},"[td][/td]"]
[{"$nulls":20},"[/tr]"]
[{"$nulls":20},"[/table]"]
[]
[{"$nulls":20},"[table]"]
[{"$nulls":20},"[tr]"]
[{"$nulls":21},"[td][url=http://www.tabonline.com.au/2012/05/06/VR09.html]Geelong Syntheti   Race   9[/url][/td]"]
[{"$nulls":21},"[td][color=yellow]Centrebet Get On Hcp (68)[/color][/td]"]
[{"$nulls":21},"[td]$22500[/td]"]
[{"$nulls":21},"[td][color=lime]Restricted 68[/color][/td]"]
[{"$nulls":20},"[/tr]"]
[{"$nulls":20},"[tr]"]
[{"$nulls":21},"[td]No Horse[/td]"]
[{"$nulls":21},"[td]Rated Price[/td]"]
[{"$nulls":21},"[td]Win[/td]"]
[{"$nulls":21},"[td]Place[/td]"]
[{"$nulls":20},"[/tr]"]
[{"$nulls":20},"[tr]"]
[{"$nulls":21},"[td]1. Josimar[/td]"]
[{"$nulls":21},"[td]$3.16[/td]"]
[{"$nulls":21},"[td][/td]"]
[{"$nulls":21},"[td][/td]"]
[{"$nulls":20},"[/tr]"]
[{"$nulls":20},"[tr]"]
[{"$nulls":21},"[td]9. Miss Noverre[/td]"]
[{"$nulls":21},"[td]$3.42[/td]"]
[{"$nulls":21},"[td][/td]"]
[{"$nulls":21},"[td][/td]"]
[{"$nulls":20},"[/tr]"]
[{"$nulls":20},"[/table]"]
[]
[{"$nulls":20},"[table]"]
[{"$nulls":20},"[tr]"]
[{"$nulls":21},"[td][url=http://www.tabonline.com.au/2012/05/06/PR04.html]Kalgoorlie   Race   4[/url][/td]"]
[{"$nulls":21},"[td][color=yellow]Ride Safe Stay Safe Hcp (68)[/color][/td]"]
[{"$nulls":21},"[td]$13500[/td]"]
[{"$nulls":21},"[td][color=lime]Restricted 68[/color][/td]"]
[{"$nulls":20},"[/tr]"]
[{"$nulls":20},"[tr]"]
[{"$nulls":21},"[td]No Horse[/td]"]
[{"$nulls":21},"[td]Rated Price[/td]"]
[{"$nulls":21},"[td]Win[/td]"]
[{"$nulls":21},"[td]Place[/td]"]
[{"$nulls":20},"[/tr]"]
[{"$nulls":20},"[tr]"]
[{"$nulls":21},"[td]9. Zipfer[/td]"]
[{"$nulls":21},"[td]$3.11[/td]"]
[{"$nulls":21},"[td][/td]"]
[{"$nulls":21},"[td][/td]"]
[{"$nulls":20},"[/tr]"]
[{"$nulls":20},"[tr]"]
[{"$nulls":21},"[td]1. Foryouandme[/td]"]
[{"$nulls":21},"[td]$3.32[/td]"]
[{"$nulls":21},"[td][/td]"]
[{"$nulls":21},"[td][/td]"]
[{"$nulls":20},"[/tr]"]
[{"$nulls":20},"[/table]"]
[]
[{"$nulls":20},"[table]"]
[{"$nulls":20},"[tr]"]
[{"$nulls":21},"[td][url=http://www.tabonline.com.au/2012/05/06/PR05.html]Kalgoorlie   Race   5[/url][/td]"]
[{"$nulls":21},"[td][color=yellow]What Are You Getting Into (63)[/color][/td]"]
[{"$nulls":21},"[td]$12500[/td]"]
[{"$nulls":21},"[td][color=lime]Restricted 63[/color][/td]"]
[{"$nulls":20},"[/tr]"]
[{"$nulls":20},"[tr]"]
[{"$nulls":21},"[td]No Horse[/td]"]
[{"$nulls":21},"[td]Rated Price[/td]"]
[{"$nulls":21},"[td]Win[/td]"]
[{"$nulls":21},"[td]Place[/td]"]
[{"$nulls":20},"[/tr]"]
[{"$nulls":20},"[tr]"]
[{"$nulls":21},"[td]5. Cherily[/td]"]
[{"$nulls":21},"[td]$3.20[/td]"]
[{"$nulls":21},"[td][/td]"]
[{"$nulls":21},"[td][/td]"]
[{"$nulls":20},"[/tr]"]
[{"$nulls":20},"[tr]"]
[{"$nulls":21},"[td]8. Oratrice[/td]"]
[{"$nulls":21},"[td]$4.00[/td]"]
[{"$nulls":21},"[td][/td]"]
[{"$nulls":21},"[td][/td]"]
[{"$nulls":20},"[/tr]"]
[{"$nulls":20},"[/table]"]
[]
[{"$nulls":20},"[table]"]
[{"$nulls":20},"[tr]"]
[{"$nulls":21},"[td][url=http://www.tabonline.com.au/2012/05/06/PR06.html]Kalgoorlie   Race   6[/url][/td]"]
[{"$nulls":21},"[td][color=yellow]Eagle Petroleum (Bm70+)[/color][/td]"]
[{"$nulls":21},"[td]$15075[/td]"]
[{"$nulls":21},"[td][color=lime]BM70+[/color][/td]"]
[{"$nulls":20},"[/tr]"]
[{"$nulls":20},"[tr]"]
[{"$nulls":21},"[td]No Horse[/td]"]
[{"$nulls":21},"[td]Rated Price[/td]"]
[{"$nulls":21},"[td]Win[/td]"]
[{"$nulls":21},"[td]Place[/td]"]
[{"$nulls":20},"[/tr]"]
[{"$nulls":20},"[tr]"]
[{"$nulls":21},"[td]4. Nellie Got There[/td]"]
[{"$nulls":21},"[td]$2.96[/td]"]
[{"$nulls":21},"[td][/td]"]
[{"$nulls":21},"[td][/td]"]
[{"$nulls":20},"[/tr]"]
[{"$nulls":20},"[tr]"]
[{"$nulls":21},"[td]2. Danterina[/td]"]
[{"$nulls":21},"[td]$3.83[/td]"]
[{"$nulls":21},"[td][/td]"]
[{"$nulls":21},"[td][/td]"]
[{"$nulls":20},"[/tr]"]
[{"$nulls":20},"[/table]"]
[]
[{"$nulls":20},"[table]"]
[{"$nulls":20},"[tr]"]
[{"$nulls":21},"[td][url=http://www.tabonline.com.au/2012/05/06/PR07.html]Kalgoorlie   Race   7[/url][/td]"]
[{"$nulls":21},"[td][color=yellow]Fatigue-The Silent Killer (63)[/color][/td]"]
[{"$nulls":21},"[td]$12500[/td]"]
[{"$nulls":21},"[td][color=lime]Restricted 63[/color][/td]"]
[{"$nulls":20},"[/tr]"]
[{"$nulls":20},"[tr]"]
[{"$nulls":21},"[td]No Horse[/td]"]
[{"$nulls":21},"[td]Rated Price[/td]"]
[{"$nulls":21},"[td]Win[/td]"]
[{"$nulls":21},"[td]Place[/td]"]
[{"$nulls":20},"[/tr]"]
[{"$nulls":20},"[tr]"]
[{"$nulls":21},"[td]6. Imabutu[/td]"]
[{"$nulls":21},"[td]$3.48[/td]"]
[{"$nulls":21},"[td][/td]"]
[{"$nulls":21},"[td][/td]"]
[{"$nulls":20},"[/tr]"]
[{"$nulls":20},"[tr]"]
[{"$nulls":21},"[td]7. Star Trader[/td]"]
[{"$nulls":21},"[td]$3.76[/td]"]
[{"$nulls":21},"[td][/td]"]
[{"$nulls":21},"[td][/td]"]
[{"$nulls":20},"[/tr]"]
[{"$nulls":20},"[/table]"]
[]
[{"$nulls":20},"[table]"]
[{"$nulls":20},"[tr]"]
[{"$nulls":21},"[td][url=http://www.tabonline.com.au/2012/05/06/CR05.html]Mudgee   Race   5[/url][/td]"]
[{"$nulls":21},"[td][color=yellow]Coolmore Stud Plate (C1)[/color][/td]"]
[{"$nulls":21},"[td]$10000[/td]"]
[{"$nulls":21},"[td][color=lime]Class 1[/color][/td]"]
[{"$nulls":20},"[/tr]"]
[{"$nulls":20},"[tr]"]
[{"$nulls":21},"[td]No Horse[/td]"]
[{"$nulls":21},"[td]Rated Price[/td]"]
[{"$nulls":21},"[td]Win[/td]"]
[{"$nulls":21},"[td]Place[/td]"]
[{"$nulls":20},"[/tr]"]
[{"$nulls":20},"[tr]"]
[{"$nulls":21},"[td]8. Another Glow[/td]"]
[{"$nulls":21},"[td]$2.84[/td]"]
[{"$nulls":21},"[td][/td]"]
[{"$nulls":21},"[td][/td]"]
[{"$nulls":20},"[/tr]"]
[{"$nulls":20},"[tr]"]
[{"$nulls":21},"[td]7. Touch Of Glory[/td]"]
[{"$nulls":21},"[td]$3.04[/td]"]
[{"$nulls":21},"[td][/td]"]
[{"$nulls":21},"[td][/td]"]
[{"$nulls":20},"[/tr]"]
[{"$nulls":20},"[/table]"]
[]
[{"$nulls":20},"[table]"]
[{"$nulls":20},"[tr]"]
[{"$nulls":21},"[td][url=http://www.tabonline.com.au/2012/05/06/CR06.html]Mudgee   Race   6[/url][/td]"]
[{"$nulls":21},"[td][color=yellow]Armando Tik Tik Memorial-Bm55[/color][/td]"]
[{"$nulls":21},"[td]$10000[/td]"]
[{"$nulls":21},"[td][color=lime]Benchmark 55[/color][/td]"]
[{"$nulls":20},"[/tr]"]
[{"$nulls":20},"[tr]"]
[{"$nulls":21},"[td]No Horse[/td]"]
[{"$nulls":21},"[td]Rated Price[/td]"]
[{"$nulls":21},"[td]Win[/td]"]
[{"$nulls":21},"[td]Place[/td]"]
[{"$nulls":20},"[/tr]"]
[{"$nulls":20},"[tr]"]
[{"$nulls":21},"[td]6. Snugasabuginarug[/td]"]
[{"$nulls":21},"[td]$3.34[/td]"]
[{"$nulls":21},"[td][/td]"]
[{"$nulls":21},"[td][/td]"]
[{"$nulls":20},"[/tr]"]
[{"$nulls":20},"[tr]"]
[{"$nulls":21},"[td]4. Big Ben Chimes[/td]"]
[{"$nulls":21},"[td]$3.62[/td]"]
[{"$nulls":21},"[td][/td]"]
[{"$nulls":21},"[td][/td]"]
[{"$nulls":20},"[/tr]"]
[{"$nulls":20},"[/table]"]
[]
[{"$nulls":20},"[table]"]
[{"$nulls":20},"[tr]"]
[{"$nulls":21},"[td][url=http://www.tabonline.com.au/2012/05/06/CR07.html]Mudgee   Race   7[/url][/td]"]
[{"$nulls":21},"[td][color=yellow]2012 Sky Gold Gooree Cup[/color][/td]"]
[{"$nulls":21},"[td]$30000[/td]"]
[{"$nulls":21},"[td][color=lime]Open[/color][/td]"]
[{"$nulls":20},"[/tr]"]
[{"$nulls":20},"[tr]"]
[{"$nulls":21},"[td]No Horse[/td]"]
[{"$nulls":21},"[td]Rated Price[/td]"]
[{"$nulls":21},"[td]Win[/td]"]
[{"$nulls":21},"[td]Place[/td]"]
[{"$nulls":20},"[/tr]"]
[{"$nulls":20},"[tr]"]
[{"$nulls":21},"[td]5. Ideal Position[/td]"]
[{"$nulls":21},"[td]$3.07[/td]"]
[{"$nulls":21},"[td][/td]"]
[{"$nulls":21},"[td][/td]"]
[{"$nulls":20},"[/tr]"]
[{"$nulls":20},"[tr]"]
[{"$nulls":21},"[td]1. Moment of Clarity[/td]"]
[{"$nulls":21},"[td]$4.42[/td]"]
[{"$nulls":21},"[td][/td]"]
[{"$nulls":21},"[td][/td]"]
[{"$nulls":20},"[/tr]"]
[{"$nulls":20},"[/table]"]
[]
[{"$nulls":20},"[table]"]
[{"$nulls":20},"[tr]"]
[{"$nulls":21},"[td][url=http://www.tabonline.com.au/2012/05/06/CR08.html]Mudgee   Race   8[/url][/td]"]
[{"$nulls":21},"[td][color=yellow]Gooree Park Wines (Bm60)[/color][/td]"]
[{"$nulls":21},"[td]$10000[/td]"]
[{"$nulls":21},"[td][color=lime]Benchmark 60[/color][/td]"]
[{"$nulls":20},"[/tr]"]
[{"$nulls":20},"[tr]"]
[{"$nulls":21},"[td]No Horse[/td]"]
[{"$nulls":21},"[td]Rated Price[/td]"]
[{"$nulls":21},"[td]Win[/td]"]
[{"$nulls":21},"[td]Place[/td]"]
[{"$nulls":20},"[/tr]"]
[{"$nulls":20},"[tr]"]
[{"$nulls":21},"[td]9. Flying Fuji[/td]"]
[{"$nulls":21},"[td]$2.57[/td]"]
[{"$nulls":21},"[td][/td]"]
[{"$nulls":21},"[td][/td]"]
[{"$nulls":20},"[/tr]"]
[{"$nulls":20},"[tr]"]
[{"$nulls":21},"[td]6. Stagger[/td]"]
[{"$nulls":21},"[td]$3.65[/td]"]
[{"$nulls":21},"[td][/td]"]
[{"$nulls":21},"[td][/td]"]
[{"$nulls":20},"[/tr]"]
[{"$nulls":20},"[/table]"]
[]
[{"$nulls":20},"[table]"]
[{"$nulls":20},"[tr]"]
[{"$nulls":21},"[td][url=http://www.tabonline.com.au/2012/05/06/AR06.html]Penola   Race   6[/url][/td]"]
[{"$nulls":21},"[td][color=yellow]Trans Australian Livestock Hcp[/color][/td]"]
[{"$nulls":21},"[td]$15000[/td]"]
[{"$nulls":21},"[td][color=lime]Flying[/color][/td]"]
[{"$nulls":20},"[/tr]"]
[{"$nulls":20},"[tr]"]
[{"$nulls":21},"[td]No Horse[/td]"]
[{"$nulls":21},"[td]Rated Price[/td]"]
[{"$nulls":21},"[td]Win[/td]"]
[{"$nulls":21},"[td]Place[/td]"]
[{"$nulls":20},"[/tr]"]
[{"$nulls":20},"[tr]"]
[{"$nulls":21},"[td]9. Ogunde[/td]"]
[{"$nulls":21},"[td]$2.23[/td]"]
[{"$nulls":21},"[td][/td]"]
[{"$nulls":21},"[td][/td]"]
[{"$nulls":20},"[/tr]"]
[{"$nulls":20},"[tr]"]
[{"$nulls":21},"[td]1. Likable Will[/td]"]
[{"$nulls":21},"[td]$3.56[/td]"]
[{"$nulls":21},"[td][/td]"]
[{"$nulls":21},"[td][/td]"]
[{"$nulls":20},"[/tr]"]
[{"$nulls":20},"[/table]"]
[]
[{"$nulls":20},"[table]"]
[{"$nulls":20},"[tr]"]
[{"$nulls":21},"[td][url=http://www.tabonline.com.au/2012/05/06/AR07.html]Penola   Race   7[/url][/td]"]
[{"$nulls":21},"[td][color=yellow]Western United Fin. Serv. (68)[/color][/td]"]
[{"$nulls":21},"[td]$9000[/td]"]
[{"$nulls":21},"[td][color=lime]Restricted 68[/color][/td]"]
[{"$nulls":20},"[/tr]"]
[{"$nulls":20},"[tr]"]
[{"$nulls":21},"[td]No Horse[/td]"]
[{"$nulls":21},"[td]Rated Price[/td]"]
[{"$nulls":21},"[td]Win[/td]"]
[{"$nulls":21},"[td]Place[/td]"]
[{"$nulls":20},"[/tr]"]
[{"$nulls":20},"[tr]"]
[{"$nulls":21},"[td]7. Bella Dolce[/td]"]
[{"$nulls":21},"[td]$2.37[/td]"]
[{"$nulls":21},"[td][/td]"]
[{"$nulls":21},"[td][/td]"]
[{"$nulls":20},"[/tr]"]
[{"$nulls":20},"[tr]"]
[{"$nulls":21},"[td]4. Alsette[/td]"]
[{"$nulls":21},"[td]$3.46[/td]"]
[{"$nulls":21},"[td][/td]"]
[{"$nulls":21},"[td][/td]"]
[{"$nulls":20},"[/tr]"]
[{"$nulls":20},"[/table]"]
[]
[{"$nulls":20},"[table]"]
[{"$nulls":20},"[tr]"]
[{"$nulls":21},"[td][url=http://www.tabonline.com.au/2012/05/06/AR08.html]Penola   Race   8[/url][/td]"]
[{"$nulls":21},"[td][color=yellow]Scott Group Millicent Cup[/color][/td]"]
[{"$nulls":21},"[td]$30850[/td]"]
[{"$nulls":21},"[td][color=lime]Open[/color][/td]"]
[{"$nulls":20},"[/tr]"]
[{"$nulls":20},"[tr]"]
[{"$nulls":21},"[td]No Horse[/td]"]
[{"$nulls":21},"[td]Rated Price[/td]"]
[{"$nulls":21},"[td]Win[/td]"]
[{"$nulls":21},"[td]Place[/td]"]
[{"$nulls":20},"[/tr]"]
[{"$nulls":20},"[tr]"]
[{"$nulls":21},"[td]6. Evenmoreaction[/td]"]
[{"$nulls":21},"[td]$2.57[/td]"]
[{"$nulls":21},"[td][/td]"]
[{"$nulls":21},"[td][/td]"]
[{"$nulls":20},"[/tr]"]
[{"$nulls":20},"[tr]"]
[{"$nulls":21},"[td]1. Texan Warney[/td]"]
[{"$nulls":21},"[td]$2.73[/td]"]
[{"$nulls":21},"[td][/td]"]
[{"$nulls":21},"[td][/td]"]
[{"$nulls":20},"[/tr]"]
[{"$nulls":20},"[/table]"]
[]
[{"$nulls":20},"[table]"]
[{"$nulls":20},"[tr]"]
[{"$nulls":21},"[td][url=http://www.tabonline.com.au/2012/05/06/AR09.html]Penola   Race   9[/url][/td]"]
[{"$nulls":21},"[td][color=yellow]Grand Hotel Millicent Hcp (65)[/color][/td]"]
[{"$nulls":21},"[td]$9000[/td]"]
[{"$nulls":21},"[td][color=lime]Restricted 65[/color][/td]"]
[{"$nulls":20},"[/tr]"]
[{"$nulls":20},"[tr]"]
[{"$nulls":21},"[td]No Horse[/td]"]
[{"$nulls":21},"[td]Rated Price[/td]"]
[{"$nulls":21},"[td]Win[/td]"]
[{"$nulls":21},"[td]Place[/td]"]
[{"$nulls":20},"[/tr]"]
[{"$nulls":20},"[tr]"]
[{"$nulls":21},"[td]1. Hasta La Shamer[/td]"]
[{"$nulls":21},"[td]$2.93[/td]"]
[{"$nulls":21},"[td][/td]"]
[{"$nulls":21},"[td][/td]"]
[{"$nulls":20},"[/tr]"]
[{"$nulls":20},"[tr]"]
[{"$nulls":21},"[td]3. Royal Stormy[/td]"]
[{"$nulls":21},"[td]$3.39[/td]"]
[{"$nulls":21},"[td][/td]"]
[{"$nulls":21},"[td][/td]"]
[{"$nulls":20},"[/tr]"]
[{"$nulls":20},"[/table]"]
[]
[{"$nulls":20},"[table]"]
[{"$nulls":20},"[tr]"]
[{"$nulls":21},"[td][url=http://www.tabonline.com.au/2012/05/06/ER04.html]Sale   Race   4[/url][/td]"]
[{"$nulls":21},"[td][color=yellow]Betfair Hcp (58)[/color][/td]"]
[{"$nulls":21},"[td]$12000[/td]"]
[{"$nulls":21},"[td][color=lime]Restricted 58[/color][/td]"]
[{"$nulls":20},"[/tr]"]
[{"$nulls":20},"[tr]"]
[{"$nulls":21},"[td]No Horse[/td]"]
[{"$nulls":21},"[td]Rated Price[/td]"]
[{"$nulls":21},"[td]Win[/td]"]
[{"$nulls":21},"[td]Place[/td]"]
[{"$nulls":20},"[/tr]"]
[{"$nulls":20},"[tr]"]
[{"$nulls":21},"[td]8. Phantom Flight[/td]"]
[{"$nulls":21},"[td]$2.53[/td]"]
[{"$nulls":21},"[td][/td]"]
[{"$nulls":21},"[td][/td]"]
[{"$nulls":20},"[/tr]"]
[{"$nulls":20},"[tr]"]
[{"$nulls":21},"[td]3. Joph La Hae[/td]"]
[{"$nulls":21},"[td]$4.04[/td]"]
[{"$nulls":21},"[td][/td]"]
[{"$nulls":21},"[td][/td]"]
[{"$nulls":20},"[/tr]"]
[{"$nulls":20},"[/table]"]
[]
[{"$nulls":20},"[table]"]
[{"$nulls":20},"[tr]"]
[{"$nulls":21},"[td][url=http://www.tabonline.com.au/2012/05/06/ER05.html]Sale   Race   5[/url][/td]"]
[{"$nulls":21},"[td][color=yellow]Betfair (Bm72)[/color][/td]"]
[{"$nulls":21},"[td]$17500[/td]"]
[{"$nulls":21},"[td][color=lime]Benchmark 72[/color][/td]"]
[{"$nulls":20},"[/tr]"]
[{"$nulls":20},"[tr]"]
[{"$nulls":21},"[td]No Horse[/td]"]
[{"$nulls":21},"[td]Rated Price[/td]"]
[{"$nulls":21},"[td]Win[/td]"]
[{"$nulls":21},"[td]Place[/td]"]
[{"$nulls":20},"[/tr]"]
[{"$nulls":20},"[tr]"]
[{"$nulls":21},"[td]3. Stratocracy[/td]"]
[{"$nulls":21},"[td]$2.49[/td]"]
[{"$nulls":21},"[td][/td]"]
[{"$nulls":21},"[td][/td]"]
[{"$nulls":20},"[/tr]"]
[{"$nulls":20},"[tr]"]
[{"$nulls":21},"[td]11. Little Bro[/td]"]
[{"$nulls":21},"[td]$2.66[/td]"]
[{"$nulls":21},"[td][/td]"]
[{"$nulls":21},"[td][/td]"]
[{"$nulls":20},"[/tr]"]
[{"$nulls":20},"[/table]"]
[]
[{"$nulls":20},"[table]"]
[{"$nulls":20},"[tr]"]
[{"$nulls":21},"[td][url=http://www.tabonline.com.au/2012/05/06/ER06.html]Sale   Race   6[/url][/td]"]
[{"$nulls":21},"[td][color=yellow]Betfair Hcp (62)[/color][/td]"]
[{"$nulls":21},"[td]$12000[/td]"]
[{"$nulls":21},"[td][color=lime]Restricted 62[/color][/td]"]
[{"$nulls":20},"[/tr]"]
[{"$nulls":20},"[tr]"]
[{"$nulls":21},"[td]No Horse[/td]"]
[{"$nulls":21},"[td]Rated Price[/td]"]
[{"$nulls":21},"[td]Win[/td]"]
[{"$nulls":21},"[td]Place[/td]"]
[{"$nulls":20},"[/tr]"]
[{"$nulls":20},"[tr]"]
[{"$nulls":21},"[td]10. Angelas Dream[/td]"]
[{"$nulls":21},"[td]$1.99[/td]"]
[{"$nulls":21},"[td][/td]"]
[{"$nulls":21},"[td][/td]"]
[{"$nulls":20},"[/tr]"]
[{"$nulls":20},"[tr]"]
[{"$nulls":21},"[td]3. Heez Notorious[/td]"]
[{"$nulls":21},"[td]$3.28[/td]"]
[{"$nulls":21},"[td][/td]"]
[{"$nulls":21},"[td][/td]"]
[{"$nulls":20},"[/tr]"]
[{"$nulls":20},"[/table]"]
[]
[{"$nulls":20},"[table]"]
[{"$nulls":20},"[tr]"]
[{"$nulls":21},"[td][url=http://www.tabonline.com.au/2012/05/06/ER07.html]Sale   Race   7[/url][/td]"]
[{"$nulls":21},"[td][color=yellow]Betfair Hcp (62)[/color][/td]"]
[{"$nulls":21},"[td]$12000[/td]"]
[{"$nulls":21},"[td][color=lime]Restricted 62[/color][/td]"]
[{"$nulls":20},"[/tr]"]
[{"$nulls":20},"[tr]"]
[{"$nulls":21},"[td]No Horse[/td]"]
[{"$nulls":21},"[td]Rated Price[/td]"]
[{"$nulls":21},"[td]Win[/td]"]
[{"$nulls":21},"[td]Place[/td]"]
[{"$nulls":20},"[/tr]"]
[{"$nulls":20},"[tr]"]
[{"$nulls":21},"[td]7. Prinsen[/td]"]
[{"$nulls":21},"[td]$2.99[/td]"]
[{"$nulls":21},"[td][/td]"]
[{"$nulls":21},"[td][/td]"]
[{"$nulls":20},"[/tr]"]
[{"$nulls":20},"[tr]"]
[{"$nulls":21},"[td]1. Chittlin Switch[/td]"]
[{"$nulls":21},"[td]$3.97[/td]"]
[{"$nulls":21},"[td][/td]"]
[{"$nulls":21},"[td][/td]"]
[{"$nulls":20},"[/tr]"]
[{"$nulls":20},"[/table]"]
[]
[{"$nulls":20},"[table]"]
[{"$nulls":20},"[tr]"]
[{"$nulls":21},"[td][url=http://www.tabonline.com.au/2012/05/06/QR05.html]Sunshine Coast   Race   5[/url][/td]"]
[{"$nulls":21},"[td][color=yellow]Intl Htl, Spring Hill Hcp (C1)[/color][/td]"]
[{"$nulls":21},"[td]$10000[/td]"]
[{"$nulls":21},"[td][color=lime]Class 1[/color][/td]"]
[{"$nulls":20},"[/tr]"]
[{"$nulls":20},"[tr]"]
[{"$nulls":21},"[td]No Horse[/td]"]
[{"$nulls":21},"[td]Rated Price[/td]"]
[{"$nulls":21},"[td]Win[/td]"]
[{"$nulls":21},"[td]Place[/td]"]
[{"$nulls":20},"[/tr]"]
[{"$nulls":20},"[tr]"]
[{"$nulls":21},"[td]4. Zabeauty[/td]"]
[{"$nulls":21},"[td]$1.96[/td]"]
[{"$nulls":21},"[td][/td]"]
[{"$nulls":21},"[td][/td]"]
[{"$nulls":20},"[/tr]"]
[{"$nulls":20},"[tr]"]
[{"$nulls":21},"[td]7. Lillavardee[/td]"]
[{"$nulls":21},"[td]$2.51[/td]"]
[{"$nulls":21},"[td][/td]"]
[{"$nulls":21},"[td][/td]"]
[{"$nulls":20},"[/tr]"]
[{"$nulls":20},"[/table]"]
[]
[{"$nulls":20},"[table]"]
[{"$nulls":20},"[tr]"]
[{"$nulls":21},"[td][url=http://www.tabonline.com.au/2012/05/06/QR06.html]Sunshine Coast   Race   6[/url][/td]"]
[{"$nulls":21},"[td][color=yellow]Cooroy Hotel Hcp (C4)[/color][/td]"]
[{"$nulls":21},"[td]$12000[/td]"]
[{"$nulls":21},"[td][color=lime]Class 4[/color][/td]"]
[{"$nulls":20},"[/tr]"]
[{"$nulls":20},"[tr]"]
[{"$nulls":21},"[td]No Horse[/td]"]
[{"$nulls":21},"[td]Rated Price[/td]"]
[{"$nulls":21},"[td]Win[/td]"]
[{"$nulls":21},"[td]Place[/td]"]
[{"$nulls":20},"[/tr]"]
[{"$nulls":20},"[tr]"]
[{"$nulls":21},"[td]2. Cash n Style[/td]"]
[{"$nulls":21},"[td]$2.89[/td]"]
[{"$nulls":21},"[td][/td]"]
[{"$nulls":21},"[td][/td]"]
[{"$nulls":20},"[/tr]"]
[{"$nulls":20},"[tr]"]
[{"$nulls":21},"[td]1. Modern Al[/td]"]
[{"$nulls":21},"[td]$4.29[/td]"]
[{"$nulls":21},"[td][/td]"]
[{"$nulls":21},"[td][/td]"]
[{"$nulls":20},"[/tr]"]
[{"$nulls":20},"[/table]"]
[]
[{"$nulls":20},"[table]"]
[{"$nulls":20},"[tr]"]
[{"$nulls":21},"[td][url=http://www.tabonline.com.au/2012/05/06/QR07.html]Sunshine Coast   Race   7[/url][/td]"]
[{"$nulls":21},"[td][color=yellow]Bellvista Tavern Hcp (C3)[/color][/td]"]
[{"$nulls":21},"[td]$12000[/td]"]
[{"$nulls":21},"[td][color=lime]Class 3[/color][/td]"]
[{"$nulls":20},"[/tr]"]
[{"$nulls":20},"[tr]"]
[{"$nulls":21},"[td]No Horse[/td]"]
[{"$nulls":21},"[td]Rated Price[/td]"]
[{"$nulls":21},"[td]Win[/td]"]
[{"$nulls":21},"[td]Place[/td]"]
[{"$nulls":20},"[/tr]"]
[{"$nulls":20},"[tr]"]
[{"$nulls":21},"[td]9. Funky Lady[/td]"]
[{"$nulls":21},"[td]$1.85[/td]"]
[{"$nulls":21},"[td][/td]"]
[{"$nulls":21},"[td][/td]"]
[{"$nulls":20},"[/tr]"]
[{"$nulls":20},"[tr]"]
[{"$nulls":21},"[td]1. Tickled[/td]"]
[{"$nulls":21},"[td]$4.12[/td]"]
[{"$nulls":21},"[td][/td]"]
[{"$nulls":21},"[td][/td]"]
[{"$nulls":20},"[/tr]"]
[{"$nulls":20},"[/table]"]
[]
[{"$nulls":20},"[table]"]
[{"$nulls":20},"[tr]"]
[{"$nulls":21},"[td][url=http://www.tabonline.com.au/2012/05/06/QR08.html]Sunshine Coast   Race   8[/url][/td]"]
[{"$nulls":21},"[td][color=yellow]Bazza Hanley Hcp (C2)[/color][/td]"]
[{"$nulls":21},"[td]$10000[/td]"]
[{"$nulls":21},"[td][color=lime]Class 2[/color][/td]"]
[{"$nulls":20},"[/tr]"]
[{"$nulls":20},"[tr]"]
[{"$nulls":21},"[td]No Horse[/td]"]
[{"$nulls":21},"[td]Rated Price[/td]"]
[{"$nulls":21},"[td]Win[/td]"]
[{"$nulls":21},"[td]Place[/td]"]
[{"$nulls":20},"[/tr]"]
[{"$nulls":20},"[tr]"]
[{"$nulls":21},"[td]5. Picawinner[/td]"]
[{"$nulls":21},"[td]$2.48[/td]"]
[{"$nulls":21},"[td][/td]"]
[{"$nulls":21},"[td][/td]"]
[{"$nulls":20},"[/tr]"]
[{"$nulls":20},"[tr]"]
[{"$nulls":21},"[td]16. Show A Noee[/td]"]
[{"$nulls":21},"[td]$3.90[/td]"]
[{"$nulls":21},"[td][/td]"]
[{"$nulls":21},"[td][/td]"]
[{"$nulls":20},"[/tr]"]
[{"$nulls":20},"[/table]"]
[]
[{"$nulls":20},"[table]"]
[{"$nulls":20},"[tr]"]
[{"$nulls":21},"[td][url=http://www.tabonline.com.au/2012/05/06/TR06.html]Devonport Synthe   Race   6[/url][/td]"]
[{"$nulls":21},"[td][color=yellow]Seba Sheetmetal Hcp (C1)[/color][/td]"]
[{"$nulls":21},"[td]$12500[/td]"]
[{"$nulls":21},"[td][color=lime]Class 1[/color][/td]"]
[{"$nulls":20},"[/tr]"]
[{"$nulls":20},"[tr]"]
[{"$nulls":21},"[td]No Horse[/td]"]
[{"$nulls":21},"[td]Rated Price[/td]"]
[{"$nulls":21},"[td]Win[/td]"]
[{"$nulls":21},"[td]Place[/td]"]
[{"$nulls":20},"[/tr]"]
[{"$nulls":20},"[tr]"]
[{"$nulls":21},"[td]1. Bianforgetful[/td]"]
[{"$nulls":21},"[td]$2.29[/td]"]
[{"$nulls":21},"[td][/td]"]
[{"$nulls":21},"[td][/td]"]
[{"$nulls":20},"[/tr]"]
[{"$nulls":20},"[tr]"]
[{"$nulls":21},"[td]2. Coastal Rose[/td]"]
[{"$nulls":21},"[td]$3.26[/td]"]
[{"$nulls":21},"[td][/td]"]
[{"$nulls":21},"[td][/td]"]
[{"$nulls":20},"[/tr]"]
[{"$nulls":20},"[tr]"]
[{"$nulls":21},"[td]3. Head Spinner[/td]"]
[{"$nulls":21},"[td]$5.99[/td]"]
[{"$nulls":21},"[td][/td]"]
[{"$nulls":21},"[td][/td]"]
[{"$nulls":20},"[/tr]"]
[{"$nulls":20},"[tr]"]
[{"$nulls":21},"[td]7. Patme[/td]"]
[{"$nulls":21},"[td]$5.99[/td]"]
[{"$nulls":21},"[td][/td]"]
[{"$nulls":21},"[td][/td]"]
[{"$nulls":20},"[/tr]"]
[{"$nulls":20},"[/table]"]
[]
[{"$nulls":20},"[table]"]
[{"$nulls":20},"[tr]"]
[{"$nulls":21},"[td][url=http://www.tabonline.com.au/2012/05/06/TR07.html]Devonport Synthe   Race   7[/url][/td]"]
[{"$nulls":21},"[td][color=yellow]Sport Of Kings (Bm78)[/color][/td]"]
[{"$nulls":21},"[td]$12500[/td]"]
[{"$nulls":21},"[td][color=lime]Benchmark 78[/color][/td]"]
[{"$nulls":20},"[/tr]"]
[{"$nulls":20},"[tr]"]
[{"$nulls":21},"[td]No Horse[/td]"]
[{"$nulls":21},"[td]Rated Price[/td]"]
[{"$nulls":21},"[td]Win[/td]"]
[{"$nulls":21},"[td]Place[/td]"]
[{"$nulls":20},"[/tr]"]
[{"$nulls":20},"[tr]"]
[{"$nulls":21},"[td]3. The Invincible One[/td]"]
[{"$nulls":21},"[td]$1.81[/td]"]
[{"$nulls":21},"[td][/td]"]
[{"$nulls":21},"[td][/td]"]
[{"$nulls":20},"[/tr]"]
[{"$nulls":20},"[tr]"]
[{"$nulls":21},"[td]2. Arton[/td]"]
[{"$nulls":21},"[td]$3.02[/td]"]
[{"$nulls":21},"[td][/td]"]
[{"$nulls":21},"[td][/td]"]
[{"$nulls":20},"[/tr]"]
[{"$nulls":20},"[tr]"]
[{"$nulls":21},"[td]5. Forest Sky[/td]"]
[{"$nulls":21},"[td]$6.81[/td]"]
[{"$nulls":21},"[td][/td]"]
[{"$nulls":21},"[td][/td]"]
[{"$nulls":20},"[/tr]"]
[{"$nulls":20},"[tr]"]
[{"$nulls":21},"[td]9. Royal Destination[/td]"]
[{"$nulls":21},"[td]$6.81[/td]"]
[{"$nulls":21},"[td][/td]"]
[{"$nulls":21},"[td][/td]"]
[{"$nulls":20},"[/tr]"]
[{"$nulls":20},"[/table]"]
[]
[{"$nulls":20},"[table]"]
[{"$nulls":20},"[tr]"]
[{"$nulls":21},"[td][url=http://www.tabonline.com.au/2012/05/06/TR08.html]Devonport Synthe   Race   8[/url][/td]"]
[{"$nulls":21},"[td][color=yellow]Ross Hamilton Memorial Hcp-C2[/color][/td]"]
[{"$nulls":21},"[td]$12500[/td]"]
[{"$nulls":21},"[td][color=lime]Class 2[/color][/td]"]
[{"$nulls":20},"[/tr]"]
[{"$nulls":20},"[tr]"]
[{"$nulls":21},"[td]No Horse[/td]"]
[{"$nulls":21},"[td]Rated Price[/td]"]
[{"$nulls":21},"[td]Win[/td]"]
[{"$nulls":21},"[td]Place[/td]"]
[{"$nulls":20},"[/tr]"]
[{"$nulls":20},"[tr]"]
[{"$nulls":21},"[td]5. Tap It In[/td]"]
[{"$nulls":21},"[td]$2.81[/td]"]
[{"$nulls":21},"[td][/td]"]
[{"$nulls":21},"[td][/td]"]
[{"$nulls":20},"[/tr]"]
[{"$nulls":20},"[tr]"]
[{"$nulls":21},"[td]7. We Say[/td]"]
[{"$nulls":21},"[td]$2.81[/td]"]
[{"$nulls":21},"[td][/td]"]
[{"$nulls":21},"[td][/td]"]
[{"$nulls":20},"[/tr]"]
[{"$nulls":20},"[tr]"]
[{"$nulls":21},"[td]3. Nerak[/td]"]
[{"$nulls":21},"[td]$5.04[/td]"]
[{"$nulls":21},"[td][/td]"]
[{"$nulls":21},"[td][/td]"]
[{"$nulls":20},"[/tr]"]
[{"$nulls":20},"[tr]"]
[{"$nulls":21},"[td]1. Couple Of Cowboys[/td]"]
[{"$nulls":21},"[td]$7.05[/td]"]
[{"$nulls":21},"[td][/td]"]
[{"$nulls":21},"[td][/td]"]
[{"$nulls":20},"[/tr]"]
[{"$nulls":20},"[/table]"]
[]
[{"$nulls":20},"[table]"]
[{"$nulls":20},"[tr]"]
[{"$nulls":21},"[td][url=http://www.tabonline.com.au/2012/05/06/TR09.html]Devonport Synthe   Race   9[/url][/td]"]
[{"$nulls":21},"[td][color=yellow]Tapeta Footings (Bm68)[/color][/td]"]
[{"$nulls":21},"[td]$12500[/td]"]
[{"$nulls":21},"[td][color=lime]Benchmark 68[/color][/td]"]
[{"$nulls":20},"[/tr]"]
[{"$nulls":20},"[tr]"]
[{"$nulls":21},"[td]No Horse[/td]"]
[{"$nulls":21},"[td]Rated Price[/td]"]
[{"$nulls":21},"[td]Win[/td]"]
[{"$nulls":21},"[td]Place[/td]"]
[{"$nulls":20},"[/tr]"]
[{"$nulls":20},"[tr]"]
[{"$nulls":21},"[td]2. Tough Kisses[/td]"]
[{"$nulls":21},"[td]$2.14[/td]"]
[{"$nulls":21},"[td][/td]"]
[{"$nulls":21},"[td][/td]"]
[{"$nulls":20},"[/tr]"]
[{"$nulls":20},"[tr]"]
[{"$nulls":21},"[td]4. Redbougg[/td]"]
[{"$nulls":21},"[td]$3.28[/td]"]
[{"$nulls":21},"[td][/td]"]
[{"$nulls":21},"[td][/td]"]
[{"$nulls":20},"[/tr]"]
[{"$nulls":20},"[tr]"]
[{"$nulls":21},"[td]7. So Fast So Good[/td]"]
[{"$nulls":21},"[td]$5.25[/td]"]
[{"$nulls":21},"[td][/td]"]
[{"$nulls":21},"[td][/td]"]
[{"$nulls":20},"[/tr]"]
[{"$nulls":20},"[tr]"]
[{"$nulls":21},"[td]1. Teller[/td]"]
[{"$nulls":21},"[td]$7.87[/td]"]
[{"$nulls":21},"[td][/td]"]
[{"$nulls":21},"[td][/td]"]
[{"$nulls":20},"[/tr]"]
[{"$nulls":20},"[/table]"]
[]
[{"$nulls":20},"[table]"]
[{"$nulls":20},"[tr]"]
[{"$nulls":21},"[td][url=http://www.tabonline.com.au/2012/05/06/VR06.html]Geelong Syntheti   Race   6[/url][/td]"]
[{"$nulls":21},"[td][color=yellow]Viatek Hcp (C1)[/color][/td]"]
[{"$nulls":21},"[td]$22500[/td]"]
[{"$nulls":21},"[td][color=lime]Class 1[/color][/td]"]
[{"$nulls":20},"[/tr]"]
[{"$nulls":20},"[tr]"]
[{"$nulls":21},"[td]No Horse[/td]"]
[{"$nulls":21},"[td]Rated Price[/td]"]
[{"$nulls":21},"[td]Win[/td]"]
[{"$nulls":21},"[td]Place[/td]"]
[{"$nulls":20},"[/tr]"]
[{"$nulls":20},"[tr]"]
[{"$nulls":21},"[td]4. Lesprit[/td]"]
[{"$nulls":21},"[td]$3.21[/td]"]
[{"$nulls":21},"[td][/td]"]
[{"$nulls":21},"[td][/td]"]
[{"$nulls":20},"[/tr]"]
[{"$nulls":20},"[tr]"]
[{"$nulls":21},"[td]5. Nothing Known[/td]"]
[{"$nulls":21},"[td]$3.87[/td]"]
[{"$nulls":21},"[td][/td]"]
[{"$nulls":21},"[td][/td]"]
[{"$nulls":20},"[/tr]"]
[{"$nulls":20},"[tr]"]
[{"$nulls":21},"[td]3. Kidanchos Rogue[/td]"]
[{"$nulls":21},"[td]$4.28[/td]"]
[{"$nulls":21},"[td][/td]"]
[{"$nulls":21},"[td][/td]"]
[{"$nulls":20},"[/tr]"]
[{"$nulls":20},"[tr]"]
[{"$nulls":21},"[td]1. Sylvan Power[/td]"]
[{"$nulls":21},"[td]$5.36[/td]"]
[{"$nulls":21},"[td][/td]"]
[{"$nulls":21},"[td][/td]"]
[{"$nulls":20},"[/tr]"]
[{"$nulls":20},"[/table]"]
[]
[{"$nulls":20},"[table]"]
[{"$nulls":20},"[tr]"]
[{"$nulls":21},"[td][url=http://www.tabonline.com.au/2012/05/06/VR07.html]Geelong Syntheti   Race   7[/url][/td]"]
[{"$nulls":21},"[td][color=yellow]Centrebet (Bm72)[/color][/td]"]
[{"$nulls":21},"[td]$22500[/td]"]
[{"$nulls":21},"[td][color=lime]Benchmark 72[/color][/td]"]
[{"$nulls":20},"[/tr]"]
[{"$nulls":20},"[tr]"]
[{"$nulls":21},"[td]No Horse[/td]"]
[{"$nulls":21},"[td]Rated Price[/td]"]
[{"$nulls":21},"[td]Win[/td]"]
[{"$nulls":21},"[td]Place[/td]"]
[{"$nulls":20},"[/tr]"]
[{"$nulls":20},"[tr]"]
[{"$nulls":21},"[td]11. Campeao[/td]"]
[{"$nulls":21},"[td]$2.19[/td]"]
[{"$nulls":21},"[td][/td]"]
[{"$nulls":21},"[td][/td]"]
[{"$nulls":20},"[/tr]"]
[{"$nulls":20},"[tr]"]
[{"$nulls":21},"[td]6. Whiskey Cruyff[/td]"]
[{"$nulls":21},"[td]$3.15[/td]"]
[{"$nulls":21},"[td][/td]"]
[{"$nulls":21},"[td][/td]"]
[{"$nulls":20},"[/tr]"]
[{"$nulls":20},"[tr]"]
[{"$nulls":21},"[td]3. Sambora[/td]"]
[{"$nulls":21},"[td]$5.03[/td]"]
[{"$nulls":21},"[td][/td]"]
[{"$nulls":21},"[td][/td]"]
[{"$nulls":20},"[/tr]"]
[{"$nulls":20},"[tr]"]
[{"$nulls":21},"[td]1. Eightways[/td]"]
[{"$nulls":21},"[td]$9.86[/td]"]
[{"$nulls":21},"[td][/td]"]
[{"$nulls":21},"[td][/td]"]
[{"$nulls":20},"[/tr]"]
[{"$nulls":20},"[/table]"]
[]
[{"$nulls":20},"[table]"]
[{"$nulls":20},"[tr]"]
[{"$nulls":21},"[td][url=http://www.tabonline.com.au/2012/05/06/VR08.html]Geelong Syntheti   Race   8[/url][/td]"]
[{"$nulls":21},"[td][color=yellow]Bc3 Thoroughbreds Hcp (62)[/color][/td]"]
[{"$nulls":21},"[td]$15000[/td]"]
[{"$nulls":21},"[td][color=lime]Restricted 62[/color][/td]"]
[{"$nulls":20},"[/tr]"]
[{"$nulls":20},"[tr]"]
[{"$nulls":21},"[td]No Horse[/td]"]
[{"$nulls":21},"[td]Rated Price[/td]"]
[{"$nulls":21},"[td]Win[/td]"]
[{"$nulls":21},"[td]Place[/td]"]
[{"$nulls":20},"[/tr]"]
[{"$nulls":20},"[tr]"]
[{"$nulls":21},"[td]2. The Luckiest[/td]"]
[{"$nulls":21},"[td]$2.76[/td]"]
[{"$nulls":21},"[td][/td]"]
[{"$nulls":21},"[td][/td]"]
[{"$nulls":20},"[/tr]"]
[{"$nulls":20},"[tr]"]
[{"$nulls":21},"[td]1. Buratti[/td]"]
[{"$nulls":21},"[td]$3.46[/td]"]
[{"$nulls":21},"[td][/td]"]
[{"$nulls":21},"[td][/td]"]
[{"$nulls":20},"[/tr]"]
[{"$nulls":20},"[tr]"]
[{"$nulls":21},"[td]9. Parma[/td]"]
[{"$nulls":21},"[td]$3.46[/td]"]
[{"$nulls":21},"[td][/td]"]
[{"$nulls":21},"[td][/td]"]
[{"$nulls":20},"[/tr]"]
[{"$nulls":20},"[tr]"]
[{"$nulls":21},"[td]6. Vienna Snitzel[/td]"]
[{"$nulls":21},"[td]$7.89[/td]"]
[{"$nulls":21},"[td][/td]"]
[{"$nulls":21},"[td][/td]"]
[{"$nulls":20},"[/tr]"]
[{"$nulls":20},"[/table]"]
[]
[{"$nulls":20},"[table]"]
[{"$nulls":20},"[tr]"]
[{"$nulls":21},"[td][url=http://www.tabonline.com.au/2012/05/06/VR09.html]Geelong Syntheti   Race   9[/url][/td]"]
[{"$nulls":21},"[td][color=yellow]Centrebet Get On Hcp (68)[/color][/td]"]
[{"$nulls":21},"[td]$22500[/td]"]
[{"$nulls":21},"[td][color=lime]Restricted 68[/color][/td]"]
[{"$nulls":20},"[/tr]"]
[{"$nulls":20},"[tr]"]
[{"$nulls":21},"[td]No Horse[/td]"]
[{"$nulls":21},"[td]Rated Price[/td]"]
[{"$nulls":21},"[td]Win[/td]"]
[{"$nulls":21},"[td]Place[/td]"]
[{"$nulls":20},"[/tr]"]
[{"$nulls":20},"[tr]"]
[{"$nulls":21},"[td]1. Josimar[/td]"]
[{"$nulls":21},"[td]$3.16[/td]"]
[{"$nulls":21},"[td][/td]"]
[{"$nulls":21},"[td][/td]"]
[{"$nulls":20},"[/tr]"]
[{"$nulls":20},"[tr]"]
[{"$nulls":21},"[td]9. Miss Noverre[/td]"]
[{"$nulls":21},"[td]$3.42[/td]"]
[{"$nulls":21},"[td][/td]"]
[{"$nulls":21},"[td][/td]"]
[{"$nulls":20},"[/tr]"]
[{"$nulls":20},"[tr]"]
[{"$nulls":21},"[td]4. Catagious[/td]"]
[{"$nulls":21},"[td]$4.49[/td]"]
[{"$nulls":21},"[td][/td]"]
[{"$nulls":21},"[td][/td]"]
[{"$nulls":20},"[/tr]"]
[{"$nulls":20},"[tr]"]
[{"$nulls":21},"[td]7. Lady Pania[/td]"]
[{"$nulls":21},"[td]$4.49[/td]"]
[{"$nulls":21},"[td][/td]"]
[{"$nulls":21},"[td][/td]"]
[{"$nulls":20},"[/tr]"]
[{"$nulls":20},"[/table]"]
[]
[{"$nulls":20},"[table]"]
[{"$nulls":20},"[tr]"]
[{"$nulls":21},"[td][url=http://www.tabonline.com.au/2012/05/06/PR04.html]Kalgoorlie   Race   4[/url][/td]"]
[{"$nulls":21},"[td][color=yellow]Ride Safe Stay Safe Hcp (68)[/color][/td]"]
[{"$nulls":21},"[td]$13500[/td]"]
[{"$nulls":21},"[td][color=lime]Restricted 68[/color][/td]"]
[{"$nulls":20},"[/tr]"]
[{"$nulls":20},"[tr]"]
[{"$nulls":21},"[td]No Horse[/td]"]
[{"$nulls":21},"[td]Rated Price[/td]"]
[{"$nulls":21},"[td]Win[/td]"]
[{"$nulls":21},"[td]Place[/td]"]
[{"$nulls":20},"[/tr]"]
[{"$nulls":20},"[tr]"]
[{"$nulls":21},"[td]9. Zipfer[/td]"]
[{"$nulls":21},"[td]$3.11[/td]"]
[{"$nulls":21},"[td][/td]"]
[{"$nulls":21},"[td][/td]"]
[{"$nulls":20},"[/tr]"]
[{"$nulls":20},"[tr]"]
[{"$nulls":21},"[td]1. Foryouandme[/td]"]
[{"$nulls":21},"[td]$3.32[/td]"]
[{"$nulls":21},"[td][/td]"]
[{"$nulls":21},"[td][/td]"]
[{"$nulls":20},"[/tr]"]
[{"$nulls":20},"[tr]"]
[{"$nulls":21},"[td]2. Bells Victory[/td]"]
[{"$nulls":21},"[td]$4.09[/td]"]
[{"$nulls":21},"[td][/td]"]
[{"$nulls":21},"[td][/td]"]
[{"$nulls":20},"[/tr]"]
[{"$nulls":20},"[tr]"]
[{"$nulls":21},"[td]3. Hussation[/td]"]
[{"$nulls":21},"[td]$5.20[/td]"]
[{"$nulls":21},"[td][/td]"]
[{"$nulls":21},"[td][/td]"]
[{"$nulls":20},"[/tr]"]
[{"$nulls":20},"[/table]"]
[]
[{"$nulls":20},"[table]"]
[{"$nulls":20},"[tr]"]
[{"$nulls":21},"[td][url=http://www.tabonline.com.au/2012/05/06/PR05.html]Kalgoorlie   Race   5[/url][/td]"]
[{"$nulls":21},"[td][color=yellow]What Are You Getting Into (63)[/color][/td]"]
[{"$nulls":21},"[td]$12500[/td]"]
[{"$nulls":21},"[td][color=lime]Restricted 63[/color][/td]"]
[{"$nulls":20},"[/tr]"]
[{"$nulls":20},"[tr]"]
[{"$nulls":21},"[td]No Horse[/td]"]
[{"$nulls":21},"[td]Rated Price[/td]"]
[{"$nulls":21},"[td]Win[/td]"]
[{"$nulls":21},"[td]Place[/td]"]
[{"$nulls":20},"[/tr]"]
[{"$nulls":20},"[tr]"]
[{"$nulls":21},"[td]5. Cherily[/td]"]
[{"$nulls":21},"[td]$3.20[/td]"]
[{"$nulls":21},"[td][/td]"]
[{"$nulls":21},"[td][/td]"]
[{"$nulls":20},"[/tr]"]
[{"$nulls":20},"[tr]"]
[{"$nulls":21},"[td]8. Oratrice[/td]"]
[{"$nulls":21},"[td]$4.00[/td]"]
[{"$nulls":21},"[td][/td]"]
[{"$nulls":21},"[td][/td]"]
[{"$nulls":20},"[/tr]"]
[{"$nulls":20},"[tr]"]
[{"$nulls":21},"[td]2. The Key Cutter[/td]"]
[{"$nulls":21},"[td]$4.74[/td]"]
[{"$nulls":21},"[td][/td]"]
[{"$nulls":21},"[td][/td]"]
[{"$nulls":20},"[/tr]"]
[{"$nulls":20},"[tr]"]
[{"$nulls":21},"[td]3. Hearts Aflutter[/td]"]
[{"$nulls":21},"[td]$4.74[/td]"]
[{"$nulls":21},"[td][/td]"]
[{"$nulls":21},"[td][/td]"]
[{"$nulls":20},"[/tr]"]
[{"$nulls":20},"[/table]"]
[]
[{"$nulls":20},"[table]"]
[{"$nulls":20},"[tr]"]
[{"$nulls":21},"[td][url=http://www.tabonline.com.au/2012/05/06/PR06.html]Kalgoorlie   Race   6[/url][/td]"]
[{"$nulls":21},"[td][color=yellow]Eagle Petroleum (Bm70+)[/color][/td]"]
[{"$nulls":21},"[td]$15075[/td]"]
[{"$nulls":21},"[td][color=lime]BM70+[/color][/td]"]
[{"$nulls":20},"[/tr]"]
[{"$nulls":20},"[tr]"]
[{"$nulls":21},"[td]No Horse[/td]"]
[{"$nulls":21},"[td]Rated Price[/td]"]
[{"$nulls":21},"[td]Win[/td]"]
[{"$nulls":21},"[td]Place[/td]"]
[{"$nulls":20},"[/tr]"]
[{"$nulls":20},"[tr]"]
[{"$nulls":21},"[td]4. Nellie Got There[/td]"]
[{"$nulls":21},"[td]$2.96[/td]"]
[{"$nulls":21},"[td][/td]"]
[{"$nulls":21},"[td][/td]"]
[{"$nulls":20},"[/tr]"]
[{"$nulls":20},"[tr]"]
[{"$nulls":21},"[td]2. Danterina[/td]"]
[{"$nulls":21},"[td]$3.83[/td]"]
[{"$nulls":21},"[td][/td]"]
[{"$nulls":21},"[td][/td]"]
[{"$nulls":20},"[/tr]"]
[{"$nulls":20},"[tr]"]
[{"$nulls":21},"[td]12. Secret Prince[/td]"]
[{"$nulls":21},"[td]$4.66[/td]"]
[{"$nulls":21},"[td][/td]"]
[{"$nulls":21},"[td][/td]"]
[{"$nulls":20},"[/tr]"]
[{"$nulls":20},"[tr]"]
[{"$nulls":21},"[td]6. Amelia Storm[/td]"]
[{"$nulls":21},"[td]$5.20[/td]"]
[{"$nulls":21},"[td][/td]"]
[{"$nulls":21},"[td][/td]"]
[{"$nulls":20},"[/tr]"]
[{"$nulls":20},"[/table]"]
[]
[{"$nulls":20},"[table]"]
[{"$nulls":20},"[tr]"]
[{"$nulls":21},"[td][url=http://www.tabonline.com.au/2012/05/06/PR07.html]Kalgoorlie   Race   7[/url][/td]"]
[{"$nulls":21},"[td][color=yellow]Fatigue-The Silent Killer (63)[/color][/td]"]
[{"$nulls":21},"[td]$12500[/td]"]
[{"$nulls":21},"[td][color=lime]Restricted 63[/color][/td]"]
[{"$nulls":20},"[/tr]"]
[{"$nulls":20},"[tr]"]
[{"$nulls":21},"[td]No Horse[/td]"]
[{"$nulls":21},"[td]Rated Price[/td]"]
[{"$nulls":21},"[td]Win[/td]"]
[{"$nulls":21},"[td]Place[/td]"]
[{"$nulls":20},"[/tr]"]
[{"$nulls":20},"[tr]"]
[{"$nulls":21},"[td]6. Imabutu[/td]"]
[{"$nulls":21},"[td]$3.48[/td]"]
[{"$nulls":21},"[td][/td]"]
[{"$nulls":21},"[td][/td]"]
[{"$nulls":20},"[/tr]"]
[{"$nulls":20},"[tr]"]
[{"$nulls":21},"[td]7. Star Trader[/td]"]
[{"$nulls":21},"[td]$3.76[/td]"]
[{"$nulls":21},"[td][/td]"]
[{"$nulls":21},"[td][/td]"]
[{"$nulls":20},"[/tr]"]
[{"$nulls":20},"[tr]"]
[{"$nulls":21},"[td]14. Versaint[/td]"]
[{"$nulls":21},"[td]$3.76[/td]"]
[{"$nulls":21},"[td][/td]"]
[{"$nulls":21},"[td][/td]"]
[{"$nulls":20},"[/tr]"]
[{"$nulls":20},"[tr]"]
[{"$nulls":21},"[td]1. Kaszanka[/td]"]
[{"$nulls":21},"[td]$4.86[/td]"]
[{"$nulls":21},"[td][/td]"]
[{"$nulls":21},"[td][/td]"]
[{"$nulls":20},"[/tr]"]
[{"$nulls":20},"[/table]"]
[]
[{"$nulls":20},"[table]"]
[{"$nulls":20},"[tr]"]
[{"$nulls":21},"[td][url=http://www.tabonline.com.au/2012/05/06/CR05.html]Mudgee   Race   5[/url][/td]"]
[{"$nulls":21},"[td][color=yellow]Coolmore Stud Plate (C1)[/color][/td]"]
[{"$nulls":21},"[td]$10000[/td]"]
[{"$nulls":21},"[td][color=lime]Class 1[/color][/td]"]
[{"$nulls":20},"[/tr]"]
[{"$nulls":20},"[tr]"]
[{"$nulls":21},"[td]No Horse[/td]"]
[{"$nulls":21},"[td]Rated Price[/td]"]
[{"$nulls":21},"[td]Win[/td]"]
[{"$nulls":21},"[td]Place[/td]"]
[{"$nulls":20},"[/tr]"]
[{"$nulls":20},"[tr]"]
[{"$nulls":21},"[td]8. Another Glow[/td]"]
[{"$nulls":21},"[td]$2.84[/td]"]
[{"$nulls":21},"[td][/td]"]
[{"$nulls":21},"[td][/td]"]
[{"$nulls":20},"[/tr]"]
[{"$nulls":20},"[tr]"]
[{"$nulls":21},"[td]7. Touch Of Glory[/td]"]
[{"$nulls":21},"[td]$3.04[/td]"]
[{"$nulls":21},"[td][/td]"]
[{"$nulls":21},"[td][/td]"]
[{"$nulls":20},"[/tr]"]
[{"$nulls":20},"[tr]"]
[{"$nulls":21},"[td]6. Tettris[/td]"]
[{"$nulls":21},"[td]$5.47[/td]"]
[{"$nulls":21},"[td][/td]"]
[{"$nulls":21},"[td][/td]"]
[{"$nulls":20},"[/tr]"]
[{"$nulls":20},"[tr]"]
[{"$nulls":21},"[td]11. Miss Dez[/td]"]
[{"$nulls":21},"[td]$6.07[/td]"]
[{"$nulls":21},"[td][/td]"]
[{"$nulls":21},"[td][/td]"]
[{"$nulls":20},"[/tr]"]
[{"$nulls":20},"[/table]"]
[]
[{"$nulls":20},"[table]"]
[{"$nulls":20},"[tr]"]
[{"$nulls":21},"[td][url=http://www.tabonline.com.au/2012/05/06/CR06.html]Mudgee   Race   6[/url][/td]"]
[{"$nulls":21},"[td][color=yellow]Armando Tik Tik Memorial-Bm55[/color][/td]"]
[{"$nulls":21},"[td]$10000[/td]"]
[{"$nulls":21},"[td][color=lime]Benchmark 55[/color][/td]"]
[{"$nulls":20},"[/tr]"]
[{"$nulls":20},"[tr]"]
[{"$nulls":21},"[td]No Horse[/td]"]
[{"$nulls":21},"[td]Rated Price[/td]"]
[{"$nulls":21},"[td]Win[/td]"]
[{"$nulls":21},"[td]Place[/td]"]
[{"$nulls":20},"[/tr]"]
[{"$nulls":20},"[tr]"]
[{"$nulls":21},"[td]6. Snugasabuginarug[/td]"]
[{"$nulls":21},"[td]$3.34[/td]"]
[{"$nulls":21},"[td][/td]"]
[{"$nulls":21},"[td][/td]"]
[{"$nulls":20},"[/tr]"]
[{"$nulls":20},"[tr]"]
[{"$nulls":21},"[td]4. Big Ben Chimes[/td]"]
[{"$nulls":21},"[td]$3.62[/td]"]
[{"$nulls":21},"[td][/td]"]
[{"$nulls":21},"[td][/td]"]
[{"$nulls":20},"[/tr]"]
[{"$nulls":20},"[tr]"]
[{"$nulls":21},"[td]1. Antidotes[/td]"]
[{"$nulls":21},"[td]$3.94[/td]"]
[{"$nulls":21},"[td][/td]"]
[{"$nulls":21},"[td][/td]"]
[{"$nulls":20},"[/tr]"]
[{"$nulls":20},"[tr]"]
[{"$nulls":21},"[td]3. Integrand[/td]"]
[{"$nulls":21},"[td]$4.32[/td]"]
[{"$nulls":21},"[td][/td]"]
[{"$nulls":21},"[td][/td]"]
[{"$nulls":20},"[/tr]"]
[{"$nulls":20},"[/table]"]
[]
[{"$nulls":20},"[table]"]
[{"$nulls":20},"[tr]"]
[{"$nulls":21},"[td][url=http://www.tabonline.com.au/2012/05/06/CR07.html]Mudgee   Race   7[/url][/td]"]
[{"$nulls":21},"[td][color=yellow]2012 Sky Gold Gooree Cup[/color][/td]"]
[{"$nulls":21},"[td]$30000[/td]"]
[{"$nulls":21},"[td][color=lime]Open[/color][/td]"]
[{"$nulls":20},"[/tr]"]
[{"$nulls":20},"[tr]"]
[{"$nulls":21},"[td]No Horse[/td]"]
[{"$nulls":21},"[td]Rated Price[/td]"]
[{"$nulls":21},"[td]Win[/td]"]
[{"$nulls":21},"[td]Place[/td]"]
[{"$nulls":20},"[/tr]"]
[{"$nulls":20},"[tr]"]
[{"$nulls":21},"[td]5. Ideal Position[/td]"]
[{"$nulls":21},"[td]$3.07[/td]"]
[{"$nulls":21},"[td][/td]"]
[{"$nulls":21},"[td][/td]"]
[{"$nulls":20},"[/tr]"]
[{"$nulls":20},"[tr]"]
[{"$nulls":21},"[td]1. Moment of Clarity[/td]"]
[{"$nulls":21},"[td]$4.42[/td]"]
[{"$nulls":21},"[td][/td]"]
[{"$nulls":21},"[td][/td]"]
[{"$nulls":20},"[/tr]"]
[{"$nulls":20},"[tr]"]
[{"$nulls":21},"[td]3. River Of Salvation[/td]"]
[{"$nulls":21},"[td]$4.42[/td]"]
[{"$nulls":21},"[td][/td]"]
[{"$nulls":21},"[td][/td]"]
[{"$nulls":20},"[/tr]"]
[{"$nulls":20},"[tr]"]
[{"$nulls":21},"[td]4. Reigning[/td]"]
[{"$nulls":21},"[td]$4.81[/td]"]
[{"$nulls":21},"[td][/td]"]
[{"$nulls":21},"[td][/td]"]
[{"$nulls":20},"[/tr]"]
[{"$nulls":20},"[/table]"]
[]
[{"$nulls":20},"[table]"]
[{"$nulls":20},"[tr]"]
[{"$nulls":21},"[td][url=http://www.tabonline.com.au/2012/05/06/CR08.html]Mudgee   Race   8[/url][/td]"]
[{"$nulls":21},"[td][color=yellow]Gooree Park Wines (Bm60)[/color][/td]"]
[{"$nulls":21},"[td]$10000[/td]"]
[{"$nulls":21},"[td][color=lime]Benchmark 60[/color][/td]"]
[{"$nulls":20},"[/tr]"]
[{"$nulls":20},"[tr]"]
[{"$nulls":21},"[td]No Horse[/td]"]
[{"$nulls":21},"[td]Rated Price[/td]"]
[{"$nulls":21},"[td]Win[/td]"]
[{"$nulls":21},"[td]Place[/td]"]
[{"$nulls":20},"[/tr]"]
[{"$nulls":20},"[tr]"]
[{"$nulls":21},"[td]9. Flying Fuji[/td]"]
[{"$nulls":21},"[td]$2.57[/td]"]
[{"$nulls":21},"[td][/td]"]
[{"$nulls":21},"[td][/td]"]
[{"$nulls":20},"[/tr]"]
[{"$nulls":20},"[tr]"]
[{"$nulls":21},"[td]6. Stagger[/td]"]
[{"$nulls":21},"[td]$3.65[/td]"]
[{"$nulls":21},"[td][/td]"]
[{"$nulls":21},"[td][/td]"]
[{"$nulls":20},"[/tr]"]
[{"$nulls":20},"[tr]"]
[{"$nulls":21},"[td]4. Hakuna Shaka[/td]"]
[{"$nulls":21},"[td]$4.69[/td]"]
[{"$nulls":21},"[td][/td]"]
[{"$nulls":21},"[td][/td]"]
[{"$nulls":20},"[/tr]"]
[{"$nulls":20},"[tr]"]
[{"$nulls":21},"[td]7. Gold Sultan[/td]"]
[{"$nulls":21},"[td]$6.32[/td]"]
[{"$nulls":21},"[td][/td]"]
[{"$nulls":21},"[td][/td]"]
[{"$nulls":20},"[/tr]"]
[{"$nulls":20},"[/table]"]
[]
[{"$nulls":20},"[table]"]
[{"$nulls":20},"[tr]"]
[{"$nulls":21},"[td][url=http://www.tabonline.com.au/2012/05/06/AR06.html]Penola   Race   6[/url][/td]"]
[{"$nulls":21},"[td][color=yellow]Trans Australian Livestock Hcp[/color][/td]"]
[{"$nulls":21},"[td]$15000[/td]"]
[{"$nulls":21},"[td][color=lime]Flying[/color][/td]"]
[{"$nulls":20},"[/tr]"]
[{"$nulls":20},"[tr]"]
[{"$nulls":21},"[td]No Horse[/td]"]
[{"$nulls":21},"[td]Rated Price[/td]"]
[{"$nulls":21},"[td]Win[/td]"]
[{"$nulls":21},"[td]Place[/td]"]
[{"$nulls":20},"[/tr]"]
[{"$nulls":20},"[tr]"]
[{"$nulls":21},"[td]9. Ogunde[/td]"]
[{"$nulls":21},"[td]$2.23[/td]"]
[{"$nulls":21},"[td][/td]"]
[{"$nulls":21},"[td][/td]"]
[{"$nulls":20},"[/tr]"]
[{"$nulls":20},"[tr]"]
[{"$nulls":21},"[td]1. Likable Will[/td]"]
[{"$nulls":21},"[td]$3.56[/td]"]
[{"$nulls":21},"[td][/td]"]
[{"$nulls":21},"[td][/td]"]
[{"$nulls":20},"[/tr]"]
[{"$nulls":20},"[tr]"]
[{"$nulls":21},"[td]4. Vinard[/td]"]
[{"$nulls":21},"[td]$3.56[/td]"]
[{"$nulls":21},"[td][/td]"]
[{"$nulls":21},"[td][/td]"]
[{"$nulls":20},"[/tr]"]
[{"$nulls":20},"[tr]"]
[{"$nulls":21},"[td]3. Ace Or Joka[/td]"]
[{"$nulls":21},"[td]$7.95[/td]"]
[{"$nulls":21},"[td][/td]"]
[{"$nulls":21},"[td][/td]"]
[{"$nulls":20},"[/tr]"]
[{"$nulls":20},"[/table]"]
[]
[{"$nulls":20},"[table]"]
[{"$nulls":20},"[tr]"]
[{"$nulls":21},"[td][url=http://www.tabonline.com.au/2012/05/06/AR07.html]Penola   Race   7[/url][/td]"]
[{"$nulls":21},"[td][color=yellow]Western United Fin. Serv. (68)[/color][/td]"]
[{"$nulls":21},"[td]$9000[/td]"]
[{"$nulls":21},"[td][color=lime]Restricted 68[/color][/td]"]
[{"$nulls":20},"[/tr]"]
[{"$nulls":20},"[tr]"]
[{"$nulls":21},"[td]No Horse[/td]"]
[{"$nulls":21},"[td]Rated Price[/td]"]
[{"$nulls":21},"[td]Win[/td]"]
[{"$nulls":21},"[td]Place[/td]"]
[{"$nulls":20},"[/tr]"]
[{"$nulls":20},"[tr]"]
[{"$nulls":21},"[td]7. Bella Dolce[/td]"]
[{"$nulls":21},"[td]$2.37[/td]"]
[{"$nulls":21},"[td][/td]"]
[{"$nulls":21},"[td][/td]"]
[{"$nulls":20},"[/tr]"]
[{"$nulls":20},"[tr]"]
[{"$nulls":21},"[td]4. Alsette[/td]"]
[{"$nulls":21},"[td]$3.46[/td]"]
[{"$nulls":21},"[td][/td]"]
[{"$nulls":21},"[td][/td]"]
[{"$nulls":20},"[/tr]"]
[{"$nulls":20},"[tr]"]
[{"$nulls":21},"[td]3. Nothin Leica Flash[/td]"]
[{"$nulls":21},"[td]$3.72[/td]"]
[{"$nulls":21},"[td][/td]"]
[{"$nulls":21},"[td][/td]"]
[{"$nulls":20},"[/tr]"]
[{"$nulls":20},"[tr]"]
[{"$nulls":21},"[td]10. Wait Forette[/td]"]
[{"$nulls":21},"[td]$7.64[/td]"]
[{"$nulls":21},"[td][/td]"]
[{"$nulls":21},"[td][/td]"]
[{"$nulls":20},"[/tr]"]
[{"$nulls":20},"[/table]"]
[]
[{"$nulls":20},"[table]"]
[{"$nulls":20},"[tr]"]
[{"$nulls":21},"[td][url=http://www.tabonline.com.au/2012/05/06/AR08.html]Penola   Race   8[/url][/td]"]
[{"$nulls":21},"[td][color=yellow]Scott Group Millicent Cup[/color][/td]"]
[{"$nulls":21},"[td]$30850[/td]"]
[{"$nulls":21},"[td][color=lime]Open[/color][/td]"]
[{"$nulls":20},"[/tr]"]
[{"$nulls":20},"[tr]"]
[{"$nulls":21},"[td]No Horse[/td]"]
[{"$nulls":21},"[td]Rated Price[/td]"]
[{"$nulls":21},"[td]Win[/td]"]
[{"$nulls":21},"[td]Place[/td]"]
[{"$nulls":20},"[/tr]"]
[{"$nulls":20},"[tr]"]
[{"$nulls":21},"[td]6. Evenmoreaction[/td]"]
[{"$nulls":21},"[td]$2.57[/td]"]
[{"$nulls":21},"[td][/td]"]
[{"$nulls":21},"[td][/td]"]
[{"$nulls":20},"[/tr]"]
[{"$nulls":20},"[tr]"]
[{"$nulls":21},"[td]1. Texan Warney[/td]"]
[{"$nulls":21},"[td]$2.73[/td]"]
[{"$nulls":21},"[td][/td]"]
[{"$nulls":21},"[td][/td]"]
[{"$nulls":20},"[/tr]"]
[{"$nulls":20},"[tr]"]
[{"$nulls":21},"[td]2. Sandhill Prince[/td]"]
[{"$nulls":21},"[td]$4.91[/td]"]
[{"$nulls":21},"[td][/td]"]
[{"$nulls":21},"[td][/td]"]
[{"$nulls":20},"[/tr]"]
[{"$nulls":20},"[tr]"]
[{"$nulls":21},"[td]3. Club Royale[/td]"]
[{"$nulls":21},"[td]$9.21[/td]"]
[{"$nulls":21},"[td][/td]"]
[{"$nulls":21},"[td][/td]"]
[{"$nulls":20},"[/tr]"]
[{"$nulls":20},"[/table]"]
[]
[{"$nulls":20},"[table]"]
[{"$nulls":20},"[tr]"]
[{"$nulls":21},"[td][url=http://www.tabonline.com.au/2012/05/06/AR09.html]Penola   Race   9[/url][/td]"]
[{"$nulls":21},"[td][color=yellow]Grand Hotel Millicent Hcp (65)[/color][/td]"]
[{"$nulls":21},"[td]$9000[/td]"]
[{"$nulls":21},"[td][color=lime]Restricted 65[/color][/td]"]
[{"$nulls":20},"[/tr]"]
[{"$nulls":20},"[tr]"]
[{"$nulls":21},"[td]No Horse[/td]"]
[{"$nulls":21},"[td]Rated Price[/td]"]
[{"$nulls":21},"[td]Win[/td]"]
[{"$nulls":21},"[td]Place[/td]"]
[{"$nulls":20},"[/tr]"]
[{"$nulls":20},"[tr]"]
[{"$nulls":21},"[td]1. Hasta La Shamer[/td]"]
[{"$nulls":21},"[td]$2.93[/td]"]
[{"$nulls":21},"[td][/td]"]
[{"$nulls":21},"[td][/td]"]
[{"$nulls":20},"[/tr]"]
[{"$nulls":20},"[tr]"]
[{"$nulls":21},"[td]3. Royal Stormy[/td]"]
[{"$nulls":21},"[td]$3.39[/td]"]
[{"$nulls":21},"[td][/td]"]
[{"$nulls":21},"[td][/td]"]
[{"$nulls":20},"[/tr]"]
[{"$nulls":20},"[tr]"]
[{"$nulls":21},"[td]11. Julie Marie[/td]"]
[{"$nulls":21},"[td]$4.34[/td]"]
[{"$nulls":21},"[td][/td]"]
[{"$nulls":21},"[td][/td]"]
[{"$nulls":20},"[/tr]"]
[{"$nulls":20},"[tr]"]
[{"$nulls":21},"[td]9. Union Rep[/td]"]
[{"$nulls":21},"[td]$5.25[/td]"]
[{"$nulls":21},"[td][/td]"]
[{"$nulls":21},"[td][/td]"]
[{"$nulls":20},"[/tr]"]
[{"$nulls":20},"[/table]"]
[]
[{"$nulls":20},"[table]"]
[{"$nulls":20},"[tr]"]
[{"$nulls":21},"[td][url=http://www.tabonline.com.au/2012/05/06/ER04.html]Sale   Race   4[/url][/td]"]
[{"$nulls":21},"[td][color=yellow]Betfair Hcp (58)[/color][/td]"]
[{"$nulls":21},"[td]$12000[/td]"]
[{"$nulls":21},"[td][color=lime]Restricted 58[/color][/td]"]
[{"$nulls":20},"[/tr]"]
[{"$nulls":20},"[tr]"]
[{"$nulls":21},"[td]No Horse[/td]"]
[{"$nulls":21},"[td]Rated Price[/td]"]
[{"$nulls":21},"[td]Win[/td]"]
[{"$nulls":21},"[td]Place[/td]"]
[{"$nulls":20},"[/tr]"]
[{"$nulls":20},"[tr]"]
[{"$nulls":21},"[td]8. Phantom Flight[/td]"]
[{"$nulls":21},"[td]$2.53[/td]"]
[{"$nulls":21},"[td][/td]"]
[{"$nulls":21},"[td][/td]"]
[{"$nulls":20},"[/tr]"]
[{"$nulls":20},"[tr]"]
[{"$nulls":21},"[td]3. Joph La Hae[/td]"]
[{"$nulls":21},"[td]$4.04[/td]"]
[{"$nulls":21},"[td][/td]"]
[{"$nulls":21},"[td][/td]"]
[{"$nulls":20},"[/tr]"]
[{"$nulls":20},"[tr]"]
[{"$nulls":21},"[td]6. To Cry For[/td]"]
[{"$nulls":21},"[td]$5.42[/td]"]
[{"$nulls":21},"[td][/td]"]
[{"$nulls":21},"[td][/td]"]
[{"$nulls":20},"[/tr]"]
[{"$nulls":20},"[tr]"]
[{"$nulls":21},"[td]10. Tink La Tess[/td]"]
[{"$nulls":21},"[td]$5.42[/td]"]
[{"$nulls":21},"[td][/td]"]
[{"$nulls":21},"[td][/td]"]
[{"$nulls":20},"[/tr]"]
[{"$nulls":20},"[/table]"]
[]
[{"$nulls":20},"[table]"]
[{"$nulls":20},"[tr]"]
[{"$nulls":21},"[td][url=http://www.tabonline.com.au/2012/05/06/ER05.html]Sale   Race   5[/url][/td]"]
[{"$nulls":21},"[td][color=yellow]Betfair (Bm72)[/color][/td]"]
[{"$nulls":21},"[td]$17500[/td]"]
[{"$nulls":21},"[td][color=lime]Benchmark 72[/color][/td]"]
[{"$nulls":20},"[/tr]"]
[{"$nulls":20},"[tr]"]
[{"$nulls":21},"[td]No Horse[/td]"]
[{"$nulls":21},"[td]Rated Price[/td]"]
[{"$nulls":21},"[td]Win[/td]"]
[{"$nulls":21},"[td]Place[/td]"]
[{"$nulls":20},"[/tr]"]
[{"$nulls":20},"[tr]"]
[{"$nulls":21},"[td]3. Stratocracy[/td]"]
[{"$nulls":21},"[td]$2.49[/td]"]
[{"$nulls":21},"[td][/td]"]
[{"$nulls":21},"[td][/td]"]
[{"$nulls":20},"[/tr]"]
[{"$nulls":20},"[tr]"]
[{"$nulls":21},"[td]11. Little Bro[/td]"]
[{"$nulls":21},"[td]$2.66[/td]"]
[{"$nulls":21},"[td][/td]"]
[{"$nulls":21},"[td][/td]"]
[{"$nulls":20},"[/tr]"]
[{"$nulls":20},"[tr]"]
[{"$nulls":21},"[td]13. Tycoon Rob[/td]"]
[{"$nulls":21},"[td]$6.40[/td]"]
[{"$nulls":21},"[td][/td]"]
[{"$nulls":21},"[td][/td]"]
[{"$nulls":20},"[/tr]"]
[{"$nulls":20},"[tr]"]
[{"$nulls":21},"[td]8. Seeking Chi[/td]"]
[{"$nulls":21},"[td]$7.23[/td]"]
[{"$nulls":21},"[td][/td]"]
[{"$nulls":21},"[td][/td]"]
[{"$nulls":20},"[/tr]"]
[{"$nulls":20},"[/table]"]
[]
[{"$nulls":20},"[table]"]
[{"$nulls":20},"[tr]"]
[{"$nulls":21},"[td][url=http://www.tabonline.com.au/2012/05/06/ER06.html]Sale   Race   6[/url][/td]"]
[{"$nulls":21},"[td][color=yellow]Betfair Hcp (62)[/color][/td]"]
[{"$nulls":21},"[td]$12000[/td]"]
[{"$nulls":21},"[td][color=lime]Restricted 62[/color][/td]"]
[{"$nulls":20},"[/tr]"]
[{"$nulls":20},"[tr]"]
[{"$nulls":21},"[td]No Horse[/td]"]
[{"$nulls":21},"[td]Rated Price[/td]"]
[{"$nulls":21},"[td]Win[/td]"]
[{"$nulls":21},"[td]Place[/td]"]
[{"$nulls":20},"[/tr]"]
[{"$nulls":20},"[tr]"]
[{"$nulls":21},"[td]10. Angelas Dream[/td]"]
[{"$nulls":21},"[td]$1.99[/td]"]
[{"$nulls":21},"[td][/td]"]
[{"$nulls":21},"[td][/td]"]
[{"$nulls":20},"[/tr]"]
[{"$nulls":20},"[tr]"]
[{"$nulls":21},"[td]3. Heez Notorious[/td]"]
[{"$nulls":21},"[td]$3.28[/td]"]
[{"$nulls":21},"[td][/td]"]
[{"$nulls":21},"[td][/td]"]
[{"$nulls":20},"[/tr]"]
[{"$nulls":20},"[tr]"]
[{"$nulls":21},"[td]2. Gone Skiing[/td]"]
[{"$nulls":21},"[td]$5.91[/td]"]
[{"$nulls":21},"[td][/td]"]
[{"$nulls":21},"[td][/td]"]
[{"$nulls":20},"[/tr]"]
[{"$nulls":20},"[tr]"]
[{"$nulls":21},"[td]17. Miss Otoole[/td]"]
[{"$nulls":21},"[td]$9.37[/td]"]
[{"$nulls":21},"[td][/td]"]
[{"$nulls":21},"[td][/td]"]
[{"$nulls":20},"[/tr]"]
[{"$nulls":20},"[/table]"]
[]
[{"$nulls":20},"[table]"]
[{"$nulls":20},"[tr]"]
[{"$nulls":21},"[td][url=http://www.tabonline.com.au/2012/05/06/ER07.html]Sale   Race   7[/url][/td]"]
[{"$nulls":21},"[td][color=yellow]Betfair Hcp (62)[/color][/td]"]
[{"$nulls":21},"[td]$12000[/td]"]
[{"$nulls":21},"[td][color=lime]Restricted 62[/color][/td]"]
[{"$nulls":20},"[/tr]"]
[{"$nulls":20},"[tr]"]
[{"$nulls":21},"[td]No Horse[/td]"]
[{"$nulls":21},"[td]Rated Price[/td]"]
[{"$nulls":21},"[td]Win[/td]"]
[{"$nulls":21},"[td]Place[/td]"]
[{"$nulls":20},"[/tr]"]
[{"$nulls":20},"[tr]"]
[{"$nulls":21},"[td]7. Prinsen[/td]"]
[{"$nulls":21},"[td]$2.99[/td]"]
[{"$nulls":21},"[td][/td]"]
[{"$nulls":21},"[td][/td]"]
[{"$nulls":20},"[/tr]"]
[{"$nulls":20},"[tr]"]
[{"$nulls":21},"[td]1. Chittlin Switch[/td]"]
[{"$nulls":21},"[td]$3.97[/td]"]
[{"$nulls":21},"[td][/td]"]
[{"$nulls":21},"[td][/td]"]
[{"$nulls":20},"[/tr]"]
[{"$nulls":20},"[tr]"]
[{"$nulls":21},"[td]3. Charlis Phantom[/td]"]
[{"$nulls":21},"[td]$4.67[/td]"]
[{"$nulls":21},"[td][/td]"]
[{"$nulls":21},"[td][/td]"]
[{"$nulls":20},"[/tr]"]
[{"$nulls":20},"[tr]"]
[{"$nulls":21},"[td]11. Third Screen[/td]"]
[{"$nulls":21},"[td]$4.67[/td]"]
[{"$nulls":21},"[td][/td]"]
[{"$nulls":21},"[td][/td]"]
[{"$nulls":20},"[/tr]"]
[{"$nulls":20},"[/table]"]
[]
[{"$nulls":20},"[table]"]
[{"$nulls":20},"[tr]"]
[{"$nulls":21},"[td][url=http://www.tabonline.com.au/2012/05/06/QR05.html]Sunshine Coast   Race   5[/url][/td]"]
[{"$nulls":21},"[td][color=yellow]Intl Htl, Spring Hill Hcp (C1)[/color][/td]"]
[{"$nulls":21},"[td]$10000[/td]"]
[{"$nulls":21},"[td][color=lime]Class 1[/color][/td]"]
[{"$nulls":20},"[/tr]"]
[{"$nulls":20},"[tr]"]
[{"$nulls":21},"[td]No Horse[/td]"]
[{"$nulls":21},"[td]Rated Price[/td]"]
[{"$nulls":21},"[td]Win[/td]"]
[{"$nulls":21},"[td]Place[/td]"]
[{"$nulls":20},"[/tr]"]
[{"$nulls":20},"[tr]"]
[{"$nulls":21},"[td]4. Zabeauty[/td]"]
[{"$nulls":21},"[td]$1.96[/td]"]
[{"$nulls":21},"[td][/td]"]
[{"$nulls":21},"[td][/td]"]
[{"$nulls":20},"[/tr]"]
[{"$nulls":20},"[tr]"]
[{"$nulls":21},"[td]7. Lillavardee[/td]"]
[{"$nulls":21},"[td]$2.51[/td]"]
[{"$nulls":21},"[td][/td]"]
[{"$nulls":21},"[td][/td]"]
[{"$nulls":20},"[/tr]"]
[{"$nulls":20},"[tr]"]
[{"$nulls":21},"[td]11. Heavens Own[/td]"]
[{"$nulls":21},"[td]$8.08[/td]"]
[{"$nulls":21},"[td][/td]"]
[{"$nulls":21},"[td][/td]"]
[{"$nulls":20},"[/tr]"]
[{"$nulls":20},"[tr]"]
[{"$nulls":21},"[td]12. Dawn Return[/td]"]
[{"$nulls":21},"[td]$10.76[/td]"]
[{"$nulls":21},"[td][/td]"]
[{"$nulls":21},"[td][/td]"]
[{"$nulls":20},"[/tr]"]
[{"$nulls":20},"[/table]"]
[]
[{"$nulls":20},"[table]"]
[{"$nulls":20},"[tr]"]
[{"$nulls":21},"[td][url=http://www.tabonline.com.au/2012/05/06/QR06.html]Sunshine Coast   Race   6[/url][/td]"]
[{"$nulls":21},"[td][color=yellow]Cooroy Hotel Hcp (C4)[/color][/td]"]
[{"$nulls":21},"[td]$12000[/td]"]
[{"$nulls":21},"[td][color=lime]Class 4[/color][/td]"]
[{"$nulls":20},"[/tr]"]
[{"$nulls":20},"[tr]"]
[{"$nulls":21},"[td]No Horse[/td]"]
[{"$nulls":21},"[td]Rated Price[/td]"]
[{"$nulls":21},"[td]Win[/td]"]
[{"$nulls":21},"[td]Place[/td]"]
[{"$nulls":20},"[/tr]"]
[{"$nulls":20},"[tr]"]
[{"$nulls":21},"[td]2. Cash n Style[/td]"]
[{"$nulls":21},"[td]$2.89[/td]"]
[{"$nulls":21},"[td][/td]"]
[{"$nulls":21},"[td][/td]"]
[{"$nulls":20},"[/tr]"]
[{"$nulls":20},"[tr]"]
[{"$nulls":21},"[td]1. Modern Al[/td]"]
[{"$nulls":21},"[td]$4.29[/td]"]
[{"$nulls":21},"[td][/td]"]
[{"$nulls":21},"[td][/td]"]
[{"$nulls":20},"[/tr]"]
[{"$nulls":20},"[tr]"]
[{"$nulls":21},"[td]5. Newland Warrior[/td]"]
[{"$nulls":21},"[td]$4.71[/td]"]
[{"$nulls":21},"[td][/td]"]
[{"$nulls":21},"[td][/td]"]
[{"$nulls":20},"[/tr]"]
[{"$nulls":20},"[tr]"]
[{"$nulls":21},"[td]4. Just About Ready[/td]"]
[{"$nulls":21},"[td]$5.19[/td]"]
[{"$nulls":21},"[td][/td]"]
[{"$nulls":21},"[td][/td]"]
[{"$nulls":20},"[/tr]"]
[{"$nulls":20},"[/table]"]
[]
[{"$nulls":20},"[table]"]
[{"$nulls":20},"[tr]"]
[{"$nulls":21},"[td][url=http://www.tabonline.com.au/2012/05/06/QR07.html]Sunshine Coast   Race   7[/url][/td]"]
[{"$nulls":21},"[td][color=yellow]Bellvista Tavern Hcp (C3)[/color][/td]"]
[{"$nulls":21},"[td]$12000[/td]"]
[{"$nulls":21},"[td][color=lime]Class 3[/color][/td]"]
[{"$nulls":20},"[/tr]"]
[{"$nulls":20},"[tr]"]
[{"$nulls":21},"[td]No Horse[/td]"]
[{"$nulls":21},"[td]Rated Price[/td]"]
[{"$nulls":21},"[td]Win[/td]"]
[{"$nulls":21},"[td]Place[/td]"]
[{"$nulls":20},"[/tr]"]
[{"$nulls":20},"[tr]"]
[{"$nulls":21},"[td]9. Funky Lady[/td]"]
[{"$nulls":21},"[td]$1.85[/td]"]
[{"$nulls":21},"[td][/td]"]
[{"$nulls":21},"[td][/td]"]
[{"$nulls":20},"[/tr]"]
[{"$nulls":20},"[tr]"]
[{"$nulls":21},"[td]1. Tickled[/td]"]
[{"$nulls":21},"[td]$4.12[/td]"]
[{"$nulls":21},"[td][/td]"]
[{"$nulls":21},"[td][/td]"]
[{"$nulls":20},"[/tr]"]
[{"$nulls":20},"[tr]"]
[{"$nulls":21},"[td]2. Shadowofexcellence[/td]"]
[{"$nulls":21},"[td]$5.59[/td]"]
[{"$nulls":21},"[td][/td]"]
[{"$nulls":21},"[td][/td]"]
[{"$nulls":20},"[/tr]"]
[{"$nulls":20},"[tr]"]
[{"$nulls":21},"[td]11. Famous Fortune[/td]"]
[{"$nulls":21},"[td]$7.11[/td]"]
[{"$nulls":21},"[td][/td]"]
[{"$nulls":21},"[td][/td]"]
[{"$nulls":20},"[/tr]"]
[{"$nulls":20},"[/table]"]
[]
[{"$nulls":20},"[table]"]
[{"$nulls":20},"[tr]"]
[{"$nulls":21},"[td][url=http://www.tabonline.com.au/2012/05/06/QR08.html]Sunshine Coast   Race   8[/url][/td]"]
[{"$nulls":21},"[td][color=yellow]Bazza Hanley Hcp (C2)[/color][/td]"]
[{"$nulls":21},"[td]$10000[/td]"]
[{"$nulls":21},"[td][color=lime]Class 2[/color][/td]"]
[{"$nulls":20},"[/tr]"]
[{"$nulls":20},"[tr]"]
[{"$nulls":21},"[td]No Horse[/td]"]
[{"$nulls":21},"[td]Rated Price[/td]"]
[{"$nulls":21},"[td]Win[/td]"]
[{"$nulls":21},"[td]Place[/td]"]
[{"$nulls":20},"[/tr]"]
[{"$nulls":20},"[tr]"]
[{"$nulls":21},"[td]5. Picawinner[/td]"]
[{"$nulls":21},"[td]$2.48[/td]"]
[{"$nulls":21},"[td][/td]"]
[{"$nulls":21},"[td][/td]"]
[{"$nulls":20},"[/tr]"]
[{"$nulls":20},"[tr]"]
[{"$nulls":21},"[td]16. Show A Noee[/td]"]
[{"$nulls":21},"[td]$3.90[/td]"]
[{"$nulls":21},"[td][/td]"]
[{"$nulls":21},"[td][/td]"]
[{"$nulls":20},"[/tr]"]
[{"$nulls":20},"[tr]"]
[{"$nulls":21},"[td]8. Jayden And You[/td]"]
[{"$nulls":21},"[td]$4.90[/td]"]
[{"$nulls":21},"[td][/td]"]
[{"$nulls":21},"[td][/td]"]
[{"$nulls":20},"[/tr]"]
[{"$nulls":20},"[tr]"]
[{"$nulls":21},"[td]3. Lotachoc[/td]"]
[{"$nulls":21},"[td]$5.58[/td]"]
[{"$nulls":21},"[td][/td]"]
[{"$nulls":21},"[td][/td]"]
[{"$nulls":20},"[/tr]"]
[{"$nulls":20},"[/table]"]
[]
[{"$nulls":20},"[table]"]
[{"$nulls":20},"[tr]"]
[{"$nulls":21},"[td][url=http://www.tabonline.com.au/2012/05/07/BR05.html]Ipswich   Race   5[/url][/td]"]
[{"$nulls":21},"[td][color=yellow]Cfmeu Construction (Bm80)[/color][/td]"]
[{"$nulls":21},"[td]$15000[/td]"]
[{"$nulls":21},"[td][color=lime]Benchmark 80[/color][/td]"]
[{"$nulls":20},"[/tr]"]
[{"$nulls":20},"[tr]"]
[{"$nulls":21},"[td]No Horse[/td]"]
[{"$nulls":21},"[td]Rated Price[/td]"]
[{"$nulls":21},"[td]Win[/td]"]
[{"$nulls":21},"[td]Place[/td]"]
[{"$nulls":20},"[/tr]"]
[{"$nulls":20},"[tr]"]
[{"$nulls":21},"[td]2. Loves A Challenge[/td]"]
[{"$nulls":21},"[td]$3.64[/td]"]
[{"$nulls":21},"[td][/td]"]
[{"$nulls":21},"[td][/td]"]
[{"$nulls":20},"[/tr]"]
[{"$nulls":20},"[tr]"]
[{"$nulls":21},"[td]1. Kaunda[/td]"]
[{"$nulls":21},"[td]$4.34[/td]"]
[{"$nulls":21},"[td][/td]"]
[{"$nulls":21},"[td][/td]"]
[{"$nulls":20},"[/tr]"]
[{"$nulls":20},"[tr]"]
[{"$nulls":21},"[td]3. Clangor[/td]"]
[{"$nulls":21},"[td]$4.34[/td]"]
[{"$nulls":21},"[td][/td]"]
[{"$nulls":21},"[td][/td]"]
[{"$nulls":20},"[/tr]"]
[{"$nulls":20},"[tr]"]
[{"$nulls":21},"[td]10. Red Unicorn[/td]"]
[{"$nulls":21},"[td]$4.34[/td]"]
[{"$nulls":21},"[td][/td]"]
[{"$nulls":21},"[td][/td]"]
[{"$nulls":20},"[/tr]"]
[{"$nulls":20},"[/table]"]
[]
[{"$nulls":20},"[table]"]
[{"$nulls":20},"[tr]"]
[{"$nulls":21},"[td][url=http://www.tabonline.com.au/2012/05/07/BR10.html]Ipswich   Race   10[/url][/td]"]
[{"$nulls":21},"[td][color=yellow]Etu/Ibew Solidarity Stks-Bm85[/color][/td]"]
[{"$nulls":21},"[td]$15000[/td]"]
[{"$nulls":21},"[td][color=lime]Benchmark 85[/color][/td]"]
[{"$nulls":20},"[/tr]"]
[{"$nulls":20},"[tr]"]
[{"$nulls":21},"[td]No Horse[/td]"]
[{"$nulls":21},"[td]Rated Price[/td]"]
[{"$nulls":21},"[td]Win[/td]"]
[{"$nulls":21},"[td]Place[/td]"]
[{"$nulls":20},"[/tr]"]
[{"$nulls":20},"[tr]"]
[{"$nulls":21},"[td]4. Dollario[/td]"]
[{"$nulls":21},"[td]$2.66[/td]"]
[{"$nulls":21},"[td][/td]"]
[{"$nulls":21},"[td][/td]"]
[{"$nulls":20},"[/tr]"]
[{"$nulls":20},"[tr]"]
[{"$nulls":21},"[td]5. Aquatorial[/td]"]
[{"$nulls":21},"[td]$2.89[/td]"]
[{"$nulls":21},"[td][/td]"]
[{"$nulls":21},"[td][/td]"]
[{"$nulls":20},"[/tr]"]
[{"$nulls":20},"[tr]"]
[{"$nulls":21},"[td]10. Funny Falve[/td]"]
[{"$nulls":21},"[td]$4.84[/td]"]
[{"$nulls":21},"[td][/td]"]
[{"$nulls":21},"[td][/td]"]
[{"$nulls":20},"[/tr]"]
[{"$nulls":20},"[tr]"]
[{"$nulls":21},"[td]8. Felony Flight[/td]"]
[{"$nulls":21},"[td]$7.42[/td]"]
[{"$nulls":21},"[td][/td]"]
[{"$nulls":21},"[td][/td]"]
[{"$nulls":20},"[/tr]"]
[{"$nulls":20},"[/table]"]
[]
[{"$nulls":20},"[table]"]
[{"$nulls":20},"[tr]"]
[{"$nulls":21},"[td][url=http://www.tabonline.com.au/2012/05/07/NR05.html]Murwillumbah   Race   5[/url][/td]"]
[{"$nulls":21},"[td][color=yellow]Victory Ford Cup (C3)[/color][/td]"]
[{"$nulls":21},"[td]$10000[/td]"]
[{"$nulls":21},"[td][color=lime]Class 3[/color][/td]"]
[{"$nulls":20},"[/tr]"]
[{"$nulls":20},"[tr]"]
[{"$nulls":21},"[td]No Horse[/td]"]
[{"$nulls":21},"[td]Rated Price[/td]"]
[{"$nulls":21},"[td]Win[/td]"]
[{"$nulls":21},"[td]Place[/td]"]
[{"$nulls":20},"[/tr]"]
[{"$nulls":20},"[tr]"]
[{"$nulls":21},"[td]1. Jigsaws[/td]"]
[{"$nulls":21},"[td]$2.43[/td]"]
[{"$nulls":21},"[td][/td]"]
[{"$nulls":21},"[td][/td]"]
[{"$nulls":20},"[/tr]"]
[{"$nulls":20},"[tr]"]
[{"$nulls":21},"[td]5. Leica Bita Lippy[/td]"]
[{"$nulls":21},"[td]$2.62[/td]"]
[{"$nulls":21},"[td][/td]"]
[{"$nulls":21},"[td][/td]"]
[{"$nulls":20},"[/tr]"]
[{"$nulls":20},"[tr]"]
[{"$nulls":21},"[td]6. Oreillys Gold[/td]"]
[{"$nulls":21},"[td]$7.43[/td]"]
[{"$nulls":21},"[td][/td]"]
[{"$nulls":21},"[td][/td]"]
[{"$nulls":20},"[/tr]"]
[{"$nulls":20},"[tr]"]
[{"$nulls":21},"[td]11. Retracted[/td]"]
[{"$nulls":21},"[td]$7.43[/td]"]
[{"$nulls":21},"[td][/td]"]
[{"$nulls":21},"[td][/td]"]
[{"$nulls":20},"[/tr]"]
[{"$nulls":20},"[/table]"]
[]
[{"$nulls":20},"[table]"]
[{"$nulls":20},"[tr]"]
[{"$nulls":21},"[td][url=http://www.tabonline.com.au/2012/05/07/VR05.html]Mornington   Race   5[/url][/td]"]
[{"$nulls":21},"[td][color=yellow]Dream Thoroughbreds Hcp (68)[/color][/td]"]
[{"$nulls":21},"[td]$12000[/td]"]
[{"$nulls":21},"[td][color=lime]Restricted 68[/color][/td]"]
[{"$nulls":20},"[/tr]"]
[{"$nulls":20},"[tr]"]
[{"$nulls":21},"[td]No Horse[/td]"]
[{"$nulls":21},"[td]Rated Price[/td]"]
[{"$nulls":21},"[td]Win[/td]"]
[{"$nulls":21},"[td]Place[/td]"]
[{"$nulls":20},"[/tr]"]
[{"$nulls":20},"[tr]"]
[{"$nulls":21},"[td]5. Must Have[/td]"]
[{"$nulls":21},"[td]$2.38[/td]"]
[{"$nulls":21},"[td][/td]"]
[{"$nulls":21},"[td][/td]"]
[{"$nulls":20},"[/tr]"]
[{"$nulls":20},"[tr]"]
[{"$nulls":21},"[td]6. Affinis[/td]"]
[{"$nulls":21},"[td]$3.67[/td]"]
[{"$nulls":21},"[td][/td]"]
[{"$nulls":21},"[td][/td]"]
[{"$nulls":20},"[/tr]"]
[{"$nulls":20},"[tr]"]
[{"$nulls":21},"[td]9. Naringaling[/td]"]
[{"$nulls":21},"[td]$4.79[/td]"]
[{"$nulls":21},"[td][/td]"]
[{"$nulls":21},"[td][/td]"]
[{"$nulls":20},"[/tr]"]
[{"$nulls":20},"[tr]"]
[{"$nulls":21},"[td]4. The Pentagon[/td]"]
[{"$nulls":21},"[td]$5.29[/td]"]
[{"$nulls":21},"[td][/td]"]
[{"$nulls":21},"[td][/td]"]
[{"$nulls":20},"[/tr]"]
[{"$nulls":20},"[/table]"]
[]
[{"$nulls":20},"[table]"]
[{"$nulls":20},"[tr]"]
[{"$nulls":21},"[td][url=http://www.tabonline.com.au/2012/05/07/DR08.html]Alice Springs   Race   8[/url][/td]"]
[{"$nulls":21},"[td][color=yellow]XXXX Gold Alice Springs Cup[/color][/td]"]
[{"$nulls":21},"[td]$102550[/td]"]
[{"$nulls":21},"[td][color=lime]Open[/color][/td]"]
[{"$nulls":20},"[/tr]"]
[{"$nulls":20},"[tr]"]
[{"$nulls":21},"[td]No Horse[/td]"]
[{"$nulls":21},"[td]Rated Price[/td]"]
[{"$nulls":21},"[td]Win[/td]"]
[{"$nulls":21},"[td]Place[/td]"]
[{"$nulls":20},"[/tr]"]
[{"$nulls":20},"[tr]"]
[{"$nulls":21},"[td]3. Bel Sir[/td]"]
[{"$nulls":21},"[td]$2.39[/td]"]
[{"$nulls":21},"[td][/td]"]
[{"$nulls":21},"[td][/td]"]
[{"$nulls":20},"[/tr]"]
[{"$nulls":20},"[tr]"]
[{"$nulls":21},"[td]4. Into The Sun[/td]"]
[{"$nulls":21},"[td]$3.09[/td]"]
[{"$nulls":21},"[td][/td]"]
[{"$nulls":21},"[td][/td]"]
[{"$nulls":20},"[/tr]"]
[{"$nulls":20},"[tr]"]
[{"$nulls":21},"[td]9. Granzig[/td]"]
[{"$nulls":21},"[td]$6.22[/td]"]
[{"$nulls":21},"[td][/td]"]
[{"$nulls":21},"[td][/td]"]
[{"$nulls":20},"[/tr]"]
[{"$nulls":20},"[tr]"]
[{"$nulls":21},"[td]2. Invincible Gold[/td]"]
[{"$nulls":21},"[td]$7.28[/td]"]
[{"$nulls":21},"[td][/td]"]
[{"$nulls":21},"[td][/td]"]
[{"$nulls":20},"[/tr]"]
[{"$nulls":20},"[/table]"]
[]
[{"$nulls":20},"[table]"]
[{"$nulls":20},"[tr]"]
[{"$nulls":21},"[td][url=http://www.tabonline.com.au/2012/05/07/CR04.html]Quirindi   Race   4[/url][/td]"]
[{"$nulls":21},"[td][color=yellow]Willow Tree General Store (C2)[/color][/td]"]
[{"$nulls":21},"[td]$10000[/td]"]
[{"$nulls":21},"[td][color=lime]Class 2[/color][/td]"]
[{"$nulls":20},"[/tr]"]
[{"$nulls":20},"[tr]"]
[{"$nulls":21},"[td]No Horse[/td]"]
[{"$nulls":21},"[td]Rated Price[/td]"]
[{"$nulls":21},"[td]Win[/td]"]
[{"$nulls":21},"[td]Place[/td]"]
[{"$nulls":20},"[/tr]"]
[{"$nulls":20},"[tr]"]
[{"$nulls":21},"[td]3. Sutton Surprise[/td]"]
[{"$nulls":21},"[td]$1.64[/td]"]
[{"$nulls":21},"[td][/td]"]
[{"$nulls":21},"[td][/td]"]
[{"$nulls":20},"[/tr]"]
[{"$nulls":20},"[tr]"]
[{"$nulls":21},"[td]1. Murphys Royal[/td]"]
[{"$nulls":21},"[td]$5.29[/td]"]
[{"$nulls":21},"[td][/td]"]
[{"$nulls":21},"[td][/td]"]
[{"$nulls":20},"[/tr]"]
[{"$nulls":20},"[tr]"]
[{"$nulls":21},"[td]7. Zarjewel[/td]"]
[{"$nulls":21},"[td]$5.29[/td]"]
[{"$nulls":21},"[td][/td]"]
[{"$nulls":21},"[td][/td]"]
[{"$nulls":20},"[/tr]"]
[{"$nulls":20},"[tr]"]
[{"$nulls":21},"[td]2. Traffic[/td]"]
[{"$nulls":21},"[td]$10.61[/td]"]
[{"$nulls":21},"[td][/td]"]
[{"$nulls":21},"[td][/td]"]
[{"$nulls":20},"[/tr]"]
[{"$nulls":20},"[/table]"]
[]
[{"$nulls":20},"[table]"]
[{"$nulls":20},"[tr]"]
[{"$nulls":21},"[td][url=http://www.tabonline.com.au/2012/05/07/CR06.html]Quirindi   Race   6[/url][/td]"]
[{"$nulls":21},"[td][color=yellow]L. Howard Willow Tree Cup-Bm60[/color][/td]"]
[{"$nulls":21},"[td]$10000[/td]"]
[{"$nulls":21},"[td][color=lime]Benchmark 60[/color][/td]"]
[{"$nulls":20},"[/tr]"]
[{"$nulls":20},"[tr]"]
[{"$nulls":21},"[td]No Horse[/td]"]
[{"$nulls":21},"[td]Rated Price[/td]"]
[{"$nulls":21},"[td]Win[/td]"]
[{"$nulls":21},"[td]Place[/td]"]
[{"$nulls":20},"[/tr]"]
[{"$nulls":20},"[tr]"]
[{"$nulls":21},"[td]2. Blyton[/td]"]
[{"$nulls":21},"[td]$2.41[/td]"]
[{"$nulls":21},"[td][/td]"]
[{"$nulls":21},"[td][/td]"]
[{"$nulls":20},"[/tr]"]
[{"$nulls":20},"[tr]"]
[{"$nulls":21},"[td]7. Lionira[/td]"]
[{"$nulls":21},"[td]$3.57[/td]"]
[{"$nulls":21},"[td][/td]"]
[{"$nulls":21},"[td][/td]"]
[{"$nulls":20},"[/tr]"]
[{"$nulls":20},"[tr]"]
[{"$nulls":21},"[td]8. Dysturb[/td]"]
[{"$nulls":21},"[td]$4.51[/td]"]
[{"$nulls":21},"[td][/td]"]
[{"$nulls":21},"[td][/td]"]
[{"$nulls":20},"[/tr]"]
[{"$nulls":20},"[tr]"]
[{"$nulls":21},"[td]10. Excess All Areas[/td]"]
[{"$nulls":21},"[td]$6.55[/td]"]
[{"$nulls":21},"[td][/td]"]
[{"$nulls":21},"[td][/td]"]
[{"$nulls":20},"[/tr]"]
[{"$nulls":20},"[/table]"]
[]
[{"$nulls":20},"[table]"]
[{"$nulls":20},"[tr]"]
[{"$nulls":21},"[td][url=http://www.tabonline.com.au/2012/05/07/BR05.html]Ipswich   Race   5[/url][/td]"]
[{"$nulls":21},"[td][color=yellow]Cfmeu Construction (Bm80)[/color][/td]"]
[{"$nulls":21},"[td]$15000[/td]"]
[{"$nulls":21},"[td][color=lime]Benchmark 80[/color][/td]"]
[{"$nulls":20},"[/tr]"]
[{"$nulls":20},"[tr]"]
[{"$nulls":21},"[td]No Horse[/td]"]
[{"$nulls":21},"[td]Rated Price[/td]"]
[{"$nulls":21},"[td]Win[/td]"]
[{"$nulls":21},"[td]Place[/td]"]
[{"$nulls":20},"[/tr]"]
[{"$nulls":20},"[tr]"]
[{"$nulls":21},"[td]2. Loves A Challenge[/td]"]
[{"$nulls":21},"[td]$3.64[/td]"]
[{"$nulls":21},"[td][/td]"]
[{"$nulls":21},"[td][/td]"]
[{"$nulls":20},"[/tr]"]
[{"$nulls":20},"[tr]"]
[{"$nulls":21},"[td]1. Kaunda[/td]"]
[{"$nulls":21},"[td]$4.34[/td]"]
[{"$nulls":21},"[td][/td]"]
[{"$nulls":21},"[td][/td]"]
[{"$nulls":20},"[/tr]"]
[{"$nulls":20},"[/table]"]
[]
[{"$nulls":20},"[table]"]
[{"$nulls":20},"[tr]"]
[{"$nulls":21},"[td][url=http://www.tabonline.com.au/2012/05/07/BR10.html]Ipswich   Race   10[/url][/td]"]
[{"$nulls":21},"[td][color=yellow]Etu/Ibew Solidarity Stks-Bm85[/color][/td]"]
[{"$nulls":21},"[td]$15000[/td]"]
[{"$nulls":21},"[td][color=lime]Benchmark 85[/color][/td]"]
[{"$nulls":20},"[/tr]"]
[{"$nulls":20},"[tr]"]
[{"$nulls":21},"[td]No Horse[/td]"]
[{"$nulls":21},"[td]Rated Price[/td]"]
[{"$nulls":21},"[td]Win[/td]"]
[{"$nulls":21},"[td]Place[/td]"]
[{"$nulls":20},"[/tr]"]
[{"$nulls":20},"[tr]"]
[{"$nulls":21},"[td]4. Dollario[/td]"]
[{"$nulls":21},"[td]$2.66[/td]"]
[{"$nulls":21},"[td][/td]"]
[{"$nulls":21},"[td][/td]"]
[{"$nulls":20},"[/tr]"]
[{"$nulls":20},"[tr]"]
[{"$nulls":21},"[td]5. Aquatorial[/td]"]
[{"$nulls":21},"[td]$2.89[/td]"]
[{"$nulls":21},"[td][/td]"]
[{"$nulls":21},"[td][/td]"]
[{"$nulls":20},"[/tr]"]
[{"$nulls":20},"[/table]"]
[]
[{"$nulls":20},"[table]"]
[{"$nulls":20},"[tr]"]
[{"$nulls":21},"[td][url=http://www.tabonline.com.au/2012/05/07/NR05.html]Murwillumbah   Race   5[/url][/td]"]
[{"$nulls":21},"[td][color=yellow]Victory Ford Cup (C3)[/color][/td]"]
[{"$nulls":21},"[td]$10000[/td]"]
[{"$nulls":21},"[td][color=lime]Class 3[/color][/td]"]
[{"$nulls":20},"[/tr]"]
[{"$nulls":20},"[tr]"]
[{"$nulls":21},"[td]No Horse[/td]"]
[{"$nulls":21},"[td]Rated Price[/td]"]
[{"$nulls":21},"[td]Win[/td]"]
[{"$nulls":21},"[td]Place[/td]"]
[{"$nulls":20},"[/tr]"]
[{"$nulls":20},"[tr]"]
[{"$nulls":21},"[td]1. Jigsaws[/td]"]
[{"$nulls":21},"[td]$2.43[/td]"]
[{"$nulls":21},"[td][/td]"]
[{"$nulls":21},"[td][/td]"]
[{"$nulls":20},"[/tr]"]
[{"$nulls":20},"[tr]"]
[{"$nulls":21},"[td]5. Leica Bita Lippy[/td]"]
[{"$nulls":21},"[td]$2.62[/td]"]
[{"$nulls":21},"[td][/td]"]
[{"$nulls":21},"[td][/td]"]
[{"$nulls":20},"[/tr]"]
[{"$nulls":20},"[/table]"]
[]
[{"$nulls":20},"[table]"]
[{"$nulls":20},"[tr]"]
[{"$nulls":21},"[td][url=http://www.tabonline.com.au/2012/05/07/VR05.html]Mornington   Race   5[/url][/td]"]
[{"$nulls":21},"[td][color=yellow]Dream Thoroughbreds Hcp (68)[/color][/td]"]
[{"$nulls":21},"[td]$12000[/td]"]
[{"$nulls":21},"[td][color=lime]Restricted 68[/color][/td]"]
[{"$nulls":20},"[/tr]"]
[{"$nulls":20},"[tr]"]
[{"$nulls":21},"[td]No Horse[/td]"]
[{"$nulls":21},"[td]Rated Price[/td]"]
[{"$nulls":21},"[td]Win[/td]"]
[{"$nulls":21},"[td]Place[/td]"]
[{"$nulls":20},"[/tr]"]
[{"$nulls":20},"[tr]"]
[{"$nulls":21},"[td]5. Must Have[/td]"]
[{"$nulls":21},"[td]$2.38[/td]"]
[{"$nulls":21},"[td][/td]"]
[{"$nulls":21},"[td][/td]"]
[{"$nulls":20},"[/tr]"]
[{"$nulls":20},"[tr]"]
[{"$nulls":21},"[td]6. Affinis[/td]"]
[{"$nulls":21},"[td]$3.67[/td]"]
[{"$nulls":21},"[td][/td]"]
[{"$nulls":21},"[td][/td]"]
[{"$nulls":20},"[/tr]"]
[{"$nulls":20},"[/table]"]
[]
[{"$nulls":20},"[table]"]
[{"$nulls":20},"[tr]"]
[{"$nulls":21},"[td][url=http://www.tabonline.com.au/2012/05/07/DR08.html]Alice Springs   Race   8[/url][/td]"]
[{"$nulls":21},"[td][color=yellow]XXXX Gold Alice Springs Cup[/color][/td]"]
[{"$nulls":21},"[td]$102550[/td]"]
[{"$nulls":21},"[td][color=lime]Open[/color][/td]"]
[{"$nulls":20},"[/tr]"]
[{"$nulls":20},"[tr]"]
[{"$nulls":21},"[td]No Horse[/td]"]
[{"$nulls":21},"[td]Rated Price[/td]"]
[{"$nulls":21},"[td]Win[/td]"]
[{"$nulls":21},"[td]Place[/td]"]
[{"$nulls":20},"[/tr]"]
[{"$nulls":20},"[tr]"]
[{"$nulls":21},"[td]3. Bel Sir[/td]"]
[{"$nulls":21},"[td]$2.39[/td]"]
[{"$nulls":21},"[td][/td]"]
[{"$nulls":21},"[td][/td]"]
[{"$nulls":20},"[/tr]"]
[{"$nulls":20},"[tr]"]
[{"$nulls":21},"[td]4. Into The Sun[/td]"]
[{"$nulls":21},"[td]$3.09[/td]"]
[{"$nulls":21},"[td][/td]"]
[{"$nulls":21},"[td][/td]"]
[{"$nulls":20},"[/tr]"]
[{"$nulls":20},"[/table]"]
[]
[{"$nulls":20},"[table]"]
[{"$nulls":20},"[tr]"]
[{"$nulls":21},"[td][url=http://www.tabonline.com.au/2012/05/07/CR04.html]Quirindi   Race   4[/url][/td]"]
[{"$nulls":21},"[td][color=yellow]Willow Tree General Store (C2)[/color][/td]"]
[{"$nulls":21},"[td]$10000[/td]"]
[{"$nulls":21},"[td][color=lime]Class 2[/color][/td]"]
[{"$nulls":20},"[/tr]"]
[{"$nulls":20},"[tr]"]
[{"$nulls":21},"[td]No Horse[/td]"]
[{"$nulls":21},"[td]Rated Price[/td]"]
[{"$nulls":21},"[td]Win[/td]"]
[{"$nulls":21},"[td]Place[/td]"]
[{"$nulls":20},"[/tr]"]
[{"$nulls":20},"[tr]"]
[{"$nulls":21},"[td]3. Sutton Surprise[/td]"]
[{"$nulls":21},"[td]$1.64[/td]"]
[{"$nulls":21},"[td][/td]"]
[{"$nulls":21},"[td][/td]"]
[{"$nulls":20},"[/tr]"]
[{"$nulls":20},"[tr]"]
[{"$nulls":21},"[td]1. Murphys Royal[/td]"]
[{"$nulls":21},"[td]$5.29[/td]"]
[{"$nulls":21},"[td][/td]"]
[{"$nulls":21},"[td][/td]"]
[{"$nulls":20},"[/tr]"]
[{"$nulls":20},"[/table]"]
[]
[{"$nulls":20},"[table]"]
[{"$nulls":20},"[tr]"]
[{"$nulls":21},"[td][url=http://www.tabonline.com.au/2012/05/07/CR06.html]Quirindi   Race   6[/url][/td]"]
[{"$nulls":21},"[td][color=yellow]L. Howard Willow Tree Cup-Bm60[/color][/td]"]
[{"$nulls":21},"[td]$10000[/td]"]
[{"$nulls":21},"[td][color=lime]Benchmark 60[/color][/td]"]
[{"$nulls":20},"[/tr]"]
[{"$nulls":20},"[tr]"]
[{"$nulls":21},"[td]No Horse[/td]"]
[{"$nulls":21},"[td]Rated Price[/td]"]
[{"$nulls":21},"[td]Win[/td]"]
[{"$nulls":21},"[td]Place[/td]"]
[{"$nulls":20},"[/tr]"]
[{"$nulls":20},"[tr]"]
[{"$nulls":21},"[td]2. Blyton[/td]"]
[{"$nulls":21},"[td]$2.41[/td]"]
[{"$nulls":21},"[td][/td]"]
[{"$nulls":21},"[td][/td]"]
[{"$nulls":20},"[/tr]"]
[{"$nulls":20},"[tr]"]
[{"$nulls":21},"[td]7. Lionira[/td]"]
[{"$nulls":21},"[td]$3.57[/td]"]
[{"$nulls":21},"[td][/td]"]
[{"$nulls":21},"[td][/td]"]
[{"$nulls":20},"[/tr]"]
[{"$nulls":20},"[/table]"]
[]
[{"$nulls":20},"[table]"]
[{"$nulls":20},"[tr]"]
[{"$nulls":21},"[td][url=http://www.tabonline.com.au/2012/05/07/BR07.html]Ipswich   Race   7[/url][/td]"]
[{"$nulls":21},"[td][color=yellow]Cfmeu Mining & Energy Plate[/color][/td]"]
[{"$nulls":21},"[td]$150000[/td]"]
[{"$nulls":21},"[td][color=lime]Open[/color][/td]"]
[{"$nulls":20},"[/tr]"]
[{"$nulls":20},"[tr]"]
[{"$nulls":21},"[td]No Horse[/td]"]
[{"$nulls":21},"[td]Rated Price[/td]"]
[{"$nulls":21},"[td]Win[/td]"]
[{"$nulls":21},"[td]Place[/td]"]
[{"$nulls":20},"[/tr]"]
[{"$nulls":20},"[tr]"]
[{"$nulls":21},"[td]8. Optionality[/td]"]
[{"$nulls":21},"[td]$2.99[/td]"]
[{"$nulls":21},"[td][/td]"]
[{"$nulls":21},"[td][/td]"]
[{"$nulls":20},"[/tr]"]
[{"$nulls":20},"[tr]"]
[{"$nulls":21},"[td]9. Discreet[/td]"]
[{"$nulls":21},"[td]$3.24[/td]"]
[{"$nulls":21},"[td][/td]"]
[{"$nulls":21},"[td][/td]"]
[{"$nulls":20},"[/tr]"]
[{"$nulls":20},"[tr]"]
[{"$nulls":21},"[td]1. Bullet One[/td]"]
[{"$nulls":21},"[td]$4.71[/td]"]
[{"$nulls":21},"[td][/td]"]
[{"$nulls":21},"[td][/td]"]
[{"$nulls":20},"[/tr]"]
[{"$nulls":20},"[/table]"]
[]
[{"$nulls":20},"[table]"]
[{"$nulls":20},"[tr]"]
[{"$nulls":21},"[td][url=http://www.tabonline.com.au/2012/05/07/BR08.html]Ipswich   Race   8[/url][/td]"]
[{"$nulls":21},"[td][color=yellow]Cfmeu Mining & Energy Plate-C3[/color][/td]"]
[{"$nulls":21},"[td]$25000[/td]"]
[{"$nulls":21},"[td][color=lime]Class 3[/color][/td]"]
[{"$nulls":20},"[/tr]"]
[{"$nulls":20},"[tr]"]
[{"$nulls":21},"[td]No Horse[/td]"]
[{"$nulls":21},"[td]Rated Price[/td]"]
[{"$nulls":21},"[td]Win[/td]"]
[{"$nulls":21},"[td]Place[/td]"]
[{"$nulls":20},"[/tr]"]
[{"$nulls":20},"[tr]"]
[{"$nulls":21},"[td]10. Run With Me[/td]"]
[{"$nulls":21},"[td]$3.06[/td]"]
[{"$nulls":21},"[td][/td]"]
[{"$nulls":21},"[td][/td]"]
[{"$nulls":20},"[/tr]"]
[{"$nulls":20},"[tr]"]
[{"$nulls":21},"[td]4. Jam Fancy[/td]"]
[{"$nulls":21},"[td]$3.57[/td]"]
[{"$nulls":21},"[td][/td]"]
[{"$nulls":21},"[td][/td]"]
[{"$nulls":20},"[/tr]"]
[{"$nulls":20},"[tr]"]
[{"$nulls":21},"[td]5. Kid Tycoon[/td]"]
[{"$nulls":21},"[td]$5.09[/td]"]
[{"$nulls":21},"[td][/td]"]
[{"$nulls":21},"[td][/td]"]
[{"$nulls":20},"[/tr]"]
[{"$nulls":20},"[/table]"]
[]
[{"$nulls":20},"[table]"]
[{"$nulls":20},"[tr]"]
[{"$nulls":21},"[td][url=http://www.tabonline.com.au/2012/05/07/BR09.html]Ipswich   Race   9[/url][/td]"]
[{"$nulls":21},"[td][color=yellow]Retired Miners Plate (C3)[/color][/td]"]
[{"$nulls":21},"[td]$25000[/td]"]
[{"$nulls":21},"[td][color=lime]Class 3[/color][/td]"]
[{"$nulls":20},"[/tr]"]
[{"$nulls":20},"[tr]"]
[{"$nulls":21},"[td]No Horse[/td]"]
[{"$nulls":21},"[td]Rated Price[/td]"]
[{"$nulls":21},"[td]Win[/td]"]
[{"$nulls":21},"[td]Place[/td]"]
[{"$nulls":20},"[/tr]"]
[{"$nulls":20},"[tr]"]
[{"$nulls":21},"[td]2. Castle Express[/td]"]
[{"$nulls":21},"[td]$2.82[/td]"]
[{"$nulls":21},"[td][/td]"]
[{"$nulls":21},"[td][/td]"]
[{"$nulls":20},"[/tr]"]
[{"$nulls":20},"[tr]"]
[{"$nulls":21},"[td]13. Little Brown Horse[/td]"]
[{"$nulls":21},"[td]$2.82[/td]"]
[{"$nulls":21},"[td][/td]"]
[{"$nulls":21},"[td][/td]"]
[{"$nulls":20},"[/tr]"]
[{"$nulls":20},"[tr]"]
[{"$nulls":21},"[td]5. Mitayden[/td]"]
[{"$nulls":21},"[td]$4.92[/td]"]
[{"$nulls":21},"[td][/td]"]
[{"$nulls":21},"[td][/td]"]
[{"$nulls":20},"[/tr]"]
[{"$nulls":20},"[/table]"]
[]
[{"$nulls":20},"[table]"]
[{"$nulls":20},"[tr]"]
[{"$nulls":21},"[td][url=http://www.tabonline.com.au/2012/05/07/BR10.html]Ipswich   Race   10[/url][/td]"]
[{"$nulls":21},"[td][color=yellow]Etu/Ibew Solidarity Stks-Bm85[/color][/td]"]
[{"$nulls":21},"[td]$15000[/td]"]
[{"$nulls":21},"[td][color=lime]Benchmark 85[/color][/td]"]
[{"$nulls":20},"[/tr]"]
[{"$nulls":20},"[tr]"]
[{"$nulls":21},"[td]No Horse[/td]"]
[{"$nulls":21},"[td]Rated Price[/td]"]
[{"$nulls":21},"[td]Win[/td]"]
[{"$nulls":21},"[td]Place[/td]"]
[{"$nulls":20},"[/tr]"]
[{"$nulls":20},"[tr]"]
[{"$nulls":21},"[td]4. Dollario[/td]"]
[{"$nulls":21},"[td]$2.66[/td]"]
[{"$nulls":21},"[td][/td]"]
[{"$nulls":21},"[td][/td]"]
[{"$nulls":20},"[/tr]"]
[{"$nulls":20},"[tr]"]
[{"$nulls":21},"[td]5. Aquatorial[/td]"]
[{"$nulls":21},"[td]$2.89[/td]"]
[{"$nulls":21},"[td][/td]"]
[{"$nulls":21},"[td][/td]"]
[{"$nulls":20},"[/tr]"]
[{"$nulls":20},"[tr]"]
[{"$nulls":21},"[td]10. Funny Falve[/td]"]
[{"$nulls":21},"[td]$4.84[/td]"]
[{"$nulls":21},"[td][/td]"]
[{"$nulls":21},"[td][/td]"]
[{"$nulls":20},"[/tr]"]
[{"$nulls":20},"[/table]"]
[]
[{"$nulls":20},"[table]"]
[{"$nulls":20},"[tr]"]
[{"$nulls":21},"[td][url=http://www.tabonline.com.au/2012/05/07/NR04.html]Murwillumbah   Race   4[/url][/td]"]
[{"$nulls":21},"[td][color=yellow]Murwillumbah Cellars Mdn Plate[/color][/td]"]
[{"$nulls":21},"[td]$10000[/td]"]
[{"$nulls":21},"[td][color=lime]Maiden[/color][/td]"]
[{"$nulls":20},"[/tr]"]
[{"$nulls":20},"[tr]"]
[{"$nulls":21},"[td]No Horse[/td]"]
[{"$nulls":21},"[td]Rated Price[/td]"]
[{"$nulls":21},"[td]Win[/td]"]
[{"$nulls":21},"[td]Place[/td]"]
[{"$nulls":20},"[/tr]"]
[{"$nulls":20},"[tr]"]
[{"$nulls":21},"[td]12. Time Has Come[/td]"]
[{"$nulls":21},"[td]$2.43[/td]"]
[{"$nulls":21},"[td][/td]"]
[{"$nulls":21},"[td][/td]"]
[{"$nulls":20},"[/tr]"]
[{"$nulls":20},"[tr]"]
[{"$nulls":21},"[td]3. Clear[/td]"]
[{"$nulls":21},"[td]$3.70[/td]"]
[{"$nulls":21},"[td][/td]"]
[{"$nulls":21},"[td][/td]"]
[{"$nulls":20},"[/tr]"]
[{"$nulls":20},"[tr]"]
[{"$nulls":21},"[td]2. Bamboo House[/td]"]
[{"$nulls":21},"[td]$4.57[/td]"]
[{"$nulls":21},"[td][/td]"]
[{"$nulls":21},"[td][/td]"]
[{"$nulls":20},"[/tr]"]
[{"$nulls":20},"[/table]"]
[]
[{"$nulls":20},"[table]"]
[{"$nulls":20},"[tr]"]
[{"$nulls":21},"[td][url=http://www.tabonline.com.au/2012/05/07/NR05.html]Murwillumbah   Race   5[/url][/td]"]
[{"$nulls":21},"[td][color=yellow]Victory Ford Cup (C3)[/color][/td]"]
[{"$nulls":21},"[td]$10000[/td]"]
[{"$nulls":21},"[td][color=lime]Class 3[/color][/td]"]
[{"$nulls":20},"[/tr]"]
[{"$nulls":20},"[tr]"]
[{"$nulls":21},"[td]No Horse[/td]"]
[{"$nulls":21},"[td]Rated Price[/td]"]
[{"$nulls":21},"[td]Win[/td]"]
[{"$nulls":21},"[td]Place[/td]"]
[{"$nulls":20},"[/tr]"]
[{"$nulls":20},"[tr]"]
[{"$nulls":21},"[td]1. Jigsaws[/td]"]
[{"$nulls":21},"[td]$2.43[/td]"]
[{"$nulls":21},"[td][/td]"]
[{"$nulls":21},"[td][/td]"]
[{"$nulls":20},"[/tr]"]
[{"$nulls":20},"[tr]"]
[{"$nulls":21},"[td]5. Leica Bita Lippy[/td]"]
[{"$nulls":21},"[td]$2.62[/td]"]
[{"$nulls":21},"[td][/td]"]
[{"$nulls":21},"[td][/td]"]
[{"$nulls":20},"[/tr]"]
[{"$nulls":20},"[tr]"]
[{"$nulls":21},"[td]6. Oreillys Gold[/td]"]
[{"$nulls":21},"[td]$7.43[/td]"]
[{"$nulls":21},"[td][/td]"]
[{"$nulls":21},"[td][/td]"]
[{"$nulls":20},"[/tr]"]
[{"$nulls":20},"[/table]"]
[]
[{"$nulls":20},"[table]"]
[{"$nulls":20},"[tr]"]
[{"$nulls":21},"[td][url=http://www.tabonline.com.au/2012/05/07/NR06.html]Murwillumbah   Race   6[/url][/td]"]
[{"$nulls":21},"[td][color=yellow]Tweed Coast Chery (Bm50)[/color][/td]"]
[{"$nulls":21},"[td]$10000[/td]"]
[{"$nulls":21},"[td][color=lime]Benchmark 50[/color][/td]"]
[{"$nulls":20},"[/tr]"]
[{"$nulls":20},"[tr]"]
[{"$nulls":21},"[td]No Horse[/td]"]
[{"$nulls":21},"[td]Rated Price[/td]"]
[{"$nulls":21},"[td]Win[/td]"]
[{"$nulls":21},"[td]Place[/td]"]
[{"$nulls":20},"[/tr]"]
[{"$nulls":20},"[tr]"]
[{"$nulls":21},"[td]1. Danewin Girl[/td]"]
[{"$nulls":21},"[td]$2.63[/td]"]
[{"$nulls":21},"[td][/td]"]
[{"$nulls":21},"[td][/td]"]
[{"$nulls":20},"[/tr]"]
[{"$nulls":20},"[tr]"]
[{"$nulls":21},"[td]3. Rubys Epic[/td]"]
[{"$nulls":21},"[td]$4.40[/td]"]
[{"$nulls":21},"[td][/td]"]
[{"$nulls":21},"[td][/td]"]
[{"$nulls":20},"[/tr]"]
[{"$nulls":20},"[tr]"]
[{"$nulls":21},"[td]5. Isajoy[/td]"]
[{"$nulls":21},"[td]$4.81[/td]"]
[{"$nulls":21},"[td][/td]"]
[{"$nulls":21},"[td][/td]"]
[{"$nulls":20},"[/tr]"]
[{"$nulls":20},"[/table]"]
[]
[{"$nulls":20},"[table]"]
[{"$nulls":20},"[tr]"]
[{"$nulls":21},"[td][url=http://www.tabonline.com.au/2012/05/07/NR07.html]Murwillumbah   Race   7[/url][/td]"]
[{"$nulls":21},"[td][color=yellow]Tweed Coast Isuzu Ute (Bm50)[/color][/td]"]
[{"$nulls":21},"[td]$10000[/td]"]
[{"$nulls":21},"[td][color=lime]Benchmark 50[/color][/td]"]
[{"$nulls":20},"[/tr]"]
[{"$nulls":20},"[tr]"]
[{"$nulls":21},"[td]No Horse[/td]"]
[{"$nulls":21},"[td]Rated Price[/td]"]
[{"$nulls":21},"[td]Win[/td]"]
[{"$nulls":21},"[td]Place[/td]"]
[{"$nulls":20},"[/tr]"]
[{"$nulls":20},"[tr]"]
[{"$nulls":21},"[td]2. Epic Terra[/td]"]
[{"$nulls":21},"[td]$2.59[/td]"]
[{"$nulls":21},"[td][/td]"]
[{"$nulls":21},"[td][/td]"]
[{"$nulls":20},"[/tr]"]
[{"$nulls":20},"[tr]"]
[{"$nulls":21},"[td]1. Tictacs[/td]"]
[{"$nulls":21},"[td]$2.73[/td]"]
[{"$nulls":21},"[td][/td]"]
[{"$nulls":21},"[td][/td]"]
[{"$nulls":20},"[/tr]"]
[{"$nulls":20},"[tr]"]
[{"$nulls":21},"[td]11. At Speed[/td]"]
[{"$nulls":21},"[td]$4.95[/td]"]
[{"$nulls":21},"[td][/td]"]
[{"$nulls":21},"[td][/td]"]
[{"$nulls":20},"[/tr]"]
[{"$nulls":20},"[/table]"]
[]
[{"$nulls":20},"[table]"]
[{"$nulls":20},"[tr]"]
[{"$nulls":21},"[td][url=http://www.tabonline.com.au/2012/05/07/VR05.html]Mornington   Race   5[/url][/td]"]
[{"$nulls":21},"[td][color=yellow]Dream Thoroughbreds Hcp (68)[/color][/td]"]
[{"$nulls":21},"[td]$12000[/td]"]
[{"$nulls":21},"[td][color=lime]Restricted 68[/color][/td]"]
[{"$nulls":20},"[/tr]"]
[{"$nulls":20},"[tr]"]
[{"$nulls":21},"[td]No Horse[/td]"]
[{"$nulls":21},"[td]Rated Price[/td]"]
[{"$nulls":21},"[td]Win[/td]"]
[{"$nulls":21},"[td]Place[/td]"]
[{"$nulls":20},"[/tr]"]
[{"$nulls":20},"[tr]"]
[{"$nulls":21},"[td]5. Must Have[/td]"]
[{"$nulls":21},"[td]$2.38[/td]"]
[{"$nulls":21},"[td][/td]"]
[{"$nulls":21},"[td][/td]"]
[{"$nulls":20},"[/tr]"]
[{"$nulls":20},"[tr]"]
[{"$nulls":21},"[td]6. Affinis[/td]"]
[{"$nulls":21},"[td]$3.67[/td]"]
[{"$nulls":21},"[td][/td]"]
[{"$nulls":21},"[td][/td]"]
[{"$nulls":20},"[/tr]"]
[{"$nulls":20},"[tr]"]
[{"$nulls":21},"[td]9. Naringaling[/td]"]
[{"$nulls":21},"[td]$4.79[/td]"]
[{"$nulls":21},"[td][/td]"]
[{"$nulls":21},"[td][/td]"]
[{"$nulls":20},"[/tr]"]
[{"$nulls":20},"[/table]"]
[]
[{"$nulls":20},"[table]"]
[{"$nulls":20},"[tr]"]
[{"$nulls":21},"[td][url=http://www.tabonline.com.au/2012/05/07/VR06.html]Mornington   Race   6[/url][/td]"]
[{"$nulls":21},"[td][color=yellow]Beleura Retirement Village-58[/color][/td]"]
[{"$nulls":21},"[td]$12000[/td]"]
[{"$nulls":21},"[td][color=lime]Restricted 58[/color][/td]"]
[{"$nulls":20},"[/tr]"]
[{"$nulls":20},"[tr]"]
[{"$nulls":21},"[td]No Horse[/td]"]
[{"$nulls":21},"[td]Rated Price[/td]"]
[{"$nulls":21},"[td]Win[/td]"]
[{"$nulls":21},"[td]Place[/td]"]
[{"$nulls":20},"[/tr]"]
[{"$nulls":20},"[tr]"]
[{"$nulls":21},"[td]1. Aashiq[/td]"]
[{"$nulls":21},"[td]$2.23[/td]"]
[{"$nulls":21},"[td][/td]"]
[{"$nulls":21},"[td][/td]"]
[{"$nulls":20},"[/tr]"]
[{"$nulls":20},"[tr]"]
[{"$nulls":21},"[td]8. Mulga Chief[/td]"]
[{"$nulls":21},"[td]$3.13[/td]"]
[{"$nulls":21},"[td][/td]"]
[{"$nulls":21},"[td][/td]"]
[{"$nulls":20},"[/tr]"]
[{"$nulls":20},"[tr]"]
[{"$nulls":21},"[td]9. Perisher Blue[/td]"]
[{"$nulls":21},"[td]$5.29[/td]"]
[{"$nulls":21},"[td][/td]"]
[{"$nulls":21},"[td][/td]"]
[{"$nulls":20},"[/tr]"]
[{"$nulls":20},"[/table]"]
[]
[{"$nulls":20},"[table]"]
[{"$nulls":20},"[tr]"]
[{"$nulls":21},"[td][url=http://www.tabonline.com.au/2012/05/07/VR07.html]Mornington   Race   7[/url][/td]"]
[{"$nulls":21},"[td][color=yellow]Centrebet Hcp (C1)[/color][/td]"]
[{"$nulls":21},"[td]$12000[/td]"]
[{"$nulls":21},"[td][color=lime]Class 1[/color][/td]"]
[{"$nulls":20},"[/tr]"]
[{"$nulls":20},"[tr]"]
[{"$nulls":21},"[td]No Horse[/td]"]
[{"$nulls":21},"[td]Rated Price[/td]"]
[{"$nulls":21},"[td]Win[/td]"]
[{"$nulls":21},"[td]Place[/td]"]
[{"$nulls":20},"[/tr]"]
[{"$nulls":20},"[tr]"]
[{"$nulls":21},"[td]1. Serene Star[/td]"]
[{"$nulls":21},"[td]$3.40[/td]"]
[{"$nulls":21},"[td][/td]"]
[{"$nulls":21},"[td][/td]"]
[{"$nulls":20},"[/tr]"]
[{"$nulls":20},"[tr]"]
[{"$nulls":21},"[td]6. Valuable Star[/td]"]
[{"$nulls":21},"[td]$3.40[/td]"]
[{"$nulls":21},"[td][/td]"]
[{"$nulls":21},"[td][/td]"]
[{"$nulls":20},"[/tr]"]
[{"$nulls":20},"[tr]"]
[{"$nulls":21},"[td]4. Spooked[/td]"]
[{"$nulls":21},"[td]$3.91[/td]"]
[{"$nulls":21},"[td][/td]"]
[{"$nulls":21},"[td][/td]"]
[{"$nulls":20},"[/tr]"]
[{"$nulls":20},"[/table]"]
[]
[{"$nulls":20},"[table]"]
[{"$nulls":20},"[tr]"]
[{"$nulls":21},"[td][url=http://www.tabonline.com.au/2012/05/07/BR07.html]Ipswich   Race   7[/url][/td]"]
[{"$nulls":21},"[td][color=yellow]Cfmeu Mining & Energy Plate[/color][/td]"]
[{"$nulls":21},"[td]$150000[/td]"]
[{"$nulls":21},"[td][color=lime]Open[/color][/td]"]
[{"$nulls":20},"[/tr]"]
[{"$nulls":20},"[tr]"]
[{"$nulls":21},"[td]No Horse[/td]"]
[{"$nulls":21},"[td]Rated Price[/td]"]
[{"$nulls":21},"[td]Win[/td]"]
[{"$nulls":21},"[td]Place[/td]"]
[{"$nulls":20},"[/tr]"]
[{"$nulls":20},"[tr]"]
[{"$nulls":21},"[td]8. Optionality[/td]"]
[{"$nulls":21},"[td]$2.99[/td]"]
[{"$nulls":21},"[td][/td]"]
[{"$nulls":21},"[td][/td]"]
[{"$nulls":20},"[/tr]"]
[{"$nulls":20},"[tr]"]
[{"$nulls":21},"[td]9. Discreet[/td]"]
[{"$nulls":21},"[td]$3.24[/td]"]
[{"$nulls":21},"[td][/td]"]
[{"$nulls":21},"[td][/td]"]
[{"$nulls":20},"[/tr]"]
[{"$nulls":20},"[tr]"]
[{"$nulls":21},"[td]1. Bullet One[/td]"]
[{"$nulls":21},"[td]$4.71[/td]"]
[{"$nulls":21},"[td][/td]"]
[{"$nulls":21},"[td][/td]"]
[{"$nulls":20},"[/tr]"]
[{"$nulls":20},"[/table]"]
[]
[{"$nulls":20},"[table]"]
[{"$nulls":20},"[tr]"]
[{"$nulls":21},"[td][url=http://www.tabonline.com.au/2012/05/07/BR08.html]Ipswich   Race   8[/url][/td]"]
[{"$nulls":21},"[td][color=yellow]Cfmeu Mining & Energy Plate-C3[/color][/td]"]
[{"$nulls":21},"[td]$25000[/td]"]
[{"$nulls":21},"[td][color=lime]Class 3[/color][/td]"]
[{"$nulls":20},"[/tr]"]
[{"$nulls":20},"[tr]"]
[{"$nulls":21},"[td]No Horse[/td]"]
[{"$nulls":21},"[td]Rated Price[/td]"]
[{"$nulls":21},"[td]Win[/td]"]
[{"$nulls":21},"[td]Place[/td]"]
[{"$nulls":20},"[/tr]"]
[{"$nulls":20},"[tr]"]
[{"$nulls":21},"[td]10. Run With Me[/td]"]
[{"$nulls":21},"[td]$3.06[/td]"]
[{"$nulls":21},"[td][/td]"]
[{"$nulls":21},"[td][/td]"]
[{"$nulls":20},"[/tr]"]
[{"$nulls":20},"[tr]"]
[{"$nulls":21},"[td]4. Jam Fancy[/td]"]
[{"$nulls":21},"[td]$3.57[/td]"]
[{"$nulls":21},"[td][/td]"]
[{"$nulls":21},"[td][/td]"]
[{"$nulls":20},"[/tr]"]
[{"$nulls":20},"[tr]"]
[{"$nulls":21},"[td]5. Kid Tycoon[/td]"]
[{"$nulls":21},"[td]$5.09[/td]"]
[{"$nulls":21},"[td][/td]"]
[{"$nulls":21},"[td][/td]"]
[{"$nulls":20},"[/tr]"]
[{"$nulls":20},"[/table]"]
[]
[{"$nulls":20},"[table]"]
[{"$nulls":20},"[tr]"]
[{"$nulls":21},"[td][url=http://www.tabonline.com.au/2012/05/07/BR09.html]Ipswich   Race   9[/url][/td]"]
[{"$nulls":21},"[td][color=yellow]Retired Miners Plate (C3)[/color][/td]"]
[{"$nulls":21},"[td]$25000[/td]"]
[{"$nulls":21},"[td][color=lime]Class 3[/color][/td]"]
[{"$nulls":20},"[/tr]"]
[{"$nulls":20},"[tr]"]
[{"$nulls":21},"[td]No Horse[/td]"]
[{"$nulls":21},"[td]Rated Price[/td]"]
[{"$nulls":21},"[td]Win[/td]"]
[{"$nulls":21},"[td]Place[/td]"]
[{"$nulls":20},"[/tr]"]
[{"$nulls":20},"[tr]"]
[{"$nulls":21},"[td]2. Castle Express[/td]"]
[{"$nulls":21},"[td]$2.82[/td]"]
[{"$nulls":21},"[td][/td]"]
[{"$nulls":21},"[td][/td]"]
[{"$nulls":20},"[/tr]"]
[{"$nulls":20},"[tr]"]
[{"$nulls":21},"[td]13. Little Brown Horse[/td]"]
[{"$nulls":21},"[td]$2.82[/td]"]
[{"$nulls":21},"[td][/td]"]
[{"$nulls":21},"[td][/td]"]
[{"$nulls":20},"[/tr]"]
[{"$nulls":20},"[tr]"]
[{"$nulls":21},"[td]5. Mitayden[/td]"]
[{"$nulls":21},"[td]$4.92[/td]"]
[{"$nulls":21},"[td][/td]"]
[{"$nulls":21},"[td][/td]"]
[{"$nulls":20},"[/tr]"]
[{"$nulls":20},"[/table]"]
[]
[{"$nulls":20},"[table]"]
[{"$nulls":20},"[tr]"]
[{"$nulls":21},"[td][url=http://www.tabonline.com.au/2012/05/07/BR10.html]Ipswich   Race   10[/url][/td]"]
[{"$nulls":21},"[td][color=yellow]Etu/Ibew Solidarity Stks-Bm85[/color][/td]"]
[{"$nulls":21},"[td]$15000[/td]"]
[{"$nulls":21},"[td][color=lime]Benchmark 85[/color][/td]"]
[{"$nulls":20},"[/tr]"]
[{"$nulls":20},"[tr]"]
[{"$nulls":21},"[td]No Horse[/td]"]
[{"$nulls":21},"[td]Rated Price[/td]"]
[{"$nulls":21},"[td]Win[/td]"]
[{"$nulls":21},"[td]Place[/td]"]
[{"$nulls":20},"[/tr]"]
[{"$nulls":20},"[tr]"]
[{"$nulls":21},"[td]4. Dollario[/td]"]
[{"$nulls":21},"[td]$2.66[/td]"]
[{"$nulls":21},"[td][/td]"]
[{"$nulls":21},"[td][/td]"]
[{"$nulls":20},"[/tr]"]
[{"$nulls":20},"[tr]"]
[{"$nulls":21},"[td]5. Aquatorial[/td]"]
[{"$nulls":21},"[td]$2.89[/td]"]
[{"$nulls":21},"[td][/td]"]
[{"$nulls":21},"[td][/td]"]
[{"$nulls":20},"[/tr]"]
[{"$nulls":20},"[tr]"]
[{"$nulls":21},"[td]10. Funny Falve[/td]"]
[{"$nulls":21},"[td]$4.84[/td]"]
[{"$nulls":21},"[td][/td]"]
[{"$nulls":21},"[td][/td]"]
[{"$nulls":20},"[/tr]"]
[{"$nulls":20},"[/table]"]
[]
[{"$nulls":20},"[table]"]
[{"$nulls":20},"[tr]"]
[{"$nulls":21},"[td][url=http://www.tabonline.com.au/2012/05/07/NR04.html]Murwillumbah   Race   4[/url][/td]"]
[{"$nulls":21},"[td][color=yellow]Murwillumbah Cellars Mdn Plate[/color][/td]"]
[{"$nulls":21},"[td]$10000[/td]"]
[{"$nulls":21},"[td][color=lime]Maiden[/color][/td]"]
[{"$nulls":20},"[/tr]"]
[{"$nulls":20},"[tr]"]
[{"$nulls":21},"[td]No Horse[/td]"]
[{"$nulls":21},"[td]Rated Price[/td]"]
[{"$nulls":21},"[td]Win[/td]"]
[{"$nulls":21},"[td]Place[/td]"]
[{"$nulls":20},"[/tr]"]
[{"$nulls":20},"[tr]"]
[{"$nulls":21},"[td]12. Time Has Come[/td]"]
[{"$nulls":21},"[td]$2.43[/td]"]
[{"$nulls":21},"[td][/td]"]
[{"$nulls":21},"[td][/td]"]
[{"$nulls":20},"[/tr]"]
[{"$nulls":20},"[tr]"]
[{"$nulls":21},"[td]3. Clear[/td]"]
[{"$nulls":21},"[td]$3.70[/td]"]
[{"$nulls":21},"[td][/td]"]
[{"$nulls":21},"[td][/td]"]
[{"$nulls":20},"[/tr]"]
[{"$nulls":20},"[tr]"]
[{"$nulls":21},"[td]2. Bamboo House[/td]"]
[{"$nulls":21},"[td]$4.57[/td]"]
[{"$nulls":21},"[td][/td]"]
[{"$nulls":21},"[td][/td]"]
[{"$nulls":20},"[/tr]"]
[{"$nulls":20},"[/table]"]
[]
[{"$nulls":20},"[table]"]
[{"$nulls":20},"[tr]"]
[{"$nulls":21},"[td][url=http://www.tabonline.com.au/2012/05/07/BR07.html]Ipswich   Race   7[/url][/td]"]
[{"$nulls":21},"[td][color=yellow]Cfmeu Mining & Energy Plate[/color][/td]"]
[{"$nulls":21},"[td]$150000[/td]"]
[{"$nulls":21},"[td][color=lime]Open[/color][/td]"]
[{"$nulls":20},"[/tr]"]
[{"$nulls":20},"[tr]"]
[{"$nulls":21},"[td]No Horse[/td]"]
[{"$nulls":21},"[td]Rated Price[/td]"]
[{"$nulls":21},"[td]Win[/td]"]
[{"$nulls":21},"[td]Place[/td]"]
[{"$nulls":20},"[/tr]"]
[{"$nulls":20},"[tr]"]
[{"$nulls":21},"[td]8. Optionality[/td]"]
[{"$nulls":21},"[td]$2.99[/td]"]
[{"$nulls":21},"[td][/td]"]
[{"$nulls":21},"[td][/td]"]
[{"$nulls":20},"[/tr]"]
[{"$nulls":20},"[tr]"]
[{"$nulls":21},"[td]9. Discreet[/td]"]
[{"$nulls":21},"[td]$3.24[/td]"]
[{"$nulls":21},"[td][/td]"]
[{"$nulls":21},"[td][/td]"]
[{"$nulls":20},"[/tr]"]
[{"$nulls":20},"[tr]"]
[{"$nulls":21},"[td]1. Bullet One[/td]"]
[{"$nulls":21},"[td]$4.71[/td]"]
[{"$nulls":21},"[td][/td]"]
[{"$nulls":21},"[td][/td]"]
[{"$nulls":20},"[/tr]"]
[{"$nulls":20},"[/table]"]
[]
[{"$nulls":20},"[table]"]
[{"$nulls":20},"[tr]"]
[{"$nulls":21},"[td][url=http://www.tabonline.com.au/2012/05/07/BR08.html]Ipswich   Race   8[/url][/td]"]
[{"$nulls":21},"[td][color=yellow]Cfmeu Mining & Energy Plate-C3[/color][/td]"]
[{"$nulls":21},"[td]$25000[/td]"]
[{"$nulls":21},"[td][color=lime]Class 3[/color][/td]"]
[{"$nulls":20},"[/tr]"]
[{"$nulls":20},"[tr]"]
[{"$nulls":21},"[td]No Horse[/td]"]
[{"$nulls":21},"[td]Rated Price[/td]"]
[{"$nulls":21},"[td]Win[/td]"]
[{"$nulls":21},"[td]Place[/td]"]
[{"$nulls":20},"[/tr]"]
[{"$nulls":20},"[tr]"]
[{"$nulls":21},"[td]10. Run With Me[/td]"]
[{"$nulls":21},"[td]$3.06[/td]"]
[{"$nulls":21},"[td][/td]"]
[{"$nulls":21},"[td][/td]"]
[{"$nulls":20},"[/tr]"]
[{"$nulls":20},"[tr]"]
[{"$nulls":21},"[td]4. Jam Fancy[/td]"]
[{"$nulls":21},"[td]$3.57[/td]"]
[{"$nulls":21},"[td][/td]"]
[{"$nulls":21},"[td][/td]"]
[{"$nulls":20},"[/tr]"]
[{"$nulls":20},"[tr]"]
[{"$nulls":21},"[td]5. Kid Tycoon[/td]"]
[{"$nulls":21},"[td]$5.09[/td]"]
[{"$nulls":21},"[td][/td]"]
[{"$nulls":21},"[td][/td]"]
[{"$nulls":20},"[/tr]"]
[{"$nulls":20},"[/table]"]
[]
[{"$nulls":20},"[table]"]
[{"$nulls":20},"[tr]"]
[{"$nulls":21},"[td][url=http://www.tabonline.com.au/2012/05/07/BR09.html]Ipswich   Race   9[/url][/td]"]
[{"$nulls":21},"[td][color=yellow]Retired Miners Plate (C3)[/color][/td]"]
[{"$nulls":21},"[td]$25000[/td]"]
[{"$nulls":21},"[td][color=lime]Class 3[/color][/td]"]
[{"$nulls":20},"[/tr]"]
[{"$nulls":20},"[tr]"]
[{"$nulls":21},"[td]No Horse[/td]"]
[{"$nulls":21},"[td]Rated Price[/td]"]
[{"$nulls":21},"[td]Win[/td]"]
[{"$nulls":21},"[td]Place[/td]"]
[{"$nulls":20},"[/tr]"]
[{"$nulls":20},"[tr]"]
[{"$nulls":21},"[td]2. Castle Express[/td]"]
[{"$nulls":21},"[td]$2.82[/td]"]
[{"$nulls":21},"[td][/td]"]
[{"$nulls":21},"[td][/td]"]
[{"$nulls":20},"[/tr]"]
[{"$nulls":20},"[tr]"]
[{"$nulls":21},"[td]13. Little Brown Horse[/td]"]
[{"$nulls":21},"[td]$2.82[/td]"]
[{"$nulls":21},"[td][/td]"]
[{"$nulls":21},"[td][/td]"]
[{"$nulls":20},"[/tr]"]
[{"$nulls":20},"[tr]"]
[{"$nulls":21},"[td]5. Mitayden[/td]"]
[{"$nulls":21},"[td]$4.92[/td]"]
[{"$nulls":21},"[td][/td]"]
[{"$nulls":21},"[td][/td]"]
[{"$nulls":20},"[/tr]"]
[{"$nulls":20},"[/table]"]
[]
[{"$nulls":20},"[table]"]
[{"$nulls":20},"[tr]"]
[{"$nulls":21},"[td][url=http://www.tabonline.com.au/2012/05/07/BR10.html]Ipswich   Race   10[/url][/td]"]
[{"$nulls":21},"[td][color=yellow]Etu/Ibew Solidarity Stks-Bm85[/color][/td]"]
[{"$nulls":21},"[td]$15000[/td]"]
[{"$nulls":21},"[td][color=lime]Benchmark 85[/color][/td]"]
[{"$nulls":20},"[/tr]"]
[{"$nulls":20},"[tr]"]
[{"$nulls":21},"[td]No Horse[/td]"]
[{"$nulls":21},"[td]Rated Price[/td]"]
[{"$nulls":21},"[td]Win[/td]"]
[{"$nulls":21},"[td]Place[/td]"]
[{"$nulls":20},"[/tr]"]
[{"$nulls":20},"[tr]"]
[{"$nulls":21},"[td]4. Dollario[/td]"]
[{"$nulls":21},"[td]$2.66[/td]"]
[{"$nulls":21},"[td][/td]"]
[{"$nulls":21},"[td][/td]"]
[{"$nulls":20},"[/tr]"]
[{"$nulls":20},"[tr]"]
[{"$nulls":21},"[td]5. Aquatorial[/td]"]
[{"$nulls":21},"[td]$2.89[/td]"]
[{"$nulls":21},"[td][/td]"]
[{"$nulls":21},"[td][/td]"]
[{"$nulls":20},"[/tr]"]
[{"$nulls":20},"[tr]"]
[{"$nulls":21},"[td]10. Funny Falve[/td]"]
[{"$nulls":21},"[td]$4.84[/td]"]
[{"$nulls":21},"[td][/td]"]
[{"$nulls":21},"[td][/td]"]
[{"$nulls":20},"[/tr]"]
[{"$nulls":20},"[/table]"]
[]
[{"$nulls":20},"[table]"]
[{"$nulls":20},"[tr]"]
[{"$nulls":21},"[td][url=http://www.tabonline.com.au/2012/05/07/BR07.html]Ipswich   Race   7[/url][/td]"]
[{"$nulls":21},"[td][color=yellow]Cfmeu Mining & Energy Plate[/color][/td]"]
[{"$nulls":21},"[td]$150000[/td]"]
[{"$nulls":21},"[td][color=lime]Open[/color][/td]"]
[{"$nulls":20},"[/tr]"]
[{"$nulls":20},"[tr]"]
[{"$nulls":21},"[td]No Horse[/td]"]
[{"$nulls":21},"[td]Rated Price[/td]"]
[{"$nulls":21},"[td]Win[/td]"]
[{"$nulls":21},"[td]Place[/td]"]
[{"$nulls":20},"[/tr]"]
[{"$nulls":20},"[tr]"]
[{"$nulls":21},"[td]8. Optionality[/td]"]
[{"$nulls":21},"[td]$2.99[/td]"]
[{"$nulls":21},"[td][/td]"]
[{"$nulls":21},"[td][/td]"]
[{"$nulls":20},"[/tr]"]
[{"$nulls":20},"[tr]"]
[{"$nulls":21},"[td]9. Discreet[/td]"]
[{"$nulls":21},"[td]$3.24[/td]"]
[{"$nulls":21},"[td][/td]"]
[{"$nulls":21},"[td][/td]"]
[{"$nulls":20},"[/tr]"]
[{"$nulls":20},"[tr]"]
[{"$nulls":21},"[td]1. Bullet One[/td]"]
[{"$nulls":21},"[td]$4.71[/td]"]
[{"$nulls":21},"[td][/td]"]
[{"$nulls":21},"[td][/td]"]
[{"$nulls":20},"[/tr]"]
[{"$nulls":20},"[/table]"]
[]
[{"$nulls":20},"[table]"]
[{"$nulls":20},"[tr]"]
[{"$nulls":21},"[td][url=http://www.tabonline.com.au/2012/05/07/BR08.html]Ipswich   Race   8[/url][/td]"]
[{"$nulls":21},"[td][color=yellow]Cfmeu Mining & Energy Plate-C3[/color][/td]"]
[{"$nulls":21},"[td]$25000[/td]"]
[{"$nulls":21},"[td][color=lime]Class 3[/color][/td]"]
[{"$nulls":20},"[/tr]"]
[{"$nulls":20},"[tr]"]
[{"$nulls":21},"[td]No Horse[/td]"]
[{"$nulls":21},"[td]Rated Price[/td]"]
[{"$nulls":21},"[td]Win[/td]"]
[{"$nulls":21},"[td]Place[/td]"]
[{"$nulls":20},"[/tr]"]
[{"$nulls":20},"[tr]"]
[{"$nulls":21},"[td]10. Run With Me[/td]"]
[{"$nulls":21},"[td]$3.06[/td]"]
[{"$nulls":21},"[td][/td]"]
[{"$nulls":21},"[td][/td]"]
[{"$nulls":20},"[/tr]"]
[{"$nulls":20},"[tr]"]
[{"$nulls":21},"[td]4. Jam Fancy[/td]"]
[{"$nulls":21},"[td]$3.57[/td]"]
[{"$nulls":21},"[td][/td]"]
[{"$nulls":21},"[td][/td]"]
[{"$nulls":20},"[/tr]"]
[{"$nulls":20},"[tr]"]
[{"$nulls":21},"[td]5. Kid Tycoon[/td]"]
[{"$nulls":21},"[td]$5.09[/td]"]
[{"$nulls":21},"[td][/td]"]
[{"$nulls":21},"[td][/td]"]
[{"$nulls":20},"[/tr]"]
[{"$nulls":20},"[/table]"]
[]
[{"$nulls":20},"[table]"]
[{"$nulls":20},"[tr]"]
[{"$nulls":21},"[td][url=http://www.tabonline.com.au/2012/05/07/BR09.html]Ipswich   Race   9[/url][/td]"]
[{"$nulls":21},"[td][color=yellow]Retired Miners Plate (C3)[/color][/td]"]
[{"$nulls":21},"[td]$25000[/td]"]
[{"$nulls":21},"[td][color=lime]Class 3[/color][/td]"]
[{"$nulls":20},"[/tr]"]
[{"$nulls":20},"[tr]"]
[{"$nulls":21},"[td]No Horse[/td]"]
[{"$nulls":21},"[td]Rated Price[/td]"]
[{"$nulls":21},"[td]Win[/td]"]
[{"$nulls":21},"[td]Place[/td]"]
[{"$nulls":20},"[/tr]"]
[{"$nulls":20},"[tr]"]
[{"$nulls":21},"[td]2. Castle Express[/td]"]
[{"$nulls":21},"[td]$2.82[/td]"]
[{"$nulls":21},"[td][/td]"]
[{"$nulls":21},"[td][/td]"]
[{"$nulls":20},"[/tr]"]
[{"$nulls":20},"[tr]"]
[{"$nulls":21},"[td]13. Little Brown Horse[/td]"]
[{"$nulls":21},"[td]$2.82[/td]"]
[{"$nulls":21},"[td][/td]"]
[{"$nulls":21},"[td][/td]"]
[{"$nulls":20},"[/tr]"]
[{"$nulls":20},"[tr]"]
[{"$nulls":21},"[td]5. Mitayden[/td]"]
[{"$nulls":21},"[td]$4.92[/td]"]
[{"$nulls":21},"[td][/td]"]
[{"$nulls":21},"[td][/td]"]
[{"$nulls":20},"[/tr]"]
[{"$nulls":20},"[/table]"]
[]
[{"$nulls":20},"[table]"]
[{"$nulls":20},"[tr]"]
[{"$nulls":21},"[td][url=http://www.tabonline.com.au/2012/05/07/BR10.html]Ipswich   Race   10[/url][/td]"]
[{"$nulls":21},"[td][color=yellow]Etu/Ibew Solidarity Stks-Bm85[/color][/td]"]
[{"$nulls":21},"[td]$15000[/td]"]
[{"$nulls":21},"[td][color=lime]Benchmark 85[/color][/td]"]
[{"$nulls":20},"[/tr]"]
[{"$nulls":20},"[tr]"]
[{"$nulls":21},"[td]No Horse[/td]"]
[{"$nulls":21},"[td]Rated Price[/td]"]
[{"$nulls":21},"[td]Win[/td]"]
[{"$nulls":21},"[td]Place[/td]"]
[{"$nulls":20},"[/tr]"]
[{"$nulls":20},"[tr]"]
[{"$nulls":21},"[td]4. Dollario[/td]"]
[{"$nulls":21},"[td]$2.66[/td]"]
[{"$nulls":21},"[td][/td]"]
[{"$nulls":21},"[td][/td]"]
[{"$nulls":20},"[/tr]"]
[{"$nulls":20},"[tr]"]
[{"$nulls":21},"[td]5. Aquatorial[/td]"]
[{"$nulls":21},"[td]$2.89[/td]"]
[{"$nulls":21},"[td][/td]"]
[{"$nulls":21},"[td][/td]"]
[{"$nulls":20},"[/tr]"]
[{"$nulls":20},"[tr]"]
[{"$nulls":21},"[td]10. Funny Falve[/td]"]
[{"$nulls":21},"[td]$4.84[/td]"]
[{"$nulls":21},"[td][/td]"]
[{"$nulls":21},"[td][/td]"]
[{"$nulls":20},"[/tr]"]
[{"$nulls":20},"[/table]"]
[]
[{"$nulls":20},"[table]"]
[{"$nulls":20},"[tr]"]
[{"$nulls":21},"[td][url=http://www.tabonline.com.au/2012/05/07/NR04.html]Murwillumbah   Race   4[/url][/td]"]
[{"$nulls":21},"[td][color=yellow]Murwillumbah Cellars Mdn Plate[/color][/td]"]
[{"$nulls":21},"[td]$10000[/td]"]
[{"$nulls":21},"[td][color=lime]Maiden[/color][/td]"]
[{"$nulls":20},"[/tr]"]
[{"$nulls":20},"[tr]"]
[{"$nulls":21},"[td]No Horse[/td]"]
[{"$nulls":21},"[td]Rated Price[/td]"]
[{"$nulls":21},"[td]Win[/td]"]
[{"$nulls":21},"[td]Place[/td]"]
[{"$nulls":20},"[/tr]"]
[{"$nulls":20},"[tr]"]
[{"$nulls":21},"[td]12. Time Has Come[/td]"]
[{"$nulls":21},"[td]$2.43[/td]"]
[{"$nulls":21},"[td][/td]"]
[{"$nulls":21},"[td][/td]"]
[{"$nulls":20},"[/tr]"]
[{"$nulls":20},"[tr]"]
[{"$nulls":21},"[td]3. Clear[/td]"]
[{"$nulls":21},"[td]$3.70[/td]"]
[{"$nulls":21},"[td][/td]"]
[{"$nulls":21},"[td][/td]"]
[{"$nulls":20},"[/tr]"]
[{"$nulls":20},"[tr]"]
[{"$nulls":21},"[td]2. Bamboo House[/td]"]
[{"$nulls":21},"[td]$4.57[/td]"]
[{"$nulls":21},"[td][/td]"]
[{"$nulls":21},"[td][/td]"]
[{"$nulls":20},"[/tr]"]
[{"$nulls":20},"[/table]"]
[]
[{"$nulls":20},"[table]"]
[{"$nulls":20},"[tr]"]
[{"$nulls":21},"[td][url=http://www.tabonline.com.au/2012/05/07/NR05.html]Murwillumbah   Race   5[/url][/td]"]
[{"$nulls":21},"[td][color=yellow]Victory Ford Cup (C3)[/color][/td]"]
[{"$nulls":21},"[td]$10000[/td]"]
[{"$nulls":21},"[td][color=lime]Class 3[/color][/td]"]
[{"$nulls":20},"[/tr]"]
[{"$nulls":20},"[tr]"]
[{"$nulls":21},"[td]No Horse[/td]"]
[{"$nulls":21},"[td]Rated Price[/td]"]
[{"$nulls":21},"[td]Win[/td]"]
[{"$nulls":21},"[td]Place[/td]"]
[{"$nulls":20},"[/tr]"]
[{"$nulls":20},"[tr]"]
[{"$nulls":21},"[td]1. Jigsaws[/td]"]
[{"$nulls":21},"[td]$2.43[/td]"]
[{"$nulls":21},"[td][/td]"]
[{"$nulls":21},"[td][/td]"]
[{"$nulls":20},"[/tr]"]
[{"$nulls":20},"[tr]"]
[{"$nulls":21},"[td]5. Leica Bita Lippy[/td]"]
[{"$nulls":21},"[td]$2.62[/td]"]
[{"$nulls":21},"[td][/td]"]
[{"$nulls":21},"[td][/td]"]
[{"$nulls":20},"[/tr]"]
[{"$nulls":20},"[tr]"]
[{"$nulls":21},"[td]6. Oreillys Gold[/td]"]
[{"$nulls":21},"[td]$7.43[/td]"]
[{"$nulls":21},"[td][/td]"]
[{"$nulls":21},"[td][/td]"]
[{"$nulls":20},"[/tr]"]
[{"$nulls":20},"[/table]"]
[]
[{"$nulls":20},"[table]"]
[{"$nulls":20},"[tr]"]
[{"$nulls":21},"[td][url=http://www.tabonline.com.au/2012/05/07/NR06.html]Murwillumbah   Race   6[/url][/td]"]
[{"$nulls":21},"[td][color=yellow]Tweed Coast Chery (Bm50)[/color][/td]"]
[{"$nulls":21},"[td]$10000[/td]"]
[{"$nulls":21},"[td][color=lime]Benchmark 50[/color][/td]"]
[{"$nulls":20},"[/tr]"]
[{"$nulls":20},"[tr]"]
[{"$nulls":21},"[td]No Horse[/td]"]
[{"$nulls":21},"[td]Rated Price[/td]"]
[{"$nulls":21},"[td]Win[/td]"]
[{"$nulls":21},"[td]Place[/td]"]
[{"$nulls":20},"[/tr]"]
[{"$nulls":20},"[tr]"]
[{"$nulls":21},"[td]1. Danewin Girl[/td]"]
[{"$nulls":21},"[td]$2.63[/td]"]
[{"$nulls":21},"[td][/td]"]
[{"$nulls":21},"[td][/td]"]
[{"$nulls":20},"[/tr]"]
[{"$nulls":20},"[tr]"]
[{"$nulls":21},"[td]3. Rubys Epic[/td]"]
[{"$nulls":21},"[td]$4.40[/td]"]
[{"$nulls":21},"[td][/td]"]
[{"$nulls":21},"[td][/td]"]
[{"$nulls":20},"[/tr]"]
[{"$nulls":20},"[tr]"]
[{"$nulls":21},"[td]5. Isajoy[/td]"]
[{"$nulls":21},"[td]$4.81[/td]"]
[{"$nulls":21},"[td][/td]"]
[{"$nulls":21},"[td][/td]"]
[{"$nulls":20},"[/tr]"]
[{"$nulls":20},"[/table]"]
[]
[{"$nulls":20},"[table]"]
[{"$nulls":20},"[tr]"]
[{"$nulls":21},"[td][url=http://www.tabonline.com.au/2012/05/07/NR07.html]Murwillumbah   Race   7[/url][/td]"]
[{"$nulls":21},"[td][color=yellow]Tweed Coast Isuzu Ute (Bm50)[/color][/td]"]
[{"$nulls":21},"[td]$10000[/td]"]
[{"$nulls":21},"[td][color=lime]Benchmark 50[/color][/td]"]
[{"$nulls":20},"[/tr]"]
[{"$nulls":20},"[tr]"]
[{"$nulls":21},"[td]No Horse[/td]"]
[{"$nulls":21},"[td]Rated Price[/td]"]
[{"$nulls":21},"[td]Win[/td]"]
[{"$nulls":21},"[td]Place[/td]"]
[{"$nulls":20},"[/tr]"]
[{"$nulls":20},"[tr]"]
[{"$nulls":21},"[td]2. Epic Terra[/td]"]
[{"$nulls":21},"[td]$2.59[/td]"]
[{"$nulls":21},"[td][/td]"]
[{"$nulls":21},"[td][/td]"]
[{"$nulls":20},"[/tr]"]
[{"$nulls":20},"[tr]"]
[{"$nulls":21},"[td]1. Tictacs[/td]"]
[{"$nulls":21},"[td]$2.73[/td]"]
[{"$nulls":21},"[td][/td]"]
[{"$nulls":21},"[td][/td]"]
[{"$nulls":20},"[/tr]"]
[{"$nulls":20},"[tr]"]
[{"$nulls":21},"[td]11. At Speed[/td]"]
[{"$nulls":21},"[td]$4.95[/td]"]
[{"$nulls":21},"[td][/td]"]
[{"$nulls":21},"[td][/td]"]
[{"$nulls":20},"[/tr]"]
[{"$nulls":20},"[/table]"]
[]
[{"$nulls":20},"[table]"]
[{"$nulls":20},"[tr]"]
[{"$nulls":21},"[td][url=http://www.tabonline.com.au/2012/05/07/BR07.html]Ipswich   Race   7[/url][/td]"]
[{"$nulls":21},"[td][color=yellow]Cfmeu Mining & Energy Plate[/color][/td]"]
[{"$nulls":21},"[td]$150000[/td]"]
[{"$nulls":21},"[td][color=lime]Open[/color][/td]"]
[{"$nulls":20},"[/tr]"]
[{"$nulls":20},"[tr]"]
[{"$nulls":21},"[td]No Horse[/td]"]
[{"$nulls":21},"[td]Rated Price[/td]"]
[{"$nulls":21},"[td]Win[/td]"]
[{"$nulls":21},"[td]Place[/td]"]
[{"$nulls":20},"[/tr]"]
[{"$nulls":20},"[tr]"]
[{"$nulls":21},"[td]8. Optionality[/td]"]
[{"$nulls":21},"[td]$2.99[/td]"]
[{"$nulls":21},"[td][/td]"]
[{"$nulls":21},"[td][/td]"]
[{"$nulls":20},"[/tr]"]
[{"$nulls":20},"[tr]"]
[{"$nulls":21},"[td]9. Discreet[/td]"]
[{"$nulls":21},"[td]$3.24[/td]"]
[{"$nulls":21},"[td][/td]"]
[{"$nulls":21},"[td][/td]"]
[{"$nulls":20},"[/tr]"]
[{"$nulls":20},"[tr]"]
[{"$nulls":21},"[td]1. Bullet One[/td]"]
[{"$nulls":21},"[td]$4.71[/td]"]
[{"$nulls":21},"[td][/td]"]
[{"$nulls":21},"[td][/td]"]
[{"$nulls":20},"[/tr]"]
[{"$nulls":20},"[/table]"]
[]
[{"$nulls":20},"[table]"]
[{"$nulls":20},"[tr]"]
[{"$nulls":21},"[td][url=http://www.tabonline.com.au/2012/05/07/BR08.html]Ipswich   Race   8[/url][/td]"]
[{"$nulls":21},"[td][color=yellow]Cfmeu Mining & Energy Plate-C3[/color][/td]"]
[{"$nulls":21},"[td]$25000[/td]"]
[{"$nulls":21},"[td][color=lime]Class 3[/color][/td]"]
[{"$nulls":20},"[/tr]"]
[{"$nulls":20},"[tr]"]
[{"$nulls":21},"[td]No Horse[/td]"]
[{"$nulls":21},"[td]Rated Price[/td]"]
[{"$nulls":21},"[td]Win[/td]"]
[{"$nulls":21},"[td]Place[/td]"]
[{"$nulls":20},"[/tr]"]
[{"$nulls":20},"[tr]"]
[{"$nulls":21},"[td]10. Run With Me[/td]"]
[{"$nulls":21},"[td]$3.06[/td]"]
[{"$nulls":21},"[td][/td]"]
[{"$nulls":21},"[td][/td]"]
[{"$nulls":20},"[/tr]"]
[{"$nulls":20},"[tr]"]
[{"$nulls":21},"[td]4. Jam Fancy[/td]"]
[{"$nulls":21},"[td]$3.57[/td]"]
[{"$nulls":21},"[td][/td]"]
[{"$nulls":21},"[td][/td]"]
[{"$nulls":20},"[/tr]"]
[{"$nulls":20},"[tr]"]
[{"$nulls":21},"[td]5. Kid Tycoon[/td]"]
[{"$nulls":21},"[td]$5.09[/td]"]
[{"$nulls":21},"[td][/td]"]
[{"$nulls":21},"[td][/td]"]
[{"$nulls":20},"[/tr]"]
[{"$nulls":20},"[/table]"]
[]
[{"$nulls":20},"[table]"]
[{"$nulls":20},"[tr]"]
[{"$nulls":21},"[td][url=http://www.tabonline.com.au/2012/05/07/BR09.html]Ipswich   Race   9[/url][/td]"]
[{"$nulls":21},"[td][color=yellow]Retired Miners Plate (C3)[/color][/td]"]
[{"$nulls":21},"[td]$25000[/td]"]
[{"$nulls":21},"[td][color=lime]Class 3[/color][/td]"]
[{"$nulls":20},"[/tr]"]
[{"$nulls":20},"[tr]"]
[{"$nulls":21},"[td]No Horse[/td]"]
[{"$nulls":21},"[td]Rated Price[/td]"]
[{"$nulls":21},"[td]Win[/td]"]
[{"$nulls":21},"[td]Place[/td]"]
[{"$nulls":20},"[/tr]"]
[{"$nulls":20},"[tr]"]
[{"$nulls":21},"[td]2. Castle Express[/td]"]
[{"$nulls":21},"[td]$2.82[/td]"]
[{"$nulls":21},"[td][/td]"]
[{"$nulls":21},"[td][/td]"]
[{"$nulls":20},"[/tr]"]
[{"$nulls":20},"[tr]"]
[{"$nulls":21},"[td]13. Little Brown Horse[/td]"]
[{"$nulls":21},"[td]$2.82[/td]"]
[{"$nulls":21},"[td][/td]"]
[{"$nulls":21},"[td][/td]"]
[{"$nulls":20},"[/tr]"]
[{"$nulls":20},"[tr]"]
[{"$nulls":21},"[td]5. Mitayden[/td]"]
[{"$nulls":21},"[td]$4.92[/td]"]
[{"$nulls":21},"[td][/td]"]
[{"$nulls":21},"[td][/td]"]
[{"$nulls":20},"[/tr]"]
[{"$nulls":20},"[/table]"]
[]
[{"$nulls":20},"[table]"]
[{"$nulls":20},"[tr]"]
[{"$nulls":21},"[td][url=http://www.tabonline.com.au/2012/05/07/BR10.html]Ipswich   Race   10[/url][/td]"]
[{"$nulls":21},"[td][color=yellow]Etu/Ibew Solidarity Stks-Bm85[/color][/td]"]
[{"$nulls":21},"[td]$15000[/td]"]
[{"$nulls":21},"[td][color=lime]Benchmark 85[/color][/td]"]
[{"$nulls":20},"[/tr]"]
[{"$nulls":20},"[tr]"]
[{"$nulls":21},"[td]No Horse[/td]"]
[{"$nulls":21},"[td]Rated Price[/td]"]
[{"$nulls":21},"[td]Win[/td]"]
[{"$nulls":21},"[td]Place[/td]"]
[{"$nulls":20},"[/tr]"]
[{"$nulls":20},"[tr]"]
[{"$nulls":21},"[td]4. Dollario[/td]"]
[{"$nulls":21},"[td]$2.66[/td]"]
[{"$nulls":21},"[td][/td]"]
[{"$nulls":21},"[td][/td]"]
[{"$nulls":20},"[/tr]"]
[{"$nulls":20},"[tr]"]
[{"$nulls":21},"[td]5. Aquatorial[/td]"]
[{"$nulls":21},"[td]$2.89[/td]"]
[{"$nulls":21},"[td][/td]"]
[{"$nulls":21},"[td][/td]"]
[{"$nulls":20},"[/tr]"]
[{"$nulls":20},"[tr]"]
[{"$nulls":21},"[td]10. Funny Falve[/td]"]
[{"$nulls":21},"[td]$4.84[/td]"]
[{"$nulls":21},"[td][/td]"]
[{"$nulls":21},"[td][/td]"]
[{"$nulls":20},"[/tr]"]
[{"$nulls":20},"[/table]"]
[]
[{"$nulls":20},"[table]"]
[{"$nulls":20},"[tr]"]
[{"$nulls":21},"[td][url=http://www.tabonline.com.au/2012/05/07/NR04.html]Murwillumbah   Race   4[/url][/td]"]
[{"$nulls":21},"[td][color=yellow]Murwillumbah Cellars Mdn Plate[/color][/td]"]
[{"$nulls":21},"[td]$10000[/td]"]
[{"$nulls":21},"[td][color=lime]Maiden[/color][/td]"]
[{"$nulls":20},"[/tr]"]
[{"$nulls":20},"[tr]"]
[{"$nulls":21},"[td]No Horse[/td]"]
[{"$nulls":21},"[td]Rated Price[/td]"]
[{"$nulls":21},"[td]Win[/td]"]
[{"$nulls":21},"[td]Place[/td]"]
[{"$nulls":20},"[/tr]"]
[{"$nulls":20},"[tr]"]
[{"$nulls":21},"[td]12. Time Has Come[/td]"]
[{"$nulls":21},"[td]$2.43[/td]"]
[{"$nulls":21},"[td][/td]"]
[{"$nulls":21},"[td][/td]"]
[{"$nulls":20},"[/tr]"]
[{"$nulls":20},"[tr]"]
[{"$nulls":21},"[td]3. Clear[/td]"]
[{"$nulls":21},"[td]$3.70[/td]"]
[{"$nulls":21},"[td][/td]"]
[{"$nulls":21},"[td][/td]"]
[{"$nulls":20},"[/tr]"]
[{"$nulls":20},"[tr]"]
[{"$nulls":21},"[td]2. Bamboo House[/td]"]
[{"$nulls":21},"[td]$4.57[/td]"]
[{"$nulls":21},"[td][/td]"]
[{"$nulls":21},"[td][/td]"]
[{"$nulls":20},"[/tr]"]
[{"$nulls":20},"[/table]"]
[]
[{"$nulls":20},"[table]"]
[{"$nulls":20},"[tr]"]
[{"$nulls":21},"[td][url=http://www.tabonline.com.au/2012/05/07/NR05.html]Murwillumbah   Race   5[/url][/td]"]
[{"$nulls":21},"[td][color=yellow]Victory Ford Cup (C3)[/color][/td]"]
[{"$nulls":21},"[td]$10000[/td]"]
[{"$nulls":21},"[td][color=lime]Class 3[/color][/td]"]
[{"$nulls":20},"[/tr]"]
[{"$nulls":20},"[tr]"]
[{"$nulls":21},"[td]No Horse[/td]"]
[{"$nulls":21},"[td]Rated Price[/td]"]
[{"$nulls":21},"[td]Win[/td]"]
[{"$nulls":21},"[td]Place[/td]"]
[{"$nulls":20},"[/tr]"]
[{"$nulls":20},"[tr]"]
[{"$nulls":21},"[td]1. Jigsaws[/td]"]
[{"$nulls":21},"[td]$2.43[/td]"]
[{"$nulls":21},"[td][/td]"]
[{"$nulls":21},"[td][/td]"]
[{"$nulls":20},"[/tr]"]
[{"$nulls":20},"[tr]"]
[{"$nulls":21},"[td]5. Leica Bita Lippy[/td]"]
[{"$nulls":21},"[td]$2.62[/td]"]
[{"$nulls":21},"[td][/td]"]
[{"$nulls":21},"[td][/td]"]
[{"$nulls":20},"[/tr]"]
[{"$nulls":20},"[tr]"]
[{"$nulls":21},"[td]6. Oreillys Gold[/td]"]
[{"$nulls":21},"[td]$7.43[/td]"]
[{"$nulls":21},"[td][/td]"]
[{"$nulls":21},"[td][/td]"]
[{"$nulls":20},"[/tr]"]
[{"$nulls":20},"[/table]"]
[]
[{"$nulls":20},"[table]"]
[{"$nulls":20},"[tr]"]
[{"$nulls":21},"[td][url=http://www.tabonline.com.au/2012/05/07/NR06.html]Murwillumbah   Race   6[/url][/td]"]
[{"$nulls":21},"[td][color=yellow]Tweed Coast Chery (Bm50)[/color][/td]"]
[{"$nulls":21},"[td]$10000[/td]"]
[{"$nulls":21},"[td][color=lime]Benchmark 50[/color][/td]"]
[{"$nulls":20},"[/tr]"]
[{"$nulls":20},"[tr]"]
[{"$nulls":21},"[td]No Horse[/td]"]
[{"$nulls":21},"[td]Rated Price[/td]"]
[{"$nulls":21},"[td]Win[/td]"]
[{"$nulls":21},"[td]Place[/td]"]
[{"$nulls":20},"[/tr]"]
[{"$nulls":20},"[tr]"]
[{"$nulls":21},"[td]1. Danewin Girl[/td]"]
[{"$nulls":21},"[td]$2.63[/td]"]
[{"$nulls":21},"[td][/td]"]
[{"$nulls":21},"[td][/td]"]
[{"$nulls":20},"[/tr]"]
[{"$nulls":20},"[tr]"]
[{"$nulls":21},"[td]3. Rubys Epic[/td]"]
[{"$nulls":21},"[td]$4.40[/td]"]
[{"$nulls":21},"[td][/td]"]
[{"$nulls":21},"[td][/td]"]
[{"$nulls":20},"[/tr]"]
[{"$nulls":20},"[tr]"]
[{"$nulls":21},"[td]5. Isajoy[/td]"]
[{"$nulls":21},"[td]$4.81[/td]"]
[{"$nulls":21},"[td][/td]"]
[{"$nulls":21},"[td][/td]"]
[{"$nulls":20},"[/tr]"]
[{"$nulls":20},"[/table]"]
[]
[{"$nulls":20},"[table]"]
[{"$nulls":20},"[tr]"]
[{"$nulls":21},"[td][url=http://www.tabonline.com.au/2012/05/07/BR07.html]Ipswich   Race   7[/url][/td]"]
[{"$nulls":21},"[td][color=yellow]Cfmeu Mining & Energy Plate[/color][/td]"]
[{"$nulls":21},"[td]$150000[/td]"]
[{"$nulls":21},"[td][color=lime]Open[/color][/td]"]
[{"$nulls":20},"[/tr]"]
[{"$nulls":20},"[tr]"]
[{"$nulls":21},"[td]No Horse[/td]"]
[{"$nulls":21},"[td]Rated Price[/td]"]
[{"$nulls":21},"[td]Win[/td]"]
[{"$nulls":21},"[td]Place[/td]"]
[{"$nulls":20},"[/tr]"]
[{"$nulls":20},"[tr]"]
[{"$nulls":21},"[td]8. Optionality[/td]"]
[{"$nulls":21},"[td]$2.99[/td]"]
[{"$nulls":21},"[td][/td]"]
[{"$nulls":21},"[td][/td]"]
[{"$nulls":20},"[/tr]"]
[{"$nulls":20},"[tr]"]
[{"$nulls":21},"[td]9. Discreet[/td]"]
[{"$nulls":21},"[td]$3.24[/td]"]
[{"$nulls":21},"[td][/td]"]
[{"$nulls":21},"[td][/td]"]
[{"$nulls":20},"[/tr]"]
[{"$nulls":20},"[tr]"]
[{"$nulls":21},"[td]1. Bullet One[/td]"]
[{"$nulls":21},"[td]$4.71[/td]"]
[{"$nulls":21},"[td][/td]"]
[{"$nulls":21},"[td][/td]"]
[{"$nulls":20},"[/tr]"]
[{"$nulls":20},"[/table]"]
[]
[{"$nulls":20},"[table]"]
[{"$nulls":20},"[tr]"]
[{"$nulls":21},"[td][url=http://www.tabonline.com.au/2012/05/07/BR08.html]Ipswich   Race   8[/url][/td]"]
[{"$nulls":21},"[td][color=yellow]Cfmeu Mining & Energy Plate-C3[/color][/td]"]
[{"$nulls":21},"[td]$25000[/td]"]
[{"$nulls":21},"[td][color=lime]Class 3[/color][/td]"]
[{"$nulls":20},"[/tr]"]
[{"$nulls":20},"[tr]"]
[{"$nulls":21},"[td]No Horse[/td]"]
[{"$nulls":21},"[td]Rated Price[/td]"]
[{"$nulls":21},"[td]Win[/td]"]
[{"$nulls":21},"[td]Place[/td]"]
[{"$nulls":20},"[/tr]"]
[{"$nulls":20},"[tr]"]
[{"$nulls":21},"[td]10. Run With Me[/td]"]
[{"$nulls":21},"[td]$3.06[/td]"]
[{"$nulls":21},"[td][/td]"]
[{"$nulls":21},"[td][/td]"]
[{"$nulls":20},"[/tr]"]
[{"$nulls":20},"[tr]"]
[{"$nulls":21},"[td]4. Jam Fancy[/td]"]
[{"$nulls":21},"[td]$3.57[/td]"]
[{"$nulls":21},"[td][/td]"]
[{"$nulls":21},"[td][/td]"]
[{"$nulls":20},"[/tr]"]
[{"$nulls":20},"[tr]"]
[{"$nulls":21},"[td]5. Kid Tycoon[/td]"]
[{"$nulls":21},"[td]$5.09[/td]"]
[{"$nulls":21},"[td][/td]"]
[{"$nulls":21},"[td][/td]"]
[{"$nulls":20},"[/tr]"]
[{"$nulls":20},"[/table]"]
[]
[{"$nulls":20},"[table]"]
[{"$nulls":20},"[tr]"]
[{"$nulls":21},"[td][url=http://www.tabonline.com.au/2012/05/07/BR09.html]Ipswich   Race   9[/url][/td]"]
[{"$nulls":21},"[td][color=yellow]Retired Miners Plate (C3)[/color][/td]"]
[{"$nulls":21},"[td]$25000[/td]"]
[{"$nulls":21},"[td][color=lime]Class 3[/color][/td]"]
[{"$nulls":20},"[/tr]"]
[{"$nulls":20},"[tr]"]
[{"$nulls":21},"[td]No Horse[/td]"]
[{"$nulls":21},"[td]Rated Price[/td]"]
[{"$nulls":21},"[td]Win[/td]"]
[{"$nulls":21},"[td]Place[/td]"]
[{"$nulls":20},"[/tr]"]
[{"$nulls":20},"[tr]"]
[{"$nulls":21},"[td]2. Castle Express[/td]"]
[{"$nulls":21},"[td]$2.82[/td]"]
[{"$nulls":21},"[td][/td]"]
[{"$nulls":21},"[td][/td]"]
[{"$nulls":20},"[/tr]"]
[{"$nulls":20},"[tr]"]
[{"$nulls":21},"[td]13. Little Brown Horse[/td]"]
[{"$nulls":21},"[td]$2.82[/td]"]
[{"$nulls":21},"[td][/td]"]
[{"$nulls":21},"[td][/td]"]
[{"$nulls":20},"[/tr]"]
[{"$nulls":20},"[tr]"]
[{"$nulls":21},"[td]5. Mitayden[/td]"]
[{"$nulls":21},"[td]$4.92[/td]"]
[{"$nulls":21},"[td][/td]"]
[{"$nulls":21},"[td][/td]"]
[{"$nulls":20},"[/tr]"]
[{"$nulls":20},"[/table]"]
[]
[{"$nulls":20},"[table]"]
[{"$nulls":20},"[tr]"]
[{"$nulls":21},"[td][url=http://www.tabonline.com.au/2012/05/07/BR10.html]Ipswich   Race   10[/url][/td]"]
[{"$nulls":21},"[td][color=yellow]Etu/Ibew Solidarity Stks-Bm85[/color][/td]"]
[{"$nulls":21},"[td]$15000[/td]"]
[{"$nulls":21},"[td][color=lime]Benchmark 85[/color][/td]"]
[{"$nulls":20},"[/tr]"]
[{"$nulls":20},"[tr]"]
[{"$nulls":21},"[td]No Horse[/td]"]
[{"$nulls":21},"[td]Rated Price[/td]"]
[{"$nulls":21},"[td]Win[/td]"]
[{"$nulls":21},"[td]Place[/td]"]
[{"$nulls":20},"[/tr]"]
[{"$nulls":20},"[tr]"]
[{"$nulls":21},"[td]4. Dollario[/td]"]
[{"$nulls":21},"[td]$2.66[/td]"]
[{"$nulls":21},"[td][/td]"]
[{"$nulls":21},"[td][/td]"]
[{"$nulls":20},"[/tr]"]
[{"$nulls":20},"[tr]"]
[{"$nulls":21},"[td]5. Aquatorial[/td]"]
[{"$nulls":21},"[td]$2.89[/td]"]
[{"$nulls":21},"[td][/td]"]
[{"$nulls":21},"[td][/td]"]
[{"$nulls":20},"[/tr]"]
[{"$nulls":20},"[tr]"]
[{"$nulls":21},"[td]10. Funny Falve[/td]"]
[{"$nulls":21},"[td]$4.84[/td]"]
[{"$nulls":21},"[td][/td]"]
[{"$nulls":21},"[td][/td]"]
[{"$nulls":20},"[/tr]"]
[{"$nulls":20},"[/table]"]
[]
[{"$nulls":20},"[table]"]
[{"$nulls":20},"[tr]"]
[{"$nulls":21},"[td][url=http://www.tabonline.com.au/2012/05/07/NR04.html]Murwillumbah   Race   4[/url][/td]"]
[{"$nulls":21},"[td][color=yellow]Murwillumbah Cellars Mdn Plate[/color][/td]"]
[{"$nulls":21},"[td]$10000[/td]"]
[{"$nulls":21},"[td][color=lime]Maiden[/color][/td]"]
[{"$nulls":20},"[/tr]"]
[{"$nulls":20},"[tr]"]
[{"$nulls":21},"[td]No Horse[/td]"]
[{"$nulls":21},"[td]Rated Price[/td]"]
[{"$nulls":21},"[td]Win[/td]"]
[{"$nulls":21},"[td]Place[/td]"]
[{"$nulls":20},"[/tr]"]
[{"$nulls":20},"[tr]"]
[{"$nulls":21},"[td]12. Time Has Come[/td]"]
[{"$nulls":21},"[td]$2.43[/td]"]
[{"$nulls":21},"[td][/td]"]
[{"$nulls":21},"[td][/td]"]
[{"$nulls":20},"[/tr]"]
[{"$nulls":20},"[tr]"]
[{"$nulls":21},"[td]3. Clear[/td]"]
[{"$nulls":21},"[td]$3.70[/td]"]
[{"$nulls":21},"[td][/td]"]
[{"$nulls":21},"[td][/td]"]
[{"$nulls":20},"[/tr]"]
[{"$nulls":20},"[tr]"]
[{"$nulls":21},"[td]2. Bamboo House[/td]"]
[{"$nulls":21},"[td]$4.57[/td]"]
[{"$nulls":21},"[td][/td]"]
[{"$nulls":21},"[td][/td]"]
[{"$nulls":20},"[/tr]"]
[{"$nulls":20},"[/table]"]
[]
[{"$nulls":20},"[table]"]
[{"$nulls":20},"[tr]"]
[{"$nulls":21},"[td][url=http://www.tabonline.com.au/2012/05/07/NR05.html]Murwillumbah   Race   5[/url][/td]"]
[{"$nulls":21},"[td][color=yellow]Victory Ford Cup (C3)[/color][/td]"]
[{"$nulls":21},"[td]$10000[/td]"]
[{"$nulls":21},"[td][color=lime]Class 3[/color][/td]"]
[{"$nulls":20},"[/tr]"]
[{"$nulls":20},"[tr]"]
[{"$nulls":21},"[td]No Horse[/td]"]
[{"$nulls":21},"[td]Rated Price[/td]"]
[{"$nulls":21},"[td]Win[/td]"]
[{"$nulls":21},"[td]Place[/td]"]
[{"$nulls":20},"[/tr]"]
[{"$nulls":20},"[tr]"]
[{"$nulls":21},"[td]1. Jigsaws[/td]"]
[{"$nulls":21},"[td]$2.43[/td]"]
[{"$nulls":21},"[td][/td]"]
[{"$nulls":21},"[td][/td]"]
[{"$nulls":20},"[/tr]"]
[{"$nulls":20},"[tr]"]
[{"$nulls":21},"[td]5. Leica Bita Lippy[/td]"]
[{"$nulls":21},"[td]$2.62[/td]"]
[{"$nulls":21},"[td][/td]"]
[{"$nulls":21},"[td][/td]"]
[{"$nulls":20},"[/tr]"]
[{"$nulls":20},"[tr]"]
[{"$nulls":21},"[td]6. Oreillys Gold[/td]"]
[{"$nulls":21},"[td]$7.43[/td]"]
[{"$nulls":21},"[td][/td]"]
[{"$nulls":21},"[td][/td]"]
[{"$nulls":20},"[/tr]"]
[{"$nulls":20},"[/table]"]
[]
[{"$nulls":20},"[table]"]
[{"$nulls":20},"[tr]"]
[{"$nulls":21},"[td][url=http://www.tabonline.com.au/2012/05/07/NR06.html]Murwillumbah   Race   6[/url][/td]"]
[{"$nulls":21},"[td][color=yellow]Tweed Coast Chery (Bm50)[/color][/td]"]
[{"$nulls":21},"[td]$10000[/td]"]
[{"$nulls":21},"[td][color=lime]Benchmark 50[/color][/td]"]
[{"$nulls":20},"[/tr]"]
[{"$nulls":20},"[tr]"]
[{"$nulls":21},"[td]No Horse[/td]"]
[{"$nulls":21},"[td]Rated Price[/td]"]
[{"$nulls":21},"[td]Win[/td]"]
[{"$nulls":21},"[td]Place[/td]"]
[{"$nulls":20},"[/tr]"]
[{"$nulls":20},"[tr]"]
[{"$nulls":21},"[td]1. Danewin Girl[/td]"]
[{"$nulls":21},"[td]$2.63[/td]"]
[{"$nulls":21},"[td][/td]"]
[{"$nulls":21},"[td][/td]"]
[{"$nulls":20},"[/tr]"]
[{"$nulls":20},"[tr]"]
[{"$nulls":21},"[td]3. Rubys Epic[/td]"]
[{"$nulls":21},"[td]$4.40[/td]"]
[{"$nulls":21},"[td][/td]"]
[{"$nulls":21},"[td][/td]"]
[{"$nulls":20},"[/tr]"]
[{"$nulls":20},"[tr]"]
[{"$nulls":21},"[td]5. Isajoy[/td]"]
[{"$nulls":21},"[td]$4.81[/td]"]
[{"$nulls":21},"[td][/td]"]
[{"$nulls":21},"[td][/td]"]
[{"$nulls":20},"[/tr]"]
[{"$nulls":20},"[/table]"]
[]
[{"$nulls":20},"[table]"]
[{"$nulls":20},"[tr]"]
[{"$nulls":21},"[td][url=http://www.tabonline.com.au/2012/05/07/NR07.html]Murwillumbah   Race   7[/url][/td]"]
[{"$nulls":21},"[td][color=yellow]Tweed Coast Isuzu Ute (Bm50)[/color][/td]"]
[{"$nulls":21},"[td]$10000[/td]"]
[{"$nulls":21},"[td][color=lime]Benchmark 50[/color][/td]"]
[{"$nulls":20},"[/tr]"]
[{"$nulls":20},"[tr]"]
[{"$nulls":21},"[td]No Horse[/td]"]
[{"$nulls":21},"[td]Rated Price[/td]"]
[{"$nulls":21},"[td]Win[/td]"]
[{"$nulls":21},"[td]Place[/td]"]
[{"$nulls":20},"[/tr]"]
[{"$nulls":20},"[tr]"]
[{"$nulls":21},"[td]2. Epic Terra[/td]"]
[{"$nulls":21},"[td]$2.59[/td]"]
[{"$nulls":21},"[td][/td]"]
[{"$nulls":21},"[td][/td]"]
[{"$nulls":20},"[/tr]"]
[{"$nulls":20},"[tr]"]
[{"$nulls":21},"[td]1. Tictacs[/td]"]
[{"$nulls":21},"[td]$2.73[/td]"]
[{"$nulls":21},"[td][/td]"]
[{"$nulls":21},"[td][/td]"]
[{"$nulls":20},"[/tr]"]
[{"$nulls":20},"[tr]"]
[{"$nulls":21},"[td]11. At Speed[/td]"]
[{"$nulls":21},"[td]$4.95[/td]"]
[{"$nulls":21},"[td][/td]"]
[{"$nulls":21},"[td][/td]"]
[{"$nulls":20},"[/tr]"]
[{"$nulls":20},"[/table]"]
[]
[{"$nulls":20},"[table]"]
[{"$nulls":20},"[tr]"]
[{"$nulls":21},"[td][url=http://www.tabonline.com.au/2012/05/07/VR05.html]Mornington   Race   5[/url][/td]"]
[{"$nulls":21},"[td][color=yellow]Dream Thoroughbreds Hcp (68)[/color][/td]"]
[{"$nulls":21},"[td]$12000[/td]"]
[{"$nulls":21},"[td][color=lime]Restricted 68[/color][/td]"]
[{"$nulls":20},"[/tr]"]
[{"$nulls":20},"[tr]"]
[{"$nulls":21},"[td]No Horse[/td]"]
[{"$nulls":21},"[td]Rated Price[/td]"]
[{"$nulls":21},"[td]Win[/td]"]
[{"$nulls":21},"[td]Place[/td]"]
[{"$nulls":20},"[/tr]"]
[{"$nulls":20},"[tr]"]
[{"$nulls":21},"[td]5. Must Have[/td]"]
[{"$nulls":21},"[td]$2.38[/td]"]
[{"$nulls":21},"[td][/td]"]
[{"$nulls":21},"[td][/td]"]
[{"$nulls":20},"[/tr]"]
[{"$nulls":20},"[tr]"]
[{"$nulls":21},"[td]6. Affinis[/td]"]
[{"$nulls":21},"[td]$3.67[/td]"]
[{"$nulls":21},"[td][/td]"]
[{"$nulls":21},"[td][/td]"]
[{"$nulls":20},"[/tr]"]
[{"$nulls":20},"[tr]"]
[{"$nulls":21},"[td]9. Naringaling[/td]"]
[{"$nulls":21},"[td]$4.79[/td]"]
[{"$nulls":21},"[td][/td]"]
[{"$nulls":21},"[td][/td]"]
[{"$nulls":20},"[/tr]"]
[{"$nulls":20},"[/table]"]
[]
[{"$nulls":20},"[table]"]
[{"$nulls":20},"[tr]"]
[{"$nulls":21},"[td][url=http://www.tabonline.com.au/2012/05/07/VR06.html]Mornington   Race   6[/url][/td]"]
[{"$nulls":21},"[td][color=yellow]Beleura Retirement Village-58[/color][/td]"]
[{"$nulls":21},"[td]$12000[/td]"]
[{"$nulls":21},"[td][color=lime]Restricted 58[/color][/td]"]
[{"$nulls":20},"[/tr]"]
[{"$nulls":20},"[tr]"]
[{"$nulls":21},"[td]No Horse[/td]"]
[{"$nulls":21},"[td]Rated Price[/td]"]
[{"$nulls":21},"[td]Win[/td]"]
[{"$nulls":21},"[td]Place[/td]"]
[{"$nulls":20},"[/tr]"]
[{"$nulls":20},"[tr]"]
[{"$nulls":21},"[td]1. Aashiq[/td]"]
[{"$nulls":21},"[td]$2.23[/td]"]
[{"$nulls":21},"[td][/td]"]
[{"$nulls":21},"[td][/td]"]
[{"$nulls":20},"[/tr]"]
[{"$nulls":20},"[tr]"]
[{"$nulls":21},"[td]8. Mulga Chief[/td]"]
[{"$nulls":21},"[td]$3.13[/td]"]
[{"$nulls":21},"[td][/td]"]
[{"$nulls":21},"[td][/td]"]
[{"$nulls":20},"[/tr]"]
[{"$nulls":20},"[tr]"]
[{"$nulls":21},"[td]9. Perisher Blue[/td]"]
[{"$nulls":21},"[td]$5.29[/td]"]
[{"$nulls":21},"[td][/td]"]
[{"$nulls":21},"[td][/td]"]
[{"$nulls":20},"[/tr]"]
[{"$nulls":20},"[/table]"]
[]
[{"$nulls":20},"[table]"]
[{"$nulls":20},"[tr]"]
[{"$nulls":21},"[td][url=http://www.tabonline.com.au/2012/05/07/BR07.html]Ipswich   Race   7[/url][/td]"]
[{"$nulls":21},"[td][color=yellow]Cfmeu Mining & Energy Plate[/color][/td]"]
[{"$nulls":21},"[td]$150000[/td]"]
[{"$nulls":21},"[td][color=lime]Open[/color][/td]"]
[{"$nulls":20},"[/tr]"]
[{"$nulls":20},"[tr]"]
[{"$nulls":21},"[td]No Horse[/td]"]
[{"$nulls":21},"[td]Rated Price[/td]"]
[{"$nulls":21},"[td]Win[/td]"]
[{"$nulls":21},"[td]Place[/td]"]
[{"$nulls":20},"[/tr]"]
[{"$nulls":20},"[tr]"]
[{"$nulls":21},"[td]8. Optionality[/td]"]
[{"$nulls":21},"[td]$2.99[/td]"]
[{"$nulls":21},"[td][/td]"]
[{"$nulls":21},"[td][/td]"]
[{"$nulls":20},"[/tr]"]
[{"$nulls":20},"[tr]"]
[{"$nulls":21},"[td]9. Discreet[/td]"]
[{"$nulls":21},"[td]$3.24[/td]"]
[{"$nulls":21},"[td][/td]"]
[{"$nulls":21},"[td][/td]"]
[{"$nulls":20},"[/tr]"]
[{"$nulls":20},"[tr]"]
[{"$nulls":21},"[td]1. Bullet One[/td]"]
[{"$nulls":21},"[td]$4.71[/td]"]
[{"$nulls":21},"[td][/td]"]
[{"$nulls":21},"[td][/td]"]
[{"$nulls":20},"[/tr]"]
[{"$nulls":20},"[/table]"]
[]
[{"$nulls":20},"[table]"]
[{"$nulls":20},"[tr]"]
[{"$nulls":21},"[td][url=http://www.tabonline.com.au/2012/05/07/BR08.html]Ipswich   Race   8[/url][/td]"]
[{"$nulls":21},"[td][color=yellow]Cfmeu Mining & Energy Plate-C3[/color][/td]"]
[{"$nulls":21},"[td]$25000[/td]"]
[{"$nulls":21},"[td][color=lime]Class 3[/color][/td]"]
[{"$nulls":20},"[/tr]"]
[{"$nulls":20},"[tr]"]
[{"$nulls":21},"[td]No Horse[/td]"]
[{"$nulls":21},"[td]Rated Price[/td]"]
[{"$nulls":21},"[td]Win[/td]"]
[{"$nulls":21},"[td]Place[/td]"]
[{"$nulls":20},"[/tr]"]
[{"$nulls":20},"[tr]"]
[{"$nulls":21},"[td]10. Run With Me[/td]"]
[{"$nulls":21},"[td]$3.06[/td]"]
[{"$nulls":21},"[td][/td]"]
[{"$nulls":21},"[td][/td]"]
[{"$nulls":20},"[/tr]"]
[{"$nulls":20},"[tr]"]
[{"$nulls":21},"[td]4. Jam Fancy[/td]"]
[{"$nulls":21},"[td]$3.57[/td]"]
[{"$nulls":21},"[td][/td]"]
[{"$nulls":21},"[td][/td]"]
[{"$nulls":20},"[/tr]"]
[{"$nulls":20},"[tr]"]
[{"$nulls":21},"[td]5. Kid Tycoon[/td]"]
[{"$nulls":21},"[td]$5.09[/td]"]
[{"$nulls":21},"[td][/td]"]
[{"$nulls":21},"[td][/td]"]
[{"$nulls":20},"[/tr]"]
[{"$nulls":20},"[/table]"]
[]
[{"$nulls":20},"[table]"]
[{"$nulls":20},"[tr]"]
[{"$nulls":21},"[td][url=http://www.tabonline.com.au/2012/05/07/BR09.html]Ipswich   Race   9[/url][/td]"]
[{"$nulls":21},"[td][color=yellow]Retired Miners Plate (C3)[/color][/td]"]
[{"$nulls":21},"[td]$25000[/td]"]
[{"$nulls":21},"[td][color=lime]Class 3[/color][/td]"]
[{"$nulls":20},"[/tr]"]
[{"$nulls":20},"[tr]"]
[{"$nulls":21},"[td]No Horse[/td]"]
[{"$nulls":21},"[td]Rated Price[/td]"]
[{"$nulls":21},"[td]Win[/td]"]
[{"$nulls":21},"[td]Place[/td]"]
[{"$nulls":20},"[/tr]"]
[{"$nulls":20},"[tr]"]
[{"$nulls":21},"[td]2. Castle Express[/td]"]
[{"$nulls":21},"[td]$2.82[/td]"]
[{"$nulls":21},"[td][/td]"]
[{"$nulls":21},"[td][/td]"]
[{"$nulls":20},"[/tr]"]
[{"$nulls":20},"[tr]"]
[{"$nulls":21},"[td]13. Little Brown Horse[/td]"]
[{"$nulls":21},"[td]$2.82[/td]"]
[{"$nulls":21},"[td][/td]"]
[{"$nulls":21},"[td][/td]"]
[{"$nulls":20},"[/tr]"]
[{"$nulls":20},"[tr]"]
[{"$nulls":21},"[td]5. Mitayden[/td]"]
[{"$nulls":21},"[td]$4.92[/td]"]
[{"$nulls":21},"[td][/td]"]
[{"$nulls":21},"[td][/td]"]
[{"$nulls":20},"[/tr]"]
[{"$nulls":20},"[/table]"]
[]
[{"$nulls":20},"[table]"]
[{"$nulls":20},"[tr]"]
[{"$nulls":21},"[td][url=http://www.tabonline.com.au/2012/05/07/BR10.html]Ipswich   Race   10[/url][/td]"]
[{"$nulls":21},"[td][color=yellow]Etu/Ibew Solidarity Stks-Bm85[/color][/td]"]
[{"$nulls":21},"[td]$15000[/td]"]
[{"$nulls":21},"[td][color=lime]Benchmark 85[/color][/td]"]
[{"$nulls":20},"[/tr]"]
[{"$nulls":20},"[tr]"]
[{"$nulls":21},"[td]No Horse[/td]"]
[{"$nulls":21},"[td]Rated Price[/td]"]
[{"$nulls":21},"[td]Win[/td]"]
[{"$nulls":21},"[td]Place[/td]"]
[{"$nulls":20},"[/tr]"]
[{"$nulls":20},"[tr]"]
[{"$nulls":21},"[td]4. Dollario[/td]"]
[{"$nulls":21},"[td]$2.66[/td]"]
[{"$nulls":21},"[td][/td]"]
[{"$nulls":21},"[td][/td]"]
[{"$nulls":20},"[/tr]"]
[{"$nulls":20},"[tr]"]
[{"$nulls":21},"[td]5. Aquatorial[/td]"]
[{"$nulls":21},"[td]$2.89[/td]"]
[{"$nulls":21},"[td][/td]"]
[{"$nulls":21},"[td][/td]"]
[{"$nulls":20},"[/tr]"]
[{"$nulls":20},"[tr]"]
[{"$nulls":21},"[td]10. Funny Falve[/td]"]
[{"$nulls":21},"[td]$4.84[/td]"]
[{"$nulls":21},"[td][/td]"]
[{"$nulls":21},"[td][/td]"]
[{"$nulls":20},"[/tr]"]
[{"$nulls":20},"[/table]"]
[]
[{"$nulls":20},"[table]"]
[{"$nulls":20},"[tr]"]
[{"$nulls":21},"[td][url=http://www.tabonline.com.au/2012/05/07/NR04.html]Murwillumbah   Race   4[/url][/td]"]
[{"$nulls":21},"[td][color=yellow]Murwillumbah Cellars Mdn Plate[/color][/td]"]
[{"$nulls":21},"[td]$10000[/td]"]
[{"$nulls":21},"[td][color=lime]Maiden[/color][/td]"]
[{"$nulls":20},"[/tr]"]
[{"$nulls":20},"[tr]"]
[{"$nulls":21},"[td]No Horse[/td]"]
[{"$nulls":21},"[td]Rated Price[/td]"]
[{"$nulls":21},"[td]Win[/td]"]
[{"$nulls":21},"[td]Place[/td]"]
[{"$nulls":20},"[/tr]"]
[{"$nulls":20},"[tr]"]
[{"$nulls":21},"[td]12. Time Has Come[/td]"]
[{"$nulls":21},"[td]$2.43[/td]"]
[{"$nulls":21},"[td][/td]"]
[{"$nulls":21},"[td][/td]"]
[{"$nulls":20},"[/tr]"]
[{"$nulls":20},"[tr]"]
[{"$nulls":21},"[td]3. Clear[/td]"]
[{"$nulls":21},"[td]$3.70[/td]"]
[{"$nulls":21},"[td][/td]"]
[{"$nulls":21},"[td][/td]"]
[{"$nulls":20},"[/tr]"]
[{"$nulls":20},"[tr]"]
[{"$nulls":21},"[td]2. Bamboo House[/td]"]
[{"$nulls":21},"[td]$4.57[/td]"]
[{"$nulls":21},"[td][/td]"]
[{"$nulls":21},"[td][/td]"]
[{"$nulls":20},"[/tr]"]
[{"$nulls":20},"[/table]"]
[]
[{"$nulls":20},"[table]"]
[{"$nulls":20},"[tr]"]
[{"$nulls":21},"[td][url=http://www.tabonline.com.au/2012/05/07/BR07.html]Ipswich   Race   7[/url][/td]"]
[{"$nulls":21},"[td][color=yellow]Cfmeu Mining & Energy Plate[/color][/td]"]
[{"$nulls":21},"[td]$150000[/td]"]
[{"$nulls":21},"[td][color=lime]Open[/color][/td]"]
[{"$nulls":20},"[/tr]"]
[{"$nulls":20},"[tr]"]
[{"$nulls":21},"[td]No Horse[/td]"]
[{"$nulls":21},"[td]Rated Price[/td]"]
[{"$nulls":21},"[td]Win[/td]"]
[{"$nulls":21},"[td]Place[/td]"]
[{"$nulls":20},"[/tr]"]
[{"$nulls":20},"[tr]"]
[{"$nulls":21},"[td]8. Optionality[/td]"]
[{"$nulls":21},"[td]$2.99[/td]"]
[{"$nulls":21},"[td][/td]"]
[{"$nulls":21},"[td][/td]"]
[{"$nulls":20},"[/tr]"]
[{"$nulls":20},"[tr]"]
[{"$nulls":21},"[td]9. Discreet[/td]"]
[{"$nulls":21},"[td]$3.24[/td]"]
[{"$nulls":21},"[td][/td]"]
[{"$nulls":21},"[td][/td]"]
[{"$nulls":20},"[/tr]"]
[{"$nulls":20},"[tr]"]
[{"$nulls":21},"[td]1. Bullet One[/td]"]
[{"$nulls":21},"[td]$4.71[/td]"]
[{"$nulls":21},"[td][/td]"]
[{"$nulls":21},"[td][/td]"]
[{"$nulls":20},"[/tr]"]
[{"$nulls":20},"[/table]"]
[]
[{"$nulls":20},"[table]"]
[{"$nulls":20},"[tr]"]
[{"$nulls":21},"[td][url=http://www.tabonline.com.au/2012/05/07/BR08.html]Ipswich   Race   8[/url][/td]"]
[{"$nulls":21},"[td][color=yellow]Cfmeu Mining & Energy Plate-C3[/color][/td]"]
[{"$nulls":21},"[td]$25000[/td]"]
[{"$nulls":21},"[td][color=lime]Class 3[/color][/td]"]
[{"$nulls":20},"[/tr]"]
[{"$nulls":20},"[tr]"]
[{"$nulls":21},"[td]No Horse[/td]"]
[{"$nulls":21},"[td]Rated Price[/td]"]
[{"$nulls":21},"[td]Win[/td]"]
[{"$nulls":21},"[td]Place[/td]"]
[{"$nulls":20},"[/tr]"]
[{"$nulls":20},"[tr]"]
[{"$nulls":21},"[td]10. Run With Me[/td]"]
[{"$nulls":21},"[td]$3.06[/td]"]
[{"$nulls":21},"[td][/td]"]
[{"$nulls":21},"[td][/td]"]
[{"$nulls":20},"[/tr]"]
[{"$nulls":20},"[tr]"]
[{"$nulls":21},"[td]4. Jam Fancy[/td]"]
[{"$nulls":21},"[td]$3.57[/td]"]
[{"$nulls":21},"[td][/td]"]
[{"$nulls":21},"[td][/td]"]
[{"$nulls":20},"[/tr]"]
[{"$nulls":20},"[tr]"]
[{"$nulls":21},"[td]5. Kid Tycoon[/td]"]
[{"$nulls":21},"[td]$5.09[/td]"]
[{"$nulls":21},"[td][/td]"]
[{"$nulls":21},"[td][/td]"]
[{"$nulls":20},"[/tr]"]
[{"$nulls":20},"[/table]"]
[]
[{"$nulls":20},"[table]"]
[{"$nulls":20},"[tr]"]
[{"$nulls":21},"[td][url=http://www.tabonline.com.au/2012/05/07/BR09.html]Ipswich   Race   9[/url][/td]"]
[{"$nulls":21},"[td][color=yellow]Retired Miners Plate (C3)[/color][/td]"]
[{"$nulls":21},"[td]$25000[/td]"]
[{"$nulls":21},"[td][color=lime]Class 3[/color][/td]"]
[{"$nulls":20},"[/tr]"]
[{"$nulls":20},"[tr]"]
[{"$nulls":21},"[td]No Horse[/td]"]
[{"$nulls":21},"[td]Rated Price[/td]"]
[{"$nulls":21},"[td]Win[/td]"]
[{"$nulls":21},"[td]Place[/td]"]
[{"$nulls":20},"[/tr]"]
[{"$nulls":20},"[tr]"]
[{"$nulls":21},"[td]2. Castle Express[/td]"]
[{"$nulls":21},"[td]$2.82[/td]"]
[{"$nulls":21},"[td][/td]"]
[{"$nulls":21},"[td][/td]"]
[{"$nulls":20},"[/tr]"]
[{"$nulls":20},"[tr]"]
[{"$nulls":21},"[td]13. Little Brown Horse[/td]"]
[{"$nulls":21},"[td]$2.82[/td]"]
[{"$nulls":21},"[td][/td]"]
[{"$nulls":21},"[td][/td]"]
[{"$nulls":20},"[/tr]"]
[{"$nulls":20},"[tr]"]
[{"$nulls":21},"[td]5. Mitayden[/td]"]
[{"$nulls":21},"[td]$4.92[/td]"]
[{"$nulls":21},"[td][/td]"]
[{"$nulls":21},"[td][/td]"]
[{"$nulls":20},"[/tr]"]
[{"$nulls":20},"[/table]"]
[]
[{"$nulls":20},"[table]"]
[{"$nulls":20},"[tr]"]
[{"$nulls":21},"[td][url=http://www.tabonline.com.au/2012/05/07/BR10.html]Ipswich   Race   10[/url][/td]"]
[{"$nulls":21},"[td][color=yellow]Etu/Ibew Solidarity Stks-Bm85[/color][/td]"]
[{"$nulls":21},"[td]$15000[/td]"]
[{"$nulls":21},"[td][color=lime]Benchmark 85[/color][/td]"]
[{"$nulls":20},"[/tr]"]
[{"$nulls":20},"[tr]"]
[{"$nulls":21},"[td]No Horse[/td]"]
[{"$nulls":21},"[td]Rated Price[/td]"]
[{"$nulls":21},"[td]Win[/td]"]
[{"$nulls":21},"[td]Place[/td]"]
[{"$nulls":20},"[/tr]"]
[{"$nulls":20},"[tr]"]
[{"$nulls":21},"[td]4. Dollario[/td]"]
[{"$nulls":21},"[td]$2.66[/td]"]
[{"$nulls":21},"[td][/td]"]
[{"$nulls":21},"[td][/td]"]
[{"$nulls":20},"[/tr]"]
[{"$nulls":20},"[tr]"]
[{"$nulls":21},"[td]5. Aquatorial[/td]"]
[{"$nulls":21},"[td]$2.89[/td]"]
[{"$nulls":21},"[td][/td]"]
[{"$nulls":21},"[td][/td]"]
[{"$nulls":20},"[/tr]"]
[{"$nulls":20},"[tr]"]
[{"$nulls":21},"[td]10. Funny Falve[/td]"]
[{"$nulls":21},"[td]$4.84[/td]"]
[{"$nulls":21},"[td][/td]"]
[{"$nulls":21},"[td][/td]"]
[{"$nulls":20},"[/tr]"]
[{"$nulls":20},"[/table]"]
[]
[{"$nulls":20},"[table]"]
[{"$nulls":20},"[tr]"]
[{"$nulls":21},"[td][url=http://www.tabonline.com.au/2012/05/07/NR04.html]Murwillumbah   Race   4[/url][/td]"]
[{"$nulls":21},"[td][color=yellow]Murwillumbah Cellars Mdn Plate[/color][/td]"]
[{"$nulls":21},"[td]$10000[/td]"]
[{"$nulls":21},"[td][color=lime]Maiden[/color][/td]"]
[{"$nulls":20},"[/tr]"]
[{"$nulls":20},"[tr]"]
[{"$nulls":21},"[td]No Horse[/td]"]
[{"$nulls":21},"[td]Rated Price[/td]"]
[{"$nulls":21},"[td]Win[/td]"]
[{"$nulls":21},"[td]Place[/td]"]
[{"$nulls":20},"[/tr]"]
[{"$nulls":20},"[tr]"]
[{"$nulls":21},"[td]12. Time Has Come[/td]"]
[{"$nulls":21},"[td]$2.43[/td]"]
[{"$nulls":21},"[td][/td]"]
[{"$nulls":21},"[td][/td]"]
[{"$nulls":20},"[/tr]"]
[{"$nulls":20},"[tr]"]
[{"$nulls":21},"[td]3. Clear[/td]"]
[{"$nulls":21},"[td]$3.70[/td]"]
[{"$nulls":21},"[td][/td]"]
[{"$nulls":21},"[td][/td]"]
[{"$nulls":20},"[/tr]"]
[{"$nulls":20},"[tr]"]
[{"$nulls":21},"[td]2. Bamboo House[/td]"]
[{"$nulls":21},"[td]$4.57[/td]"]
[{"$nulls":21},"[td][/td]"]
[{"$nulls":21},"[td][/td]"]
[{"$nulls":20},"[/tr]"]
[{"$nulls":20},"[/table]"]
[]
[{"$nulls":20},"[table]"]
[{"$nulls":20},"[tr]"]
[{"$nulls":21},"[td][url=http://www.tabonline.com.au/2012/05/07/NR05.html]Murwillumbah   Race   5[/url][/td]"]
[{"$nulls":21},"[td][color=yellow]Victory Ford Cup (C3)[/color][/td]"]
[{"$nulls":21},"[td]$10000[/td]"]
[{"$nulls":21},"[td][color=lime]Class 3[/color][/td]"]
[{"$nulls":20},"[/tr]"]
[{"$nulls":20},"[tr]"]
[{"$nulls":21},"[td]No Horse[/td]"]
[{"$nulls":21},"[td]Rated Price[/td]"]
[{"$nulls":21},"[td]Win[/td]"]
[{"$nulls":21},"[td]Place[/td]"]
[{"$nulls":20},"[/tr]"]
[{"$nulls":20},"[tr]"]
[{"$nulls":21},"[td]1. Jigsaws[/td]"]
[{"$nulls":21},"[td]$2.43[/td]"]
[{"$nulls":21},"[td][/td]"]
[{"$nulls":21},"[td][/td]"]
[{"$nulls":20},"[/tr]"]
[{"$nulls":20},"[tr]"]
[{"$nulls":21},"[td]5. Leica Bita Lippy[/td]"]
[{"$nulls":21},"[td]$2.62[/td]"]
[{"$nulls":21},"[td][/td]"]
[{"$nulls":21},"[td][/td]"]
[{"$nulls":20},"[/tr]"]
[{"$nulls":20},"[tr]"]
[{"$nulls":21},"[td]6. Oreillys Gold[/td]"]
[{"$nulls":21},"[td]$7.43[/td]"]
[{"$nulls":21},"[td][/td]"]
[{"$nulls":21},"[td][/td]"]
[{"$nulls":20},"[/tr]"]
[{"$nulls":20},"[/table]"]
[]
[{"$nulls":20},"[table]"]
[{"$nulls":20},"[tr]"]
[{"$nulls":21},"[td][url=http://www.tabonline.com.au/2012/05/07/NR06.html]Murwillumbah   Race   6[/url][/td]"]
[{"$nulls":21},"[td][color=yellow]Tweed Coast Chery (Bm50)[/color][/td]"]
[{"$nulls":21},"[td]$10000[/td]"]
[{"$nulls":21},"[td][color=lime]Benchmark 50[/color][/td]"]
[{"$nulls":20},"[/tr]"]
[{"$nulls":20},"[tr]"]
[{"$nulls":21},"[td]No Horse[/td]"]
[{"$nulls":21},"[td]Rated Price[/td]"]
[{"$nulls":21},"[td]Win[/td]"]
[{"$nulls":21},"[td]Place[/td]"]
[{"$nulls":20},"[/tr]"]
[{"$nulls":20},"[tr]"]
[{"$nulls":21},"[td]1. Danewin Girl[/td]"]
[{"$nulls":21},"[td]$2.63[/td]"]
[{"$nulls":21},"[td][/td]"]
[{"$nulls":21},"[td][/td]"]
[{"$nulls":20},"[/tr]"]
[{"$nulls":20},"[tr]"]
[{"$nulls":21},"[td]3. Rubys Epic[/td]"]
[{"$nulls":21},"[td]$4.40[/td]"]
[{"$nulls":21},"[td][/td]"]
[{"$nulls":21},"[td][/td]"]
[{"$nulls":20},"[/tr]"]
[{"$nulls":20},"[tr]"]
[{"$nulls":21},"[td]5. Isajoy[/td]"]
[{"$nulls":21},"[td]$4.81[/td]"]
[{"$nulls":21},"[td][/td]"]
[{"$nulls":21},"[td][/td]"]
[{"$nulls":20},"[/tr]"]
[{"$nulls":20},"[/table]"]
[]
[{"$nulls":20},"[table]"]
[{"$nulls":20},"[tr]"]
[{"$nulls":21},"[td][url=http://www.tabonline.com.au/2012/05/07/NR07.html]Murwillumbah   Race   7[/url][/td]"]
[{"$nulls":21},"[td][color=yellow]Tweed Coast Isuzu Ute (Bm50)[/color][/td]"]
[{"$nulls":21},"[td]$10000[/td]"]
[{"$nulls":21},"[td][color=lime]Benchmark 50[/color][/td]"]
[{"$nulls":20},"[/tr]"]
[{"$nulls":20},"[tr]"]
[{"$nulls":21},"[td]No Horse[/td]"]
[{"$nulls":21},"[td]Rated Price[/td]"]
[{"$nulls":21},"[td]Win[/td]"]
[{"$nulls":21},"[td]Place[/td]"]
[{"$nulls":20},"[/tr]"]
[{"$nulls":20},"[tr]"]
[{"$nulls":21},"[td]2. Epic Terra[/td]"]
[{"$nulls":21},"[td]$2.59[/td]"]
[{"$nulls":21},"[td][/td]"]
[{"$nulls":21},"[td][/td]"]
[{"$nulls":20},"[/tr]"]
[{"$nulls":20},"[tr]"]
[{"$nulls":21},"[td]1. Tictacs[/td]"]
[{"$nulls":21},"[td]$2.73[/td]"]
[{"$nulls":21},"[td][/td]"]
[{"$nulls":21},"[td][/td]"]
[{"$nulls":20},"[/tr]"]
[{"$nulls":20},"[tr]"]
[{"$nulls":21},"[td]11. At Speed[/td]"]
[{"$nulls":21},"[td]$4.95[/td]"]
[{"$nulls":21},"[td][/td]"]
[{"$nulls":21},"[td][/td]"]
[{"$nulls":20},"[/tr]"]
[{"$nulls":20},"[/table]"]
[]
[{"$nulls":20},"[table]"]
[{"$nulls":20},"[tr]"]
[{"$nulls":21},"[td][url=http://www.tabonline.com.au/2012/05/07/VR05.html]Mornington   Race   5[/url][/td]"]
[{"$nulls":21},"[td][color=yellow]Dream Thoroughbreds Hcp (68)[/color][/td]"]
[{"$nulls":21},"[td]$12000[/td]"]
[{"$nulls":21},"[td][color=lime]Restricted 68[/color][/td]"]
[{"$nulls":20},"[/tr]"]
[{"$nulls":20},"[tr]"]
[{"$nulls":21},"[td]No Horse[/td]"]
[{"$nulls":21},"[td]Rated Price[/td]"]
[{"$nulls":21},"[td]Win[/td]"]
[{"$nulls":21},"[td]Place[/td]"]
[{"$nulls":20},"[/tr]"]
[{"$nulls":20},"[tr]"]
[{"$nulls":21},"[td]5. Must Have[/td]"]
[{"$nulls":21},"[td]$2.38[/td]"]
[{"$nulls":21},"[td][/td]"]
[{"$nulls":21},"[td][/td]"]
[{"$nulls":20},"[/tr]"]
[{"$nulls":20},"[tr]"]
[{"$nulls":21},"[td]6. Affinis[/td]"]
[{"$nulls":21},"[td]$3.67[/td]"]
[{"$nulls":21},"[td][/td]"]
[{"$nulls":21},"[td][/td]"]
[{"$nulls":20},"[/tr]"]
[{"$nulls":20},"[tr]"]
[{"$nulls":21},"[td]9. Naringaling[/td]"]
[{"$nulls":21},"[td]$4.79[/td]"]
[{"$nulls":21},"[td][/td]"]
[{"$nulls":21},"[td][/td]"]
[{"$nulls":20},"[/tr]"]
[{"$nulls":20},"[/table]"]
[]
[{"$nulls":20},"[table]"]
[{"$nulls":20},"[tr]"]
[{"$nulls":21},"[td][url=http://www.tabonline.com.au/2012/05/07/VR06.html]Mornington   Race   6[/url][/td]"]
[{"$nulls":21},"[td][color=yellow]Beleura Retirement Village-58[/color][/td]"]
[{"$nulls":21},"[td]$12000[/td]"]
[{"$nulls":21},"[td][color=lime]Restricted 58[/color][/td]"]
[{"$nulls":20},"[/tr]"]
[{"$nulls":20},"[tr]"]
[{"$nulls":21},"[td]No Horse[/td]"]
[{"$nulls":21},"[td]Rated Price[/td]"]
[{"$nulls":21},"[td]Win[/td]"]
[{"$nulls":21},"[td]Place[/td]"]
[{"$nulls":20},"[/tr]"]
[{"$nulls":20},"[tr]"]
[{"$nulls":21},"[td]1. Aashiq[/td]"]
[{"$nulls":21},"[td]$2.23[/td]"]
[{"$nulls":21},"[td][/td]"]
[{"$nulls":21},"[td][/td]"]
[{"$nulls":20},"[/tr]"]
[{"$nulls":20},"[tr]"]
[{"$nulls":21},"[td]8. Mulga Chief[/td]"]
[{"$nulls":21},"[td]$3.13[/td]"]
[{"$nulls":21},"[td][/td]"]
[{"$nulls":21},"[td][/td]"]
[{"$nulls":20},"[/tr]"]
[{"$nulls":20},"[tr]"]
[{"$nulls":21},"[td]9. Perisher Blue[/td]"]
[{"$nulls":21},"[td]$5.29[/td]"]
[{"$nulls":21},"[td][/td]"]
[{"$nulls":21},"[td][/td]"]
[{"$nulls":20},"[/tr]"]
[{"$nulls":20},"[/table]"]
[]
[{"$nulls":20},"[table]"]
[{"$nulls":20},"[tr]"]
[{"$nulls":21},"[td][url=http://www.tabonline.com.au/2012/05/07/VR07.html]Mornington   Race   7[/url][/td]"]
[{"$nulls":21},"[td][color=yellow]Centrebet Hcp (C1)[/color][/td]"]
[{"$nulls":21},"[td]$12000[/td]"]
[{"$nulls":21},"[td][color=lime]Class 1[/color][/td]"]
[{"$nulls":20},"[/tr]"]
[{"$nulls":20},"[tr]"]
[{"$nulls":21},"[td]No Horse[/td]"]
[{"$nulls":21},"[td]Rated Price[/td]"]
[{"$nulls":21},"[td]Win[/td]"]
[{"$nulls":21},"[td]Place[/td]"]
[{"$nulls":20},"[/tr]"]
[{"$nulls":20},"[tr]"]
[{"$nulls":21},"[td]1. Serene Star[/td]"]
[{"$nulls":21},"[td]$3.40[/td]"]
[{"$nulls":21},"[td][/td]"]
[{"$nulls":21},"[td][/td]"]
[{"$nulls":20},"[/tr]"]
[{"$nulls":20},"[tr]"]
[{"$nulls":21},"[td]6. Valuable Star[/td]"]
[{"$nulls":21},"[td]$3.40[/td]"]
[{"$nulls":21},"[td][/td]"]
[{"$nulls":21},"[td][/td]"]
[{"$nulls":20},"[/tr]"]
[{"$nulls":20},"[tr]"]
[{"$nulls":21},"[td]4. Spooked[/td]"]
[{"$nulls":21},"[td]$3.91[/td]"]
[{"$nulls":21},"[td][/td]"]
[{"$nulls":21},"[td][/td]"]
[{"$nulls":20},"[/tr]"]
[{"$nulls":20},"[/table]"]
[]
[{"$nulls":20},"[table]"]
[{"$nulls":20},"[tr]"]
[{"$nulls":21},"[td][url=http://www.tabonline.com.au/2012/05/07/BR07.html]Ipswich   Race   7[/url][/td]"]
[{"$nulls":21},"[td][color=yellow]Cfmeu Mining & Energy Plate[/color][/td]"]
[{"$nulls":21},"[td]$150000[/td]"]
[{"$nulls":21},"[td][color=lime]Open[/color][/td]"]
[{"$nulls":20},"[/tr]"]
[{"$nulls":20},"[tr]"]
[{"$nulls":21},"[td]No Horse[/td]"]
[{"$nulls":21},"[td]Rated Price[/td]"]
[{"$nulls":21},"[td]Win[/td]"]
[{"$nulls":21},"[td]Place[/td]"]
[{"$nulls":20},"[/tr]"]
[{"$nulls":20},"[tr]"]
[{"$nulls":21},"[td]8. Optionality[/td]"]
[{"$nulls":21},"[td]$2.99[/td]"]
[{"$nulls":21},"[td][/td]"]
[{"$nulls":21},"[td][/td]"]
[{"$nulls":20},"[/tr]"]
[{"$nulls":20},"[tr]"]
[{"$nulls":21},"[td]9. Discreet[/td]"]
[{"$nulls":21},"[td]$3.24[/td]"]
[{"$nulls":21},"[td][/td]"]
[{"$nulls":21},"[td][/td]"]
[{"$nulls":20},"[/tr]"]
[{"$nulls":20},"[tr]"]
[{"$nulls":21},"[td]1. Bullet One[/td]"]
[{"$nulls":21},"[td]$4.71[/td]"]
[{"$nulls":21},"[td][/td]"]
[{"$nulls":21},"[td][/td]"]
[{"$nulls":20},"[/tr]"]
[{"$nulls":20},"[/table]"]
[]
[{"$nulls":20},"[table]"]
[{"$nulls":20},"[tr]"]
[{"$nulls":21},"[td][url=http://www.tabonline.com.au/2012/05/07/BR08.html]Ipswich   Race   8[/url][/td]"]
[{"$nulls":21},"[td][color=yellow]Cfmeu Mining & Energy Plate-C3[/color][/td]"]
[{"$nulls":21},"[td]$25000[/td]"]
[{"$nulls":21},"[td][color=lime]Class 3[/color][/td]"]
[{"$nulls":20},"[/tr]"]
[{"$nulls":20},"[tr]"]
[{"$nulls":21},"[td]No Horse[/td]"]
[{"$nulls":21},"[td]Rated Price[/td]"]
[{"$nulls":21},"[td]Win[/td]"]
[{"$nulls":21},"[td]Place[/td]"]
[{"$nulls":20},"[/tr]"]
[{"$nulls":20},"[tr]"]
[{"$nulls":21},"[td]10. Run With Me[/td]"]
[{"$nulls":21},"[td]$3.06[/td]"]
[{"$nulls":21},"[td][/td]"]
[{"$nulls":21},"[td][/td]"]
[{"$nulls":20},"[/tr]"]
[{"$nulls":20},"[tr]"]
[{"$nulls":21},"[td]4. Jam Fancy[/td]"]
[{"$nulls":21},"[td]$3.57[/td]"]
[{"$nulls":21},"[td][/td]"]
[{"$nulls":21},"[td][/td]"]
[{"$nulls":20},"[/tr]"]
[{"$nulls":20},"[tr]"]
[{"$nulls":21},"[td]5. Kid Tycoon[/td]"]
[{"$nulls":21},"[td]$5.09[/td]"]
[{"$nulls":21},"[td][/td]"]
[{"$nulls":21},"[td][/td]"]
[{"$nulls":20},"[/tr]"]
[{"$nulls":20},"[/table]"]
[]
[{"$nulls":20},"[table]"]
[{"$nulls":20},"[tr]"]
[{"$nulls":21},"[td][url=http://www.tabonline.com.au/2012/05/07/BR09.html]Ipswich   Race   9[/url][/td]"]
[{"$nulls":21},"[td][color=yellow]Retired Miners Plate (C3)[/color][/td]"]
[{"$nulls":21},"[td]$25000[/td]"]
[{"$nulls":21},"[td][color=lime]Class 3[/color][/td]"]
[{"$nulls":20},"[/tr]"]
[{"$nulls":20},"[tr]"]
[{"$nulls":21},"[td]No Horse[/td]"]
[{"$nulls":21},"[td]Rated Price[/td]"]
[{"$nulls":21},"[td]Win[/td]"]
[{"$nulls":21},"[td]Place[/td]"]
[{"$nulls":20},"[/tr]"]
[{"$nulls":20},"[tr]"]
[{"$nulls":21},"[td]2. Castle Express[/td]"]
[{"$nulls":21},"[td]$2.82[/td]"]
[{"$nulls":21},"[td][/td]"]
[{"$nulls":21},"[td][/td]"]
[{"$nulls":20},"[/tr]"]
[{"$nulls":20},"[tr]"]
[{"$nulls":21},"[td]13. Little Brown Horse[/td]"]
[{"$nulls":21},"[td]$2.82[/td]"]
[{"$nulls":21},"[td][/td]"]
[{"$nulls":21},"[td][/td]"]
[{"$nulls":20},"[/tr]"]
[{"$nulls":20},"[tr]"]
[{"$nulls":21},"[td]5. Mitayden[/td]"]
[{"$nulls":21},"[td]$4.92[/td]"]
[{"$nulls":21},"[td][/td]"]
[{"$nulls":21},"[td][/td]"]
[{"$nulls":20},"[/tr]"]
[{"$nulls":20},"[/table]"]
[]
[{"$nulls":20},"[table]"]
[{"$nulls":20},"[tr]"]
[{"$nulls":21},"[td][url=http://www.tabonline.com.au/2012/05/07/BR10.html]Ipswich   Race   10[/url][/td]"]
[{"$nulls":21},"[td][color=yellow]Etu/Ibew Solidarity Stks-Bm85[/color][/td]"]
[{"$nulls":21},"[td]$15000[/td]"]
[{"$nulls":21},"[td][color=lime]Benchmark 85[/color][/td]"]
[{"$nulls":20},"[/tr]"]
[{"$nulls":20},"[tr]"]
[{"$nulls":21},"[td]No Horse[/td]"]
[{"$nulls":21},"[td]Rated Price[/td]"]
[{"$nulls":21},"[td]Win[/td]"]
[{"$nulls":21},"[td]Place[/td]"]
[{"$nulls":20},"[/tr]"]
[{"$nulls":20},"[tr]"]
[{"$nulls":21},"[td]4. Dollario[/td]"]
[{"$nulls":21},"[td]$2.66[/td]"]
[{"$nulls":21},"[td][/td]"]
[{"$nulls":21},"[td][/td]"]
[{"$nulls":20},"[/tr]"]
[{"$nulls":20},"[tr]"]
[{"$nulls":21},"[td]5. Aquatorial[/td]"]
[{"$nulls":21},"[td]$2.89[/td]"]
[{"$nulls":21},"[td][/td]"]
[{"$nulls":21},"[td][/td]"]
[{"$nulls":20},"[/tr]"]
[{"$nulls":20},"[tr]"]
[{"$nulls":21},"[td]10. Funny Falve[/td]"]
[{"$nulls":21},"[td]$4.84[/td]"]
[{"$nulls":21},"[td][/td]"]
[{"$nulls":21},"[td][/td]"]
[{"$nulls":20},"[/tr]"]
[{"$nulls":20},"[/table]"]
[]
[{"$nulls":20},"[table]"]
[{"$nulls":20},"[tr]"]
[{"$nulls":21},"[td][url=http://www.tabonline.com.au/2012/05/07/NR04.html]Murwillumbah   Race   4[/url][/td]"]
[{"$nulls":21},"[td][color=yellow]Murwillumbah Cellars Mdn Plate[/color][/td]"]
[{"$nulls":21},"[td]$10000[/td]"]
[{"$nulls":21},"[td][color=lime]Maiden[/color][/td]"]
[{"$nulls":20},"[/tr]"]
[{"$nulls":20},"[tr]"]
[{"$nulls":21},"[td]No Horse[/td]"]
[{"$nulls":21},"[td]Rated Price[/td]"]
[{"$nulls":21},"[td]Win[/td]"]
[{"$nulls":21},"[td]Place[/td]"]
[{"$nulls":20},"[/tr]"]
[{"$nulls":20},"[tr]"]
[{"$nulls":21},"[td]12. Time Has Come[/td]"]
[{"$nulls":21},"[td]$2.43[/td]"]
[{"$nulls":21},"[td][/td]"]
[{"$nulls":21},"[td][/td]"]
[{"$nulls":20},"[/tr]"]
[{"$nulls":20},"[tr]"]
[{"$nulls":21},"[td]3. Clear[/td]"]
[{"$nulls":21},"[td]$3.70[/td]"]
[{"$nulls":21},"[td][/td]"]
[{"$nulls":21},"[td][/td]"]
[{"$nulls":20},"[/tr]"]
[{"$nulls":20},"[tr]"]
[{"$nulls":21},"[td]2. Bamboo House[/td]"]
[{"$nulls":21},"[td]$4.57[/td]"]
[{"$nulls":21},"[td][/td]"]
[{"$nulls":21},"[td][/td]"]
[{"$nulls":20},"[/tr]"]
[{"$nulls":20},"[/table]"]
[]
[{"$nulls":20},"[table]"]
[{"$nulls":20},"[tr]"]
[{"$nulls":21},"[td][url=http://www.tabonline.com.au/2012/05/07/NR05.html]Murwillumbah   Race   5[/url][/td]"]
[{"$nulls":21},"[td][color=yellow]Victory Ford Cup (C3)[/color][/td]"]
[{"$nulls":21},"[td]$10000[/td]"]
[{"$nulls":21},"[td][color=lime]Class 3[/color][/td]"]
[{"$nulls":20},"[/tr]"]
[{"$nulls":20},"[tr]"]
[{"$nulls":21},"[td]No Horse[/td]"]
[{"$nulls":21},"[td]Rated Price[/td]"]
[{"$nulls":21},"[td]Win[/td]"]
[{"$nulls":21},"[td]Place[/td]"]
[{"$nulls":20},"[/tr]"]
[{"$nulls":20},"[tr]"]
[{"$nulls":21},"[td]1. Jigsaws[/td]"]
[{"$nulls":21},"[td]$2.43[/td]"]
[{"$nulls":21},"[td][/td]"]
[{"$nulls":21},"[td][/td]"]
[{"$nulls":20},"[/tr]"]
[{"$nulls":20},"[tr]"]
[{"$nulls":21},"[td]5. Leica Bita Lippy[/td]"]
[{"$nulls":21},"[td]$2.62[/td]"]
[{"$nulls":21},"[td][/td]"]
[{"$nulls":21},"[td][/td]"]
[{"$nulls":20},"[/tr]"]
[{"$nulls":20},"[tr]"]
[{"$nulls":21},"[td]6. Oreillys Gold[/td]"]
[{"$nulls":21},"[td]$7.43[/td]"]
[{"$nulls":21},"[td][/td]"]
[{"$nulls":21},"[td][/td]"]
[{"$nulls":20},"[/tr]"]
[{"$nulls":20},"[/table]"]
[]
[{"$nulls":20},"[table]"]
[{"$nulls":20},"[tr]"]
[{"$nulls":21},"[td][url=http://www.tabonline.com.au/2012/05/07/NR06.html]Murwillumbah   Race   6[/url][/td]"]
[{"$nulls":21},"[td][color=yellow]Tweed Coast Chery (Bm50)[/color][/td]"]
[{"$nulls":21},"[td]$10000[/td]"]
[{"$nulls":21},"[td][color=lime]Benchmark 50[/color][/td]"]
[{"$nulls":20},"[/tr]"]
[{"$nulls":20},"[tr]"]
[{"$nulls":21},"[td]No Horse[/td]"]
[{"$nulls":21},"[td]Rated Price[/td]"]
[{"$nulls":21},"[td]Win[/td]"]
[{"$nulls":21},"[td]Place[/td]"]
[{"$nulls":20},"[/tr]"]
[{"$nulls":20},"[tr]"]
[{"$nulls":21},"[td]1. Danewin Girl[/td]"]
[{"$nulls":21},"[td]$2.63[/td]"]
[{"$nulls":21},"[td][/td]"]
[{"$nulls":21},"[td][/td]"]
[{"$nulls":20},"[/tr]"]
[{"$nulls":20},"[tr]"]
[{"$nulls":21},"[td]3. Rubys Epic[/td]"]
[{"$nulls":21},"[td]$4.40[/td]"]
[{"$nulls":21},"[td][/td]"]
[{"$nulls":21},"[td][/td]"]
[{"$nulls":20},"[/tr]"]
[{"$nulls":20},"[tr]"]
[{"$nulls":21},"[td]5. Isajoy[/td]"]
[{"$nulls":21},"[td]$4.81[/td]"]
[{"$nulls":21},"[td][/td]"]
[{"$nulls":21},"[td][/td]"]
[{"$nulls":20},"[/tr]"]
[{"$nulls":20},"[/table]"]
[]
[{"$nulls":20},"[table]"]
[{"$nulls":20},"[tr]"]
[{"$nulls":21},"[td][url=http://www.tabonline.com.au/2012/05/07/NR07.html]Murwillumbah   Race   7[/url][/td]"]
[{"$nulls":21},"[td][color=yellow]Tweed Coast Isuzu Ute (Bm50)[/color][/td]"]
[{"$nulls":21},"[td]$10000[/td]"]
[{"$nulls":21},"[td][color=lime]Benchmark 50[/color][/td]"]
[{"$nulls":20},"[/tr]"]
[{"$nulls":20},"[tr]"]
[{"$nulls":21},"[td]No Horse[/td]"]
[{"$nulls":21},"[td]Rated Price[/td]"]
[{"$nulls":21},"[td]Win[/td]"]
[{"$nulls":21},"[td]Place[/td]"]
[{"$nulls":20},"[/tr]"]
[{"$nulls":20},"[tr]"]
[{"$nulls":21},"[td]2. Epic Terra[/td]"]
[{"$nulls":21},"[td]$2.59[/td]"]
[{"$nulls":21},"[td][/td]"]
[{"$nulls":21},"[td][/td]"]
[{"$nulls":20},"[/tr]"]
[{"$nulls":20},"[tr]"]
[{"$nulls":21},"[td]1. Tictacs[/td]"]
[{"$nulls":21},"[td]$2.73[/td]"]
[{"$nulls":21},"[td][/td]"]
[{"$nulls":21},"[td][/td]"]
[{"$nulls":20},"[/tr]"]
[{"$nulls":20},"[tr]"]
[{"$nulls":21},"[td]11. At Speed[/td]"]
[{"$nulls":21},"[td]$4.95[/td]"]
[{"$nulls":21},"[td][/td]"]
[{"$nulls":21},"[td][/td]"]
[{"$nulls":20},"[/tr]"]
[{"$nulls":20},"[/table]"]
[]
[{"$nulls":20},"[table]"]
[{"$nulls":20},"[tr]"]
[{"$nulls":21},"[td][url=http://www.tabonline.com.au/2012/05/07/BR07.html]Ipswich   Race   7[/url][/td]"]
[{"$nulls":21},"[td][color=yellow]Cfmeu Mining & Energy Plate[/color][/td]"]
[{"$nulls":21},"[td]$150000[/td]"]
[{"$nulls":21},"[td][color=lime]Open[/color][/td]"]
[{"$nulls":20},"[/tr]"]
[{"$nulls":20},"[tr]"]
[{"$nulls":21},"[td]No Horse[/td]"]
[{"$nulls":21},"[td]Rated Price[/td]"]
[{"$nulls":21},"[td]Win[/td]"]
[{"$nulls":21},"[td]Place[/td]"]
[{"$nulls":20},"[/tr]"]
[{"$nulls":20},"[tr]"]
[{"$nulls":21},"[td]8. Optionality[/td]"]
[{"$nulls":21},"[td]$2.99[/td]"]
[{"$nulls":21},"[td][/td]"]
[{"$nulls":21},"[td][/td]"]
[{"$nulls":20},"[/tr]"]
[{"$nulls":20},"[tr]"]
[{"$nulls":21},"[td]9. Discreet[/td]"]
[{"$nulls":21},"[td]$3.24[/td]"]
[{"$nulls":21},"[td][/td]"]
[{"$nulls":21},"[td][/td]"]
[{"$nulls":20},"[/tr]"]
[{"$nulls":20},"[tr]"]
[{"$nulls":21},"[td]1. Bullet One[/td]"]
[{"$nulls":21},"[td]$4.71[/td]"]
[{"$nulls":21},"[td][/td]"]
[{"$nulls":21},"[td][/td]"]
[{"$nulls":20},"[/tr]"]
[{"$nulls":20},"[/table]"]
[]
[{"$nulls":20},"[table]"]
[{"$nulls":20},"[tr]"]
[{"$nulls":21},"[td][url=http://www.tabonline.com.au/2012/05/07/BR08.html]Ipswich   Race   8[/url][/td]"]
[{"$nulls":21},"[td][color=yellow]Cfmeu Mining & Energy Plate-C3[/color][/td]"]
[{"$nulls":21},"[td]$25000[/td]"]
[{"$nulls":21},"[td][color=lime]Class 3[/color][/td]"]
[{"$nulls":20},"[/tr]"]
[{"$nulls":20},"[tr]"]
[{"$nulls":21},"[td]No Horse[/td]"]
[{"$nulls":21},"[td]Rated Price[/td]"]
[{"$nulls":21},"[td]Win[/td]"]
[{"$nulls":21},"[td]Place[/td]"]
[{"$nulls":20},"[/tr]"]
[{"$nulls":20},"[tr]"]
[{"$nulls":21},"[td]10. Run With Me[/td]"]
[{"$nulls":21},"[td]$3.06[/td]"]
[{"$nulls":21},"[td][/td]"]
[{"$nulls":21},"[td][/td]"]
[{"$nulls":20},"[/tr]"]
[{"$nulls":20},"[tr]"]
[{"$nulls":21},"[td]4. Jam Fancy[/td]"]
[{"$nulls":21},"[td]$3.57[/td]"]
[{"$nulls":21},"[td][/td]"]
[{"$nulls":21},"[td][/td]"]
[{"$nulls":20},"[/tr]"]
[{"$nulls":20},"[tr]"]
[{"$nulls":21},"[td]5. Kid Tycoon[/td]"]
[{"$nulls":21},"[td]$5.09[/td]"]
[{"$nulls":21},"[td][/td]"]
[{"$nulls":21},"[td][/td]"]
[{"$nulls":20},"[/tr]"]
[{"$nulls":20},"[/table]"]
[]
[{"$nulls":20},"[table]"]
[{"$nulls":20},"[tr]"]
[{"$nulls":21},"[td][url=http://www.tabonline.com.au/2012/05/07/BR09.html]Ipswich   Race   9[/url][/td]"]
[{"$nulls":21},"[td][color=yellow]Retired Miners Plate (C3)[/color][/td]"]
[{"$nulls":21},"[td]$25000[/td]"]
[{"$nulls":21},"[td][color=lime]Class 3[/color][/td]"]
[{"$nulls":20},"[/tr]"]
[{"$nulls":20},"[tr]"]
[{"$nulls":21},"[td]No Horse[/td]"]
[{"$nulls":21},"[td]Rated Price[/td]"]
[{"$nulls":21},"[td]Win[/td]"]
[{"$nulls":21},"[td]Place[/td]"]
[{"$nulls":20},"[/tr]"]
[{"$nulls":20},"[tr]"]
[{"$nulls":21},"[td]2. Castle Express[/td]"]
[{"$nulls":21},"[td]$2.82[/td]"]
[{"$nulls":21},"[td][/td]"]
[{"$nulls":21},"[td][/td]"]
[{"$nulls":20},"[/tr]"]
[{"$nulls":20},"[tr]"]
[{"$nulls":21},"[td]13. Little Brown Horse[/td]"]
[{"$nulls":21},"[td]$2.82[/td]"]
[{"$nulls":21},"[td][/td]"]
[{"$nulls":21},"[td][/td]"]
[{"$nulls":20},"[/tr]"]
[{"$nulls":20},"[tr]"]
[{"$nulls":21},"[td]5. Mitayden[/td]"]
[{"$nulls":21},"[td]$4.92[/td]"]
[{"$nulls":21},"[td][/td]"]
[{"$nulls":21},"[td][/td]"]
[{"$nulls":20},"[/tr]"]
[{"$nulls":20},"[/table]"]
[]
[{"$nulls":20},"[table]"]
[{"$nulls":20},"[tr]"]
[{"$nulls":21},"[td][url=http://www.tabonline.com.au/2012/05/07/BR10.html]Ipswich   Race   10[/url][/td]"]
[{"$nulls":21},"[td][color=yellow]Etu/Ibew Solidarity Stks-Bm85[/color][/td]"]
[{"$nulls":21},"[td]$15000[/td]"]
[{"$nulls":21},"[td][color=lime]Benchmark 85[/color][/td]"]
[{"$nulls":20},"[/tr]"]
[{"$nulls":20},"[tr]"]
[{"$nulls":21},"[td]No Horse[/td]"]
[{"$nulls":21},"[td]Rated Price[/td]"]
[{"$nulls":21},"[td]Win[/td]"]
[{"$nulls":21},"[td]Place[/td]"]
[{"$nulls":20},"[/tr]"]
[{"$nulls":20},"[tr]"]
[{"$nulls":21},"[td]4. Dollario[/td]"]
[{"$nulls":21},"[td]$2.66[/td]"]
[{"$nulls":21},"[td][/td]"]
[{"$nulls":21},"[td][/td]"]
[{"$nulls":20},"[/tr]"]
[{"$nulls":20},"[tr]"]
[{"$nulls":21},"[td]5. Aquatorial[/td]"]
[{"$nulls":21},"[td]$2.89[/td]"]
[{"$nulls":21},"[td][/td]"]
[{"$nulls":21},"[td][/td]"]
[{"$nulls":20},"[/tr]"]
[{"$nulls":20},"[tr]"]
[{"$nulls":21},"[td]10. Funny Falve[/td]"]
[{"$nulls":21},"[td]$4.84[/td]"]
[{"$nulls":21},"[td][/td]"]
[{"$nulls":21},"[td][/td]"]
[{"$nulls":20},"[/tr]"]
[{"$nulls":20},"[/table]"]
[]
[{"$nulls":20},"[table]"]
[{"$nulls":20},"[tr]"]
[{"$nulls":21},"[td][url=http://www.tabonline.com.au/2012/05/07/NR04.html]Murwillumbah   Race   4[/url][/td]"]
[{"$nulls":21},"[td][color=yellow]Murwillumbah Cellars Mdn Plate[/color][/td]"]
[{"$nulls":21},"[td]$10000[/td]"]
[{"$nulls":21},"[td][color=lime]Maiden[/color][/td]"]
[{"$nulls":20},"[/tr]"]
[{"$nulls":20},"[tr]"]
[{"$nulls":21},"[td]No Horse[/td]"]
[{"$nulls":21},"[td]Rated Price[/td]"]
[{"$nulls":21},"[td]Win[/td]"]
[{"$nulls":21},"[td]Place[/td]"]
[{"$nulls":20},"[/tr]"]
[{"$nulls":20},"[tr]"]
[{"$nulls":21},"[td]12. Time Has Come[/td]"]
[{"$nulls":21},"[td]$2.43[/td]"]
[{"$nulls":21},"[td][/td]"]
[{"$nulls":21},"[td][/td]"]
[{"$nulls":20},"[/tr]"]
[{"$nulls":20},"[tr]"]
[{"$nulls":21},"[td]3. Clear[/td]"]
[{"$nulls":21},"[td]$3.70[/td]"]
[{"$nulls":21},"[td][/td]"]
[{"$nulls":21},"[td][/td]"]
[{"$nulls":20},"[/tr]"]
[{"$nulls":20},"[tr]"]
[{"$nulls":21},"[td]2. Bamboo House[/td]"]
[{"$nulls":21},"[td]$4.57[/td]"]
[{"$nulls":21},"[td][/td]"]
[{"$nulls":21},"[td][/td]"]
[{"$nulls":20},"[/tr]"]
[{"$nulls":20},"[/table]"]
[]
[{"$nulls":20},"[table]"]
[{"$nulls":20},"[tr]"]
[{"$nulls":21},"[td][url=http://www.tabonline.com.au/2012/05/07/NR05.html]Murwillumbah   Race   5[/url][/td]"]
[{"$nulls":21},"[td][color=yellow]Victory Ford Cup (C3)[/color][/td]"]
[{"$nulls":21},"[td]$10000[/td]"]
[{"$nulls":21},"[td][color=lime]Class 3[/color][/td]"]
[{"$nulls":20},"[/tr]"]
[{"$nulls":20},"[tr]"]
[{"$nulls":21},"[td]No Horse[/td]"]
[{"$nulls":21},"[td]Rated Price[/td]"]
[{"$nulls":21},"[td]Win[/td]"]
[{"$nulls":21},"[td]Place[/td]"]
[{"$nulls":20},"[/tr]"]
[{"$nulls":20},"[tr]"]
[{"$nulls":21},"[td]1. Jigsaws[/td]"]
[{"$nulls":21},"[td]$2.43[/td]"]
[{"$nulls":21},"[td][/td]"]
[{"$nulls":21},"[td][/td]"]
[{"$nulls":20},"[/tr]"]
[{"$nulls":20},"[tr]"]
[{"$nulls":21},"[td]5. Leica Bita Lippy[/td]"]
[{"$nulls":21},"[td]$2.62[/td]"]
[{"$nulls":21},"[td][/td]"]
[{"$nulls":21},"[td][/td]"]
[{"$nulls":20},"[/tr]"]
[{"$nulls":20},"[tr]"]
[{"$nulls":21},"[td]6. Oreillys Gold[/td]"]
[{"$nulls":21},"[td]$7.43[/td]"]
[{"$nulls":21},"[td][/td]"]
[{"$nulls":21},"[td][/td]"]
[{"$nulls":20},"[/tr]"]
[{"$nulls":20},"[/table]"]
[]
[{"$nulls":20},"[table]"]
[{"$nulls":20},"[tr]"]
[{"$nulls":21},"[td][url=http://www.tabonline.com.au/2012/05/07/NR06.html]Murwillumbah   Race   6[/url][/td]"]
[{"$nulls":21},"[td][color=yellow]Tweed Coast Chery (Bm50)[/color][/td]"]
[{"$nulls":21},"[td]$10000[/td]"]
[{"$nulls":21},"[td][color=lime]Benchmark 50[/color][/td]"]
[{"$nulls":20},"[/tr]"]
[{"$nulls":20},"[tr]"]
[{"$nulls":21},"[td]No Horse[/td]"]
[{"$nulls":21},"[td]Rated Price[/td]"]
[{"$nulls":21},"[td]Win[/td]"]
[{"$nulls":21},"[td]Place[/td]"]
[{"$nulls":20},"[/tr]"]
[{"$nulls":20},"[tr]"]
[{"$nulls":21},"[td]1. Danewin Girl[/td]"]
[{"$nulls":21},"[td]$2.63[/td]"]
[{"$nulls":21},"[td][/td]"]
[{"$nulls":21},"[td][/td]"]
[{"$nulls":20},"[/tr]"]
[{"$nulls":20},"[tr]"]
[{"$nulls":21},"[td]3. Rubys Epic[/td]"]
[{"$nulls":21},"[td]$4.40[/td]"]
[{"$nulls":21},"[td][/td]"]
[{"$nulls":21},"[td][/td]"]
[{"$nulls":20},"[/tr]"]
[{"$nulls":20},"[tr]"]
[{"$nulls":21},"[td]5. Isajoy[/td]"]
[{"$nulls":21},"[td]$4.81[/td]"]
[{"$nulls":21},"[td][/td]"]
[{"$nulls":21},"[td][/td]"]
[{"$nulls":20},"[/tr]"]
[{"$nulls":20},"[/table]"]
[]
[{"$nulls":20},"[table]"]
[{"$nulls":20},"[tr]"]
[{"$nulls":21},"[td][url=http://www.tabonline.com.au/2012/05/07/NR07.html]Murwillumbah   Race   7[/url][/td]"]
[{"$nulls":21},"[td][color=yellow]Tweed Coast Isuzu Ute (Bm50)[/color][/td]"]
[{"$nulls":21},"[td]$10000[/td]"]
[{"$nulls":21},"[td][color=lime]Benchmark 50[/color][/td]"]
[{"$nulls":20},"[/tr]"]
[{"$nulls":20},"[tr]"]
[{"$nulls":21},"[td]No Horse[/td]"]
[{"$nulls":21},"[td]Rated Price[/td]"]
[{"$nulls":21},"[td]Win[/td]"]
[{"$nulls":21},"[td]Place[/td]"]
[{"$nulls":20},"[/tr]"]
[{"$nulls":20},"[tr]"]
[{"$nulls":21},"[td]2. Epic Terra[/td]"]
[{"$nulls":21},"[td]$2.59[/td]"]
[{"$nulls":21},"[td][/td]"]
[{"$nulls":21},"[td][/td]"]
[{"$nulls":20},"[/tr]"]
[{"$nulls":20},"[tr]"]
[{"$nulls":21},"[td]1. Tictacs[/td]"]
[{"$nulls":21},"[td]$2.73[/td]"]
[{"$nulls":21},"[td][/td]"]
[{"$nulls":21},"[td][/td]"]
[{"$nulls":20},"[/tr]"]
[{"$nulls":20},"[tr]"]
[{"$nulls":21},"[td]11. At Speed[/td]"]
[{"$nulls":21},"[td]$4.95[/td]"]
[{"$nulls":21},"[td][/td]"]
[{"$nulls":21},"[td][/td]"]
[{"$nulls":20},"[/tr]"]
[{"$nulls":20},"[/table]"]
[]
[{"$nulls":20},"[table]"]
[{"$nulls":20},"[tr]"]
[{"$nulls":21},"[td][url=http://www.tabonline.com.au/2012/05/07/VR05.html]Mornington   Race   5[/url][/td]"]
[{"$nulls":21},"[td][color=yellow]Dream Thoroughbreds Hcp (68)[/color][/td]"]
[{"$nulls":21},"[td]$12000[/td]"]
[{"$nulls":21},"[td][color=lime]Restricted 68[/color][/td]"]
[{"$nulls":20},"[/tr]"]
[{"$nulls":20},"[tr]"]
[{"$nulls":21},"[td]No Horse[/td]"]
[{"$nulls":21},"[td]Rated Price[/td]"]
[{"$nulls":21},"[td]Win[/td]"]
[{"$nulls":21},"[td]Place[/td]"]
[{"$nulls":20},"[/tr]"]
[{"$nulls":20},"[tr]"]
[{"$nulls":21},"[td]5. Must Have[/td]"]
[{"$nulls":21},"[td]$2.38[/td]"]
[{"$nulls":21},"[td][/td]"]
[{"$nulls":21},"[td][/td]"]
[{"$nulls":20},"[/tr]"]
[{"$nulls":20},"[tr]"]
[{"$nulls":21},"[td]6. Affinis[/td]"]
[{"$nulls":21},"[td]$3.67[/td]"]
[{"$nulls":21},"[td][/td]"]
[{"$nulls":21},"[td][/td]"]
[{"$nulls":20},"[/tr]"]
[{"$nulls":20},"[tr]"]
[{"$nulls":21},"[td]9. Naringaling[/td]"]
[{"$nulls":21},"[td]$4.79[/td]"]
[{"$nulls":21},"[td][/td]"]
[{"$nulls":21},"[td][/td]"]
[{"$nulls":20},"[/tr]"]
[{"$nulls":20},"[/table]"]
[]
[{"$nulls":20},"[table]"]
[{"$nulls":20},"[tr]"]
[{"$nulls":21},"[td][url=http://www.tabonline.com.au/2012/05/07/VR06.html]Mornington   Race   6[/url][/td]"]
[{"$nulls":21},"[td][color=yellow]Beleura Retirement Village-58[/color][/td]"]
[{"$nulls":21},"[td]$12000[/td]"]
[{"$nulls":21},"[td][color=lime]Restricted 58[/color][/td]"]
[{"$nulls":20},"[/tr]"]
[{"$nulls":20},"[tr]"]
[{"$nulls":21},"[td]No Horse[/td]"]
[{"$nulls":21},"[td]Rated Price[/td]"]
[{"$nulls":21},"[td]Win[/td]"]
[{"$nulls":21},"[td]Place[/td]"]
[{"$nulls":20},"[/tr]"]
[{"$nulls":20},"[tr]"]
[{"$nulls":21},"[td]1. Aashiq[/td]"]
[{"$nulls":21},"[td]$2.23[/td]"]
[{"$nulls":21},"[td][/td]"]
[{"$nulls":21},"[td][/td]"]
[{"$nulls":20},"[/tr]"]
[{"$nulls":20},"[tr]"]
[{"$nulls":21},"[td]8. Mulga Chief[/td]"]
[{"$nulls":21},"[td]$3.13[/td]"]
[{"$nulls":21},"[td][/td]"]
[{"$nulls":21},"[td][/td]"]
[{"$nulls":20},"[/tr]"]
[{"$nulls":20},"[tr]"]
[{"$nulls":21},"[td]9. Perisher Blue[/td]"]
[{"$nulls":21},"[td]$5.29[/td]"]
[{"$nulls":21},"[td][/td]"]
[{"$nulls":21},"[td][/td]"]
[{"$nulls":20},"[/tr]"]
[{"$nulls":20},"[/table]"]
[]
[{"$nulls":20},"[table]"]
[{"$nulls":20},"[tr]"]
[{"$nulls":21},"[td][url=http://www.tabonline.com.au/2012/05/08/VR06.html]Bairnsdale   Race   6[/url][/td]"]
[{"$nulls":21},"[td][color=yellow]L V Express (Bm72)[/color][/td]"]
[{"$nulls":21},"[td]$12000[/td]"]
[{"$nulls":21},"[td][color=lime]Benchmark 72[/color][/td]"]
[{"$nulls":20},"[/tr]"]
[{"$nulls":20},"[tr]"]
[{"$nulls":21},"[td]No Horse[/td]"]
[{"$nulls":21},"[td]Rated Price[/td]"]
[{"$nulls":21},"[td]Win[/td]"]
[{"$nulls":21},"[td]Place[/td]"]
[{"$nulls":20},"[/tr]"]
[{"$nulls":20},"[tr]"]
[{"$nulls":21},"[td]1. Nate[/td]"]
[{"$nulls":21},"[td]$3.19[/td]"]
[{"$nulls":21},"[td][/td]"]
[{"$nulls":21},"[td][/td]"]
[{"$nulls":20},"[/tr]"]
[{"$nulls":20},"[tr]"]
[{"$nulls":21},"[td]3. Neona[/td]"]
[{"$nulls":21},"[td]$3.44[/td]"]
[{"$nulls":21},"[td][/td]"]
[{"$nulls":21},"[td][/td]"]
[{"$nulls":20},"[/tr]"]
[{"$nulls":20},"[/table]"]
[]
[{"$nulls":20},"[table]"]
[{"$nulls":20},"[tr]"]
[{"$nulls":21},"[td][url=http://www.tabonline.com.au/2012/05/08/VR07.html]Bairnsdale   Race   7[/url][/td]"]
[{"$nulls":21},"[td][color=yellow]S & S Hire Hcp (68)[/color][/td]"]
[{"$nulls":21},"[td]$12000[/td]"]
[{"$nulls":21},"[td][color=lime]Restricted 68[/color][/td]"]
[{"$nulls":20},"[/tr]"]
[{"$nulls":20},"[tr]"]
[{"$nulls":21},"[td]No Horse[/td]"]
[{"$nulls":21},"[td]Rated Price[/td]"]
[{"$nulls":21},"[td]Win[/td]"]
[{"$nulls":21},"[td]Place[/td]"]
[{"$nulls":20},"[/tr]"]
[{"$nulls":20},"[tr]"]
[{"$nulls":21},"[td]9. Ripa Artois[/td]"]
[{"$nulls":21},"[td]$2.80[/td]"]
[{"$nulls":21},"[td][/td]"]
[{"$nulls":21},"[td][/td]"]
[{"$nulls":20},"[/tr]"]
[{"$nulls":20},"[tr]"]
[{"$nulls":21},"[td]12. Rainbow Dash[/td]"]
[{"$nulls":21},"[td]$4.23[/td]"]
[{"$nulls":21},"[td][/td]"]
[{"$nulls":21},"[td][/td]"]
[{"$nulls":20},"[/tr]"]
[{"$nulls":20},"[/table]"]
[]
[{"$nulls":20},"[table]"]
[{"$nulls":20},"[tr]"]
[{"$nulls":21},"[td][url=http://www.tabonline.com.au/2012/05/08/NR04.html]Kempsey   Race   4[/url][/td]"]
[{"$nulls":21},"[td][color=yellow]Sth West Rocks Ctry Club-Bm65[/color][/td]"]
[{"$nulls":21},"[td]$10000[/td]"]
[{"$nulls":21},"[td][color=lime]Benchmark 65[/color][/td]"]
[{"$nulls":20},"[/tr]"]
[{"$nulls":20},"[tr]"]
[{"$nulls":21},"[td]No Horse[/td]"]
[{"$nulls":21},"[td]Rated Price[/td]"]
[{"$nulls":21},"[td]Win[/td]"]
[{"$nulls":21},"[td]Place[/td]"]
[{"$nulls":20},"[/tr]"]
[{"$nulls":20},"[tr]"]
[{"$nulls":21},"[td]2. Kastelos[/td]"]
[{"$nulls":21},"[td]$2.33[/td]"]
[{"$nulls":21},"[td][/td]"]
[{"$nulls":21},"[td][/td]"]
[{"$nulls":20},"[/tr]"]
[{"$nulls":20},"[tr]"]
[{"$nulls":21},"[td]6. Weekend Disciples[/td]"]
[{"$nulls":21},"[td]$3.13[/td]"]
[{"$nulls":21},"[td][/td]"]
[{"$nulls":21},"[td][/td]"]
[{"$nulls":20},"[/tr]"]
[{"$nulls":20},"[/table]"]
[]
[{"$nulls":20},"[table]"]
[{"$nulls":20},"[tr]"]
[{"$nulls":21},"[td][url=http://www.tabonline.com.au/2012/05/08/NR08.html]Kempsey   Race   8[/url][/td]"]
[{"$nulls":21},"[td][color=yellow]Smithtown Hotel Hcp (C3)[/color][/td]"]
[{"$nulls":21},"[td]$10000[/td]"]
[{"$nulls":21},"[td][color=lime]Class 3[/color][/td]"]
[{"$nulls":20},"[/tr]"]
[{"$nulls":20},"[tr]"]
[{"$nulls":21},"[td]No Horse[/td]"]
[{"$nulls":21},"[td]Rated Price[/td]"]
[{"$nulls":21},"[td]Win[/td]"]
[{"$nulls":21},"[td]Place[/td]"]
[{"$nulls":20},"[/tr]"]
[{"$nulls":20},"[tr]"]
[{"$nulls":21},"[td]2. La Hdood[/td]"]
[{"$nulls":21},"[td]$1.85[/td]"]
[{"$nulls":21},"[td][/td]"]
[{"$nulls":21},"[td][/td]"]
[{"$nulls":20},"[/tr]"]
[{"$nulls":20},"[tr]"]
[{"$nulls":21},"[td]3. Boulders[/td]"]
[{"$nulls":21},"[td]$4.24[/td]"]
[{"$nulls":21},"[td][/td]"]
[{"$nulls":21},"[td][/td]"]
[{"$nulls":20},"[/tr]"]
[{"$nulls":20},"[/table]"]
[]
[{"$nulls":20},"[table]"]
[{"$nulls":20},"[tr]"]
[{"$nulls":21},"[td][url=http://www.tabonline.com.au/2012/05/08/QR03.html]Townsville   Race   3[/url][/td]"]
[{"$nulls":21},"[td][color=yellow]Outdoor/ Fishing Expo 19/20-C6[/color][/td]"]
[{"$nulls":21},"[td]$12000[/td]"]
[{"$nulls":21},"[td][color=lime]Class 6[/color][/td]"]
[{"$nulls":20},"[/tr]"]
[{"$nulls":20},"[tr]"]
[{"$nulls":21},"[td]No Horse[/td]"]
[{"$nulls":21},"[td]Rated Price[/td]"]
[{"$nulls":21},"[td]Win[/td]"]
[{"$nulls":21},"[td]Place[/td]"]
[{"$nulls":20},"[/tr]"]
[{"$nulls":20},"[tr]"]
[{"$nulls":21},"[td]3. Balustrade[/td]"]
[{"$nulls":21},"[td]$2.43[/td]"]
[{"$nulls":21},"[td][/td]"]
[{"$nulls":21},"[td][/td]"]
[{"$nulls":20},"[/tr]"]
[{"$nulls":20},"[tr]"]
[{"$nulls":21},"[td]6. Alotta Spur[/td]"]
[{"$nulls":21},"[td]$3.02[/td]"]
[{"$nulls":21},"[td][/td]"]
[{"$nulls":21},"[td][/td]"]
[{"$nulls":20},"[/tr]"]
[{"$nulls":20},"[/table]"]
[]
[{"$nulls":20},"[table]"]
[{"$nulls":20},"[tr]"]
[{"$nulls":21},"[td][url=http://www.tabonline.com.au/2012/05/08/QR05.html]Townsville   Race   5[/url][/td]"]
[{"$nulls":21},"[td][color=yellow]Sky Racing Hcp[/color][/td]"]
[{"$nulls":21},"[td]$12000[/td]"]
[{"$nulls":21},"[td][color=lime]Open[/color][/td]"]
[{"$nulls":20},"[/tr]"]
[{"$nulls":20},"[tr]"]
[{"$nulls":21},"[td]No Horse[/td]"]
[{"$nulls":21},"[td]Rated Price[/td]"]
[{"$nulls":21},"[td]Win[/td]"]
[{"$nulls":21},"[td]Place[/td]"]
[{"$nulls":20},"[/tr]"]
[{"$nulls":20},"[tr]"]
[{"$nulls":21},"[td]2. Go Cart[/td]"]
[{"$nulls":21},"[td]$2.56[/td]"]
[{"$nulls":21},"[td][/td]"]
[{"$nulls":21},"[td][/td]"]
[{"$nulls":20},"[/tr]"]
[{"$nulls":20},"[tr]"]
[{"$nulls":21},"[td]1. Cash Attack[/td]"]
[{"$nulls":21},"[td]$2.98[/td]"]
[{"$nulls":21},"[td][/td]"]
[{"$nulls":21},"[td][/td]"]
[{"$nulls":20},"[/tr]"]
[{"$nulls":20},"[/table]"]
[]
[{"$nulls":20},"[table]"]
[{"$nulls":20},"[tr]"]
[{"$nulls":21},"[td][url=http://www.tabonline.com.au/2012/05/09/AR06.html]Balaklava   Race   6[/url][/td]"]
[{"$nulls":21},"[td][color=yellow]Coopers 150th Anniv. Cup (75)[/color][/td]"]
[{"$nulls":21},"[td]$10000[/td]"]
[{"$nulls":21},"[td][color=lime]Restricted 75[/color][/td]"]
[{"$nulls":20},"[/tr]"]
[{"$nulls":20},"[tr]"]
[{"$nulls":21},"[td]No Horse[/td]"]
[{"$nulls":21},"[td]Rated Price[/td]"]
[{"$nulls":21},"[td]Win[/td]"]
[{"$nulls":21},"[td]Place[/td]"]
[{"$nulls":20},"[/tr]"]
[{"$nulls":20},"[tr]"]
[{"$nulls":21},"[td]1. Rikbat[/td]"]
[{"$nulls":21},"[td]$2.62[/td]"]
[{"$nulls":21},"[td][/td]"]
[{"$nulls":21},"[td][/td]"]
[{"$nulls":20},"[/tr]"]
[{"$nulls":20},"[tr]"]
[{"$nulls":21},"[td]4. Waratone[/td]"]
[{"$nulls":21},"[td]$3.57[/td]"]
[{"$nulls":21},"[td][/td]"]
[{"$nulls":21},"[td][/td]"]
[{"$nulls":20},"[/tr]"]
[{"$nulls":20},"[/table]"]
[]
[{"$nulls":20},"[table]"]
[{"$nulls":20},"[tr]"]
[{"$nulls":21},"[td][url=http://www.tabonline.com.au/2012/05/09/AR08.html]Balaklava   Race   8[/url][/td]"]
[{"$nulls":21},"[td][color=yellow]Crack A Big Woody Hcp (75)[/color][/td]"]
[{"$nulls":21},"[td]$10000[/td]"]
[{"$nulls":21},"[td][color=lime]Restricted 75[/color][/td]"]
[{"$nulls":20},"[/tr]"]
[{"$nulls":20},"[tr]"]
[{"$nulls":21},"[td]No Horse[/td]"]
[{"$nulls":21},"[td]Rated Price[/td]"]
[{"$nulls":21},"[td]Win[/td]"]
[{"$nulls":21},"[td]Place[/td]"]
[{"$nulls":20},"[/tr]"]
[{"$nulls":20},"[tr]"]
[{"$nulls":21},"[td]7. Drafted[/td]"]
[{"$nulls":21},"[td]$2.96[/td]"]
[{"$nulls":21},"[td][/td]"]
[{"$nulls":21},"[td][/td]"]
[{"$nulls":20},"[/tr]"]
[{"$nulls":20},"[tr]"]
[{"$nulls":21},"[td]9. Our Iridium[/td]"]
[{"$nulls":21},"[td]$3.41[/td]"]
[{"$nulls":21},"[td][/td]"]
[{"$nulls":21},"[td][/td]"]
[{"$nulls":20},"[/tr]"]
[{"$nulls":20},"[/table]"]
[]
[{"$nulls":20},"[table]"]
[{"$nulls":20},"[tr]"]
[{"$nulls":21},"[td][url=http://www.tabonline.com.au/2012/05/09/PR03.html]Belmont Park   Race   3[/url][/td]"]
[{"$nulls":21},"[td][color=yellow]Playeronline.Com.Au Hcp (72)[/color][/td]"]
[{"$nulls":21},"[td]$20000[/td]"]
[{"$nulls":21},"[td][color=lime]Restricted 72[/color][/td]"]
[{"$nulls":20},"[/tr]"]
[{"$nulls":20},"[tr]"]
[{"$nulls":21},"[td]No Horse[/td]"]
[{"$nulls":21},"[td]Rated Price[/td]"]
[{"$nulls":21},"[td]Win[/td]"]
[{"$nulls":21},"[td]Place[/td]"]
[{"$nulls":20},"[/tr]"]
[{"$nulls":20},"[tr]"]
[{"$nulls":21},"[td]3. Lisetta[/td]"]
[{"$nulls":21},"[td]$3.15[/td]"]
[{"$nulls":21},"[td][/td]"]
[{"$nulls":21},"[td][/td]"]
[{"$nulls":20},"[/tr]"]
[{"$nulls":20},"[tr]"]
[{"$nulls":21},"[td]7. Hiatus[/td]"]
[{"$nulls":21},"[td]$3.15[/td]"]
[{"$nulls":21},"[td][/td]"]
[{"$nulls":21},"[td][/td]"]
[{"$nulls":20},"[/tr]"]
[{"$nulls":20},"[/table]"]
[]
[{"$nulls":20},"[table]"]
[{"$nulls":20},"[tr]"]
[{"$nulls":21},"[td][url=http://www.tabonline.com.au/2012/05/09/MR03.html]Sandown-Hillside   Race   3[/url][/td]"]
[{"$nulls":21},"[td][color=yellow]D'Urban Hcp (82)[/color][/td]"]
[{"$nulls":21},"[td]$30000[/td]"]
[{"$nulls":21},"[td][color=lime]Restricted 82[/color][/td]"]
[{"$nulls":20},"[/tr]"]
[{"$nulls":20},"[tr]"]
[{"$nulls":21},"[td]No Horse[/td]"]
[{"$nulls":21},"[td]Rated Price[/td]"]
[{"$nulls":21},"[td]Win[/td]"]
[{"$nulls":21},"[td]Place[/td]"]
[{"$nulls":20},"[/tr]"]
[{"$nulls":20},"[tr]"]
[{"$nulls":21},"[td]6. Miss Phromily[/td]"]
[{"$nulls":21},"[td]$1.77[/td]"]
[{"$nulls":21},"[td][/td]"]
[{"$nulls":21},"[td][/td]"]
[{"$nulls":20},"[/tr]"]
[{"$nulls":20},"[tr]"]
[{"$nulls":21},"[td]5. Ipioga[/td]"]
[{"$nulls":21},"[td]$4.81[/td]"]
[{"$nulls":21},"[td][/td]"]
[{"$nulls":21},"[td][/td]"]
[{"$nulls":20},"[/tr]"]
[{"$nulls":20},"[/table]"]
[]
[{"$nulls":20},"[table]"]
[{"$nulls":20},"[tr]"]
[{"$nulls":21},"[td][url=http://www.tabonline.com.au/2012/05/09/MR06.html]Sandown-Hillside   Race   6[/url][/td]"]
[{"$nulls":21},"[td][color=yellow]Sportingbet Hcp (78)[/color][/td]"]
[{"$nulls":21},"[td]$30000[/td]"]
[{"$nulls":21},"[td][color=lime]Restricted 78[/color][/td]"]
[{"$nulls":20},"[/tr]"]
[{"$nulls":20},"[tr]"]
[{"$nulls":21},"[td]No Horse[/td]"]
[{"$nulls":21},"[td]Rated Price[/td]"]
[{"$nulls":21},"[td]Win[/td]"]
[{"$nulls":21},"[td]Place[/td]"]
[{"$nulls":20},"[/tr]"]
[{"$nulls":20},"[tr]"]
[{"$nulls":21},"[td]14. Vihanna Victory[/td]"]
[{"$nulls":21},"[td]$3.01[/td]"]
[{"$nulls":21},"[td][/td]"]
[{"$nulls":21},"[td][/td]"]
[{"$nulls":20},"[/tr]"]
[{"$nulls":20},"[tr]"]
[{"$nulls":21},"[td]5. Bellissimo[/td]"]
[{"$nulls":21},"[td]$3.51[/td]"]
[{"$nulls":21},"[td][/td]"]
[{"$nulls":21},"[td][/td]"]
[{"$nulls":20},"[/tr]"]
[{"$nulls":20},"[/table]"]
[]
[{"$nulls":20},"[table]"]
[{"$nulls":20},"[tr]"]
[{"$nulls":21},"[td][url=http://www.tabonline.com.au/2012/05/09/MR08.html]Sandown-Hillside   Race   8[/url][/td]"]
[{"$nulls":21},"[td][color=yellow]Ahern's Highways Hcp (78)[/color][/td]"]
[{"$nulls":21},"[td]$30000[/td]"]
[{"$nulls":21},"[td][color=lime]Restricted 78[/color][/td]"]
[{"$nulls":20},"[/tr]"]
[{"$nulls":20},"[tr]"]
[{"$nulls":21},"[td]No Horse[/td]"]
[{"$nulls":21},"[td]Rated Price[/td]"]
[{"$nulls":21},"[td]Win[/td]"]
[{"$nulls":21},"[td]Place[/td]"]
[{"$nulls":20},"[/tr]"]
[{"$nulls":20},"[tr]"]
[{"$nulls":21},"[td]13. Means A Lot[/td]"]
[{"$nulls":21},"[td]$2.32[/td]"]
[{"$nulls":21},"[td][/td]"]
[{"$nulls":21},"[td][/td]"]
[{"$nulls":20},"[/tr]"]
[{"$nulls":20},"[tr]"]
[{"$nulls":21},"[td]20. Pepin Hoaks[/td]"]
[{"$nulls":21},"[td]$4.98[/td]"]
[{"$nulls":21},"[td][/td]"]
[{"$nulls":21},"[td][/td]"]
[{"$nulls":20},"[/tr]"]
[{"$nulls":20},"[/table]"]
[]
[{"$nulls":20},"[table]"]
[{"$nulls":20},"[tr]"]
[{"$nulls":21},"[td][url=http://www.tabonline.com.au/2012/05/09/QR01.html]Sunshine Coast   Race   1[/url][/td]"]
[{"$nulls":21},"[td][color=yellow]Steel Fabrications (C2)[/color][/td]"]
[{"$nulls":21},"[td]$12000[/td]"]
[{"$nulls":21},"[td][color=lime]Class 2[/color][/td]"]
[{"$nulls":20},"[/tr]"]
[{"$nulls":20},"[tr]"]
[{"$nulls":21},"[td]No Horse[/td]"]
[{"$nulls":21},"[td]Rated Price[/td]"]
[{"$nulls":21},"[td]Win[/td]"]
[{"$nulls":21},"[td]Place[/td]"]
[{"$nulls":20},"[/tr]"]
[{"$nulls":20},"[tr]"]
[{"$nulls":21},"[td]3. Sweet Little Filly[/td]"]
[{"$nulls":21},"[td]$1.97[/td]"]
[{"$nulls":21},"[td][/td]"]
[{"$nulls":21},"[td][/td]"]
[{"$nulls":20},"[/tr]"]
[{"$nulls":20},"[tr]"]
[{"$nulls":21},"[td]4. Business Day[/td]"]
[{"$nulls":21},"[td]$4.37[/td]"]
[{"$nulls":21},"[td][/td]"]
[{"$nulls":21},"[td][/td]"]
[{"$nulls":20},"[/tr]"]
[{"$nulls":20},"[/table]"]
[]
[{"$nulls":20},"[table]"]
[{"$nulls":20},"[tr]"]
[{"$nulls":21},"[td][url=http://www.tabonline.com.au/2012/05/09/QR07.html]Sunshine Coast   Race   7[/url][/td]"]
[{"$nulls":21},"[td][color=yellow]Secure Access Pty Ltd Hcp (C3)[/color][/td]"]
[{"$nulls":21},"[td]$12000[/td]"]
[{"$nulls":21},"[td][color=lime]Class 3[/color][/td]"]
[{"$nulls":20},"[/tr]"]
[{"$nulls":20},"[tr]"]
[{"$nulls":21},"[td]No Horse[/td]"]
[{"$nulls":21},"[td]Rated Price[/td]"]
[{"$nulls":21},"[td]Win[/td]"]
[{"$nulls":21},"[td]Place[/td]"]
[{"$nulls":20},"[/tr]"]
[{"$nulls":20},"[tr]"]
[{"$nulls":21},"[td]9. Visona Rose[/td]"]
[{"$nulls":21},"[td]$2.68[/td]"]
[{"$nulls":21},"[td][/td]"]
[{"$nulls":21},"[td][/td]"]
[{"$nulls":20},"[/tr]"]
[{"$nulls":20},"[tr]"]
[{"$nulls":21},"[td]6. Geological[/td]"]
[{"$nulls":21},"[td]$3.19[/td]"]
[{"$nulls":21},"[td][/td]"]
[{"$nulls":21},"[td][/td]"]
[{"$nulls":20},"[/tr]"]
[{"$nulls":20},"[/table]"]
[]
[{"$nulls":20},"[table]"]
[{"$nulls":20},"[tr]"]
[{"$nulls":21},"[td][url=http://www.tabonline.com.au/2012/05/09/SR04.html]Warwick Farm   Race   4[/url][/td]"]
[{"$nulls":21},"[td][color=yellow]Rotary Club Of Liverpool-Bm70[/color][/td]"]
[{"$nulls":21},"[td]$27000[/td]"]
[{"$nulls":21},"[td][color=lime]Benchmark 70[/color][/td]"]
[{"$nulls":20},"[/tr]"]
[{"$nulls":20},"[tr]"]
[{"$nulls":21},"[td]No Horse[/td]"]
[{"$nulls":21},"[td]Rated Price[/td]"]
[{"$nulls":21},"[td]Win[/td]"]
[{"$nulls":21},"[td]Place[/td]"]
[{"$nulls":20},"[/tr]"]
[{"$nulls":20},"[tr]"]
[{"$nulls":21},"[td]10. Rockacheva[/td]"]
[{"$nulls":21},"[td]$2.63[/td]"]
[{"$nulls":21},"[td][/td]"]
[{"$nulls":21},"[td][/td]"]
[{"$nulls":20},"[/tr]"]
[{"$nulls":20},"[tr]"]
[{"$nulls":21},"[td]11. Last Rain[/td]"]
[{"$nulls":21},"[td]$4.11[/td]"]
[{"$nulls":21},"[td][/td]"]
[{"$nulls":21},"[td][/td]"]
[{"$nulls":20},"[/tr]"]
[{"$nulls":20},"[/table]"]
[]
[{"$nulls":20},"[table]"]
[{"$nulls":20},"[tr]"]
[{"$nulls":21},"[td][url=http://www.tabonline.com.au/2012/05/09/SR05.html]Warwick Farm   Race   5[/url][/td]"]
[{"$nulls":21},"[td][color=yellow]Rotary Club Of Liverpool-Bm70[/color][/td]"]
[{"$nulls":21},"[td]$27000[/td]"]
[{"$nulls":21},"[td][color=lime]Benchmark 70[/color][/td]"]
[{"$nulls":20},"[/tr]"]
[{"$nulls":20},"[tr]"]
[{"$nulls":21},"[td]No Horse[/td]"]
[{"$nulls":21},"[td]Rated Price[/td]"]
[{"$nulls":21},"[td]Win[/td]"]
[{"$nulls":21},"[td]Place[/td]"]
[{"$nulls":20},"[/tr]"]
[{"$nulls":20},"[tr]"]
[{"$nulls":21},"[td]9. Flitter Bye[/td]"]
[{"$nulls":21},"[td]$2.28[/td]"]
[{"$nulls":21},"[td][/td]"]
[{"$nulls":21},"[td][/td]"]
[{"$nulls":20},"[/tr]"]
[{"$nulls":20},"[tr]"]
[{"$nulls":21},"[td]6. Erfaan[/td]"]
[{"$nulls":21},"[td]$3.63[/td]"]
[{"$nulls":21},"[td][/td]"]
[{"$nulls":21},"[td][/td]"]
[{"$nulls":20},"[/tr]"]
[{"$nulls":20},"[/table]"]
[]
[{"$nulls":20},"[table]"]
[{"$nulls":20},"[tr]"]
[{"$nulls":21},"[td][url=http://www.tabonline.com.au/2012/05/09/SR06.html]Warwick Farm   Race   6[/url][/td]"]
[{"$nulls":21},"[td][color=yellow]Fairfield RSL Mem. Club (Bm70)[/color][/td]"]
[{"$nulls":21},"[td]$27000[/td]"]
[{"$nulls":21},"[td][color=lime]Benchmark 70[/color][/td]"]
[{"$nulls":20},"[/tr]"]
[{"$nulls":20},"[tr]"]
[{"$nulls":21},"[td]No Horse[/td]"]
[{"$nulls":21},"[td]Rated Price[/td]"]
[{"$nulls":21},"[td]Win[/td]"]
[{"$nulls":21},"[td]Place[/td]"]
[{"$nulls":20},"[/tr]"]
[{"$nulls":20},"[tr]"]
[{"$nulls":21},"[td]4. Our Banshee[/td]"]
[{"$nulls":21},"[td]$2.11[/td]"]
[{"$nulls":21},"[td][/td]"]
[{"$nulls":21},"[td][/td]"]
[{"$nulls":20},"[/tr]"]
[{"$nulls":20},"[tr]"]
[{"$nulls":21},"[td]2. Diamond Jim[/td]"]
[{"$nulls":21},"[td]$4.14[/td]"]
[{"$nulls":21},"[td][/td]"]
[{"$nulls":21},"[td][/td]"]
[{"$nulls":20},"[/tr]"]
[{"$nulls":20},"[/table]"]
[]
[{"$nulls":20},"[table]"]
[{"$nulls":20},"[tr]"]
[{"$nulls":21},"[td][url=http://www.tabonline.com.au/2012/05/09/AR06.html]Balaklava   Race   6[/url][/td]"]
[{"$nulls":21},"[td][color=yellow]Coopers 150th Anniv. Cup (75)[/color][/td]"]
[{"$nulls":21},"[td]$10000[/td]"]
[{"$nulls":21},"[td][color=lime]Restricted 75[/color][/td]"]
[{"$nulls":20},"[/tr]"]
[{"$nulls":20},"[tr]"]
[{"$nulls":21},"[td]No Horse[/td]"]
[{"$nulls":21},"[td]Rated Price[/td]"]
[{"$nulls":21},"[td]Win[/td]"]
[{"$nulls":21},"[td]Place[/td]"]
[{"$nulls":20},"[/tr]"]
[{"$nulls":20},"[tr]"]
[{"$nulls":21},"[td]1. Rikbat[/td]"]
[{"$nulls":21},"[td]$2.62[/td]"]
[{"$nulls":21},"[td][/td]"]
[{"$nulls":21},"[td][/td]"]
[{"$nulls":20},"[/tr]"]
[{"$nulls":20},"[tr]"]
[{"$nulls":21},"[td]4. Waratone[/td]"]
[{"$nulls":21},"[td]$3.57[/td]"]
[{"$nulls":21},"[td][/td]"]
[{"$nulls":21},"[td][/td]"]
[{"$nulls":20},"[/tr]"]
[{"$nulls":20},"[/table]"]
[]
[{"$nulls":20},"[table]"]
[{"$nulls":20},"[tr]"]
[{"$nulls":21},"[td][url=http://www.tabonline.com.au/2012/05/09/AR08.html]Balaklava   Race   8[/url][/td]"]
[{"$nulls":21},"[td][color=yellow]Crack A Big Woody Hcp (75)[/color][/td]"]
[{"$nulls":21},"[td]$10000[/td]"]
[{"$nulls":21},"[td][color=lime]Restricted 75[/color][/td]"]
[{"$nulls":20},"[/tr]"]
[{"$nulls":20},"[tr]"]
[{"$nulls":21},"[td]No Horse[/td]"]
[{"$nulls":21},"[td]Rated Price[/td]"]
[{"$nulls":21},"[td]Win[/td]"]
[{"$nulls":21},"[td]Place[/td]"]
[{"$nulls":20},"[/tr]"]
[{"$nulls":20},"[tr]"]
[{"$nulls":21},"[td]7. Drafted[/td]"]
[{"$nulls":21},"[td]$2.96[/td]"]
[{"$nulls":21},"[td][/td]"]
[{"$nulls":21},"[td][/td]"]
[{"$nulls":20},"[/tr]"]
[{"$nulls":20},"[tr]"]
[{"$nulls":21},"[td]9. Our Iridium[/td]"]
[{"$nulls":21},"[td]$3.41[/td]"]
[{"$nulls":21},"[td][/td]"]
[{"$nulls":21},"[td][/td]"]
[{"$nulls":20},"[/tr]"]
[{"$nulls":20},"[/table]"]
[]
[{"$nulls":20},"[table]"]
[{"$nulls":20},"[tr]"]
[{"$nulls":21},"[td][url=http://www.tabonline.com.au/2012/05/09/PR03.html]Belmont Park   Race   3[/url][/td]"]
[{"$nulls":21},"[td][color=yellow]Playeronline.Com.Au Hcp (72)[/color][/td]"]
[{"$nulls":21},"[td]$20000[/td]"]
[{"$nulls":21},"[td][color=lime]Restricted 72[/color][/td]"]
[{"$nulls":20},"[/tr]"]
[{"$nulls":20},"[tr]"]
[{"$nulls":21},"[td]No Horse[/td]"]
[{"$nulls":21},"[td]Rated Price[/td]"]
[{"$nulls":21},"[td]Win[/td]"]
[{"$nulls":21},"[td]Place[/td]"]
[{"$nulls":20},"[/tr]"]
[{"$nulls":20},"[tr]"]
[{"$nulls":21},"[td]3. Lisetta[/td]"]
[{"$nulls":21},"[td]$2.99[/td]"]
[{"$nulls":21},"[td][/td]"]
[{"$nulls":21},"[td][/td]"]
[{"$nulls":20},"[/tr]"]
[{"$nulls":20},"[tr]"]
[{"$nulls":21},"[td]7. Hiatus[/td]"]
[{"$nulls":21},"[td]$3.21[/td]"]
[{"$nulls":21},"[td][/td]"]
[{"$nulls":21},"[td][/td]"]
[{"$nulls":20},"[/tr]"]
[{"$nulls":20},"[/table]"]
[]
[{"$nulls":20},"[table]"]
[{"$nulls":20},"[tr]"]
[{"$nulls":21},"[td][url=http://www.tabonline.com.au/2012/05/09/MR03.html]Sandown-Hillside   Race   3[/url][/td]"]
[{"$nulls":21},"[td][color=yellow]D'Urban Hcp (82)[/color][/td]"]
[{"$nulls":21},"[td]$30000[/td]"]
[{"$nulls":21},"[td][color=lime]Restricted 82[/color][/td]"]
[{"$nulls":20},"[/tr]"]
[{"$nulls":20},"[tr]"]
[{"$nulls":21},"[td]No Horse[/td]"]
[{"$nulls":21},"[td]Rated Price[/td]"]
[{"$nulls":21},"[td]Win[/td]"]
[{"$nulls":21},"[td]Place[/td]"]
[{"$nulls":20},"[/tr]"]
[{"$nulls":20},"[tr]"]
[{"$nulls":21},"[td]6. Miss Phromily[/td]"]
[{"$nulls":21},"[td]$1.77[/td]"]
[{"$nulls":21},"[td][/td]"]
[{"$nulls":21},"[td][/td]"]
[{"$nulls":20},"[/tr]"]
[{"$nulls":20},"[tr]"]
[{"$nulls":21},"[td]5. Ipioga[/td]"]
[{"$nulls":21},"[td]$4.81[/td]"]
[{"$nulls":21},"[td][/td]"]
[{"$nulls":21},"[td][/td]"]
[{"$nulls":20},"[/tr]"]
[{"$nulls":20},"[/table]"]
[]
[{"$nulls":20},"[table]"]
[{"$nulls":20},"[tr]"]
[{"$nulls":21},"[td][url=http://www.tabonline.com.au/2012/05/09/MR06.html]Sandown-Hillside   Race   6[/url][/td]"]
[{"$nulls":21},"[td][color=yellow]Sportingbet Hcp (78)[/color][/td]"]
[{"$nulls":21},"[td]$30000[/td]"]
[{"$nulls":21},"[td][color=lime]Restricted 78[/color][/td]"]
[{"$nulls":20},"[/tr]"]
[{"$nulls":20},"[tr]"]
[{"$nulls":21},"[td]No Horse[/td]"]
[{"$nulls":21},"[td]Rated Price[/td]"]
[{"$nulls":21},"[td]Win[/td]"]
[{"$nulls":21},"[td]Place[/td]"]
[{"$nulls":20},"[/tr]"]
[{"$nulls":20},"[tr]"]
[{"$nulls":21},"[td]14. Vihanna Victory[/td]"]
[{"$nulls":21},"[td]$3.01[/td]"]
[{"$nulls":21},"[td][/td]"]
[{"$nulls":21},"[td][/td]"]
[{"$nulls":20},"[/tr]"]
[{"$nulls":20},"[tr]"]
[{"$nulls":21},"[td]5. Bellissimo[/td]"]
[{"$nulls":21},"[td]$3.51[/td]"]
[{"$nulls":21},"[td][/td]"]
[{"$nulls":21},"[td][/td]"]
[{"$nulls":20},"[/tr]"]
[{"$nulls":20},"[/table]"]
[]
[{"$nulls":20},"[table]"]
[{"$nulls":20},"[tr]"]
[{"$nulls":21},"[td][url=http://www.tabonline.com.au/2012/05/09/MR08.html]Sandown-Hillside   Race   8[/url][/td]"]
[{"$nulls":21},"[td][color=yellow]Ahern's Highways Hcp (78)[/color][/td]"]
[{"$nulls":21},"[td]$30000[/td]"]
[{"$nulls":21},"[td][color=lime]Restricted 78[/color][/td]"]
[{"$nulls":20},"[/tr]"]
[{"$nulls":20},"[tr]"]
[{"$nulls":21},"[td]No Horse[/td]"]
[{"$nulls":21},"[td]Rated Price[/td]"]
[{"$nulls":21},"[td]Win[/td]"]
[{"$nulls":21},"[td]Place[/td]"]
[{"$nulls":20},"[/tr]"]
[{"$nulls":20},"[tr]"]
[{"$nulls":21},"[td]13. Means A Lot[/td]"]
[{"$nulls":21},"[td]$2.32[/td]"]
[{"$nulls":21},"[td][/td]"]
[{"$nulls":21},"[td][/td]"]
[{"$nulls":20},"[/tr]"]
[{"$nulls":20},"[tr]"]
[{"$nulls":21},"[td]20. Pepin Hoaks[/td]"]
[{"$nulls":21},"[td]$4.98[/td]"]
[{"$nulls":21},"[td][/td]"]
[{"$nulls":21},"[td][/td]"]
[{"$nulls":20},"[/tr]"]
[{"$nulls":20},"[/table]"]
[]
[{"$nulls":20},"[table]"]
[{"$nulls":20},"[tr]"]
[{"$nulls":21},"[td][url=http://www.tabonline.com.au/2012/05/09/QR01.html]Sunshine Coast   Race   1[/url][/td]"]
[{"$nulls":21},"[td][color=yellow]Steel Fabrications (C2)[/color][/td]"]
[{"$nulls":21},"[td]$12000[/td]"]
[{"$nulls":21},"[td][color=lime]Class 2[/color][/td]"]
[{"$nulls":20},"[/tr]"]
[{"$nulls":20},"[tr]"]
[{"$nulls":21},"[td]No Horse[/td]"]
[{"$nulls":21},"[td]Rated Price[/td]"]
[{"$nulls":21},"[td]Win[/td]"]
[{"$nulls":21},"[td]Place[/td]"]
[{"$nulls":20},"[/tr]"]
[{"$nulls":20},"[tr]"]
[{"$nulls":21},"[td]3. Sweet Little Filly[/td]"]
[{"$nulls":21},"[td]$1.97[/td]"]
[{"$nulls":21},"[td][/td]"]
[{"$nulls":21},"[td][/td]"]
[{"$nulls":20},"[/tr]"]
[{"$nulls":20},"[tr]"]
[{"$nulls":21},"[td]4. Business Day[/td]"]
[{"$nulls":21},"[td]$4.37[/td]"]
[{"$nulls":21},"[td][/td]"]
[{"$nulls":21},"[td][/td]"]
[{"$nulls":20},"[/tr]"]
[{"$nulls":20},"[/table]"]
[]
[{"$nulls":20},"[table]"]
[{"$nulls":20},"[tr]"]
[{"$nulls":21},"[td][url=http://www.tabonline.com.au/2012/05/09/QR07.html]Sunshine Coast   Race   7[/url][/td]"]
[{"$nulls":21},"[td][color=yellow]Secure Access Pty Ltd Hcp (C3)[/color][/td]"]
[{"$nulls":21},"[td]$12000[/td]"]
[{"$nulls":21},"[td][color=lime]Class 3[/color][/td]"]
[{"$nulls":20},"[/tr]"]
[{"$nulls":20},"[tr]"]
[{"$nulls":21},"[td]No Horse[/td]"]
[{"$nulls":21},"[td]Rated Price[/td]"]
[{"$nulls":21},"[td]Win[/td]"]
[{"$nulls":21},"[td]Place[/td]"]
[{"$nulls":20},"[/tr]"]
[{"$nulls":20},"[tr]"]
[{"$nulls":21},"[td]9. Visona Rose[/td]"]
[{"$nulls":21},"[td]$2.68[/td]"]
[{"$nulls":21},"[td][/td]"]
[{"$nulls":21},"[td][/td]"]
[{"$nulls":20},"[/tr]"]
[{"$nulls":20},"[tr]"]
[{"$nulls":21},"[td]6. Geological[/td]"]
[{"$nulls":21},"[td]$3.19[/td]"]
[{"$nulls":21},"[td][/td]"]
[{"$nulls":21},"[td][/td]"]
[{"$nulls":20},"[/tr]"]
[{"$nulls":20},"[/table]"]
[]
[{"$nulls":20},"[table]"]
[{"$nulls":20},"[tr]"]
[{"$nulls":21},"[td][url=http://www.tabonline.com.au/2012/05/09/SR04.html]Warwick Farm   Race   4[/url][/td]"]
[{"$nulls":21},"[td][color=yellow]Rotary Club Of Liverpool-Bm70[/color][/td]"]
[{"$nulls":21},"[td]$27000[/td]"]
[{"$nulls":21},"[td][color=lime]Benchmark 70[/color][/td]"]
[{"$nulls":20},"[/tr]"]
[{"$nulls":20},"[tr]"]
[{"$nulls":21},"[td]No Horse[/td]"]
[{"$nulls":21},"[td]Rated Price[/td]"]
[{"$nulls":21},"[td]Win[/td]"]
[{"$nulls":21},"[td]Place[/td]"]
[{"$nulls":20},"[/tr]"]
[{"$nulls":20},"[tr]"]
[{"$nulls":21},"[td]10. Rockacheva[/td]"]
[{"$nulls":21},"[td]$2.63[/td]"]
[{"$nulls":21},"[td][/td]"]
[{"$nulls":21},"[td][/td]"]
[{"$nulls":20},"[/tr]"]
[{"$nulls":20},"[tr]"]
[{"$nulls":21},"[td]11. Last Rain[/td]"]
[{"$nulls":21},"[td]$4.11[/td]"]
[{"$nulls":21},"[td][/td]"]
[{"$nulls":21},"[td][/td]"]
[{"$nulls":20},"[/tr]"]
[{"$nulls":20},"[/table]"]
[]
[{"$nulls":20},"[table]"]
[{"$nulls":20},"[tr]"]
[{"$nulls":21},"[td][url=http://www.tabonline.com.au/2012/05/09/SR05.html]Warwick Farm   Race   5[/url][/td]"]
[{"$nulls":21},"[td][color=yellow]Rotary Club Of Liverpool-Bm70[/color][/td]"]
[{"$nulls":21},"[td]$27000[/td]"]
[{"$nulls":21},"[td][color=lime]Benchmark 70[/color][/td]"]
[{"$nulls":20},"[/tr]"]
[{"$nulls":20},"[tr]"]
[{"$nulls":21},"[td]No Horse[/td]"]
[{"$nulls":21},"[td]Rated Price[/td]"]
[{"$nulls":21},"[td]Win[/td]"]
[{"$nulls":21},"[td]Place[/td]"]
[{"$nulls":20},"[/tr]"]
[{"$nulls":20},"[tr]"]
[{"$nulls":21},"[td]9. Flitter Bye[/td]"]
[{"$nulls":21},"[td]$2.28[/td]"]
[{"$nulls":21},"[td][/td]"]
[{"$nulls":21},"[td][/td]"]
[{"$nulls":20},"[/tr]"]
[{"$nulls":20},"[tr]"]
[{"$nulls":21},"[td]6. Erfaan[/td]"]
[{"$nulls":21},"[td]$3.63[/td]"]
[{"$nulls":21},"[td][/td]"]
[{"$nulls":21},"[td][/td]"]
[{"$nulls":20},"[/tr]"]
[{"$nulls":20},"[/table]"]
[]
[{"$nulls":20},"[table]"]
[{"$nulls":20},"[tr]"]
[{"$nulls":21},"[td][url=http://www.tabonline.com.au/2012/05/09/SR06.html]Warwick Farm   Race   6[/url][/td]"]
[{"$nulls":21},"[td][color=yellow]Fairfield RSL Mem. Club (Bm70)[/color][/td]"]
[{"$nulls":21},"[td]$27000[/td]"]
[{"$nulls":21},"[td][color=lime]Benchmark 70[/color][/td]"]
[{"$nulls":20},"[/tr]"]
[{"$nulls":20},"[tr]"]
[{"$nulls":21},"[td]No Horse[/td]"]
[{"$nulls":21},"[td]Rated Price[/td]"]
[{"$nulls":21},"[td]Win[/td]"]
[{"$nulls":21},"[td]Place[/td]"]
[{"$nulls":20},"[/tr]"]
[{"$nulls":20},"[tr]"]
[{"$nulls":21},"[td]4. Our Banshee[/td]"]
[{"$nulls":21},"[td]$2.11[/td]"]
[{"$nulls":21},"[td][/td]"]
[{"$nulls":21},"[td][/td]"]
[{"$nulls":20},"[/tr]"]
[{"$nulls":20},"[tr]"]
[{"$nulls":21},"[td]2. Diamond Jim[/td]"]
[{"$nulls":21},"[td]$4.14[/td]"]
[{"$nulls":21},"[td][/td]"]
[{"$nulls":21},"[td][/td]"]
[{"$nulls":20},"[/tr]"]
[{"$nulls":20},"[/table]"]
[]
[{"$nulls":20},"[table]"]
[{"$nulls":20},"[tr]"]
[{"$nulls":21},"[td][url=http://www.tabonline.com.au/2012/05/09/AR06.html]Balaklava   Race   6[/url][/td]"]
[{"$nulls":21},"[td][color=yellow]Coopers 150th Anniv. Cup (75)[/color][/td]"]
[{"$nulls":21},"[td]$10000[/td]"]
[{"$nulls":21},"[td][color=lime]Restricted 75[/color][/td]"]
[{"$nulls":20},"[/tr]"]
[{"$nulls":20},"[tr]"]
[{"$nulls":21},"[td]No Horse[/td]"]
[{"$nulls":21},"[td]Rated Price[/td]"]
[{"$nulls":21},"[td]Win[/td]"]
[{"$nulls":21},"[td]Place[/td]"]
[{"$nulls":20},"[/tr]"]
[{"$nulls":20},"[tr]"]
[{"$nulls":21},"[td]1. Rikbat[/td]"]
[{"$nulls":21},"[td]$2.62[/td]"]
[{"$nulls":21},"[td][/td]"]
[{"$nulls":21},"[td][/td]"]
[{"$nulls":20},"[/tr]"]
[{"$nulls":20},"[tr]"]
[{"$nulls":21},"[td]4. Waratone[/td]"]
[{"$nulls":21},"[td]$3.57[/td]"]
[{"$nulls":21},"[td][/td]"]
[{"$nulls":21},"[td][/td]"]
[{"$nulls":20},"[/tr]"]
[{"$nulls":20},"[tr]"]
[{"$nulls":21},"[td]9. Goldstinger[/td]"]
[{"$nulls":21},"[td]$5.22[/td]"]
[{"$nulls":21},"[td][/td]"]
[{"$nulls":21},"[td][/td]"]
[{"$nulls":20},"[/tr]"]
[{"$nulls":20},"[tr]"]
[{"$nulls":21},"[td]5. Yesquire[/td]"]
[{"$nulls":21},"[td]$5.83[/td]"]
[{"$nulls":21},"[td][/td]"]
[{"$nulls":21},"[td][/td]"]
[{"$nulls":20},"[/tr]"]
[{"$nulls":20},"[tr]"]
[{"$nulls":21},"[td]2. Belle Addiction[/td]"]
[{"$nulls":21},"[td]$6.58[/td]"]
[{"$nulls":21},"[td][/td]"]
[{"$nulls":21},"[td][/td]"]
[{"$nulls":20},"[/tr]"]
[{"$nulls":20},"[/table]"]
[]
[{"$nulls":20},"[table]"]
[{"$nulls":20},"[tr]"]
[{"$nulls":21},"[td][url=http://www.tabonline.com.au/2012/05/09/AR08.html]Balaklava   Race   8[/url][/td]"]
[{"$nulls":21},"[td][color=yellow]Crack A Big Woody Hcp (75)[/color][/td]"]
[{"$nulls":21},"[td]$10000[/td]"]
[{"$nulls":21},"[td][color=lime]Restricted 75[/color][/td]"]
[{"$nulls":20},"[/tr]"]
[{"$nulls":20},"[tr]"]
[{"$nulls":21},"[td]No Horse[/td]"]
[{"$nulls":21},"[td]Rated Price[/td]"]
[{"$nulls":21},"[td]Win[/td]"]
[{"$nulls":21},"[td]Place[/td]"]
[{"$nulls":20},"[/tr]"]
[{"$nulls":20},"[tr]"]
[{"$nulls":21},"[td]7. Drafted[/td]"]
[{"$nulls":21},"[td]$2.96[/td]"]
[{"$nulls":21},"[td][/td]"]
[{"$nulls":21},"[td][/td]"]
[{"$nulls":20},"[/tr]"]
[{"$nulls":20},"[tr]"]
[{"$nulls":21},"[td]9. Our Iridium[/td]"]
[{"$nulls":21},"[td]$3.41[/td]"]
[{"$nulls":21},"[td][/td]"]
[{"$nulls":21},"[td][/td]"]
[{"$nulls":20},"[/tr]"]
[{"$nulls":20},"[tr]"]
[{"$nulls":21},"[td]6. Storm Brewing[/td]"]
[{"$nulls":21},"[td]$4.72[/td]"]
[{"$nulls":21},"[td][/td]"]
[{"$nulls":21},"[td][/td]"]
[{"$nulls":20},"[/tr]"]
[{"$nulls":20},"[tr]"]
[{"$nulls":21},"[td]1. Yarterbery[/td]"]
[{"$nulls":21},"[td]$5.18[/td]"]
[{"$nulls":21},"[td][/td]"]
[{"$nulls":21},"[td][/td]"]
[{"$nulls":20},"[/tr]"]
[{"$nulls":20},"[tr]"]
[{"$nulls":21},"[td]10. Friendsinthefield[/td]"]
[{"$nulls":21},"[td]$7.09[/td]"]
[{"$nulls":21},"[td][/td]"]
[{"$nulls":21},"[td][/td]"]
[{"$nulls":20},"[/tr]"]
[{"$nulls":20},"[/table]"]
[]
[{"$nulls":20},"[table]"]
[{"$nulls":20},"[tr]"]
[{"$nulls":21},"[td][url=http://www.tabonline.com.au/2012/05/09/PR03.html]Belmont Park   Race   3[/url][/td]"]
[{"$nulls":21},"[td][color=yellow]Playeronline.Com.Au Hcp (72)[/color][/td]"]
[{"$nulls":21},"[td]$20000[/td]"]
[{"$nulls":21},"[td][color=lime]Restricted 72[/color][/td]"]
[{"$nulls":20},"[/tr]"]
[{"$nulls":20},"[tr]"]
[{"$nulls":21},"[td]No Horse[/td]"]
[{"$nulls":21},"[td]Rated Price[/td]"]
[{"$nulls":21},"[td]Win[/td]"]
[{"$nulls":21},"[td]Place[/td]"]
[{"$nulls":20},"[/tr]"]
[{"$nulls":20},"[tr]"]
[{"$nulls":21},"[td]3. Lisetta[/td]"]
[{"$nulls":21},"[td]$2.99[/td]"]
[{"$nulls":21},"[td][/td]"]
[{"$nulls":21},"[td][/td]"]
[{"$nulls":20},"[/tr]"]
[{"$nulls":20},"[tr]"]
[{"$nulls":21},"[td]7. Hiatus[/td]"]
[{"$nulls":21},"[td]$3.21[/td]"]
[{"$nulls":21},"[td][/td]"]
[{"$nulls":21},"[td][/td]"]
[{"$nulls":20},"[/tr]"]
[{"$nulls":20},"[tr]"]
[{"$nulls":21},"[td]5. Success Park[/td]"]
[{"$nulls":21},"[td]$3.46[/td]"]
[{"$nulls":21},"[td][/td]"]
[{"$nulls":21},"[td][/td]"]
[{"$nulls":20},"[/tr]"]
[{"$nulls":20},"[tr]"]
[{"$nulls":21},"[td]1. Haboob[/td]"]
[{"$nulls":21},"[td]$5.94[/td]"]
[{"$nulls":21},"[td][/td]"]
[{"$nulls":21},"[td][/td]"]
[{"$nulls":20},"[/tr]"]
[{"$nulls":20},"[tr]"]
[{"$nulls":21},"[td]2. Ima Citinpretty[/td]"]
[{"$nulls":21},"[td]$13.88[/td]"]
[{"$nulls":21},"[td][/td]"]
[{"$nulls":21},"[td][/td]"]
[{"$nulls":20},"[/tr]"]
[{"$nulls":20},"[/table]"]
[]
[{"$nulls":20},"[table]"]
[{"$nulls":20},"[tr]"]
[{"$nulls":21},"[td][url=http://www.tabonline.com.au/2012/05/09/MR03.html]Sandown-Hillside   Race   3[/url][/td]"]
[{"$nulls":21},"[td][color=yellow]D'Urban Hcp (82)[/color][/td]"]
[{"$nulls":21},"[td]$30000[/td]"]
[{"$nulls":21},"[td][color=lime]Restricted 82[/color][/td]"]
[{"$nulls":20},"[/tr]"]
[{"$nulls":20},"[tr]"]
[{"$nulls":21},"[td]No Horse[/td]"]
[{"$nulls":21},"[td]Rated Price[/td]"]
[{"$nulls":21},"[td]Win[/td]"]
[{"$nulls":21},"[td]Place[/td]"]
[{"$nulls":20},"[/tr]"]
[{"$nulls":20},"[tr]"]
[{"$nulls":21},"[td]6. Miss Phromily[/td]"]
[{"$nulls":21},"[td]$1.77[/td]"]
[{"$nulls":21},"[td][/td]"]
[{"$nulls":21},"[td][/td]"]
[{"$nulls":20},"[/tr]"]
[{"$nulls":20},"[tr]"]
[{"$nulls":21},"[td]5. Ipioga[/td]"]
[{"$nulls":21},"[td]$4.81[/td]"]
[{"$nulls":21},"[td][/td]"]
[{"$nulls":21},"[td][/td]"]
[{"$nulls":20},"[/tr]"]
[{"$nulls":20},"[tr]"]
[{"$nulls":21},"[td]7. Kirribilli Gold[/td]"]
[{"$nulls":21},"[td]$6.01[/td]"]
[{"$nulls":21},"[td][/td]"]
[{"$nulls":21},"[td][/td]"]
[{"$nulls":20},"[/tr]"]
[{"$nulls":20},"[tr]"]
[{"$nulls":21},"[td]3. Aiglon[/td]"]
[{"$nulls":21},"[td]$7.80[/td]"]
[{"$nulls":21},"[td][/td]"]
[{"$nulls":21},"[td][/td]"]
[{"$nulls":20},"[/tr]"]
[{"$nulls":20},"[tr]"]
[{"$nulls":21},"[td]4. Crafty Cruiser[/td]"]
[{"$nulls":21},"[td]$9.06[/td]"]
[{"$nulls":21},"[td][/td]"]
[{"$nulls":21},"[td][/td]"]
[{"$nulls":20},"[/tr]"]
[{"$nulls":20},"[/table]"]
[]
[{"$nulls":20},"[table]"]
[{"$nulls":20},"[tr]"]
[{"$nulls":21},"[td][url=http://www.tabonline.com.au/2012/05/09/MR06.html]Sandown-Hillside   Race   6[/url][/td]"]
[{"$nulls":21},"[td][color=yellow]Sportingbet Hcp (78)[/color][/td]"]
[{"$nulls":21},"[td]$30000[/td]"]
[{"$nulls":21},"[td][color=lime]Restricted 78[/color][/td]"]
[{"$nulls":20},"[/tr]"]
[{"$nulls":20},"[tr]"]
[{"$nulls":21},"[td]No Horse[/td]"]
[{"$nulls":21},"[td]Rated Price[/td]"]
[{"$nulls":21},"[td]Win[/td]"]
[{"$nulls":21},"[td]Place[/td]"]
[{"$nulls":20},"[/tr]"]
[{"$nulls":20},"[tr]"]
[{"$nulls":21},"[td]14. Vihanna Victory[/td]"]
[{"$nulls":21},"[td]$3.01[/td]"]
[{"$nulls":21},"[td][/td]"]
[{"$nulls":21},"[td][/td]"]
[{"$nulls":20},"[/tr]"]
[{"$nulls":20},"[tr]"]
[{"$nulls":21},"[td]5. Bellissimo[/td]"]
[{"$nulls":21},"[td]$3.51[/td]"]
[{"$nulls":21},"[td][/td]"]
[{"$nulls":21},"[td][/td]"]
[{"$nulls":20},"[/tr]"]
[{"$nulls":20},"[tr]"]
[{"$nulls":21},"[td]6. Milestone[/td]"]
[{"$nulls":21},"[td]$5.01[/td]"]
[{"$nulls":21},"[td][/td]"]
[{"$nulls":21},"[td][/td]"]
[{"$nulls":20},"[/tr]"]
[{"$nulls":20},"[tr]"]
[{"$nulls":21},"[td]13. Cloud Rock[/td]"]
[{"$nulls":21},"[td]$5.01[/td]"]
[{"$nulls":21},"[td][/td]"]
[{"$nulls":21},"[td][/td]"]
[{"$nulls":20},"[/tr]"]
[{"$nulls":20},"[tr]"]
[{"$nulls":21},"[td]8. Charlottes Mint[/td]"]
[{"$nulls":21},"[td]$6.21[/td]"]
[{"$nulls":21},"[td][/td]"]
[{"$nulls":21},"[td][/td]"]
[{"$nulls":20},"[/tr]"]
[{"$nulls":20},"[/table]"]
[]
[{"$nulls":20},"[table]"]
[{"$nulls":20},"[tr]"]
[{"$nulls":21},"[td][url=http://www.tabonline.com.au/2012/05/09/MR08.html]Sandown-Hillside   Race   8[/url][/td]"]
[{"$nulls":21},"[td][color=yellow]Ahern's Highways Hcp (78)[/color][/td]"]
[{"$nulls":21},"[td]$30000[/td]"]
[{"$nulls":21},"[td][color=lime]Restricted 78[/color][/td]"]
[{"$nulls":20},"[/tr]"]
[{"$nulls":20},"[tr]"]
[{"$nulls":21},"[td]No Horse[/td]"]
[{"$nulls":21},"[td]Rated Price[/td]"]
[{"$nulls":21},"[td]Win[/td]"]
[{"$nulls":21},"[td]Place[/td]"]
[{"$nulls":20},"[/tr]"]
[{"$nulls":20},"[tr]"]
[{"$nulls":21},"[td]13. Means A Lot[/td]"]
[{"$nulls":21},"[td]$2.32[/td]"]
[{"$nulls":21},"[td][/td]"]
[{"$nulls":21},"[td][/td]"]
[{"$nulls":20},"[/tr]"]
[{"$nulls":20},"[tr]"]
[{"$nulls":21},"[td]20. Pepin Hoaks[/td]"]
[{"$nulls":21},"[td]$4.98[/td]"]
[{"$nulls":21},"[td][/td]"]
[{"$nulls":21},"[td][/td]"]
[{"$nulls":20},"[/tr]"]
[{"$nulls":20},"[tr]"]
[{"$nulls":21},"[td]1. Harry Trimbole[/td]"]
[{"$nulls":21},"[td]$5.51[/td]"]
[{"$nulls":21},"[td][/td]"]
[{"$nulls":21},"[td][/td]"]
[{"$nulls":20},"[/tr]"]
[{"$nulls":20},"[tr]"]
[{"$nulls":21},"[td]2. Sidecar[/td]"]
[{"$nulls":21},"[td]$5.51[/td]"]
[{"$nulls":21},"[td][/td]"]
[{"$nulls":21},"[td][/td]"]
[{"$nulls":20},"[/tr]"]
[{"$nulls":20},"[tr]"]
[{"$nulls":21},"[td]9. Very Fast[/td]"]
[{"$nulls":21},"[td]$5.51[/td]"]
[{"$nulls":21},"[td][/td]"]
[{"$nulls":21},"[td][/td]"]
[{"$nulls":20},"[/tr]"]
[{"$nulls":20},"[/table]"]
[]
[{"$nulls":20},"[table]"]
[{"$nulls":20},"[tr]"]
[{"$nulls":21},"[td][url=http://www.tabonline.com.au/2012/05/09/QR01.html]Sunshine Coast   Race   1[/url][/td]"]
[{"$nulls":21},"[td][color=yellow]Steel Fabrications (C2)[/color][/td]"]
[{"$nulls":21},"[td]$12000[/td]"]
[{"$nulls":21},"[td][color=lime]Class 2[/color][/td]"]
[{"$nulls":20},"[/tr]"]
[{"$nulls":20},"[tr]"]
[{"$nulls":21},"[td]No Horse[/td]"]
[{"$nulls":21},"[td]Rated Price[/td]"]
[{"$nulls":21},"[td]Win[/td]"]
[{"$nulls":21},"[td]Place[/td]"]
[{"$nulls":20},"[/tr]"]
[{"$nulls":20},"[tr]"]
[{"$nulls":21},"[td]3. Sweet Little Filly[/td]"]
[{"$nulls":21},"[td]$1.97[/td]"]
[{"$nulls":21},"[td][/td]"]
[{"$nulls":21},"[td][/td]"]
[{"$nulls":20},"[/tr]"]
[{"$nulls":20},"[tr]"]
[{"$nulls":21},"[td]4. Business Day[/td]"]
[{"$nulls":21},"[td]$4.37[/td]"]
[{"$nulls":21},"[td][/td]"]
[{"$nulls":21},"[td][/td]"]
[{"$nulls":20},"[/tr]"]
[{"$nulls":20},"[tr]"]
[{"$nulls":21},"[td]5. Aessex[/td]"]
[{"$nulls":21},"[td]$4.37[/td]"]
[{"$nulls":21},"[td][/td]"]
[{"$nulls":21},"[td][/td]"]
[{"$nulls":20},"[/tr]"]
[{"$nulls":20},"[tr]"]
[{"$nulls":21},"[td]2. Our Triple Treat[/td]"]
[{"$nulls":21},"[td]$7.03[/td]"]
[{"$nulls":21},"[td][/td]"]
[{"$nulls":21},"[td][/td]"]
[{"$nulls":20},"[/tr]"]
[{"$nulls":20},"[tr]"]
[{"$nulls":21},"[td]7. Kwila Sunrise[/td]"]
[{"$nulls":21},"[td]$14.26[/td]"]
[{"$nulls":21},"[td][/td]"]
[{"$nulls":21},"[td][/td]"]
[{"$nulls":20},"[/tr]"]
[{"$nulls":20},"[/table]"]
[]
[{"$nulls":20},"[table]"]
[{"$nulls":20},"[tr]"]
[{"$nulls":21},"[td][url=http://www.tabonline.com.au/2012/05/09/QR07.html]Sunshine Coast   Race   7[/url][/td]"]
[{"$nulls":21},"[td][color=yellow]Secure Access Pty Ltd Hcp (C3)[/color][/td]"]
[{"$nulls":21},"[td]$12000[/td]"]
[{"$nulls":21},"[td][color=lime]Class 3[/color][/td]"]
[{"$nulls":20},"[/tr]"]
[{"$nulls":20},"[tr]"]
[{"$nulls":21},"[td]No Horse[/td]"]
[{"$nulls":21},"[td]Rated Price[/td]"]
[{"$nulls":21},"[td]Win[/td]"]
[{"$nulls":21},"[td]Place[/td]"]
[{"$nulls":20},"[/tr]"]
[{"$nulls":20},"[tr]"]
[{"$nulls":21},"[td]9. Visona Rose[/td]"]
[{"$nulls":21},"[td]$2.85[/td]"]
[{"$nulls":21},"[td][/td]"]
[{"$nulls":21},"[td][/td]"]
[{"$nulls":20},"[/tr]"]
[{"$nulls":20},"[tr]"]
[{"$nulls":21},"[td]6. Geological[/td]"]
[{"$nulls":21},"[td]$3.20[/td]"]
[{"$nulls":21},"[td][/td]"]
[{"$nulls":21},"[td][/td]"]
[{"$nulls":20},"[/tr]"]
[{"$nulls":20},"[tr]"]
[{"$nulls":21},"[td]13. Supreme Affair[/td]"]
[{"$nulls":21},"[td]$5.14[/td]"]
[{"$nulls":21},"[td][/td]"]
[{"$nulls":21},"[td][/td]"]
[{"$nulls":20},"[/tr]"]
[{"$nulls":20},"[tr]"]
[{"$nulls":21},"[td]8. Rock Of The Coast[/td]"]
[{"$nulls":21},"[td]$5.56[/td]"]
[{"$nulls":21},"[td][/td]"]
[{"$nulls":21},"[td][/td]"]
[{"$nulls":20},"[/tr]"]
[{"$nulls":20},"[tr]"]
[{"$nulls":21},"[td]16. Lion Beauty[/td]"]
[{"$nulls":21},"[td]$7.22[/td]"]
[{"$nulls":21},"[td][/td]"]
[{"$nulls":21},"[td][/td]"]
[{"$nulls":20},"[/tr]"]
[{"$nulls":20},"[/table]"]
[]
[{"$nulls":20},"[table]"]
[{"$nulls":20},"[tr]"]
[{"$nulls":21},"[td][url=http://www.tabonline.com.au/2012/05/09/SR04.html]Warwick Farm   Race   4[/url][/td]"]
[{"$nulls":21},"[td][color=yellow]Rotary Club Of Liverpool-Bm70[/color][/td]"]
[{"$nulls":21},"[td]$27000[/td]"]
[{"$nulls":21},"[td][color=lime]Benchmark 70[/color][/td]"]
[{"$nulls":20},"[/tr]"]
[{"$nulls":20},"[tr]"]
[{"$nulls":21},"[td]No Horse[/td]"]
[{"$nulls":21},"[td]Rated Price[/td]"]
[{"$nulls":21},"[td]Win[/td]"]
[{"$nulls":21},"[td]Place[/td]"]
[{"$nulls":20},"[/tr]"]
[{"$nulls":20},"[tr]"]
[{"$nulls":21},"[td]10. Rockacheva[/td]"]
[{"$nulls":21},"[td]$2.63[/td]"]
[{"$nulls":21},"[td][/td]"]
[{"$nulls":21},"[td][/td]"]
[{"$nulls":20},"[/tr]"]
[{"$nulls":20},"[tr]"]
[{"$nulls":21},"[td]11. Last Rain[/td]"]
[{"$nulls":21},"[td]$4.11[/td]"]
[{"$nulls":21},"[td][/td]"]
[{"$nulls":21},"[td][/td]"]
[{"$nulls":20},"[/tr]"]
[{"$nulls":20},"[tr]"]
[{"$nulls":21},"[td]8. Australian Star[/td]"]
[{"$nulls":21},"[td]$4.93[/td]"]
[{"$nulls":21},"[td][/td]"]
[{"$nulls":21},"[td][/td]"]
[{"$nulls":20},"[/tr]"]
[{"$nulls":20},"[tr]"]
[{"$nulls":21},"[td]6. Song And Roses[/td]"]
[{"$nulls":21},"[td]$5.43[/td]"]
[{"$nulls":21},"[td][/td]"]
[{"$nulls":21},"[td][/td]"]
[{"$nulls":20},"[/tr]"]
[{"$nulls":20},"[tr]"]
[{"$nulls":21},"[td]13. Linbob[/td]"]
[{"$nulls":21},"[td]$6.04[/td]"]
[{"$nulls":21},"[td][/td]"]
[{"$nulls":21},"[td][/td]"]
[{"$nulls":20},"[/tr]"]
[{"$nulls":20},"[/table]"]
[]
[{"$nulls":20},"[table]"]
[{"$nulls":20},"[tr]"]
[{"$nulls":21},"[td][url=http://www.tabonline.com.au/2012/05/09/SR05.html]Warwick Farm   Race   5[/url][/td]"]
[{"$nulls":21},"[td][color=yellow]Rotary Club Of Liverpool-Bm70[/color][/td]"]
[{"$nulls":21},"[td]$27000[/td]"]
[{"$nulls":21},"[td][color=lime]Benchmark 70[/color][/td]"]
[{"$nulls":20},"[/tr]"]
[{"$nulls":20},"[tr]"]
[{"$nulls":21},"[td]No Horse[/td]"]
[{"$nulls":21},"[td]Rated Price[/td]"]
[{"$nulls":21},"[td]Win[/td]"]
[{"$nulls":21},"[td]Place[/td]"]
[{"$nulls":20},"[/tr]"]
[{"$nulls":20},"[tr]"]
[{"$nulls":21},"[td]9. Flitter Bye[/td]"]
[{"$nulls":21},"[td]$2.28[/td]"]
[{"$nulls":21},"[td][/td]"]
[{"$nulls":21},"[td][/td]"]
[{"$nulls":20},"[/tr]"]
[{"$nulls":20},"[tr]"]
[{"$nulls":21},"[td]6. Erfaan[/td]"]
[{"$nulls":21},"[td]$3.63[/td]"]
[{"$nulls":21},"[td][/td]"]
[{"$nulls":21},"[td][/td]"]
[{"$nulls":20},"[/tr]"]
[{"$nulls":20},"[tr]"]
[{"$nulls":21},"[td]13. Fraganza[/td]"]
[{"$nulls":21},"[td]$4.63[/td]"]
[{"$nulls":21},"[td][/td]"]
[{"$nulls":21},"[td][/td]"]
[{"$nulls":20},"[/tr]"]
[{"$nulls":20},"[tr]"]
[{"$nulls":21},"[td]4. Tonk[/td]"]
[{"$nulls":21},"[td]$6.87[/td]"]
[{"$nulls":21},"[td][/td]"]
[{"$nulls":21},"[td][/td]"]
[{"$nulls":20},"[/tr]"]
[{"$nulls":20},"[tr]"]
[{"$nulls":21},"[td]11. Earnest Ernest[/td]"]
[{"$nulls":21},"[td]$10.01[/td]"]
[{"$nulls":21},"[td][/td]"]
[{"$nulls":21},"[td][/td]"]
[{"$nulls":20},"[/tr]"]
[{"$nulls":20},"[/table]"]
[]
[{"$nulls":20},"[table]"]
[{"$nulls":20},"[tr]"]
[{"$nulls":21},"[td][url=http://www.tabonline.com.au/2012/05/09/SR06.html]Warwick Farm   Race   6[/url][/td]"]
[{"$nulls":21},"[td][color=yellow]Fairfield RSL Mem. Club (Bm70)[/color][/td]"]
[{"$nulls":21},"[td]$27000[/td]"]
[{"$nulls":21},"[td][color=lime]Benchmark 70[/color][/td]"]
[{"$nulls":20},"[/tr]"]
[{"$nulls":20},"[tr]"]
[{"$nulls":21},"[td]No Horse[/td]"]
[{"$nulls":21},"[td]Rated Price[/td]"]
[{"$nulls":21},"[td]Win[/td]"]
[{"$nulls":21},"[td]Place[/td]"]
[{"$nulls":20},"[/tr]"]
[{"$nulls":20},"[tr]"]
[{"$nulls":21},"[td]4. Our Banshee[/td]"]
[{"$nulls":21},"[td]$2.11[/td]"]
[{"$nulls":21},"[td][/td]"]
[{"$nulls":21},"[td][/td]"]
[{"$nulls":20},"[/tr]"]
[{"$nulls":20},"[tr]"]
[{"$nulls":21},"[td]2. Diamond Jim[/td]"]
[{"$nulls":21},"[td]$4.14[/td]"]
[{"$nulls":21},"[td][/td]"]
[{"$nulls":21},"[td][/td]"]
[{"$nulls":20},"[/tr]"]
[{"$nulls":20},"[tr]"]
[{"$nulls":21},"[td]1. Two For Tea[/td]"]
[{"$nulls":21},"[td]$5.58[/td]"]
[{"$nulls":21},"[td][/td]"]
[{"$nulls":21},"[td][/td]"]
[{"$nulls":20},"[/tr]"]
[{"$nulls":20},"[tr]"]
[{"$nulls":21},"[td]6. Platinum Jack[/td]"]
[{"$nulls":21},"[td]$7.08[/td]"]
[{"$nulls":21},"[td][/td]"]
[{"$nulls":21},"[td][/td]"]
[{"$nulls":20},"[/tr]"]
[{"$nulls":20},"[tr]"]
[{"$nulls":21},"[td]7. Tunes[/td]"]
[{"$nulls":21},"[td]$7.08[/td]"]
[{"$nulls":21},"[td][/td]"]
[{"$nulls":21},"[td][/td]"]
[{"$nulls":20},"[/tr]"]
[{"$nulls":20},"[/table]"]
[]
[{"$nulls":20},"[table]"]
[{"$nulls":20},"[tr]"]
[{"$nulls":21},"[td][url=http://www.tabonline.com.au/2012/05/09/AR06.html]Balaklava   Race   6[/url][/td]"]
[{"$nulls":21},"[td][color=yellow]Coopers 150th Anniv. Cup (75)[/color][/td]"]
[{"$nulls":21},"[td]$10000[/td]"]
[{"$nulls":21},"[td][color=lime]Restricted 75[/color][/td]"]
[{"$nulls":20},"[/tr]"]
[{"$nulls":20},"[tr]"]
[{"$nulls":21},"[td]No Horse[/td]"]
[{"$nulls":21},"[td]Rated Price[/td]"]
[{"$nulls":21},"[td]Win[/td]"]
[{"$nulls":21},"[td]Place[/td]"]
[{"$nulls":20},"[/tr]"]
[{"$nulls":20},"[tr]"]
[{"$nulls":21},"[td]1. Rikbat[/td]"]
[{"$nulls":21},"[td]$2.62[/td]"]
[{"$nulls":21},"[td][/td]"]
[{"$nulls":21},"[td][/td]"]
[{"$nulls":20},"[/tr]"]
[{"$nulls":20},"[tr]"]
[{"$nulls":21},"[td]4. Waratone[/td]"]
[{"$nulls":21},"[td]$3.57[/td]"]
[{"$nulls":21},"[td][/td]"]
[{"$nulls":21},"[td][/td]"]
[{"$nulls":20},"[/tr]"]
[{"$nulls":20},"[/table]"]
[]
[{"$nulls":20},"[table]"]
[{"$nulls":20},"[tr]"]
[{"$nulls":21},"[td][url=http://www.tabonline.com.au/2012/05/09/AR08.html]Balaklava   Race   8[/url][/td]"]
[{"$nulls":21},"[td][color=yellow]Crack A Big Woody Hcp (75)[/color][/td]"]
[{"$nulls":21},"[td]$10000[/td]"]
[{"$nulls":21},"[td][color=lime]Restricted 75[/color][/td]"]
[{"$nulls":20},"[/tr]"]
[{"$nulls":20},"[tr]"]
[{"$nulls":21},"[td]No Horse[/td]"]
[{"$nulls":21},"[td]Rated Price[/td]"]
[{"$nulls":21},"[td]Win[/td]"]
[{"$nulls":21},"[td]Place[/td]"]
[{"$nulls":20},"[/tr]"]
[{"$nulls":20},"[tr]"]
[{"$nulls":21},"[td]7. Drafted[/td]"]
[{"$nulls":21},"[td]$2.96[/td]"]
[{"$nulls":21},"[td][/td]"]
[{"$nulls":21},"[td][/td]"]
[{"$nulls":20},"[/tr]"]
[{"$nulls":20},"[tr]"]
[{"$nulls":21},"[td]9. Our Iridium[/td]"]
[{"$nulls":21},"[td]$3.41[/td]"]
[{"$nulls":21},"[td][/td]"]
[{"$nulls":21},"[td][/td]"]
[{"$nulls":20},"[/tr]"]
[{"$nulls":20},"[/table]"]
[]
[{"$nulls":20},"[table]"]
[{"$nulls":20},"[tr]"]
[{"$nulls":21},"[td][url=http://www.tabonline.com.au/2012/05/09/PR03.html]Belmont Park   Race   3[/url][/td]"]
[{"$nulls":21},"[td][color=yellow]Playeronline.Com.Au Hcp (72)[/color][/td]"]
[{"$nulls":21},"[td]$20000[/td]"]
[{"$nulls":21},"[td][color=lime]Restricted 72[/color][/td]"]
[{"$nulls":20},"[/tr]"]
[{"$nulls":20},"[tr]"]
[{"$nulls":21},"[td]No Horse[/td]"]
[{"$nulls":21},"[td]Rated Price[/td]"]
[{"$nulls":21},"[td]Win[/td]"]
[{"$nulls":21},"[td]Place[/td]"]
[{"$nulls":20},"[/tr]"]
[{"$nulls":20},"[tr]"]
[{"$nulls":21},"[td]3. Lisetta[/td]"]
[{"$nulls":21},"[td]$2.99[/td]"]
[{"$nulls":21},"[td][/td]"]
[{"$nulls":21},"[td][/td]"]
[{"$nulls":20},"[/tr]"]
[{"$nulls":20},"[tr]"]
[{"$nulls":21},"[td]7. Hiatus[/td]"]
[{"$nulls":21},"[td]$3.21[/td]"]
[{"$nulls":21},"[td][/td]"]
[{"$nulls":21},"[td][/td]"]
[{"$nulls":20},"[/tr]"]
[{"$nulls":20},"[/table]"]
[]
[{"$nulls":20},"[table]"]
[{"$nulls":20},"[tr]"]
[{"$nulls":21},"[td][url=http://www.tabonline.com.au/2012/05/09/MR03.html]Sandown-Hillside   Race   3[/url][/td]"]
[{"$nulls":21},"[td][color=yellow]D'Urban Hcp (82)[/color][/td]"]
[{"$nulls":21},"[td]$30000[/td]"]
[{"$nulls":21},"[td][color=lime]Restricted 82[/color][/td]"]
[{"$nulls":20},"[/tr]"]
[{"$nulls":20},"[tr]"]
[{"$nulls":21},"[td]No Horse[/td]"]
[{"$nulls":21},"[td]Rated Price[/td]"]
[{"$nulls":21},"[td]Win[/td]"]
[{"$nulls":21},"[td]Place[/td]"]
[{"$nulls":20},"[/tr]"]
[{"$nulls":20},"[tr]"]
[{"$nulls":21},"[td]6. Miss Phromily[/td]"]
[{"$nulls":21},"[td]$1.77[/td]"]
[{"$nulls":21},"[td][/td]"]
[{"$nulls":21},"[td][/td]"]
[{"$nulls":20},"[/tr]"]
[{"$nulls":20},"[tr]"]
[{"$nulls":21},"[td]5. Ipioga[/td]"]
[{"$nulls":21},"[td]$4.81[/td]"]
[{"$nulls":21},"[td][/td]"]
[{"$nulls":21},"[td][/td]"]
[{"$nulls":20},"[/tr]"]
[{"$nulls":20},"[/table]"]
[]
[{"$nulls":20},"[table]"]
[{"$nulls":20},"[tr]"]
[{"$nulls":21},"[td][url=http://www.tabonline.com.au/2012/05/09/MR06.html]Sandown-Hillside   Race   6[/url][/td]"]
[{"$nulls":21},"[td][color=yellow]Sportingbet Hcp (78)[/color][/td]"]
[{"$nulls":21},"[td]$30000[/td]"]
[{"$nulls":21},"[td][color=lime]Restricted 78[/color][/td]"]
[{"$nulls":20},"[/tr]"]
[{"$nulls":20},"[tr]"]
[{"$nulls":21},"[td]No Horse[/td]"]
[{"$nulls":21},"[td]Rated Price[/td]"]
[{"$nulls":21},"[td]Win[/td]"]
[{"$nulls":21},"[td]Place[/td]"]
[{"$nulls":20},"[/tr]"]
[{"$nulls":20},"[tr]"]
[{"$nulls":21},"[td]14. Vihanna Victory[/td]"]
[{"$nulls":21},"[td]$3.01[/td]"]
[{"$nulls":21},"[td][/td]"]
[{"$nulls":21},"[td][/td]"]
[{"$nulls":20},"[/tr]"]
[{"$nulls":20},"[tr]"]
[{"$nulls":21},"[td]5. Bellissimo[/td]"]
[{"$nulls":21},"[td]$3.51[/td]"]
[{"$nulls":21},"[td][/td]"]
[{"$nulls":21},"[td][/td]"]
[{"$nulls":20},"[/tr]"]
[{"$nulls":20},"[/table]"]
[]
[{"$nulls":20},"[table]"]
[{"$nulls":20},"[tr]"]
[{"$nulls":21},"[td][url=http://www.tabonline.com.au/2012/05/09/MR08.html]Sandown-Hillside   Race   8[/url][/td]"]
[{"$nulls":21},"[td][color=yellow]Ahern's Highways Hcp (78)[/color][/td]"]
[{"$nulls":21},"[td]$30000[/td]"]
[{"$nulls":21},"[td][color=lime]Restricted 78[/color][/td]"]
[{"$nulls":20},"[/tr]"]
[{"$nulls":20},"[tr]"]
[{"$nulls":21},"[td]No Horse[/td]"]
[{"$nulls":21},"[td]Rated Price[/td]"]
[{"$nulls":21},"[td]Win[/td]"]
[{"$nulls":21},"[td]Place[/td]"]
[{"$nulls":20},"[/tr]"]
[{"$nulls":20},"[tr]"]
[{"$nulls":21},"[td]13. Means A Lot[/td]"]
[{"$nulls":21},"[td]$2.32[/td]"]
[{"$nulls":21},"[td][/td]"]
[{"$nulls":21},"[td][/td]"]
[{"$nulls":20},"[/tr]"]
[{"$nulls":20},"[tr]"]
[{"$nulls":21},"[td]20. Pepin Hoaks[/td]"]
[{"$nulls":21},"[td]$4.98[/td]"]
[{"$nulls":21},"[td][/td]"]
[{"$nulls":21},"[td][/td]"]
[{"$nulls":20},"[/tr]"]
[{"$nulls":20},"[/table]"]
[]
[{"$nulls":20},"[table]"]
[{"$nulls":20},"[tr]"]
[{"$nulls":21},"[td][url=http://www.tabonline.com.au/2012/05/09/QR01.html]Sunshine Coast   Race   1[/url][/td]"]
[{"$nulls":21},"[td][color=yellow]Steel Fabrications (C2)[/color][/td]"]
[{"$nulls":21},"[td]$12000[/td]"]
[{"$nulls":21},"[td][color=lime]Class 2[/color][/td]"]
[{"$nulls":20},"[/tr]"]
[{"$nulls":20},"[tr]"]
[{"$nulls":21},"[td]No Horse[/td]"]
[{"$nulls":21},"[td]Rated Price[/td]"]
[{"$nulls":21},"[td]Win[/td]"]
[{"$nulls":21},"[td]Place[/td]"]
[{"$nulls":20},"[/tr]"]
[{"$nulls":20},"[tr]"]
[{"$nulls":21},"[td]3. Sweet Little Filly[/td]"]
[{"$nulls":21},"[td]$1.97[/td]"]
[{"$nulls":21},"[td][/td]"]
[{"$nulls":21},"[td][/td]"]
[{"$nulls":20},"[/tr]"]
[{"$nulls":20},"[tr]"]
[{"$nulls":21},"[td]4. Business Day[/td]"]
[{"$nulls":21},"[td]$4.37[/td]"]
[{"$nulls":21},"[td][/td]"]
[{"$nulls":21},"[td][/td]"]
[{"$nulls":20},"[/tr]"]
[{"$nulls":20},"[/table]"]
[]
[{"$nulls":20},"[table]"]
[{"$nulls":20},"[tr]"]
[{"$nulls":21},"[td][url=http://www.tabonline.com.au/2012/05/09/QR07.html]Sunshine Coast   Race   7[/url][/td]"]
[{"$nulls":21},"[td][color=yellow]Secure Access Pty Ltd Hcp (C3)[/color][/td]"]
[{"$nulls":21},"[td]$12000[/td]"]
[{"$nulls":21},"[td][color=lime]Class 3[/color][/td]"]
[{"$nulls":20},"[/tr]"]
[{"$nulls":20},"[tr]"]
[{"$nulls":21},"[td]No Horse[/td]"]
[{"$nulls":21},"[td]Rated Price[/td]"]
[{"$nulls":21},"[td]Win[/td]"]
[{"$nulls":21},"[td]Place[/td]"]
[{"$nulls":20},"[/tr]"]
[{"$nulls":20},"[tr]"]
[{"$nulls":21},"[td]9. Visona Rose[/td]"]
[{"$nulls":21},"[td]$2.85[/td]"]
[{"$nulls":21},"[td][/td]"]
[{"$nulls":21},"[td][/td]"]
[{"$nulls":20},"[/tr]"]
[{"$nulls":20},"[tr]"]
[{"$nulls":21},"[td]6. Geological[/td]"]
[{"$nulls":21},"[td]$3.20[/td]"]
[{"$nulls":21},"[td][/td]"]
[{"$nulls":21},"[td][/td]"]
[{"$nulls":20},"[/tr]"]
[{"$nulls":20},"[/table]"]
[]
[{"$nulls":20},"[table]"]
[{"$nulls":20},"[tr]"]
[{"$nulls":21},"[td][url=http://www.tabonline.com.au/2012/05/09/SR04.html]Warwick Farm   Race   4[/url][/td]"]
[{"$nulls":21},"[td][color=yellow]Rotary Club Of Liverpool-Bm70[/color][/td]"]
[{"$nulls":21},"[td]$27000[/td]"]
[{"$nulls":21},"[td][color=lime]Benchmark 70[/color][/td]"]
[{"$nulls":20},"[/tr]"]
[{"$nulls":20},"[tr]"]
[{"$nulls":21},"[td]No Horse[/td]"]
[{"$nulls":21},"[td]Rated Price[/td]"]
[{"$nulls":21},"[td]Win[/td]"]
[{"$nulls":21},"[td]Place[/td]"]
[{"$nulls":20},"[/tr]"]
[{"$nulls":20},"[tr]"]
[{"$nulls":21},"[td]10. Rockacheva[/td]"]
[{"$nulls":21},"[td]$2.63[/td]"]
[{"$nulls":21},"[td][/td]"]
[{"$nulls":21},"[td][/td]"]
[{"$nulls":20},"[/tr]"]
[{"$nulls":20},"[tr]"]
[{"$nulls":21},"[td]11. Last Rain[/td]"]
[{"$nulls":21},"[td]$4.11[/td]"]
[{"$nulls":21},"[td][/td]"]
[{"$nulls":21},"[td][/td]"]
[{"$nulls":20},"[/tr]"]
[{"$nulls":20},"[/table]"]
[]
[{"$nulls":20},"[table]"]
[{"$nulls":20},"[tr]"]
[{"$nulls":21},"[td][url=http://www.tabonline.com.au/2012/05/09/SR05.html]Warwick Farm   Race   5[/url][/td]"]
[{"$nulls":21},"[td][color=yellow]Rotary Club Of Liverpool-Bm70[/color][/td]"]
[{"$nulls":21},"[td]$27000[/td]"]
[{"$nulls":21},"[td][color=lime]Benchmark 70[/color][/td]"]
[{"$nulls":20},"[/tr]"]
[{"$nulls":20},"[tr]"]
[{"$nulls":21},"[td]No Horse[/td]"]
[{"$nulls":21},"[td]Rated Price[/td]"]
[{"$nulls":21},"[td]Win[/td]"]
[{"$nulls":21},"[td]Place[/td]"]
[{"$nulls":20},"[/tr]"]
[{"$nulls":20},"[tr]"]
[{"$nulls":21},"[td]9. Flitter Bye[/td]"]
[{"$nulls":21},"[td]$2.28[/td]"]
[{"$nulls":21},"[td][/td]"]
[{"$nulls":21},"[td][/td]"]
[{"$nulls":20},"[/tr]"]
[{"$nulls":20},"[tr]"]
[{"$nulls":21},"[td]6. Erfaan[/td]"]
[{"$nulls":21},"[td]$3.63[/td]"]
[{"$nulls":21},"[td][/td]"]
[{"$nulls":21},"[td][/td]"]
[{"$nulls":20},"[/tr]"]
[{"$nulls":20},"[/table]"]
[]
[{"$nulls":20},"[table]"]
[{"$nulls":20},"[tr]"]
[{"$nulls":21},"[td][url=http://www.tabonline.com.au/2012/05/09/SR06.html]Warwick Farm   Race   6[/url][/td]"]
[{"$nulls":21},"[td][color=yellow]Fairfield RSL Mem. Club (Bm70)[/color][/td]"]
[{"$nulls":21},"[td]$27000[/td]"]
[{"$nulls":21},"[td][color=lime]Benchmark 70[/color][/td]"]
[{"$nulls":20},"[/tr]"]
[{"$nulls":20},"[tr]"]
[{"$nulls":21},"[td]No Horse[/td]"]
[{"$nulls":21},"[td]Rated Price[/td]"]
[{"$nulls":21},"[td]Win[/td]"]
[{"$nulls":21},"[td]Place[/td]"]
[{"$nulls":20},"[/tr]"]
[{"$nulls":20},"[tr]"]
[{"$nulls":21},"[td]4. Our Banshee[/td]"]
[{"$nulls":21},"[td]$2.11[/td]"]
[{"$nulls":21},"[td][/td]"]
[{"$nulls":21},"[td][/td]"]
[{"$nulls":20},"[/tr]"]
[{"$nulls":20},"[tr]"]
[{"$nulls":21},"[td]2. Diamond Jim[/td]"]
[{"$nulls":21},"[td]$4.14[/td]"]
[{"$nulls":21},"[td][/td]"]
[{"$nulls":21},"[td][/td]"]
[{"$nulls":20},"[/tr]"]
[{"$nulls":20},"[/table]"]
[]
[{"$nulls":20},"[table]"]
[{"$nulls":20},"[tr]"]
[{"$nulls":21},"[td][url=http://www.tabonline.com.au/2012/05/09/AR06.html]Balaklava   Race   6[/url][/td]"]
[{"$nulls":21},"[td][color=yellow]Coopers 150th Anniv. Cup (75)[/color][/td]"]
[{"$nulls":21},"[td]$10000[/td]"]
[{"$nulls":21},"[td][color=lime]Restricted 75[/color][/td]"]
[{"$nulls":20},"[/tr]"]
[{"$nulls":20},"[tr]"]
[{"$nulls":21},"[td]No Horse[/td]"]
[{"$nulls":21},"[td]Rated Price[/td]"]
[{"$nulls":21},"[td]Win[/td]"]
[{"$nulls":21},"[td]Place[/td]"]
[{"$nulls":20},"[/tr]"]
[{"$nulls":20},"[tr]"]
[{"$nulls":21},"[td]1. Rikbat[/td]"]
[{"$nulls":21},"[td]$2.57[/td]"]
[{"$nulls":21},"[td][/td]"]
[{"$nulls":21},"[td][/td]"]
[{"$nulls":20},"[/tr]"]
[{"$nulls":20},"[tr]"]
[{"$nulls":21},"[td]4. Waratone[/td]"]
[{"$nulls":21},"[td]$3.54[/td]"]
[{"$nulls":21},"[td][/td]"]
[{"$nulls":21},"[td][/td]"]
[{"$nulls":20},"[/tr]"]
[{"$nulls":20},"[tr]"]
[{"$nulls":21},"[td]9. Goldstinger[/td]"]
[{"$nulls":21},"[td]$5.29[/td]"]
[{"$nulls":21},"[td][/td]"]
[{"$nulls":21},"[td][/td]"]
[{"$nulls":20},"[/tr]"]
[{"$nulls":20},"[tr]"]
[{"$nulls":21},"[td]5. Yesquire[/td]"]
[{"$nulls":21},"[td]$5.96[/td]"]
[{"$nulls":21},"[td][/td]"]
[{"$nulls":21},"[td][/td]"]
[{"$nulls":20},"[/tr]"]
[{"$nulls":20},"[tr]"]
[{"$nulls":21},"[td]2. Belle Addiction[/td]"]
[{"$nulls":21},"[td]$6.79[/td]"]
[{"$nulls":21},"[td][/td]"]
[{"$nulls":21},"[td][/td]"]
[{"$nulls":20},"[/tr]"]
[{"$nulls":20},"[/table]"]
[]
[{"$nulls":20},"[table]"]
[{"$nulls":20},"[tr]"]
[{"$nulls":21},"[td][url=http://www.tabonline.com.au/2012/05/09/AR07.html]Balaklava   Race   7[/url][/td]"]
[{"$nulls":21},"[td][color=yellow]Jacobs Creek Hcp (68)[/color][/td]"]
[{"$nulls":21},"[td]$10000[/td]"]
[{"$nulls":21},"[td][color=lime]Restricted 68[/color][/td]"]
[{"$nulls":20},"[/tr]"]
[{"$nulls":20},"[tr]"]
[{"$nulls":21},"[td]No Horse[/td]"]
[{"$nulls":21},"[td]Rated Price[/td]"]
[{"$nulls":21},"[td]Win[/td]"]
[{"$nulls":21},"[td]Place[/td]"]
[{"$nulls":20},"[/tr]"]
[{"$nulls":20},"[tr]"]
[{"$nulls":21},"[td]8. Ilsede[/td]"]
[{"$nulls":21},"[td]$2.71[/td]"]
[{"$nulls":21},"[td][/td]"]
[{"$nulls":21},"[td][/td]"]
[{"$nulls":20},"[/tr]"]
[{"$nulls":20},"[tr]"]
[{"$nulls":21},"[td]6. Grand Zee[/td]"]
[{"$nulls":21},"[td]$2.91[/td]"]
[{"$nulls":21},"[td][/td]"]
[{"$nulls":21},"[td][/td]"]
[{"$nulls":20},"[/tr]"]
[{"$nulls":20},"[tr]"]
[{"$nulls":21},"[td]7. High Value[/td]"]
[{"$nulls":21},"[td]$5.39[/td]"]
[{"$nulls":21},"[td][/td]"]
[{"$nulls":21},"[td][/td]"]
[{"$nulls":20},"[/tr]"]
[{"$nulls":20},"[tr]"]
[{"$nulls":21},"[td]1. Dubai Dawn[/td]"]
[{"$nulls":21},"[td]$6.02[/td]"]
[{"$nulls":21},"[td][/td]"]
[{"$nulls":21},"[td][/td]"]
[{"$nulls":20},"[/tr]"]
[{"$nulls":20},"[tr]"]
[{"$nulls":21},"[td]4. Visual Impact[/td]"]
[{"$nulls":21},"[td]$8.94[/td]"]
[{"$nulls":21},"[td][/td]"]
[{"$nulls":21},"[td][/td]"]
[{"$nulls":20},"[/tr]"]
[{"$nulls":20},"[/table]"]
[]
[{"$nulls":20},"[table]"]
[{"$nulls":20},"[tr]"]
[{"$nulls":21},"[td][url=http://www.tabonline.com.au/2012/05/09/AR08.html]Balaklava   Race   8[/url][/td]"]
[{"$nulls":21},"[td][color=yellow]Crack A Big Woody Hcp (75)[/color][/td]"]
[{"$nulls":21},"[td]$10000[/td]"]
[{"$nulls":21},"[td][color=lime]Restricted 75[/color][/td]"]
[{"$nulls":20},"[/tr]"]
[{"$nulls":20},"[tr]"]
[{"$nulls":21},"[td]No Horse[/td]"]
[{"$nulls":21},"[td]Rated Price[/td]"]
[{"$nulls":21},"[td]Win[/td]"]
[{"$nulls":21},"[td]Place[/td]"]
[{"$nulls":20},"[/tr]"]
[{"$nulls":20},"[tr]"]
[{"$nulls":21},"[td]7. Drafted[/td]"]
[{"$nulls":21},"[td]$2.78[/td]"]
[{"$nulls":21},"[td][/td]"]
[{"$nulls":21},"[td][/td]"]
[{"$nulls":20},"[/tr]"]
[{"$nulls":20},"[tr]"]
[{"$nulls":21},"[td]9. Our Iridium[/td]"]
[{"$nulls":21},"[td]$3.43[/td]"]
[{"$nulls":21},"[td][/td]"]
[{"$nulls":21},"[td][/td]"]
[{"$nulls":20},"[/tr]"]
[{"$nulls":20},"[tr]"]
[{"$nulls":21},"[td]6. Storm Brewing[/td]"]
[{"$nulls":21},"[td]$4.75[/td]"]
[{"$nulls":21},"[td][/td]"]
[{"$nulls":21},"[td][/td]"]
[{"$nulls":20},"[/tr]"]
[{"$nulls":20},"[tr]"]
[{"$nulls":21},"[td]1. Yarterbery[/td]"]
[{"$nulls":21},"[td]$5.75[/td]"]
[{"$nulls":21},"[td][/td]"]
[{"$nulls":21},"[td][/td]"]
[{"$nulls":20},"[/tr]"]
[{"$nulls":20},"[tr]"]
[{"$nulls":21},"[td]10. Friendsinthefield[/td]"]
[{"$nulls":21},"[td]$7.15[/td]"]
[{"$nulls":21},"[td][/td]"]
[{"$nulls":21},"[td][/td]"]
[{"$nulls":20},"[/tr]"]
[{"$nulls":20},"[/table]"]
[]
[{"$nulls":20},"[table]"]
[{"$nulls":20},"[tr]"]
[{"$nulls":21},"[td][url=http://www.tabonline.com.au/2012/05/09/AR09.html]Balaklava   Race   9[/url][/td]"]
[{"$nulls":21},"[td][color=yellow]Sagle Constructions (62)[/color][/td]"]
[{"$nulls":21},"[td]$10000[/td]"]
[{"$nulls":21},"[td][color=lime]Restricted 62[/color][/td]"]
[{"$nulls":20},"[/tr]"]
[{"$nulls":20},"[tr]"]
[{"$nulls":21},"[td]No Horse[/td]"]
[{"$nulls":21},"[td]Rated Price[/td]"]
[{"$nulls":21},"[td]Win[/td]"]
[{"$nulls":21},"[td]Place[/td]"]
[{"$nulls":20},"[/tr]"]
[{"$nulls":20},"[tr]"]
[{"$nulls":21},"[td]4. Granulator[/td]"]
[{"$nulls":21},"[td]$2.55[/td]"]
[{"$nulls":21},"[td][/td]"]
[{"$nulls":21},"[td][/td]"]
[{"$nulls":20},"[/tr]"]
[{"$nulls":20},"[tr]"]
[{"$nulls":21},"[td]3. Dictatorial[/td]"]
[{"$nulls":21},"[td]$3.30[/td]"]
[{"$nulls":21},"[td][/td]"]
[{"$nulls":21},"[td][/td]"]
[{"$nulls":20},"[/tr]"]
[{"$nulls":20},"[tr]"]
[{"$nulls":21},"[td]1. Ottana[/td]"]
[{"$nulls":21},"[td]$3.82[/td]"]
[{"$nulls":21},"[td][/td]"]
[{"$nulls":21},"[td][/td]"]
[{"$nulls":20},"[/tr]"]
[{"$nulls":20},"[tr]"]
[{"$nulls":21},"[td]6. Exotic Girl[/td]"]
[{"$nulls":21},"[td]$8.08[/td]"]
[{"$nulls":21},"[td][/td]"]
[{"$nulls":21},"[td][/td]"]
[{"$nulls":20},"[/tr]"]
[{"$nulls":20},"[tr]"]
[{"$nulls":21},"[td]2. Ambush Al[/td]"]
[{"$nulls":21},"[td]$10.46[/td]"]
[{"$nulls":21},"[td][/td]"]
[{"$nulls":21},"[td][/td]"]
[{"$nulls":20},"[/tr]"]
[{"$nulls":20},"[/table]"]
[]
[{"$nulls":20},"[table]"]
[{"$nulls":20},"[tr]"]
[{"$nulls":21},"[td][url=http://www.tabonline.com.au/2012/05/09/AR10.html]Balaklava   Race   10[/url][/td]"]
[{"$nulls":21},"[td][color=yellow]Angus Pure Sirloin Steaks (62)[/color][/td]"]
[{"$nulls":21},"[td]$10000[/td]"]
[{"$nulls":21},"[td][color=lime]Restricted 62[/color][/td]"]
[{"$nulls":20},"[/tr]"]
[{"$nulls":20},"[tr]"]
[{"$nulls":21},"[td]No Horse[/td]"]
[{"$nulls":21},"[td]Rated Price[/td]"]
[{"$nulls":21},"[td]Win[/td]"]
[{"$nulls":21},"[td]Place[/td]"]
[{"$nulls":20},"[/tr]"]
[{"$nulls":20},"[tr]"]
[{"$nulls":21},"[td]6. Elsewhere[/td]"]
[{"$nulls":21},"[td]$2.91[/td]"]
[{"$nulls":21},"[td][/td]"]
[{"$nulls":21},"[td][/td]"]
[{"$nulls":20},"[/tr]"]
[{"$nulls":20},"[tr]"]
[{"$nulls":21},"[td]4. Zen[/td]"]
[{"$nulls":21},"[td]$4.19[/td]"]
[{"$nulls":21},"[td][/td]"]
[{"$nulls":21},"[td][/td]"]
[{"$nulls":20},"[/tr]"]
[{"$nulls":20},"[tr]"]
[{"$nulls":21},"[td]5. Gold Frenzy[/td]"]
[{"$nulls":21},"[td]$4.19[/td]"]
[{"$nulls":21},"[td][/td]"]
[{"$nulls":21},"[td][/td]"]
[{"$nulls":20},"[/tr]"]
[{"$nulls":20},"[tr]"]
[{"$nulls":21},"[td]8. Zerprise Us All[/td]"]
[{"$nulls":21},"[td]$4.19[/td]"]
[{"$nulls":21},"[td][/td]"]
[{"$nulls":21},"[td][/td]"]
[{"$nulls":20},"[/tr]"]
[{"$nulls":20},"[tr]"]
[{"$nulls":21},"[td]1. Proctorville[/td]"]
[{"$nulls":21},"[td]$8.46[/td]"]
[{"$nulls":21},"[td][/td]"]
[{"$nulls":21},"[td][/td]"]
[{"$nulls":20},"[/tr]"]
[{"$nulls":20},"[/table]"]
[]
[{"$nulls":20},"[table]"]
[{"$nulls":20},"[tr]"]
[{"$nulls":21},"[td][url=http://www.tabonline.com.au/2012/05/09/PR05.html]Belmont Park   Race   5[/url][/td]"]
[{"$nulls":21},"[td][color=yellow]Perth Saints F.C. Hcp (64)[/color][/td]"]
[{"$nulls":21},"[td]$15000[/td]"]
[{"$nulls":21},"[td][color=lime]Restricted 64[/color][/td]"]
[{"$nulls":20},"[/tr]"]
[{"$nulls":20},"[tr]"]
[{"$nulls":21},"[td]No Horse[/td]"]
[{"$nulls":21},"[td]Rated Price[/td]"]
[{"$nulls":21},"[td]Win[/td]"]
[{"$nulls":21},"[td]Place[/td]"]
[{"$nulls":20},"[/tr]"]
[{"$nulls":20},"[tr]"]
[{"$nulls":21},"[td]5. Kim Ashlee[/td]"]
[{"$nulls":21},"[td]$2.54[/td]"]
[{"$nulls":21},"[td][/td]"]
[{"$nulls":21},"[td][/td]"]
[{"$nulls":20},"[/tr]"]
[{"$nulls":20},"[tr]"]
[{"$nulls":21},"[td]1. Havana City[/td]"]
[{"$nulls":21},"[td]$2.72[/td]"]
[{"$nulls":21},"[td][/td]"]
[{"$nulls":21},"[td][/td]"]
[{"$nulls":20},"[/tr]"]
[{"$nulls":20},"[tr]"]
[{"$nulls":21},"[td]9. Its Only Love[/td]"]
[{"$nulls":21},"[td]$4.77[/td]"]
[{"$nulls":21},"[td][/td]"]
[{"$nulls":21},"[td][/td]"]
[{"$nulls":20},"[/tr]"]
[{"$nulls":20},"[tr]"]
[{"$nulls":21},"[td]7. Rosalie Park[/td]"]
[{"$nulls":21},"[td]$8.43[/td]"]
[{"$nulls":21},"[td][/td]"]
[{"$nulls":21},"[td][/td]"]
[{"$nulls":20},"[/tr]"]
[{"$nulls":20},"[tr]"]
[{"$nulls":21},"[td]4. Spirit Of Menton[/td]"]
[{"$nulls":21},"[td]$11.47[/td]"]
[{"$nulls":21},"[td][/td]"]
[{"$nulls":21},"[td][/td]"]
[{"$nulls":20},"[/tr]"]
[{"$nulls":20},"[/table]"]
[]
[{"$nulls":20},"[table]"]
[{"$nulls":20},"[tr]"]
[{"$nulls":21},"[td][url=http://www.tabonline.com.au/2012/05/09/PR06.html]Belmont Park   Race   6[/url][/td]"]
[{"$nulls":21},"[td][color=yellow]Steel Blue Sales Team Hcp (68)[/color][/td]"]
[{"$nulls":21},"[td]$17500[/td]"]
[{"$nulls":21},"[td][color=lime]Restricted 68[/color][/td]"]
[{"$nulls":20},"[/tr]"]
[{"$nulls":20},"[tr]"]
[{"$nulls":21},"[td]No Horse[/td]"]
[{"$nulls":21},"[td]Rated Price[/td]"]
[{"$nulls":21},"[td]Win[/td]"]
[{"$nulls":21},"[td]Place[/td]"]
[{"$nulls":20},"[/tr]"]
[{"$nulls":20},"[tr]"]
[{"$nulls":21},"[td]5. Macs Mint[/td]"]
[{"$nulls":21},"[td]$3.64[/td]"]
[{"$nulls":21},"[td][/td]"]
[{"$nulls":21},"[td][/td]"]
[{"$nulls":20},"[/tr]"]
[{"$nulls":20},"[tr]"]
[{"$nulls":21},"[td]1. Sound Barrier[/td]"]
[{"$nulls":21},"[td]$3.97[/td]"]
[{"$nulls":21},"[td][/td]"]
[{"$nulls":21},"[td][/td]"]
[{"$nulls":20},"[/tr]"]
[{"$nulls":20},"[tr]"]
[{"$nulls":21},"[td]2. Greymates[/td]"]
[{"$nulls":21},"[td]$4.34[/td]"]
[{"$nulls":21},"[td][/td]"]
[{"$nulls":21},"[td][/td]"]
[{"$nulls":20},"[/tr]"]
[{"$nulls":20},"[tr]"]
[{"$nulls":21},"[td]4. Daneclicked[/td]"]
[{"$nulls":21},"[td]$4.34[/td]"]
[{"$nulls":21},"[td][/td]"]
[{"$nulls":21},"[td][/td]"]
[{"$nulls":20},"[/tr]"]
[{"$nulls":20},"[tr]"]
[{"$nulls":21},"[td]3. Nike Heir[/td]"]
[{"$nulls":21},"[td]$5.29[/td]"]
[{"$nulls":21},"[td][/td]"]
[{"$nulls":21},"[td][/td]"]
[{"$nulls":20},"[/tr]"]
[{"$nulls":20},"[/table]"]
[]
[{"$nulls":20},"[table]"]
[{"$nulls":20},"[tr]"]
[{"$nulls":21},"[td][url=http://www.tabonline.com.au/2012/05/09/PR07.html]Belmont Park   Race   7[/url][/td]"]
[{"$nulls":21},"[td][color=yellow]Perthracing.Com.Au Hcp (64)[/color][/td]"]
[{"$nulls":21},"[td]$15000[/td]"]
[{"$nulls":21},"[td][color=lime]Restricted 64[/color][/td]"]
[{"$nulls":20},"[/tr]"]
[{"$nulls":20},"[tr]"]
[{"$nulls":21},"[td]No Horse[/td]"]
[{"$nulls":21},"[td]Rated Price[/td]"]
[{"$nulls":21},"[td]Win[/td]"]
[{"$nulls":21},"[td]Place[/td]"]
[{"$nulls":20},"[/tr]"]
[{"$nulls":20},"[tr]"]
[{"$nulls":21},"[td]1. Dangerously[/td]"]
[{"$nulls":21},"[td]$2.41[/td]"]
[{"$nulls":21},"[td][/td]"]
[{"$nulls":21},"[td][/td]"]
[{"$nulls":20},"[/tr]"]
[{"$nulls":20},"[tr]"]
[{"$nulls":21},"[td]5. Lucasdemandas[/td]"]
[{"$nulls":21},"[td]$4.60[/td]"]
[{"$nulls":21},"[td][/td]"]
[{"$nulls":21},"[td][/td]"]
[{"$nulls":20},"[/tr]"]
[{"$nulls":20},"[tr]"]
[{"$nulls":21},"[td]4. Wild West Willy[/td]"]
[{"$nulls":21},"[td]$5.03[/td]"]
[{"$nulls":21},"[td][/td]"]
[{"$nulls":21},"[td][/td]"]
[{"$nulls":20},"[/tr]"]
[{"$nulls":20},"[tr]"]
[{"$nulls":21},"[td]8. Jake the Musk[/td]"]
[{"$nulls":21},"[td]$5.03[/td]"]
[{"$nulls":21},"[td][/td]"]
[{"$nulls":21},"[td][/td]"]
[{"$nulls":20},"[/tr]"]
[{"$nulls":20},"[tr]"]
[{"$nulls":21},"[td]2. Grandstand[/td]"]
[{"$nulls":21},"[td]$6.81[/td]"]
[{"$nulls":21},"[td][/td]"]
[{"$nulls":21},"[td][/td]"]
[{"$nulls":20},"[/tr]"]
[{"$nulls":20},"[/table]"]
[]
[{"$nulls":20},"[table]"]
[{"$nulls":20},"[tr]"]
[{"$nulls":21},"[td][url=http://www.tabonline.com.au/2012/05/09/PR08.html]Belmont Park   Race   8[/url][/td]"]
[{"$nulls":21},"[td][color=yellow]Barry Thomas Memorial Hcp (68)[/color][/td]"]
[{"$nulls":21},"[td]$17500[/td]"]
[{"$nulls":21},"[td][color=lime]Restricted 68[/color][/td]"]
[{"$nulls":20},"[/tr]"]
[{"$nulls":20},"[tr]"]
[{"$nulls":21},"[td]No Horse[/td]"]
[{"$nulls":21},"[td]Rated Price[/td]"]
[{"$nulls":21},"[td]Win[/td]"]
[{"$nulls":21},"[td]Place[/td]"]
[{"$nulls":20},"[/tr]"]
[{"$nulls":20},"[tr]"]
[{"$nulls":21},"[td]5. Elyssa Grace[/td]"]
[{"$nulls":21},"[td]$1.70[/td]"]
[{"$nulls":21},"[td][/td]"]
[{"$nulls":21},"[td][/td]"]
[{"$nulls":20},"[/tr]"]
[{"$nulls":20},"[tr]"]
[{"$nulls":21},"[td]9. Vacqueyras[/td]"]
[{"$nulls":21},"[td]$6.25[/td]"]
[{"$nulls":21},"[td][/td]"]
[{"$nulls":21},"[td][/td]"]
[{"$nulls":20},"[/tr]"]
[{"$nulls":20},"[tr]"]
[{"$nulls":21},"[td]10. Yamunotri[/td]"]
[{"$nulls":21},"[td]$6.25[/td]"]
[{"$nulls":21},"[td][/td]"]
[{"$nulls":21},"[td][/td]"]
[{"$nulls":20},"[/tr]"]
[{"$nulls":20},"[tr]"]
[{"$nulls":21},"[td]6. Grey Jabiru[/td]"]
[{"$nulls":21},"[td]$7.03[/td]"]
[{"$nulls":21},"[td][/td]"]
[{"$nulls":21},"[td][/td]"]
[{"$nulls":20},"[/tr]"]
[{"$nulls":20},"[tr]"]
[{"$nulls":21},"[td]1. Doutable[/td]"]
[{"$nulls":21},"[td]$7.99[/td]"]
[{"$nulls":21},"[td][/td]"]
[{"$nulls":21},"[td][/td]"]
[{"$nulls":20},"[/tr]"]
[{"$nulls":20},"[/table]"]
[]
[{"$nulls":20},"[table]"]
[{"$nulls":20},"[tr]"]
[{"$nulls":21},"[td][url=http://www.tabonline.com.au/2012/05/09/MR05.html]Sandown-Hillside   Race   5[/url][/td]"]
[{"$nulls":21},"[td][color=yellow]Event Landscaping Hcp[/color][/td]"]
[{"$nulls":21},"[td]$30000[/td]"]
[{"$nulls":21},"[td][color=lime]Open[/color][/td]"]
[{"$nulls":20},"[/tr]"]
[{"$nulls":20},"[tr]"]
[{"$nulls":21},"[td]No Horse[/td]"]
[{"$nulls":21},"[td]Rated Price[/td]"]
[{"$nulls":21},"[td]Win[/td]"]
[{"$nulls":21},"[td]Place[/td]"]
[{"$nulls":20},"[/tr]"]
[{"$nulls":20},"[tr]"]
[{"$nulls":21},"[td]1. Spurcific[/td]"]
[{"$nulls":21},"[td]$2.78[/td]"]
[{"$nulls":21},"[td][/td]"]
[{"$nulls":21},"[td][/td]"]
[{"$nulls":20},"[/tr]"]
[{"$nulls":20},"[tr]"]
[{"$nulls":21},"[td]3. Two Hills[/td]"]
[{"$nulls":21},"[td]$3.70[/td]"]
[{"$nulls":21},"[td][/td]"]
[{"$nulls":21},"[td][/td]"]
[{"$nulls":20},"[/tr]"]
[{"$nulls":20},"[tr]"]
[{"$nulls":21},"[td]6. Dashing Shadow[/td]"]
[{"$nulls":21},"[td]$4.01[/td]"]
[{"$nulls":21},"[td][/td]"]
[{"$nulls":21},"[td][/td]"]
[{"$nulls":20},"[/tr]"]
[{"$nulls":20},"[tr]"]
[{"$nulls":21},"[td]9. Iridescente[/td]"]
[{"$nulls":21},"[td]$5.76[/td]"]
[{"$nulls":21},"[td][/td]"]
[{"$nulls":21},"[td][/td]"]
[{"$nulls":20},"[/tr]"]
[{"$nulls":20},"[tr]"]
[{"$nulls":21},"[td]5. Shabangabang[/td]"]
[{"$nulls":21},"[td]$8.08[/td]"]
[{"$nulls":21},"[td][/td]"]
[{"$nulls":21},"[td][/td]"]
[{"$nulls":20},"[/tr]"]
[{"$nulls":20},"[/table]"]
[]
[{"$nulls":20},"[table]"]
[{"$nulls":20},"[tr]"]
[{"$nulls":21},"[td][url=http://www.tabonline.com.au/2012/05/09/MR06.html]Sandown-Hillside   Race   6[/url][/td]"]
[{"$nulls":21},"[td][color=yellow]Sportingbet Hcp (78)[/color][/td]"]
[{"$nulls":21},"[td]$30000[/td]"]
[{"$nulls":21},"[td][color=lime]Restricted 78[/color][/td]"]
[{"$nulls":20},"[/tr]"]
[{"$nulls":20},"[tr]"]
[{"$nulls":21},"[td]No Horse[/td]"]
[{"$nulls":21},"[td]Rated Price[/td]"]
[{"$nulls":21},"[td]Win[/td]"]
[{"$nulls":21},"[td]Place[/td]"]
[{"$nulls":20},"[/tr]"]
[{"$nulls":20},"[tr]"]
[{"$nulls":21},"[td]14. Vihanna Victory[/td]"]
[{"$nulls":21},"[td]$3.01[/td]"]
[{"$nulls":21},"[td][/td]"]
[{"$nulls":21},"[td][/td]"]
[{"$nulls":20},"[/tr]"]
[{"$nulls":20},"[tr]"]
[{"$nulls":21},"[td]5. Bellissimo[/td]"]
[{"$nulls":21},"[td]$3.51[/td]"]
[{"$nulls":21},"[td][/td]"]
[{"$nulls":21},"[td][/td]"]
[{"$nulls":20},"[/tr]"]
[{"$nulls":20},"[tr]"]
[{"$nulls":21},"[td]6. Milestone[/td]"]
[{"$nulls":21},"[td]$5.01[/td]"]
[{"$nulls":21},"[td][/td]"]
[{"$nulls":21},"[td][/td]"]
[{"$nulls":20},"[/tr]"]
[{"$nulls":20},"[tr]"]
[{"$nulls":21},"[td]13. Cloud Rock[/td]"]
[{"$nulls":21},"[td]$5.01[/td]"]
[{"$nulls":21},"[td][/td]"]
[{"$nulls":21},"[td][/td]"]
[{"$nulls":20},"[/tr]"]
[{"$nulls":20},"[tr]"]
[{"$nulls":21},"[td]8. Charlottes Mint[/td]"]
[{"$nulls":21},"[td]$6.21[/td]"]
[{"$nulls":21},"[td][/td]"]
[{"$nulls":21},"[td][/td]"]
[{"$nulls":20},"[/tr]"]
[{"$nulls":20},"[/table]"]
[]
[{"$nulls":20},"[table]"]
[{"$nulls":20},"[tr]"]
[{"$nulls":21},"[td][url=http://www.tabonline.com.au/2012/05/09/MR07.html]Sandown-Hillside   Race   7[/url][/td]"]
[{"$nulls":21},"[td][color=yellow]Le Pine Funerals Hcp (78)[/color][/td]"]
[{"$nulls":21},"[td]$30000[/td]"]
[{"$nulls":21},"[td][color=lime]Restricted 78[/color][/td]"]
[{"$nulls":20},"[/tr]"]
[{"$nulls":20},"[tr]"]
[{"$nulls":21},"[td]No Horse[/td]"]
[{"$nulls":21},"[td]Rated Price[/td]"]
[{"$nulls":21},"[td]Win[/td]"]
[{"$nulls":21},"[td]Place[/td]"]
[{"$nulls":20},"[/tr]"]
[{"$nulls":20},"[tr]"]
[{"$nulls":21},"[td]1. Festina Lente[/td]"]
[{"$nulls":21},"[td]$2.49[/td]"]
[{"$nulls":21},"[td][/td]"]
[{"$nulls":21},"[td][/td]"]
[{"$nulls":20},"[/tr]"]
[{"$nulls":20},"[tr]"]
[{"$nulls":21},"[td]4. Two Sugars[/td]"]
[{"$nulls":21},"[td]$3.09[/td]"]
[{"$nulls":21},"[td][/td]"]
[{"$nulls":21},"[td][/td]"]
[{"$nulls":20},"[/tr]"]
[{"$nulls":20},"[tr]"]
[{"$nulls":21},"[td]13. Pass The Post[/td]"]
[{"$nulls":21},"[td]$4.80[/td]"]
[{"$nulls":21},"[td][/td]"]
[{"$nulls":21},"[td][/td]"]
[{"$nulls":20},"[/tr]"]
[{"$nulls":20},"[tr]"]
[{"$nulls":21},"[td]2. Apollo Creed[/td]"]
[{"$nulls":21},"[td]$7.67[/td]"]
[{"$nulls":21},"[td][/td]"]
[{"$nulls":21},"[td][/td]"]
[{"$nulls":20},"[/tr]"]
[{"$nulls":20},"[tr]"]
[{"$nulls":21},"[td]3. Quatra Valve[/td]"]
[{"$nulls":21},"[td]$8.87[/td]"]
[{"$nulls":21},"[td][/td]"]
[{"$nulls":21},"[td][/td]"]
[{"$nulls":20},"[/tr]"]
[{"$nulls":20},"[/table]"]
[]
[{"$nulls":20},"[table]"]
[{"$nulls":20},"[tr]"]
[{"$nulls":21},"[td][url=http://www.tabonline.com.au/2012/05/09/MR08.html]Sandown-Hillside   Race   8[/url][/td]"]
[{"$nulls":21},"[td][color=yellow]Ahern's Highways Hcp (78)[/color][/td]"]
[{"$nulls":21},"[td]$30000[/td]"]
[{"$nulls":21},"[td][color=lime]Restricted 78[/color][/td]"]
[{"$nulls":20},"[/tr]"]
[{"$nulls":20},"[tr]"]
[{"$nulls":21},"[td]No Horse[/td]"]
[{"$nulls":21},"[td]Rated Price[/td]"]
[{"$nulls":21},"[td]Win[/td]"]
[{"$nulls":21},"[td]Place[/td]"]
[{"$nulls":20},"[/tr]"]
[{"$nulls":20},"[tr]"]
[{"$nulls":21},"[td]13. Means A Lot[/td]"]
[{"$nulls":21},"[td]$2.10[/td]"]
[{"$nulls":21},"[td][/td]"]
[{"$nulls":21},"[td][/td]"]
[{"$nulls":20},"[/tr]"]
[{"$nulls":20},"[tr]"]
[{"$nulls":21},"[td]20. Pepin Hoaks[/td]"]
[{"$nulls":21},"[td]$5.16[/td]"]
[{"$nulls":21},"[td][/td]"]
[{"$nulls":21},"[td][/td]"]
[{"$nulls":20},"[/tr]"]
[{"$nulls":20},"[tr]"]
[{"$nulls":21},"[td]1. Harry Trimbole[/td]"]
[{"$nulls":21},"[td]$5.71[/td]"]
[{"$nulls":21},"[td][/td]"]
[{"$nulls":21},"[td][/td]"]
[{"$nulls":20},"[/tr]"]
[{"$nulls":20},"[tr]"]
[{"$nulls":21},"[td]9. Very Fast[/td]"]
[{"$nulls":21},"[td]$5.71[/td]"]
[{"$nulls":21},"[td][/td]"]
[{"$nulls":21},"[td][/td]"]
[{"$nulls":20},"[/tr]"]
[{"$nulls":20},"[tr]"]
[{"$nulls":21},"[td]2. Sidecar[/td]"]
[{"$nulls":21},"[td]$6.36[/td]"]
[{"$nulls":21},"[td][/td]"]
[{"$nulls":21},"[td][/td]"]
[{"$nulls":20},"[/tr]"]
[{"$nulls":20},"[/table]"]
[]
[{"$nulls":20},"[table]"]
[{"$nulls":20},"[tr]"]
[{"$nulls":21},"[td][url=http://www.tabonline.com.au/2012/05/09/QR04.html]Sunshine Coast   Race   4[/url][/td]"]
[{"$nulls":21},"[td][color=yellow]Jlp Fabrication Mdn Hcp[/color][/td]"]
[{"$nulls":21},"[td]$10000[/td]"]
[{"$nulls":21},"[td][color=lime]Maiden[/color][/td]"]
[{"$nulls":20},"[/tr]"]
[{"$nulls":20},"[tr]"]
[{"$nulls":21},"[td]No Horse[/td]"]
[{"$nulls":21},"[td]Rated Price[/td]"]
[{"$nulls":21},"[td]Win[/td]"]
[{"$nulls":21},"[td]Place[/td]"]
[{"$nulls":20},"[/tr]"]
[{"$nulls":20},"[tr]"]
[{"$nulls":21},"[td]7. Belladonna Delago[/td]"]
[{"$nulls":21},"[td]$2.72[/td]"]
[{"$nulls":21},"[td][/td]"]
[{"$nulls":21},"[td][/td]"]
[{"$nulls":20},"[/tr]"]
[{"$nulls":20},"[tr]"]
[{"$nulls":21},"[td]3. Johannas Own[/td]"]
[{"$nulls":21},"[td]$3.05[/td]"]
[{"$nulls":21},"[td][/td]"]
[{"$nulls":21},"[td][/td]"]
[{"$nulls":20},"[/tr]"]
[{"$nulls":20},"[tr]"]
[{"$nulls":21},"[td]5. Dark Matter[/td]"]
[{"$nulls":21},"[td]$3.94[/td]"]
[{"$nulls":21},"[td][/td]"]
[{"$nulls":21},"[td][/td]"]
[{"$nulls":20},"[/tr]"]
[{"$nulls":20},"[tr]"]
[{"$nulls":21},"[td]6. Eight Carat Queen[/td]"]
[{"$nulls":21},"[td]$7.58[/td]"]
[{"$nulls":21},"[td][/td]"]
[{"$nulls":21},"[td][/td]"]
[{"$nulls":20},"[/tr]"]
[{"$nulls":20},"[tr]"]
[{"$nulls":21},"[td]12. Moringas Sundance[/td]"]
[{"$nulls":21},"[td]$10.54[/td]"]
[{"$nulls":21},"[td][/td]"]
[{"$nulls":21},"[td][/td]"]
[{"$nulls":20},"[/tr]"]
[{"$nulls":20},"[/table]"]
[]
[{"$nulls":20},"[table]"]
[{"$nulls":20},"[tr]"]
[{"$nulls":21},"[td][url=http://www.tabonline.com.au/2012/05/09/QR05.html]Sunshine Coast   Race   5[/url][/td]"]
[{"$nulls":21},"[td][color=yellow]Scott McMahon Electrical (C1)[/color][/td]"]
[{"$nulls":21},"[td]$10000[/td]"]
[{"$nulls":21},"[td][color=lime]Class 1[/color][/td]"]
[{"$nulls":20},"[/tr]"]
[{"$nulls":20},"[tr]"]
[{"$nulls":21},"[td]No Horse[/td]"]
[{"$nulls":21},"[td]Rated Price[/td]"]
[{"$nulls":21},"[td]Win[/td]"]
[{"$nulls":21},"[td]Place[/td]"]
[{"$nulls":20},"[/tr]"]
[{"$nulls":20},"[tr]"]
[{"$nulls":21},"[td]3. More Bubbly[/td]"]
[{"$nulls":21},"[td]$3.34[/td]"]
[{"$nulls":21},"[td][/td]"]
[{"$nulls":21},"[td][/td]"]
[{"$nulls":20},"[/tr]"]
[{"$nulls":20},"[tr]"]
[{"$nulls":21},"[td]2. Handbag[/td]"]
[{"$nulls":21},"[td]$3.83[/td]"]
[{"$nulls":21},"[td][/td]"]
[{"$nulls":21},"[td][/td]"]
[{"$nulls":20},"[/tr]"]
[{"$nulls":20},"[tr]"]
[{"$nulls":21},"[td]5. Zaroxie[/td]"]
[{"$nulls":21},"[td]$4.12[/td]"]
[{"$nulls":21},"[td][/td]"]
[{"$nulls":21},"[td][/td]"]
[{"$nulls":20},"[/tr]"]
[{"$nulls":20},"[tr]"]
[{"$nulls":21},"[td]7. Open Heart[/td]"]
[{"$nulls":21},"[td]$4.12[/td]"]
[{"$nulls":21},"[td][/td]"]
[{"$nulls":21},"[td][/td]"]
[{"$nulls":20},"[/tr]"]
[{"$nulls":20},"[tr]"]
[{"$nulls":21},"[td]8. Shes Candy[/td]"]
[{"$nulls":21},"[td]$7.68[/td]"]
[{"$nulls":21},"[td][/td]"]
[{"$nulls":21},"[td][/td]"]
[{"$nulls":20},"[/tr]"]
[{"$nulls":20},"[/table]"]
[]
[{"$nulls":20},"[table]"]
[{"$nulls":20},"[tr]"]
[{"$nulls":21},"[td][url=http://www.tabonline.com.au/2012/05/09/QR06.html]Sunshine Coast   Race   6[/url][/td]"]
[{"$nulls":21},"[td][color=yellow]Golden Beach Tavern Hcp (C1)[/color][/td]"]
[{"$nulls":21},"[td]$10000[/td]"]
[{"$nulls":21},"[td][color=lime]Class 1[/color][/td]"]
[{"$nulls":20},"[/tr]"]
[{"$nulls":20},"[tr]"]
[{"$nulls":21},"[td]No Horse[/td]"]
[{"$nulls":21},"[td]Rated Price[/td]"]
[{"$nulls":21},"[td]Win[/td]"]
[{"$nulls":21},"[td]Place[/td]"]
[{"$nulls":20},"[/tr]"]
[{"$nulls":20},"[tr]"]
[{"$nulls":21},"[td]1. Rocking Easy[/td]"]
[{"$nulls":21},"[td]$2.26[/td]"]
[{"$nulls":21},"[td][/td]"]
[{"$nulls":21},"[td][/td]"]
[{"$nulls":20},"[/tr]"]
[{"$nulls":20},"[tr]"]
[{"$nulls":21},"[td]4. March To Victory[/td]"]
[{"$nulls":21},"[td]$2.84[/td]"]
[{"$nulls":21},"[td][/td]"]
[{"$nulls":21},"[td][/td]"]
[{"$nulls":20},"[/tr]"]
[{"$nulls":20},"[tr]"]
[{"$nulls":21},"[td]6. Harrisville Toff[/td]"]
[{"$nulls":21},"[td]$5.91[/td]"]
[{"$nulls":21},"[td][/td]"]
[{"$nulls":21},"[td][/td]"]
[{"$nulls":20},"[/tr]"]
[{"$nulls":20},"[tr]"]
[{"$nulls":21},"[td]2. Chief Ouray[/td]"]
[{"$nulls":21},"[td]$8.88[/td]"]
[{"$nulls":21},"[td][/td]"]
[{"$nulls":21},"[td][/td]"]
[{"$nulls":20},"[/tr]"]
[{"$nulls":20},"[tr]"]
[{"$nulls":21},"[td]12. Conyuen[/td]"]
[{"$nulls":21},"[td]$10.01[/td]"]
[{"$nulls":21},"[td][/td]"]
[{"$nulls":21},"[td][/td]"]
[{"$nulls":20},"[/tr]"]
[{"$nulls":20},"[/table]"]
[]
[{"$nulls":20},"[table]"]
[{"$nulls":20},"[tr]"]
[{"$nulls":21},"[td][url=http://www.tabonline.com.au/2012/05/09/QR07.html]Sunshine Coast   Race   7[/url][/td]"]
[{"$nulls":21},"[td][color=yellow]Secure Access Pty Ltd Hcp (C3)[/color][/td]"]
[{"$nulls":21},"[td]$12000[/td]"]
[{"$nulls":21},"[td][color=lime]Class 3[/color][/td]"]
[{"$nulls":20},"[/tr]"]
[{"$nulls":20},"[tr]"]
[{"$nulls":21},"[td]No Horse[/td]"]
[{"$nulls":21},"[td]Rated Price[/td]"]
[{"$nulls":21},"[td]Win[/td]"]
[{"$nulls":21},"[td]Place[/td]"]
[{"$nulls":20},"[/tr]"]
[{"$nulls":20},"[tr]"]
[{"$nulls":21},"[td]9. Visona Rose[/td]"]
[{"$nulls":21},"[td]$3.01[/td]"]
[{"$nulls":21},"[td][/td]"]
[{"$nulls":21},"[td][/td]"]
[{"$nulls":20},"[/tr]"]
[{"$nulls":20},"[tr]"]
[{"$nulls":21},"[td]6. Geological[/td]"]
[{"$nulls":21},"[td]$3.38[/td]"]
[{"$nulls":21},"[td][/td]"]
[{"$nulls":21},"[td][/td]"]
[{"$nulls":20},"[/tr]"]
[{"$nulls":20},"[tr]"]
[{"$nulls":21},"[td]13. Supreme Affair[/td]"]
[{"$nulls":21},"[td]$4.73[/td]"]
[{"$nulls":21},"[td][/td]"]
[{"$nulls":21},"[td][/td]"]
[{"$nulls":20},"[/tr]"]
[{"$nulls":20},"[tr]"]
[{"$nulls":21},"[td]8. Rock Of The Coast[/td]"]
[{"$nulls":21},"[td]$5.09[/td]"]
[{"$nulls":21},"[td][/td]"]
[{"$nulls":21},"[td][/td]"]
[{"$nulls":20},"[/tr]"]
[{"$nulls":20},"[tr]"]
[{"$nulls":21},"[td]16. Lion Beauty[/td]"]
[{"$nulls":21},"[td]$7.14[/td]"]
[{"$nulls":21},"[td][/td]"]
[{"$nulls":21},"[td][/td]"]
[{"$nulls":20},"[/tr]"]
[{"$nulls":20},"[/table]"]
[]
[{"$nulls":20},"[table]"]
[{"$nulls":20},"[tr]"]
[{"$nulls":21},"[td][url=http://www.tabonline.com.au/2012/05/09/SR04.html]Warwick Farm   Race   4[/url][/td]"]
[{"$nulls":21},"[td][color=yellow]Rotary Club Of Liverpool-Bm70[/color][/td]"]
[{"$nulls":21},"[td]$27000[/td]"]
[{"$nulls":21},"[td][color=lime]Benchmark 70[/color][/td]"]
[{"$nulls":20},"[/tr]"]
[{"$nulls":20},"[tr]"]
[{"$nulls":21},"[td]No Horse[/td]"]
[{"$nulls":21},"[td]Rated Price[/td]"]
[{"$nulls":21},"[td]Win[/td]"]
[{"$nulls":21},"[td]Place[/td]"]
[{"$nulls":20},"[/tr]"]
[{"$nulls":20},"[tr]"]
[{"$nulls":21},"[td]10. Rockacheva[/td]"]
[{"$nulls":21},"[td]$2.63[/td]"]
[{"$nulls":21},"[td][/td]"]
[{"$nulls":21},"[td][/td]"]
[{"$nulls":20},"[/tr]"]
[{"$nulls":20},"[tr]"]
[{"$nulls":21},"[td]11. Last Rain[/td]"]
[{"$nulls":21},"[td]$4.11[/td]"]
[{"$nulls":21},"[td][/td]"]
[{"$nulls":21},"[td][/td]"]
[{"$nulls":20},"[/tr]"]
[{"$nulls":20},"[tr]"]
[{"$nulls":21},"[td]8. Australian Star[/td]"]
[{"$nulls":21},"[td]$4.93[/td]"]
[{"$nulls":21},"[td][/td]"]
[{"$nulls":21},"[td][/td]"]
[{"$nulls":20},"[/tr]"]
[{"$nulls":20},"[tr]"]
[{"$nulls":21},"[td]6. Song And Roses[/td]"]
[{"$nulls":21},"[td]$5.43[/td]"]
[{"$nulls":21},"[td][/td]"]
[{"$nulls":21},"[td][/td]"]
[{"$nulls":20},"[/tr]"]
[{"$nulls":20},"[tr]"]
[{"$nulls":21},"[td]13. Linbob[/td]"]
[{"$nulls":21},"[td]$6.04[/td]"]
[{"$nulls":21},"[td][/td]"]
[{"$nulls":21},"[td][/td]"]
[{"$nulls":20},"[/tr]"]
[{"$nulls":20},"[/table]"]
[]
[{"$nulls":20},"[table]"]
[{"$nulls":20},"[tr]"]
[{"$nulls":21},"[td][url=http://www.tabonline.com.au/2012/05/09/SR05.html]Warwick Farm   Race   5[/url][/td]"]
[{"$nulls":21},"[td][color=yellow]Rotary Club Of Liverpool-Bm70[/color][/td]"]
[{"$nulls":21},"[td]$27000[/td]"]
[{"$nulls":21},"[td][color=lime]Benchmark 70[/color][/td]"]
[{"$nulls":20},"[/tr]"]
[{"$nulls":20},"[tr]"]
[{"$nulls":21},"[td]No Horse[/td]"]
[{"$nulls":21},"[td]Rated Price[/td]"]
[{"$nulls":21},"[td]Win[/td]"]
[{"$nulls":21},"[td]Place[/td]"]
[{"$nulls":20},"[/tr]"]
[{"$nulls":20},"[tr]"]
[{"$nulls":21},"[td]9. Flitter Bye[/td]"]
[{"$nulls":21},"[td]$2.17[/td]"]
[{"$nulls":21},"[td][/td]"]
[{"$nulls":21},"[td][/td]"]
[{"$nulls":20},"[/tr]"]
[{"$nulls":20},"[tr]"]
[{"$nulls":21},"[td]6. Erfaan[/td]"]
[{"$nulls":21},"[td]$3.46[/td]"]
[{"$nulls":21},"[td][/td]"]
[{"$nulls":21},"[td][/td]"]
[{"$nulls":20},"[/tr]"]
[{"$nulls":20},"[tr]"]
[{"$nulls":21},"[td]13. Fraganza[/td]"]
[{"$nulls":21},"[td]$5.33[/td]"]
[{"$nulls":21},"[td][/td]"]
[{"$nulls":21},"[td][/td]"]
[{"$nulls":20},"[/tr]"]
[{"$nulls":20},"[tr]"]
[{"$nulls":21},"[td]4. Tonk[/td]"]
[{"$nulls":21},"[td]$7.37[/td]"]
[{"$nulls":21},"[td][/td]"]
[{"$nulls":21},"[td][/td]"]
[{"$nulls":20},"[/tr]"]
[{"$nulls":20},"[tr]"]
[{"$nulls":21},"[td]3. Millenium Ruler[/td]"]
[{"$nulls":21},"[td]$9.57[/td]"]
[{"$nulls":21},"[td][/td]"]
[{"$nulls":21},"[td][/td]"]
[{"$nulls":20},"[/tr]"]
[{"$nulls":20},"[/table]"]
[]
[{"$nulls":20},"[table]"]
[{"$nulls":20},"[tr]"]
[{"$nulls":21},"[td][url=http://www.tabonline.com.au/2012/05/09/SR06.html]Warwick Farm   Race   6[/url][/td]"]
[{"$nulls":21},"[td][color=yellow]Fairfield RSL Mem. Club (Bm70)[/color][/td]"]
[{"$nulls":21},"[td]$27000[/td]"]
[{"$nulls":21},"[td][color=lime]Benchmark 70[/color][/td]"]
[{"$nulls":20},"[/tr]"]
[{"$nulls":20},"[tr]"]
[{"$nulls":21},"[td]No Horse[/td]"]
[{"$nulls":21},"[td]Rated Price[/td]"]
[{"$nulls":21},"[td]Win[/td]"]
[{"$nulls":21},"[td]Place[/td]"]
[{"$nulls":20},"[/tr]"]
[{"$nulls":20},"[tr]"]
[{"$nulls":21},"[td]4. Our Banshee[/td]"]
[{"$nulls":21},"[td]$2.38[/td]"]
[{"$nulls":21},"[td][/td]"]
[{"$nulls":21},"[td][/td]"]
[{"$nulls":20},"[/tr]"]
[{"$nulls":20},"[tr]"]
[{"$nulls":21},"[td]2. Diamond Jim[/td]"]
[{"$nulls":21},"[td]$4.07[/td]"]
[{"$nulls":21},"[td][/td]"]
[{"$nulls":21},"[td][/td]"]
[{"$nulls":20},"[/tr]"]
[{"$nulls":20},"[tr]"]
[{"$nulls":21},"[td]7. Tunes[/td]"]
[{"$nulls":21},"[td]$4.93[/td]"]
[{"$nulls":21},"[td][/td]"]
[{"$nulls":21},"[td][/td]"]
[{"$nulls":20},"[/tr]"]
[{"$nulls":20},"[tr]"]
[{"$nulls":21},"[td]6. Platinum Jack[/td]"]
[{"$nulls":21},"[td]$6.12[/td]"]
[{"$nulls":21},"[td][/td]"]
[{"$nulls":21},"[td][/td]"]
[{"$nulls":20},"[/tr]"]
[{"$nulls":20},"[tr]"]
[{"$nulls":21},"[td]1. Two For Tea[/td]"]
[{"$nulls":21},"[td]$6.92[/td]"]
[{"$nulls":21},"[td][/td]"]
[{"$nulls":21},"[td][/td]"]
[{"$nulls":20},"[/tr]"]
[{"$nulls":20},"[/table]"]
[]
[{"$nulls":20},"[table]"]
[{"$nulls":20},"[tr]"]
[{"$nulls":21},"[td][url=http://www.tabonline.com.au/2012/05/09/SR07.html]Warwick Farm   Race   7[/url][/td]"]
[{"$nulls":21},"[td][color=yellow]Liverpool Chamber Of Comm-Bm70[/color][/td]"]
[{"$nulls":21},"[td]$27000[/td]"]
[{"$nulls":21},"[td][color=lime]Benchmark 70[/color][/td]"]
[{"$nulls":20},"[/tr]"]
[{"$nulls":20},"[tr]"]
[{"$nulls":21},"[td]No Horse[/td]"]
[{"$nulls":21},"[td]Rated Price[/td]"]
[{"$nulls":21},"[td]Win[/td]"]
[{"$nulls":21},"[td]Place[/td]"]
[{"$nulls":20},"[/tr]"]
[{"$nulls":20},"[tr]"]
[{"$nulls":21},"[td]4. Blurred Vision[/td]"]
[{"$nulls":21},"[td]$3.00[/td]"]
[{"$nulls":21},"[td][/td]"]
[{"$nulls":21},"[td][/td]"]
[{"$nulls":20},"[/tr]"]
[{"$nulls":20},"[tr]"]
[{"$nulls":21},"[td]1. San Zaim[/td]"]
[{"$nulls":21},"[td]$4.07[/td]"]
[{"$nulls":21},"[td][/td]"]
[{"$nulls":21},"[td][/td]"]
[{"$nulls":20},"[/tr]"]
[{"$nulls":20},"[tr]"]
[{"$nulls":21},"[td]5. Miss Venus[/td]"]
[{"$nulls":21},"[td]$4.87[/td]"]
[{"$nulls":21},"[td][/td]"]
[{"$nulls":21},"[td][/td]"]
[{"$nulls":20},"[/tr]"]
[{"$nulls":20},"[tr]"]
[{"$nulls":21},"[td]9. Matignon[/td]"]
[{"$nulls":21},"[td]$4.87[/td]"]
[{"$nulls":21},"[td][/td]"]
[{"$nulls":21},"[td][/td]"]
[{"$nulls":20},"[/tr]"]
[{"$nulls":20},"[tr]"]
[{"$nulls":21},"[td]3. Platinum Red[/td]"]
[{"$nulls":21},"[td]$5.37[/td]"]
[{"$nulls":21},"[td][/td]"]
[{"$nulls":21},"[td][/td]"]
[{"$nulls":20},"[/tr]"]
[{"$nulls":20},"[/table]"]
[]
[{"$nulls":20},"[table]"]
[{"$nulls":20},"[tr]"]
[{"$nulls":21},"[td][url=http://www.tabonline.com.au/2012/05/08/VR05.html]Bairnsdale   Race   5[/url][/td]"]
[{"$nulls":21},"[td][color=yellow]Monacellars Hcp (62)[/color][/td]"]
[{"$nulls":21},"[td]$12000[/td]"]
[{"$nulls":21},"[td][color=lime]Restricted 62[/color][/td]"]
[{"$nulls":20},"[/tr]"]
[{"$nulls":20},"[tr]"]
[{"$nulls":21},"[td]No Horse[/td]"]
[{"$nulls":21},"[td]Rated Price[/td]"]
[{"$nulls":21},"[td]Win[/td]"]
[{"$nulls":21},"[td]Place[/td]"]
[{"$nulls":20},"[/tr]"]
[{"$nulls":20},"[tr]"]
[{"$nulls":21},"[td]8. Runaway Princess[/td]"]
[{"$nulls":21},"[td]$1.76[/td]"]
[{"$nulls":21},"[td][/td]"]
[{"$nulls":21},"[td][/td]"]
[{"$nulls":20},"[/tr]"]
[{"$nulls":20},"[tr]"]
[{"$nulls":21},"[td]2. Charlis Phantom[/td]"]
[{"$nulls":21},"[td]$1.93[/td]"]
[{"$nulls":21},"[td][/td]"]
[{"$nulls":21},"[td][/td]"]
[{"$nulls":20},"[/tr]"]
[{"$nulls":20},"[tr]"]
[{"$nulls":21},"[td]10. Bold Image[/td]"]
[{"$nulls":21},"[td]$16.26[/td]"]
[{"$nulls":21},"[td][/td]"]
[{"$nulls":21},"[td][/td]"]
[{"$nulls":20},"[/tr]"]
[{"$nulls":20},"[tr]"]
[{"$nulls":21},"[td]4. Ballyrain[/td]"]
[{"$nulls":21},"[td]$33.42[/td]"]
[{"$nulls":21},"[td][/td]"]
[{"$nulls":21},"[td][/td]"]
[{"$nulls":20},"[/tr]"]
[{"$nulls":20},"[tr]"]
[{"$nulls":21},"[td]12. Chadra Boy[/td]"]
[{"$nulls":21},"[td]$85.00[/td]"]
[{"$nulls":21},"[td][/td]"]
[{"$nulls":21},"[td][/td]"]
[{"$nulls":20},"[/tr]"]
[{"$nulls":20},"[/table]"]
[]
[{"$nulls":20},"[table]"]
[{"$nulls":20},"[tr]"]
[{"$nulls":21},"[td][url=http://www.tabonline.com.au/2012/05/08/VR06.html]Bairnsdale   Race   6[/url][/td]"]
[{"$nulls":21},"[td][color=yellow]L V Express (Bm72)[/color][/td]"]
[{"$nulls":21},"[td]$12000[/td]"]
[{"$nulls":21},"[td][color=lime]Benchmark 72[/color][/td]"]
[{"$nulls":20},"[/tr]"]
[{"$nulls":20},"[tr]"]
[{"$nulls":21},"[td]No Horse[/td]"]
[{"$nulls":21},"[td]Rated Price[/td]"]
[{"$nulls":21},"[td]Win[/td]"]
[{"$nulls":21},"[td]Place[/td]"]
[{"$nulls":20},"[/tr]"]
[{"$nulls":20},"[tr]"]
[{"$nulls":21},"[td]1. Nate[/td]"]
[{"$nulls":21},"[td]$3.20[/td]"]
[{"$nulls":21},"[td][/td]"]
[{"$nulls":21},"[td][/td]"]
[{"$nulls":20},"[/tr]"]
[{"$nulls":20},"[tr]"]
[{"$nulls":21},"[td]3. Neona[/td]"]
[{"$nulls":21},"[td]$3.44[/td]"]
[{"$nulls":21},"[td][/td]"]
[{"$nulls":21},"[td][/td]"]
[{"$nulls":20},"[/tr]"]
[{"$nulls":20},"[tr]"]
[{"$nulls":21},"[td]2. Bon Genre[/td]"]
[{"$nulls":21},"[td]$4.04[/td]"]
[{"$nulls":21},"[td][/td]"]
[{"$nulls":21},"[td][/td]"]
[{"$nulls":20},"[/tr]"]
[{"$nulls":20},"[tr]"]
[{"$nulls":21},"[td]5. Biondi[/td]"]
[{"$nulls":21},"[td]$4.82[/td]"]
[{"$nulls":21},"[td][/td]"]
[{"$nulls":21},"[td][/td]"]
[{"$nulls":20},"[/tr]"]
[{"$nulls":20},"[tr]"]
[{"$nulls":21},"[td]9. Lotus Flower[/td]"]
[{"$nulls":21},"[td]$8.45[/td]"]
[{"$nulls":21},"[td][/td]"]
[{"$nulls":21},"[td][/td]"]
[{"$nulls":20},"[/tr]"]
[{"$nulls":20},"[/table]"]
[]
[{"$nulls":20},"[table]"]
[{"$nulls":20},"[tr]"]
[{"$nulls":21},"[td][url=http://www.tabonline.com.au/2012/05/08/VR07.html]Bairnsdale   Race   7[/url][/td]"]
[{"$nulls":21},"[td][color=yellow]S & S Hire Hcp (68)[/color][/td]"]
[{"$nulls":21},"[td]$12000[/td]"]
[{"$nulls":21},"[td][color=lime]Restricted 68[/color][/td]"]
[{"$nulls":20},"[/tr]"]
[{"$nulls":20},"[tr]"]
[{"$nulls":21},"[td]No Horse[/td]"]
[{"$nulls":21},"[td]Rated Price[/td]"]
[{"$nulls":21},"[td]Win[/td]"]
[{"$nulls":21},"[td]Place[/td]"]
[{"$nulls":20},"[/tr]"]
[{"$nulls":20},"[tr]"]
[{"$nulls":21},"[td]9. Ripa Artois[/td]"]
[{"$nulls":21},"[td]$2.75[/td]"]
[{"$nulls":21},"[td][/td]"]
[{"$nulls":21},"[td][/td]"]
[{"$nulls":20},"[/tr]"]
[{"$nulls":20},"[tr]"]
[{"$nulls":21},"[td]12. Rainbow Dash[/td]"]
[{"$nulls":21},"[td]$3.85[/td]"]
[{"$nulls":21},"[td][/td]"]
[{"$nulls":21},"[td][/td]"]
[{"$nulls":20},"[/tr]"]
[{"$nulls":20},"[tr]"]
[{"$nulls":21},"[td]2. Forever Fight[/td]"]
[{"$nulls":21},"[td]$4.69[/td]"]
[{"$nulls":21},"[td][/td]"]
[{"$nulls":21},"[td][/td]"]
[{"$nulls":20},"[/tr]"]
[{"$nulls":20},"[tr]"]
[{"$nulls":21},"[td]10. Bedouin Express[/td]"]
[{"$nulls":21},"[td]$5.24[/td]"]
[{"$nulls":21},"[td][/td]"]
[{"$nulls":21},"[td][/td]"]
[{"$nulls":20},"[/tr]"]
[{"$nulls":20},"[tr]"]
[{"$nulls":21},"[td]1. Gold Viper[/td]"]
[{"$nulls":21},"[td]$6.72[/td]"]
[{"$nulls":21},"[td][/td]"]
[{"$nulls":21},"[td][/td]"]
[{"$nulls":20},"[/tr]"]
[{"$nulls":20},"[/table]"]
[]
[{"$nulls":20},"[table]"]
[{"$nulls":20},"[tr]"]
[{"$nulls":21},"[td][url=http://www.tabonline.com.au/2012/05/08/VR08.html]Bairnsdale   Race   8[/url][/td]"]
[{"$nulls":21},"[td][color=yellow]Trfm-Ute Fula Loot Hcp (62)[/color][/td]"]
[{"$nulls":21},"[td]$12000[/td]"]
[{"$nulls":21},"[td][color=lime]Restricted 62[/color][/td]"]
[{"$nulls":20},"[/tr]"]
[{"$nulls":20},"[tr]"]
[{"$nulls":21},"[td]No Horse[/td]"]
[{"$nulls":21},"[td]Rated Price[/td]"]
[{"$nulls":21},"[td]Win[/td]"]
[{"$nulls":21},"[td]Place[/td]"]
[{"$nulls":20},"[/tr]"]
[{"$nulls":20},"[tr]"]
[{"$nulls":21},"[td]5. Galway Gal[/td]"]
[{"$nulls":21},"[td]$2.90[/td]"]
[{"$nulls":21},"[td][/td]"]
[{"$nulls":21},"[td][/td]"]
[{"$nulls":20},"[/tr]"]
[{"$nulls":20},"[tr]"]
[{"$nulls":21},"[td]7. Sky Shower[/td]"]
[{"$nulls":21},"[td]$3.94[/td]"]
[{"$nulls":21},"[td][/td]"]
[{"$nulls":21},"[td][/td]"]
[{"$nulls":20},"[/tr]"]
[{"$nulls":20},"[tr]"]
[{"$nulls":21},"[td]17. Delicate Jane[/td]"]
[{"$nulls":21},"[td]$4.71[/td]"]
[{"$nulls":21},"[td][/td]"]
[{"$nulls":21},"[td][/td]"]
[{"$nulls":20},"[/tr]"]
[{"$nulls":20},"[tr]"]
[{"$nulls":21},"[td]8. My Mirage[/td]"]
[{"$nulls":21},"[td]$5.20[/td]"]
[{"$nulls":21},"[td][/td]"]
[{"$nulls":21},"[td][/td]"]
[{"$nulls":20},"[/tr]"]
[{"$nulls":20},"[tr]"]
[{"$nulls":21},"[td]10. Just Smiley[/td]"]
[{"$nulls":21},"[td]$5.76[/td]"]
[{"$nulls":21},"[td][/td]"]
[{"$nulls":21},"[td][/td]"]
[{"$nulls":20},"[/tr]"]
[{"$nulls":20},"[/table]"]
[]
[{"$nulls":20},"[table]"]
[{"$nulls":20},"[tr]"]
[{"$nulls":21},"[td][url=http://www.tabonline.com.au/2012/05/08/NR05.html]Kempsey   Race   5[/url][/td]"]
[{"$nulls":21},"[td][color=yellow]Macleay Argus Hcp (C2)[/color][/td]"]
[{"$nulls":21},"[td]$10000[/td]"]
[{"$nulls":21},"[td][color=lime]Class 2[/color][/td]"]
[{"$nulls":20},"[/tr]"]
[{"$nulls":20},"[tr]"]
[{"$nulls":21},"[td]No Horse[/td]"]
[{"$nulls":21},"[td]Rated Price[/td]"]
[{"$nulls":21},"[td]Win[/td]"]
[{"$nulls":21},"[td]Place[/td]"]
[{"$nulls":20},"[/tr]"]
[{"$nulls":20},"[tr]"]
[{"$nulls":21},"[td]1. Royalla[/td]"]
[{"$nulls":21},"[td]$2.79[/td]"]
[{"$nulls":21},"[td][/td]"]
[{"$nulls":21},"[td][/td]"]
[{"$nulls":20},"[/tr]"]
[{"$nulls":20},"[tr]"]
[{"$nulls":21},"[td]5. Happy Rebel[/td]"]
[{"$nulls":21},"[td]$3.02[/td]"]
[{"$nulls":21},"[td][/td]"]
[{"$nulls":21},"[td][/td]"]
[{"$nulls":20},"[/tr]"]
[{"$nulls":20},"[tr]"]
[{"$nulls":21},"[td]11. Rachels Own[/td]"]
[{"$nulls":21},"[td]$4.30[/td]"]
[{"$nulls":21},"[td][/td]"]
[{"$nulls":21},"[td][/td]"]
[{"$nulls":20},"[/tr]"]
[{"$nulls":20},"[tr]"]
[{"$nulls":21},"[td]10. Brownstone[/td]"]
[{"$nulls":21},"[td]$6.83[/td]"]
[{"$nulls":21},"[td][/td]"]
[{"$nulls":21},"[td][/td]"]
[{"$nulls":20},"[/tr]"]
[{"$nulls":20},"[tr]"]
[{"$nulls":21},"[td]2. Za One[/td]"]
[{"$nulls":21},"[td]$9.23[/td]"]
[{"$nulls":21},"[td][/td]"]
[{"$nulls":21},"[td][/td]"]
[{"$nulls":20},"[/tr]"]
[{"$nulls":20},"[/table]"]
[]
[{"$nulls":20},"[table]"]
[{"$nulls":20},"[tr]"]
[{"$nulls":21},"[td][url=http://www.tabonline.com.au/2012/05/08/NR06.html]Kempsey   Race   6[/url][/td]"]
[{"$nulls":21},"[td][color=yellow]West End General Store (Bm60)[/color][/td]"]
[{"$nulls":21},"[td]$10000[/td]"]
[{"$nulls":21},"[td][color=lime]Benchmark 60[/color][/td]"]
[{"$nulls":20},"[/tr]"]
[{"$nulls":20},"[tr]"]
[{"$nulls":21},"[td]No Horse[/td]"]
[{"$nulls":21},"[td]Rated Price[/td]"]
[{"$nulls":21},"[td]Win[/td]"]
[{"$nulls":21},"[td]Place[/td]"]
[{"$nulls":20},"[/tr]"]
[{"$nulls":20},"[tr]"]
[{"$nulls":21},"[td]5. Foxy One[/td]"]
[{"$nulls":21},"[td]$2.45[/td]"]
[{"$nulls":21},"[td][/td]"]
[{"$nulls":21},"[td][/td]"]
[{"$nulls":20},"[/tr]"]
[{"$nulls":20},"[tr]"]
[{"$nulls":21},"[td]1. Calais Lion[/td]"]
[{"$nulls":21},"[td]$3.83[/td]"]
[{"$nulls":21},"[td][/td]"]
[{"$nulls":21},"[td][/td]"]
[{"$nulls":20},"[/tr]"]
[{"$nulls":20},"[tr]"]
[{"$nulls":21},"[td]6. Rivazar[/td]"]
[{"$nulls":21},"[td]$4.18[/td]"]
[{"$nulls":21},"[td][/td]"]
[{"$nulls":21},"[td][/td]"]
[{"$nulls":20},"[/tr]"]
[{"$nulls":20},"[tr]"]
[{"$nulls":21},"[td]11. Carrot[/td]"]
[{"$nulls":21},"[td]$5.63[/td]"]
[{"$nulls":21},"[td][/td]"]
[{"$nulls":21},"[td][/td]"]
[{"$nulls":20},"[/tr]"]
[{"$nulls":20},"[tr]"]
[{"$nulls":21},"[td]10. Ruby Spy[/td]"]
[{"$nulls":21},"[td]$11.04[/td]"]
[{"$nulls":21},"[td][/td]"]
[{"$nulls":21},"[td][/td]"]
[{"$nulls":20},"[/tr]"]
[{"$nulls":20},"[/table]"]
[]
[{"$nulls":20},"[table]"]
[{"$nulls":20},"[tr]"]
[{"$nulls":21},"[td][url=http://www.tabonline.com.au/2012/05/08/NR07.html]Kempsey   Race   7[/url][/td]"]
[{"$nulls":21},"[td][color=yellow]Akubra Hcp (C1)[/color][/td]"]
[{"$nulls":21},"[td]$10000[/td]"]
[{"$nulls":21},"[td][color=lime]Class 1[/color][/td]"]
[{"$nulls":20},"[/tr]"]
[{"$nulls":20},"[tr]"]
[{"$nulls":21},"[td]No Horse[/td]"]
[{"$nulls":21},"[td]Rated Price[/td]"]
[{"$nulls":21},"[td]Win[/td]"]
[{"$nulls":21},"[td]Place[/td]"]
[{"$nulls":20},"[/tr]"]
[{"$nulls":20},"[tr]"]
[{"$nulls":21},"[td]6. Stratabal[/td]"]
[{"$nulls":21},"[td]$3.55[/td]"]
[{"$nulls":21},"[td][/td]"]
[{"$nulls":21},"[td][/td]"]
[{"$nulls":20},"[/tr]"]
[{"$nulls":20},"[tr]"]
[{"$nulls":21},"[td]7. Mako[/td]"]
[{"$nulls":21},"[td]$3.55[/td]"]
[{"$nulls":21},"[td][/td]"]
[{"$nulls":21},"[td][/td]"]
[{"$nulls":20},"[/tr]"]
[{"$nulls":20},"[tr]"]
[{"$nulls":21},"[td]4. Shadow Rein[/td]"]
[{"$nulls":21},"[td]$4.72[/td]"]
[{"$nulls":21},"[td][/td]"]
[{"$nulls":21},"[td][/td]"]
[{"$nulls":20},"[/tr]"]
[{"$nulls":20},"[tr]"]
[{"$nulls":21},"[td]5. Allis Aria[/td]"]
[{"$nulls":21},"[td]$4.72[/td]"]
[{"$nulls":21},"[td][/td]"]
[{"$nulls":21},"[td][/td]"]
[{"$nulls":20},"[/tr]"]
[{"$nulls":20},"[tr]"]
[{"$nulls":21},"[td]2. Fayez[/td]"]
[{"$nulls":21},"[td]$5.27[/td]"]
[{"$nulls":21},"[td][/td]"]
[{"$nulls":21},"[td][/td]"]
[{"$nulls":20},"[/tr]"]
[{"$nulls":20},"[/table]"]
[]
[{"$nulls":20},"[table]"]
[{"$nulls":20},"[tr]"]
[{"$nulls":21},"[td][url=http://www.tabonline.com.au/2012/05/08/NR08.html]Kempsey   Race   8[/url][/td]"]
[{"$nulls":21},"[td][color=yellow]Smithtown Hotel Hcp (C3)[/color][/td]"]
[{"$nulls":21},"[td]$10000[/td]"]
[{"$nulls":21},"[td][color=lime]Class 3[/color][/td]"]
[{"$nulls":20},"[/tr]"]
[{"$nulls":20},"[tr]"]
[{"$nulls":21},"[td]No Horse[/td]"]
[{"$nulls":21},"[td]Rated Price[/td]"]
[{"$nulls":21},"[td]Win[/td]"]
[{"$nulls":21},"[td]Place[/td]"]
[{"$nulls":20},"[/tr]"]
[{"$nulls":20},"[tr]"]
[{"$nulls":21},"[td]2. La Hdood[/td]"]
[{"$nulls":21},"[td]$2.11[/td]"]
[{"$nulls":21},"[td][/td]"]
[{"$nulls":21},"[td][/td]"]
[{"$nulls":20},"[/tr]"]
[{"$nulls":20},"[tr]"]
[{"$nulls":21},"[td]3. Boulders[/td]"]
[{"$nulls":21},"[td]$3.85[/td]"]
[{"$nulls":21},"[td][/td]"]
[{"$nulls":21},"[td][/td]"]
[{"$nulls":20},"[/tr]"]
[{"$nulls":20},"[tr]"]
[{"$nulls":21},"[td]5. Elle Majesty[/td]"]
[{"$nulls":21},"[td]$5.19[/td]"]
[{"$nulls":21},"[td][/td]"]
[{"$nulls":21},"[td][/td]"]
[{"$nulls":20},"[/tr]"]
[{"$nulls":20},"[tr]"]
[{"$nulls":21},"[td]9. Butane[/td]"]
[{"$nulls":21},"[td]$6.57[/td]"]
[{"$nulls":21},"[td][/td]"]
[{"$nulls":21},"[td][/td]"]
[{"$nulls":20},"[/tr]"]
[{"$nulls":20},"[tr]"]
[{"$nulls":21},"[td]12. Storm Warning[/td]"]
[{"$nulls":21},"[td]$10.23[/td]"]
[{"$nulls":21},"[td][/td]"]
[{"$nulls":21},"[td][/td]"]
[{"$nulls":20},"[/tr]"]
[{"$nulls":20},"[/table]"]
[]
[{"$nulls":20},"[table]"]
[{"$nulls":20},"[tr]"]
[{"$nulls":21},"[td][url=http://www.tabonline.com.au/2012/05/08/QR03.html]Townsville   Race   3[/url][/td]"]
[{"$nulls":21},"[td][color=yellow]Outdoor/ Fishing Expo 19/20-C6[/color][/td]"]
[{"$nulls":21},"[td]$12000[/td]"]
[{"$nulls":21},"[td][color=lime]Class 6[/color][/td]"]
[{"$nulls":20},"[/tr]"]
[{"$nulls":20},"[tr]"]
[{"$nulls":21},"[td]No Horse[/td]"]
[{"$nulls":21},"[td]Rated Price[/td]"]
[{"$nulls":21},"[td]Win[/td]"]
[{"$nulls":21},"[td]Place[/td]"]
[{"$nulls":20},"[/tr]"]
[{"$nulls":20},"[tr]"]
[{"$nulls":21},"[td]3. Balustrade[/td]"]
[{"$nulls":21},"[td]$2.32[/td]"]
[{"$nulls":21},"[td][/td]"]
[{"$nulls":21},"[td][/td]"]
[{"$nulls":20},"[/tr]"]
[{"$nulls":20},"[tr]"]
[{"$nulls":21},"[td]6. Alotta Spur[/td]"]
[{"$nulls":21},"[td]$3.04[/td]"]
[{"$nulls":21},"[td][/td]"]
[{"$nulls":21},"[td][/td]"]
[{"$nulls":20},"[/tr]"]
[{"$nulls":20},"[tr]"]
[{"$nulls":21},"[td]5. Rockbel[/td]"]
[{"$nulls":21},"[td]$4.47[/td]"]
[{"$nulls":21},"[td][/td]"]
[{"$nulls":21},"[td][/td]"]
[{"$nulls":20},"[/tr]"]
[{"$nulls":20},"[tr]"]
[{"$nulls":21},"[td]4. Breakers Path[/td]"]
[{"$nulls":21},"[td]$9.87[/td]"]
[{"$nulls":21},"[td][/td]"]
[{"$nulls":21},"[td][/td]"]
[{"$nulls":20},"[/tr]"]
[{"$nulls":20},"[tr]"]
[{"$nulls":21},"[td]2. Attallus[/td]"]
[{"$nulls":21},"[td]$11.06[/td]"]
[{"$nulls":21},"[td][/td]"]
[{"$nulls":21},"[td][/td]"]
[{"$nulls":20},"[/tr]"]
[{"$nulls":20},"[/table]"]
[]
[{"$nulls":20},"[table]"]
[{"$nulls":20},"[tr]"]
[{"$nulls":21},"[td][url=http://www.tabonline.com.au/2012/05/08/QR04.html]Townsville   Race   4[/url][/td]"]
[{"$nulls":21},"[td][color=yellow]Book A Funct. @ Cluden Pk Mdn[/color][/td]"]
[{"$nulls":21},"[td]$10000[/td]"]
[{"$nulls":21},"[td][color=lime]Maiden[/color][/td]"]
[{"$nulls":20},"[/tr]"]
[{"$nulls":20},"[tr]"]
[{"$nulls":21},"[td]No Horse[/td]"]
[{"$nulls":21},"[td]Rated Price[/td]"]
[{"$nulls":21},"[td]Win[/td]"]
[{"$nulls":21},"[td]Place[/td]"]
[{"$nulls":20},"[/tr]"]
[{"$nulls":20},"[tr]"]
[{"$nulls":21},"[td]4. Stakhanov[/td]"]
[{"$nulls":21},"[td]$2.72[/td]"]
[{"$nulls":21},"[td][/td]"]
[{"$nulls":21},"[td][/td]"]
[{"$nulls":20},"[/tr]"]
[{"$nulls":20},"[tr]"]
[{"$nulls":21},"[td]1. Bentleys Best[/td]"]
[{"$nulls":21},"[td]$4.14[/td]"]
[{"$nulls":21},"[td][/td]"]
[{"$nulls":21},"[td][/td]"]
[{"$nulls":20},"[/tr]"]
[{"$nulls":20},"[tr]"]
[{"$nulls":21},"[td]3. Renounce[/td]"]
[{"$nulls":21},"[td]$4.14[/td]"]
[{"$nulls":21},"[td][/td]"]
[{"$nulls":21},"[td][/td]"]
[{"$nulls":20},"[/tr]"]
[{"$nulls":20},"[tr]"]
[{"$nulls":21},"[td]5. McKinlay[/td]"]
[{"$nulls":21},"[td]$4.14[/td]"]
[{"$nulls":21},"[td][/td]"]
[{"$nulls":21},"[td][/td]"]
[{"$nulls":20},"[/tr]"]
[{"$nulls":20},"[tr]"]
[{"$nulls":21},"[td]2. Mr Gold[/td]"]
[{"$nulls":21},"[td]$11.92[/td]"]
[{"$nulls":21},"[td][/td]"]
[{"$nulls":21},"[td][/td]"]
[{"$nulls":20},"[/tr]"]
[{"$nulls":20},"[/table]"]
[]
[{"$nulls":20},"[table]"]
[{"$nulls":20},"[tr]"]
[{"$nulls":21},"[td][url=http://www.tabonline.com.au/2012/05/08/QR05.html]Townsville   Race   5[/url][/td]"]
[{"$nulls":21},"[td][color=yellow]Sky Racing Hcp[/color][/td]"]
[{"$nulls":21},"[td]$12000[/td]"]
[{"$nulls":21},"[td][color=lime]Open[/color][/td]"]
[{"$nulls":20},"[/tr]"]
[{"$nulls":20},"[tr]"]
[{"$nulls":21},"[td]No Horse[/td]"]
[{"$nulls":21},"[td]Rated Price[/td]"]
[{"$nulls":21},"[td]Win[/td]"]
[{"$nulls":21},"[td]Place[/td]"]
[{"$nulls":20},"[/tr]"]
[{"$nulls":20},"[tr]"]
[{"$nulls":21},"[td]2. Go Cart[/td]"]
[{"$nulls":21},"[td]$2.56[/td]"]
[{"$nulls":21},"[td][/td]"]
[{"$nulls":21},"[td][/td]"]
[{"$nulls":20},"[/tr]"]
[{"$nulls":20},"[tr]"]
[{"$nulls":21},"[td]1. Cash Attack[/td]"]
[{"$nulls":21},"[td]$2.98[/td]"]
[{"$nulls":21},"[td][/td]"]
[{"$nulls":21},"[td][/td]"]
[{"$nulls":20},"[/tr]"]
[{"$nulls":20},"[tr]"]
[{"$nulls":21},"[td]3. Line By Line[/td]"]
[{"$nulls":21},"[td]$4.72[/td]"]
[{"$nulls":21},"[td][/td]"]
[{"$nulls":21},"[td][/td]"]
[{"$nulls":20},"[/tr]"]
[{"$nulls":20},"[tr]"]
[{"$nulls":21},"[td]7. Mob Rule[/td]"]
[{"$nulls":21},"[td]$6.77[/td]"]
[{"$nulls":21},"[td][/td]"]
[{"$nulls":21},"[td][/td]"]
[{"$nulls":20},"[/tr]"]
[{"$nulls":20},"[tr]"]
[{"$nulls":21},"[td]5. Tripitz[/td]"]
[{"$nulls":21},"[td]$10.99[/td]"]
[{"$nulls":21},"[td][/td]"]
[{"$nulls":21},"[td][/td]"]
[{"$nulls":20},"[/tr]"]
[{"$nulls":20},"[/table]"]
[]
[{"$nulls":20},"[table]"]
[{"$nulls":20},"[tr]"]
[{"$nulls":21},"[td][url=http://www.tabonline.com.au/2012/05/08/QR06.html]Townsville   Race   6[/url][/td]"]
[{"$nulls":21},"[td][color=yellow]Last Chance To Join The Ttc-C1[/color][/td]"]
[{"$nulls":21},"[td]$10000[/td]"]
[{"$nulls":21},"[td][color=lime]Class 1[/color][/td]"]
[{"$nulls":20},"[/tr]"]
[{"$nulls":20},"[tr]"]
[{"$nulls":21},"[td]No Horse[/td]"]
[{"$nulls":21},"[td]Rated Price[/td]"]
[{"$nulls":21},"[td]Win[/td]"]
[{"$nulls":21},"[td]Place[/td]"]
[{"$nulls":20},"[/tr]"]
[{"$nulls":20},"[tr]"]
[{"$nulls":21},"[td]2. Stradivari Miss[/td]"]
[{"$nulls":21},"[td]$2.82[/td]"]
[{"$nulls":21},"[td][/td]"]
[{"$nulls":21},"[td][/td]"]
[{"$nulls":20},"[/tr]"]
[{"$nulls":20},"[tr]"]
[{"$nulls":21},"[td]6. Miss Parma[/td]"]
[{"$nulls":21},"[td]$3.50[/td]"]
[{"$nulls":21},"[td][/td]"]
[{"$nulls":21},"[td][/td]"]
[{"$nulls":20},"[/tr]"]
[{"$nulls":20},"[tr]"]
[{"$nulls":21},"[td]7. Cecotto[/td]"]
[{"$nulls":21},"[td]$4.92[/td]"]
[{"$nulls":21},"[td][/td]"]
[{"$nulls":21},"[td][/td]"]
[{"$nulls":20},"[/tr]"]
[{"$nulls":20},"[tr]"]
[{"$nulls":21},"[td]5. Heavenly View[/td]"]
[{"$nulls":21},"[td]$5.43[/td]"]
[{"$nulls":21},"[td][/td]"]
[{"$nulls":21},"[td][/td]"]
[{"$nulls":20},"[/tr]"]
[{"$nulls":20},"[tr]"]
[{"$nulls":21},"[td]8. Discover The Gold[/td]"]
[{"$nulls":21},"[td]$6.74[/td]"]
[{"$nulls":21},"[td][/td]"]
[{"$nulls":21},"[td][/td]"]
[{"$nulls":20},"[/tr]"]
[{"$nulls":20},"[/table]"]
[]
[{"$nulls":20},"[table]"]
[{"$nulls":20},"[tr]"]
[{"$nulls":21},"[td][url=http://www.tabonline.com.au/2012/05/10/VR07.html]Ballarat   Race   7[/url][/td]"]
[{"$nulls":21},"[td][color=yellow]Fibrous Plasters (Bm72)[/color][/td]"]
[{"$nulls":21},"[td]$15000[/td]"]
[{"$nulls":21},"[td][color=lime]Benchmark 72[/color][/td]"]
[{"$nulls":20},"[/tr]"]
[{"$nulls":20},"[tr]"]
[{"$nulls":21},"[td]No Horse[/td]"]
[{"$nulls":21},"[td]Rated Price[/td]"]
[{"$nulls":21},"[td]Win[/td]"]
[{"$nulls":21},"[td]Place[/td]"]
[{"$nulls":20},"[/tr]"]
[{"$nulls":20},"[tr]"]
[{"$nulls":21},"[td]3. Anklets[/td]"]
[{"$nulls":21},"[td]$2.60[/td]"]
[{"$nulls":21},"[td][/td]"]
[{"$nulls":21},"[td][/td]"]
[{"$nulls":20},"[/tr]"]
[{"$nulls":20},"[tr]"]
[{"$nulls":21},"[td]13. Veiled[/td]"]
[{"$nulls":21},"[td]$3.23[/td]"]
[{"$nulls":21},"[td][/td]"]
[{"$nulls":21},"[td][/td]"]
[{"$nulls":20},"[/tr]"]
[{"$nulls":20},"[/table]"]
[]
[{"$nulls":20},"[table]"]
[{"$nulls":20},"[tr]"]
[{"$nulls":21},"[td][url=http://www.tabonline.com.au/2012/05/10/QR07.html]Gold Coast   Race   7[/url][/td]"]
[{"$nulls":21},"[td][color=yellow]Live Entertainment Sat. (Bm80)[/color][/td]"]
[{"$nulls":21},"[td]$12000[/td]"]
[{"$nulls":21},"[td][color=lime]Benchmark 80[/color][/td]"]
[{"$nulls":20},"[/tr]"]
[{"$nulls":20},"[tr]"]
[{"$nulls":21},"[td]No Horse[/td]"]
[{"$nulls":21},"[td]Rated Price[/td]"]
[{"$nulls":21},"[td]Win[/td]"]
[{"$nulls":21},"[td]Place[/td]"]
[{"$nulls":20},"[/tr]"]
[{"$nulls":20},"[tr]"]
[{"$nulls":21},"[td]8. Go Kingpin[/td]"]
[{"$nulls":21},"[td]$2.96[/td]"]
[{"$nulls":21},"[td][/td]"]
[{"$nulls":21},"[td][/td]"]
[{"$nulls":20},"[/tr]"]
[{"$nulls":20},"[tr]"]
[{"$nulls":21},"[td]4. Newsnight[/td]"]
[{"$nulls":21},"[td]$3.74[/td]"]
[{"$nulls":21},"[td][/td]"]
[{"$nulls":21},"[td][/td]"]
[{"$nulls":20},"[/tr]"]
[{"$nulls":20},"[/table]"]
[]
[{"$nulls":20},"[table]"]
[{"$nulls":20},"[tr]"]
[{"$nulls":21},"[td][url=http://www.tabonline.com.au/2012/05/10/NR07.html]Wyong   Race   7[/url][/td]"]
[{"$nulls":21},"[td][color=yellow]Woodstock One Footer (Bm65)[/color][/td]"]
[{"$nulls":21},"[td]$16000[/td]"]
[{"$nulls":21},"[td][color=lime]Benchmark 65[/color][/td]"]
[{"$nulls":20},"[/tr]"]
[{"$nulls":20},"[tr]"]
[{"$nulls":21},"[td]No Horse[/td]"]
[{"$nulls":21},"[td]Rated Price[/td]"]
[{"$nulls":21},"[td]Win[/td]"]
[{"$nulls":21},"[td]Place[/td]"]
[{"$nulls":20},"[/tr]"]
[{"$nulls":20},"[tr]"]
[{"$nulls":21},"[td]10. Playful Miss[/td]"]
[{"$nulls":21},"[td]$2.59[/td]"]
[{"$nulls":21},"[td][/td]"]
[{"$nulls":21},"[td][/td]"]
[{"$nulls":20},"[/tr]"]
[{"$nulls":20},"[tr]"]
[{"$nulls":21},"[td]11. Drop Of Magic[/td]"]
[{"$nulls":21},"[td]$4.31[/td]"]
[{"$nulls":21},"[td][/td]"]
[{"$nulls":21},"[td][/td]"]
[{"$nulls":20},"[/tr]"]
[{"$nulls":20},"[/table]"]
[]
[{"$nulls":20},"[table]"]
[{"$nulls":20},"[tr]"]
[{"$nulls":21},"[td][url=http://www.tabonline.com.au/2012/05/10/VR05.html]Ballarat   Race   5[/url][/td]"]
[{"$nulls":21},"[td][color=yellow]T Daniels The Good Guys Hcp-62[/color][/td]"]
[{"$nulls":21},"[td]$15000[/td]"]
[{"$nulls":21},"[td][color=lime]Restricted 62[/color][/td]"]
[{"$nulls":20},"[/tr]"]
[{"$nulls":20},"[tr]"]
[{"$nulls":21},"[td]No Horse[/td]"]
[{"$nulls":21},"[td]Rated Price[/td]"]
[{"$nulls":21},"[td]Win[/td]"]
[{"$nulls":21},"[td]Place[/td]"]
[{"$nulls":20},"[/tr]"]
[{"$nulls":20},"[tr]"]
[{"$nulls":21},"[td]1. Candy Dance[/td]"]
[{"$nulls":21},"[td]$2.53[/td]"]
[{"$nulls":21},"[td][/td]"]
[{"$nulls":21},"[td][/td]"]
[{"$nulls":20},"[/tr]"]
[{"$nulls":20},"[tr]"]
[{"$nulls":21},"[td]4. Christmas[/td]"]
[{"$nulls":21},"[td]$3.30[/td]"]
[{"$nulls":21},"[td][/td]"]
[{"$nulls":21},"[td][/td]"]
[{"$nulls":20},"[/tr]"]
[{"$nulls":20},"[tr]"]
[{"$nulls":21},"[td]8. Lady Francesca[/td]"]
[{"$nulls":21},"[td]$4.16[/td]"]
[{"$nulls":21},"[td][/td]"]
[{"$nulls":21},"[td][/td]"]
[{"$nulls":20},"[/tr]"]
[{"$nulls":20},"[tr]"]
[{"$nulls":21},"[td]7. Jazzed[/td]"]
[{"$nulls":21},"[td]$7.48[/td]"]
[{"$nulls":21},"[td][/td]"]
[{"$nulls":21},"[td][/td]"]
[{"$nulls":20},"[/tr]"]
[{"$nulls":20},"[tr]"]
[{"$nulls":21},"[td]5. Bondarenko[/td]"]
[{"$nulls":21},"[td]$9.67[/td]"]
[{"$nulls":21},"[td][/td]"]
[{"$nulls":21},"[td][/td]"]
[{"$nulls":20},"[/tr]"]
[{"$nulls":20},"[/table]"]
[]
[{"$nulls":20},"[table]"]
[{"$nulls":20},"[tr]"]
[{"$nulls":21},"[td][url=http://www.tabonline.com.au/2012/05/10/VR06.html]Ballarat   Race   6[/url][/td]"]
[{"$nulls":21},"[td][color=yellow]T Daniels The Good Guys Hcp-68[/color][/td]"]
[{"$nulls":21},"[td]$22500[/td]"]
[{"$nulls":21},"[td][color=lime]Restricted 68[/color][/td]"]
[{"$nulls":20},"[/tr]"]
[{"$nulls":20},"[tr]"]
[{"$nulls":21},"[td]No Horse[/td]"]
[{"$nulls":21},"[td]Rated Price[/td]"]
[{"$nulls":21},"[td]Win[/td]"]
[{"$nulls":21},"[td]Place[/td]"]
[{"$nulls":20},"[/tr]"]
[{"$nulls":20},"[tr]"]
[{"$nulls":21},"[td]2. Coghills Creek[/td]"]
[{"$nulls":21},"[td]$2.25[/td]"]
[{"$nulls":21},"[td][/td]"]
[{"$nulls":21},"[td][/td]"]
[{"$nulls":20},"[/tr]"]
[{"$nulls":20},"[tr]"]
[{"$nulls":21},"[td]7. Miss Reveal[/td]"]
[{"$nulls":21},"[td]$2.25[/td]"]
[{"$nulls":21},"[td][/td]"]
[{"$nulls":21},"[td][/td]"]
[{"$nulls":20},"[/tr]"]
[{"$nulls":20},"[tr]"]
[{"$nulls":21},"[td]6. Hadron[/td]"]
[{"$nulls":21},"[td]$6.29[/td]"]
[{"$nulls":21},"[td][/td]"]
[{"$nulls":21},"[td][/td]"]
[{"$nulls":20},"[/tr]"]
[{"$nulls":20},"[tr]"]
[{"$nulls":21},"[td]1. Wills Power[/td]"]
[{"$nulls":21},"[td]$11.38[/td]"]
[{"$nulls":21},"[td][/td]"]
[{"$nulls":21},"[td][/td]"]
[{"$nulls":20},"[/tr]"]
[{"$nulls":20},"[tr]"]
[{"$nulls":21},"[td]10. Lunar Blonde[/td]"]
[{"$nulls":21},"[td]$23.58[/td]"]
[{"$nulls":21},"[td][/td]"]
[{"$nulls":21},"[td][/td]"]
[{"$nulls":20},"[/tr]"]
[{"$nulls":20},"[/table]"]
[]
[{"$nulls":20},"[table]"]
[{"$nulls":20},"[tr]"]
[{"$nulls":21},"[td][url=http://www.tabonline.com.au/2012/05/10/VR07.html]Ballarat   Race   7[/url][/td]"]
[{"$nulls":21},"[td][color=yellow]Fibrous Plasters (Bm72)[/color][/td]"]
[{"$nulls":21},"[td]$15000[/td]"]
[{"$nulls":21},"[td][color=lime]Benchmark 72[/color][/td]"]
[{"$nulls":20},"[/tr]"]
[{"$nulls":20},"[tr]"]
[{"$nulls":21},"[td]No Horse[/td]"]
[{"$nulls":21},"[td]Rated Price[/td]"]
[{"$nulls":21},"[td]Win[/td]"]
[{"$nulls":21},"[td]Place[/td]"]
[{"$nulls":20},"[/tr]"]
[{"$nulls":20},"[tr]"]
[{"$nulls":21},"[td]3. Anklets[/td]"]
[{"$nulls":21},"[td]$2.60[/td]"]
[{"$nulls":21},"[td][/td]"]
[{"$nulls":21},"[td][/td]"]
[{"$nulls":20},"[/tr]"]
[{"$nulls":20},"[tr]"]
[{"$nulls":21},"[td]13. Veiled[/td]"]
[{"$nulls":21},"[td]$3.23[/td]"]
[{"$nulls":21},"[td][/td]"]
[{"$nulls":21},"[td][/td]"]
[{"$nulls":20},"[/tr]"]
[{"$nulls":20},"[tr]"]
[{"$nulls":21},"[td]9. Prince Of Hope[/td]"]
[{"$nulls":21},"[td]$5.57[/td]"]
[{"$nulls":21},"[td][/td]"]
[{"$nulls":21},"[td][/td]"]
[{"$nulls":20},"[/tr]"]
[{"$nulls":20},"[tr]"]
[{"$nulls":21},"[td]5. Hischance[/td]"]
[{"$nulls":21},"[td]$6.22[/td]"]
[{"$nulls":21},"[td][/td]"]
[{"$nulls":21},"[td][/td]"]
[{"$nulls":20},"[/tr]"]
[{"$nulls":20},"[tr]"]
[{"$nulls":21},"[td]10. Reel Way[/td]"]
[{"$nulls":21},"[td]$7.03[/td]"]
[{"$nulls":21},"[td][/td]"]
[{"$nulls":21},"[td][/td]"]
[{"$nulls":20},"[/tr]"]
[{"$nulls":20},"[/table]"]
[]
[{"$nulls":20},"[table]"]
[{"$nulls":20},"[tr]"]
[{"$nulls":21},"[td][url=http://www.tabonline.com.au/2012/05/10/VR08.html]Ballarat   Race   8[/url][/td]"]
[{"$nulls":21},"[td][color=yellow]Sportsbet.Com.Au Hcp (62)[/color][/td]"]
[{"$nulls":21},"[td]$22500[/td]"]
[{"$nulls":21},"[td][color=lime]Restricted 62[/color][/td]"]
[{"$nulls":20},"[/tr]"]
[{"$nulls":20},"[tr]"]
[{"$nulls":21},"[td]No Horse[/td]"]
[{"$nulls":21},"[td]Rated Price[/td]"]
[{"$nulls":21},"[td]Win[/td]"]
[{"$nulls":21},"[td]Place[/td]"]
[{"$nulls":20},"[/tr]"]
[{"$nulls":20},"[tr]"]
[{"$nulls":21},"[td]7. Love My World[/td]"]
[{"$nulls":21},"[td]$3.43[/td]"]
[{"$nulls":21},"[td][/td]"]
[{"$nulls":21},"[td][/td]"]
[{"$nulls":20},"[/tr]"]
[{"$nulls":20},"[tr]"]
[{"$nulls":21},"[td]4. Island Home[/td]"]
[{"$nulls":21},"[td]$3.72[/td]"]
[{"$nulls":21},"[td][/td]"]
[{"$nulls":21},"[td][/td]"]
[{"$nulls":20},"[/tr]"]
[{"$nulls":20},"[tr]"]
[{"$nulls":21},"[td]8. Rilelilmag[/td]"]
[{"$nulls":21},"[td]$4.43[/td]"]
[{"$nulls":21},"[td][/td]"]
[{"$nulls":21},"[td][/td]"]
[{"$nulls":20},"[/tr]"]
[{"$nulls":20},"[tr]"]
[{"$nulls":21},"[td]9. Step Dance[/td]"]
[{"$nulls":21},"[td]$4.88[/td]"]
[{"$nulls":21},"[td][/td]"]
[{"$nulls":21},"[td][/td]"]
[{"$nulls":20},"[/tr]"]
[{"$nulls":20},"[tr]"]
[{"$nulls":21},"[td]16. Wonderful Rules[/td]"]
[{"$nulls":21},"[td]$5.40[/td]"]
[{"$nulls":21},"[td][/td]"]
[{"$nulls":21},"[td][/td]"]
[{"$nulls":20},"[/tr]"]
[{"$nulls":20},"[/table]"]
[]
[{"$nulls":20},"[table]"]
[{"$nulls":20},"[tr]"]
[{"$nulls":21},"[td][url=http://www.tabonline.com.au/2012/05/10/QR04.html]Gold Coast   Race   4[/url][/td]"]
[{"$nulls":21},"[td][color=yellow]21 July Tradies Raceday Mdn[/color][/td]"]
[{"$nulls":21},"[td]$10000[/td]"]
[{"$nulls":21},"[td][color=lime]Maiden[/color][/td]"]
[{"$nulls":20},"[/tr]"]
[{"$nulls":20},"[tr]"]
[{"$nulls":21},"[td]No Horse[/td]"]
[{"$nulls":21},"[td]Rated Price[/td]"]
[{"$nulls":21},"[td]Win[/td]"]
[{"$nulls":21},"[td]Place[/td]"]
[{"$nulls":20},"[/tr]"]
[{"$nulls":20},"[tr]"]
[{"$nulls":21},"[td]5. Karma Force[/td]"]
[{"$nulls":21},"[td]$2.23[/td]"]
[{"$nulls":21},"[td][/td]"]
[{"$nulls":21},"[td][/td]"]
[{"$nulls":20},"[/tr]"]
[{"$nulls":20},"[tr]"]
[{"$nulls":21},"[td]15. Magaris Dream[/td]"]
[{"$nulls":21},"[td]$3.68[/td]"]
[{"$nulls":21},"[td][/td]"]
[{"$nulls":21},"[td][/td]"]
[{"$nulls":20},"[/tr]"]
[{"$nulls":20},"[tr]"]
[{"$nulls":21},"[td]12. Exquisite Angel[/td]"]
[{"$nulls":21},"[td]$5.49[/td]"]
[{"$nulls":21},"[td][/td]"]
[{"$nulls":21},"[td][/td]"]
[{"$nulls":20},"[/tr]"]
[{"$nulls":20},"[tr]"]
[{"$nulls":21},"[td]7. Nordic Jet[/td]"]
[{"$nulls":21},"[td]$6.02[/td]"]
[{"$nulls":21},"[td][/td]"]
[{"$nulls":21},"[td][/td]"]
[{"$nulls":20},"[/tr]"]
[{"$nulls":20},"[tr]"]
[{"$nulls":21},"[td]10. Storm The Line[/td]"]
[{"$nulls":21},"[td]$9.25[/td]"]
[{"$nulls":21},"[td][/td]"]
[{"$nulls":21},"[td][/td]"]
[{"$nulls":20},"[/tr]"]
[{"$nulls":20},"[/table]"]
[]
[{"$nulls":20},"[table]"]
[{"$nulls":20},"[tr]"]
[{"$nulls":21},"[td][url=http://www.tabonline.com.au/2012/05/10/QR05.html]Gold Coast   Race   5[/url][/td]"]
[{"$nulls":21},"[td][color=yellow]18 August Intl Raceday (C1)[/color][/td]"]
[{"$nulls":21},"[td]$10000[/td]"]
[{"$nulls":21},"[td][color=lime]Class 1[/color][/td]"]
[{"$nulls":20},"[/tr]"]
[{"$nulls":20},"[tr]"]
[{"$nulls":21},"[td]No Horse[/td]"]
[{"$nulls":21},"[td]Rated Price[/td]"]
[{"$nulls":21},"[td]Win[/td]"]
[{"$nulls":21},"[td]Place[/td]"]
[{"$nulls":20},"[/tr]"]
[{"$nulls":20},"[tr]"]
[{"$nulls":21},"[td]2. Skate On By[/td]"]
[{"$nulls":21},"[td]$1.88[/td]"]
[{"$nulls":21},"[td][/td]"]
[{"$nulls":21},"[td][/td]"]
[{"$nulls":20},"[/tr]"]
[{"$nulls":20},"[tr]"]
[{"$nulls":21},"[td]6. Stop Crying[/td]"]
[{"$nulls":21},"[td]$4.45[/td]"]
[{"$nulls":21},"[td][/td]"]
[{"$nulls":21},"[td][/td]"]
[{"$nulls":20},"[/tr]"]
[{"$nulls":20},"[tr]"]
[{"$nulls":21},"[td]5. Princess Forse[/td]"]
[{"$nulls":21},"[td]$6.28[/td]"]
[{"$nulls":21},"[td][/td]"]
[{"$nulls":21},"[td][/td]"]
[{"$nulls":20},"[/tr]"]
[{"$nulls":20},"[tr]"]
[{"$nulls":21},"[td]12. Soul Crusade[/td]"]
[{"$nulls":21},"[td]$7.18[/td]"]
[{"$nulls":21},"[td][/td]"]
[{"$nulls":21},"[td][/td]"]
[{"$nulls":20},"[/tr]"]
[{"$nulls":20},"[tr]"]
[{"$nulls":21},"[td]3. Keep Winning[/td]"]
[{"$nulls":21},"[td]$8.32[/td]"]
[{"$nulls":21},"[td][/td]"]
[{"$nulls":21},"[td][/td]"]
[{"$nulls":20},"[/tr]"]
[{"$nulls":20},"[/table]"]
[]
[{"$nulls":20},"[table]"]
[{"$nulls":20},"[tr]"]
[{"$nulls":21},"[td][url=http://www.tabonline.com.au/2012/05/10/QR06.html]Gold Coast   Race   6[/url][/td]"]
[{"$nulls":21},"[td][color=yellow]25 August City Cup Raceday-C3[/color][/td]"]
[{"$nulls":21},"[td]$12000[/td]"]
[{"$nulls":21},"[td][color=lime]Class 3[/color][/td]"]
[{"$nulls":20},"[/tr]"]
[{"$nulls":20},"[tr]"]
[{"$nulls":21},"[td]No Horse[/td]"]
[{"$nulls":21},"[td]Rated Price[/td]"]
[{"$nulls":21},"[td]Win[/td]"]
[{"$nulls":21},"[td]Place[/td]"]
[{"$nulls":20},"[/tr]"]
[{"$nulls":20},"[tr]"]
[{"$nulls":21},"[td]1. Audacious Spirit[/td]"]
[{"$nulls":21},"[td]$3.22[/td]"]
[{"$nulls":21},"[td][/td]"]
[{"$nulls":21},"[td][/td]"]
[{"$nulls":20},"[/tr]"]
[{"$nulls":20},"[tr]"]
[{"$nulls":21},"[td]7. Vaarwel[/td]"]
[{"$nulls":21},"[td]$3.45[/td]"]
[{"$nulls":21},"[td][/td]"]
[{"$nulls":21},"[td][/td]"]
[{"$nulls":20},"[/tr]"]
[{"$nulls":20},"[tr]"]
[{"$nulls":21},"[td]3. Cryon[/td]"]
[{"$nulls":21},"[td]$4.33[/td]"]
[{"$nulls":21},"[td][/td]"]
[{"$nulls":21},"[td][/td]"]
[{"$nulls":20},"[/tr]"]
[{"$nulls":20},"[tr]"]
[{"$nulls":21},"[td]10. Tabassi[/td]"]
[{"$nulls":21},"[td]$4.33[/td]"]
[{"$nulls":21},"[td][/td]"]
[{"$nulls":21},"[td][/td]"]
[{"$nulls":20},"[/tr]"]
[{"$nulls":20},"[tr]"]
[{"$nulls":21},"[td]4. Mujahu[/td]"]
[{"$nulls":21},"[td]$8.70[/td]"]
[{"$nulls":21},"[td][/td]"]
[{"$nulls":21},"[td][/td]"]
[{"$nulls":20},"[/tr]"]
[{"$nulls":20},"[/table]"]
[]
[{"$nulls":20},"[table]"]
[{"$nulls":20},"[tr]"]
[{"$nulls":21},"[td][url=http://www.tabonline.com.au/2012/05/10/QR07.html]Gold Coast   Race   7[/url][/td]"]
[{"$nulls":21},"[td][color=yellow]Live Entertainment Sat. (Bm80)[/color][/td]"]
[{"$nulls":21},"[td]$12000[/td]"]
[{"$nulls":21},"[td][color=lime]Benchmark 80[/color][/td]"]
[{"$nulls":20},"[/tr]"]
[{"$nulls":20},"[tr]"]
[{"$nulls":21},"[td]No Horse[/td]"]
[{"$nulls":21},"[td]Rated Price[/td]"]
[{"$nulls":21},"[td]Win[/td]"]
[{"$nulls":21},"[td]Place[/td]"]
[{"$nulls":20},"[/tr]"]
[{"$nulls":20},"[tr]"]
[{"$nulls":21},"[td]8. Go Kingpin[/td]"]
[{"$nulls":21},"[td]$2.96[/td]"]
[{"$nulls":21},"[td][/td]"]
[{"$nulls":21},"[td][/td]"]
[{"$nulls":20},"[/tr]"]
[{"$nulls":20},"[tr]"]
[{"$nulls":21},"[td]4. Newsnight[/td]"]
[{"$nulls":21},"[td]$3.74[/td]"]
[{"$nulls":21},"[td][/td]"]
[{"$nulls":21},"[td][/td]"]
[{"$nulls":20},"[/tr]"]
[{"$nulls":20},"[tr]"]
[{"$nulls":21},"[td]9. Show Me An Ace[/td]"]
[{"$nulls":21},"[td]$4.47[/td]"]
[{"$nulls":21},"[td][/td]"]
[{"$nulls":21},"[td][/td]"]
[{"$nulls":20},"[/tr]"]
[{"$nulls":20},"[tr]"]
[{"$nulls":21},"[td]10. Whispering Gap[/td]"]
[{"$nulls":21},"[td]$5.46[/td]"]
[{"$nulls":21},"[td][/td]"]
[{"$nulls":21},"[td][/td]"]
[{"$nulls":20},"[/tr]"]
[{"$nulls":20},"[tr]"]
[{"$nulls":21},"[td]3. Mr Slick[/td]"]
[{"$nulls":21},"[td]$6.10[/td]"]
[{"$nulls":21},"[td][/td]"]
[{"$nulls":21},"[td][/td]"]
[{"$nulls":20},"[/tr]"]
[{"$nulls":20},"[/table]"]
[]
[{"$nulls":20},"[table]"]
[{"$nulls":20},"[tr]"]
[{"$nulls":21},"[td][url=http://www.tabonline.com.au/2012/05/10/PR06.html]Northam   Race   6[/url][/td]"]
[{"$nulls":21},"[td][color=yellow]Dunnings Caltex Mdn[/color][/td]"]
[{"$nulls":21},"[td]$9000[/td]"]
[{"$nulls":21},"[td][color=lime]Maiden[/color][/td]"]
[{"$nulls":20},"[/tr]"]
[{"$nulls":20},"[tr]"]
[{"$nulls":21},"[td]No Horse[/td]"]
[{"$nulls":21},"[td]Rated Price[/td]"]
[{"$nulls":21},"[td]Win[/td]"]
[{"$nulls":21},"[td]Place[/td]"]
[{"$nulls":20},"[/tr]"]
[{"$nulls":20},"[tr]"]
[{"$nulls":21},"[td]3. Princely Sage[/td]"]
[{"$nulls":21},"[td]$2.04[/td]"]
[{"$nulls":21},"[td][/td]"]
[{"$nulls":21},"[td][/td]"]
[{"$nulls":20},"[/tr]"]
[{"$nulls":20},"[tr]"]
[{"$nulls":21},"[td]1. Saxon Knight[/td]"]
[{"$nulls":21},"[td]$3.62[/td]"]
[{"$nulls":21},"[td][/td]"]
[{"$nulls":21},"[td][/td]"]
[{"$nulls":20},"[/tr]"]
[{"$nulls":20},"[tr]"]
[{"$nulls":21},"[td]13. Bon Bon Bonny[/td]"]
[{"$nulls":21},"[td]$5.02[/td]"]
[{"$nulls":21},"[td][/td]"]
[{"$nulls":21},"[td][/td]"]
[{"$nulls":20},"[/tr]"]
[{"$nulls":20},"[tr]"]
[{"$nulls":21},"[td]9. Operational[/td]"]
[{"$nulls":21},"[td]$7.51[/td]"]
[{"$nulls":21},"[td][/td]"]
[{"$nulls":21},"[td][/td]"]
[{"$nulls":20},"[/tr]"]
[{"$nulls":20},"[tr]"]
[{"$nulls":21},"[td]12. Carippa[/td]"]
[{"$nulls":21},"[td]$12.85[/td]"]
[{"$nulls":21},"[td][/td]"]
[{"$nulls":21},"[td][/td]"]
[{"$nulls":20},"[/tr]"]
[{"$nulls":20},"[/table]"]
[]
[{"$nulls":20},"[table]"]
[{"$nulls":20},"[tr]"]
[{"$nulls":21},"[td][url=http://www.tabonline.com.au/2012/05/10/PR07.html]Northam   Race   7[/url][/td]"]
[{"$nulls":21},"[td][color=yellow]Quins Gourmet Butchers (C1)[/color][/td]"]
[{"$nulls":21},"[td]$11750[/td]"]
[{"$nulls":21},"[td][color=lime]Class 1[/color][/td]"]
[{"$nulls":20},"[/tr]"]
[{"$nulls":20},"[tr]"]
[{"$nulls":21},"[td]No Horse[/td]"]
[{"$nulls":21},"[td]Rated Price[/td]"]
[{"$nulls":21},"[td]Win[/td]"]
[{"$nulls":21},"[td]Place[/td]"]
[{"$nulls":20},"[/tr]"]
[{"$nulls":20},"[tr]"]
[{"$nulls":21},"[td]3. Endless Sacrifice[/td]"]
[{"$nulls":21},"[td]$1.97[/td]"]
[{"$nulls":21},"[td][/td]"]
[{"$nulls":21},"[td][/td]"]
[{"$nulls":20},"[/tr]"]
[{"$nulls":20},"[tr]"]
[{"$nulls":21},"[td]6. No Expectations[/td]"]
[{"$nulls":21},"[td]$3.49[/td]"]
[{"$nulls":21},"[td][/td]"]
[{"$nulls":21},"[td][/td]"]
[{"$nulls":20},"[/tr]"]
[{"$nulls":20},"[tr]"]
[{"$nulls":21},"[td]1. If You Do[/td]"]
[{"$nulls":21},"[td]$7.26[/td]"]
[{"$nulls":21},"[td][/td]"]
[{"$nulls":21},"[td][/td]"]
[{"$nulls":20},"[/tr]"]
[{"$nulls":20},"[tr]"]
[{"$nulls":21},"[td]8. California Cougar[/td]"]
[{"$nulls":21},"[td]$7.26[/td]"]
[{"$nulls":21},"[td][/td]"]
[{"$nulls":21},"[td][/td]"]
[{"$nulls":20},"[/tr]"]
[{"$nulls":20},"[tr]"]
[{"$nulls":21},"[td]5. Invidious[/td]"]
[{"$nulls":21},"[td]$9.28[/td]"]
[{"$nulls":21},"[td][/td]"]
[{"$nulls":21},"[td][/td]"]
[{"$nulls":20},"[/tr]"]
[{"$nulls":20},"[/table]"]
[]
[{"$nulls":20},"[table]"]
[{"$nulls":20},"[tr]"]
[{"$nulls":21},"[td][url=http://www.tabonline.com.au/2012/05/10/PR08.html]Northam   Race   8[/url][/td]"]
[{"$nulls":21},"[td][color=yellow]Northam Caravan Park Hcp (64)[/color][/td]"]
[{"$nulls":21},"[td]$11750[/td]"]
[{"$nulls":21},"[td][color=lime]Restricted 64[/color][/td]"]
[{"$nulls":20},"[/tr]"]
[{"$nulls":20},"[tr]"]
[{"$nulls":21},"[td]No Horse[/td]"]
[{"$nulls":21},"[td]Rated Price[/td]"]
[{"$nulls":21},"[td]Win[/td]"]
[{"$nulls":21},"[td]Place[/td]"]
[{"$nulls":20},"[/tr]"]
[{"$nulls":20},"[tr]"]
[{"$nulls":21},"[td]4. Urban Spirit[/td]"]
[{"$nulls":21},"[td]$2.70[/td]"]
[{"$nulls":21},"[td][/td]"]
[{"$nulls":21},"[td][/td]"]
[{"$nulls":20},"[/tr]"]
[{"$nulls":20},"[tr]"]
[{"$nulls":21},"[td]1. Friarday[/td]"]
[{"$nulls":21},"[td]$4.49[/td]"]
[{"$nulls":21},"[td][/td]"]
[{"$nulls":21},"[td][/td]"]
[{"$nulls":20},"[/tr]"]
[{"$nulls":20},"[tr]"]
[{"$nulls":21},"[td]12. Cup Day Diva[/td]"]
[{"$nulls":21},"[td]$4.49[/td]"]
[{"$nulls":21},"[td][/td]"]
[{"$nulls":21},"[td][/td]"]
[{"$nulls":20},"[/tr]"]
[{"$nulls":20},"[tr]"]
[{"$nulls":21},"[td]9. Artesian Mist[/td]"]
[{"$nulls":21},"[td]$4.98[/td]"]
[{"$nulls":21},"[td][/td]"]
[{"$nulls":21},"[td][/td]"]
[{"$nulls":20},"[/tr]"]
[{"$nulls":20},"[tr]"]
[{"$nulls":21},"[td]13. Wonder Weed[/td]"]
[{"$nulls":21},"[td]$6.27[/td]"]
[{"$nulls":21},"[td][/td]"]
[{"$nulls":21},"[td][/td]"]
[{"$nulls":20},"[/tr]"]
[{"$nulls":20},"[/table]"]
[]
[{"$nulls":20},"[table]"]
[{"$nulls":20},"[tr]"]
[{"$nulls":21},"[td][url=http://www.tabonline.com.au/2012/05/10/PR09.html]Northam   Race   9[/url][/td]"]
[{"$nulls":21},"[td][color=yellow]Northamraceclub.Com Hcp (68)[/color][/td]"]
[{"$nulls":21},"[td]$13875[/td]"]
[{"$nulls":21},"[td][color=lime]Restricted 68[/color][/td]"]
[{"$nulls":20},"[/tr]"]
[{"$nulls":20},"[tr]"]
[{"$nulls":21},"[td]No Horse[/td]"]
[{"$nulls":21},"[td]Rated Price[/td]"]
[{"$nulls":21},"[td]Win[/td]"]
[{"$nulls":21},"[td]Place[/td]"]
[{"$nulls":20},"[/tr]"]
[{"$nulls":20},"[tr]"]
[{"$nulls":21},"[td]3. Merger Benefits[/td]"]
[{"$nulls":21},"[td]$2.91[/td]"]
[{"$nulls":21},"[td][/td]"]
[{"$nulls":21},"[td][/td]"]
[{"$nulls":20},"[/tr]"]
[{"$nulls":20},"[tr]"]
[{"$nulls":21},"[td]4. Distinctive Dane[/td]"]
[{"$nulls":21},"[td]$3.67[/td]"]
[{"$nulls":21},"[td][/td]"]
[{"$nulls":21},"[td][/td]"]
[{"$nulls":20},"[/tr]"]
[{"$nulls":20},"[tr]"]
[{"$nulls":21},"[td]5. Jest On Time[/td]"]
[{"$nulls":21},"[td]$4.83[/td]"]
[{"$nulls":21},"[td][/td]"]
[{"$nulls":21},"[td][/td]"]
[{"$nulls":20},"[/tr]"]
[{"$nulls":20},"[tr]"]
[{"$nulls":21},"[td]9. Ive Got Rhythm[/td]"]
[{"$nulls":21},"[td]$5.36[/td]"]
[{"$nulls":21},"[td][/td]"]
[{"$nulls":21},"[td][/td]"]
[{"$nulls":20},"[/tr]"]
[{"$nulls":20},"[tr]"]
[{"$nulls":21},"[td]2. Night Man[/td]"]
[{"$nulls":21},"[td]$5.99[/td]"]
[{"$nulls":21},"[td][/td]"]
[{"$nulls":21},"[td][/td]"]
[{"$nulls":20},"[/tr]"]
[{"$nulls":20},"[/table]"]
[]
[{"$nulls":20},"[table]"]
[{"$nulls":20},"[tr]"]
[{"$nulls":21},"[td][url=http://www.tabonline.com.au/2012/05/10/NR05.html]Wyong   Race   5[/url][/td]"]
[{"$nulls":21},"[td][color=yellow]NSW Vb Blues State Of Orig.-C2[/color][/td]"]
[{"$nulls":21},"[td]$16000[/td]"]
[{"$nulls":21},"[td][color=lime]Class 2[/color][/td]"]
[{"$nulls":20},"[/tr]"]
[{"$nulls":20},"[tr]"]
[{"$nulls":21},"[td]No Horse[/td]"]
[{"$nulls":21},"[td]Rated Price[/td]"]
[{"$nulls":21},"[td]Win[/td]"]
[{"$nulls":21},"[td]Place[/td]"]
[{"$nulls":20},"[/tr]"]
[{"$nulls":20},"[tr]"]
[{"$nulls":21},"[td]1. Whitesails[/td]"]
[{"$nulls":21},"[td]$3.22[/td]"]
[{"$nulls":21},"[td][/td]"]
[{"$nulls":21},"[td][/td]"]
[{"$nulls":20},"[/tr]"]
[{"$nulls":20},"[tr]"]
[{"$nulls":21},"[td]6. Elchester[/td]"]
[{"$nulls":21},"[td]$3.22[/td]"]
[{"$nulls":21},"[td][/td]"]
[{"$nulls":21},"[td][/td]"]
[{"$nulls":20},"[/tr]"]
[{"$nulls":20},"[tr]"]
[{"$nulls":21},"[td]7. Elusive Diva[/td]"]
[{"$nulls":21},"[td]$3.22[/td]"]
[{"$nulls":21},"[td][/td]"]
[{"$nulls":21},"[td][/td]"]
[{"$nulls":20},"[/tr]"]
[{"$nulls":20},"[tr]"]
[{"$nulls":21},"[td]2. Fletch[/td]"]
[{"$nulls":21},"[td]$7.50[/td]"]
[{"$nulls":21},"[td][/td]"]
[{"$nulls":21},"[td][/td]"]
[{"$nulls":20},"[/tr]"]
[{"$nulls":20},"[tr]"]
[{"$nulls":21},"[td]4. Thebigiam[/td]"]
[{"$nulls":21},"[td]$8.96[/td]"]
[{"$nulls":21},"[td][/td]"]
[{"$nulls":21},"[td][/td]"]
[{"$nulls":20},"[/tr]"]
[{"$nulls":20},"[/table]"]
[]
[{"$nulls":20},"[table]"]
[{"$nulls":20},"[tr]"]
[{"$nulls":21},"[td][url=http://www.tabonline.com.au/2012/05/10/NR06.html]Wyong   Race   6[/url][/td]"]
[{"$nulls":21},"[td][color=yellow]Johnnie Walker Hcp (C2)[/color][/td]"]
[{"$nulls":21},"[td]$16000[/td]"]
[{"$nulls":21},"[td][color=lime]Class 2[/color][/td]"]
[{"$nulls":20},"[/tr]"]
[{"$nulls":20},"[tr]"]
[{"$nulls":21},"[td]No Horse[/td]"]
[{"$nulls":21},"[td]Rated Price[/td]"]
[{"$nulls":21},"[td]Win[/td]"]
[{"$nulls":21},"[td]Place[/td]"]
[{"$nulls":20},"[/tr]"]
[{"$nulls":20},"[tr]"]
[{"$nulls":21},"[td]4. Lucymaylyn[/td]"]
[{"$nulls":21},"[td]$2.97[/td]"]
[{"$nulls":21},"[td][/td]"]
[{"$nulls":21},"[td][/td]"]
[{"$nulls":20},"[/tr]"]
[{"$nulls":20},"[tr]"]
[{"$nulls":21},"[td]3. Octavius[/td]"]
[{"$nulls":21},"[td]$3.84[/td]"]
[{"$nulls":21},"[td][/td]"]
[{"$nulls":21},"[td][/td]"]
[{"$nulls":20},"[/tr]"]
[{"$nulls":20},"[tr]"]
[{"$nulls":21},"[td]6. Al Cavan[/td]"]
[{"$nulls":21},"[td]$4.23[/td]"]
[{"$nulls":21},"[td][/td]"]
[{"$nulls":21},"[td][/td]"]
[{"$nulls":20},"[/tr]"]
[{"$nulls":20},"[tr]"]
[{"$nulls":21},"[td]7. Stratal[/td]"]
[{"$nulls":21},"[td]$4.68[/td]"]
[{"$nulls":21},"[td][/td]"]
[{"$nulls":21},"[td][/td]"]
[{"$nulls":20},"[/tr]"]
[{"$nulls":20},"[tr]"]
[{"$nulls":21},"[td]5. Triumphant[/td]"]
[{"$nulls":21},"[td]$7.72[/td]"]
[{"$nulls":21},"[td][/td]"]
[{"$nulls":21},"[td][/td]"]
[{"$nulls":20},"[/tr]"]
[{"$nulls":20},"[/table]"]
[]
[{"$nulls":20},"[table]"]
[{"$nulls":20},"[tr]"]
[{"$nulls":21},"[td][url=http://www.tabonline.com.au/2012/05/10/NR07.html]Wyong   Race   7[/url][/td]"]
[{"$nulls":21},"[td][color=yellow]Woodstock One Footer (Bm65)[/color][/td]"]
[{"$nulls":21},"[td]$16000[/td]"]
[{"$nulls":21},"[td][color=lime]Benchmark 65[/color][/td]"]
[{"$nulls":20},"[/tr]"]
[{"$nulls":20},"[tr]"]
[{"$nulls":21},"[td]No Horse[/td]"]
[{"$nulls":21},"[td]Rated Price[/td]"]
[{"$nulls":21},"[td]Win[/td]"]
[{"$nulls":21},"[td]Place[/td]"]
[{"$nulls":20},"[/tr]"]
[{"$nulls":20},"[tr]"]
[{"$nulls":21},"[td]10. Playful Miss[/td]"]
[{"$nulls":21},"[td]$2.59[/td]"]
[{"$nulls":21},"[td][/td]"]
[{"$nulls":21},"[td][/td]"]
[{"$nulls":20},"[/tr]"]
[{"$nulls":20},"[tr]"]
[{"$nulls":21},"[td]11. Drop Of Magic[/td]"]
[{"$nulls":21},"[td]$4.31[/td]"]
[{"$nulls":21},"[td][/td]"]
[{"$nulls":21},"[td][/td]"]
[{"$nulls":20},"[/tr]"]
[{"$nulls":20},"[tr]"]
[{"$nulls":21},"[td]4. Akmal[/td]"]
[{"$nulls":21},"[td]$4.90[/td]"]
[{"$nulls":21},"[td][/td]"]
[{"$nulls":21},"[td][/td]"]
[{"$nulls":20},"[/tr]"]
[{"$nulls":20},"[tr]"]
[{"$nulls":21},"[td]6. Ransom Gaze[/td]"]
[{"$nulls":21},"[td]$5.65[/td]"]
[{"$nulls":21},"[td][/td]"]
[{"$nulls":21},"[td][/td]"]
[{"$nulls":20},"[/tr]"]
[{"$nulls":20},"[tr]"]
[{"$nulls":21},"[td]7. Sophisticated Lass[/td]"]
[{"$nulls":21},"[td]$5.65[/td]"]
[{"$nulls":21},"[td][/td]"]
[{"$nulls":21},"[td][/td]"]
[{"$nulls":20},"[/tr]"]
[{"$nulls":20},"[/table]"]
[]
[{"$nulls":20},"[table]"]
[{"$nulls":20},"[tr]"]
[{"$nulls":21},"[td][url=http://www.tabonline.com.au/2012/05/10/NR08.html]Wyong   Race   8[/url][/td]"]
[{"$nulls":21},"[td][color=yellow]Lindemans Early Harvest Hcp-C1[/color][/td]"]
[{"$nulls":21},"[td]$16000[/td]"]
[{"$nulls":21},"[td][color=lime]Class 1[/color][/td]"]
[{"$nulls":20},"[/tr]"]
[{"$nulls":20},"[tr]"]
[{"$nulls":21},"[td]No Horse[/td]"]
[{"$nulls":21},"[td]Rated Price[/td]"]
[{"$nulls":21},"[td]Win[/td]"]
[{"$nulls":21},"[td]Place[/td]"]
[{"$nulls":20},"[/tr]"]
[{"$nulls":20},"[tr]"]
[{"$nulls":21},"[td]1. Gianfranco[/td]"]
[{"$nulls":21},"[td]$2.69[/td]"]
[{"$nulls":21},"[td][/td]"]
[{"$nulls":21},"[td][/td]"]
[{"$nulls":20},"[/tr]"]
[{"$nulls":20},"[tr]"]
[{"$nulls":21},"[td]2. Iberian Pleasure[/td]"]
[{"$nulls":21},"[td]$3.05[/td]"]
[{"$nulls":21},"[td][/td]"]
[{"$nulls":21},"[td][/td]"]
[{"$nulls":20},"[/tr]"]
[{"$nulls":20},"[tr]"]
[{"$nulls":21},"[td]6. Accretive[/td]"]
[{"$nulls":21},"[td]$4.72[/td]"]
[{"$nulls":21},"[td][/td]"]
[{"$nulls":21},"[td][/td]"]
[{"$nulls":20},"[/tr]"]
[{"$nulls":20},"[tr]"]
[{"$nulls":21},"[td]7. Nkonkoni[/td]"]
[{"$nulls":21},"[td]$6.18[/td]"]
[{"$nulls":21},"[td][/td]"]
[{"$nulls":21},"[td][/td]"]
[{"$nulls":20},"[/tr]"]
[{"$nulls":20},"[tr]"]
[{"$nulls":21},"[td]11. Fu Jak[/td]"]
[{"$nulls":21},"[td]$9.66[/td]"]
[{"$nulls":21},"[td][/td]"]
[{"$nulls":21},"[td][/td]"]
[{"$nulls":20},"[/tr]"]
[{"$nulls":20},"[/table]"]
[]
[{"$nulls":20},"[table]"]
[{"$nulls":20},"[tr]"]
[{"$nulls":21},"[td][url=http://www.tabonline.com.au/2012/05/10/VR05.html]Ballarat   Race   5[/url][/td]"]
[{"$nulls":21},"[td][color=yellow]T Daniels The Good Guys Hcp-62[/color][/td]"]
[{"$nulls":21},"[td]$15000[/td]"]
[{"$nulls":21},"[td][color=lime]Restricted 62[/color][/td]"]
[{"$nulls":20},"[/tr]"]
[{"$nulls":20},"[tr]"]
[{"$nulls":21},"[td]No Horse[/td]"]
[{"$nulls":21},"[td]Rated Price[/td]"]
[{"$nulls":21},"[td]Win[/td]"]
[{"$nulls":21},"[td]Place[/td]"]
[{"$nulls":20},"[/tr]"]
[{"$nulls":20},"[tr]"]
[{"$nulls":21},"[td]1. Candy Dance[/td]"]
[{"$nulls":21},"[td]$2.53[/td]"]
[{"$nulls":21},"[td][/td]"]
[{"$nulls":21},"[td][/td]"]
[{"$nulls":20},"[/tr]"]
[{"$nulls":20},"[tr]"]
[{"$nulls":21},"[td]4. Christmas[/td]"]
[{"$nulls":21},"[td]$3.30[/td]"]
[{"$nulls":21},"[td][/td]"]
[{"$nulls":21},"[td][/td]"]
[{"$nulls":20},"[/tr]"]
[{"$nulls":20},"[tr]"]
[{"$nulls":21},"[td]8. Lady Francesca[/td]"]
[{"$nulls":21},"[td]$4.16[/td]"]
[{"$nulls":21},"[td][/td]"]
[{"$nulls":21},"[td][/td]"]
[{"$nulls":20},"[/tr]"]
[{"$nulls":20},"[tr]"]
[{"$nulls":21},"[td]7. Jazzed[/td]"]
[{"$nulls":21},"[td]$7.48[/td]"]
[{"$nulls":21},"[td][/td]"]
[{"$nulls":21},"[td][/td]"]
[{"$nulls":20},"[/tr]"]
[{"$nulls":20},"[tr]"]
[{"$nulls":21},"[td]5. Bondarenko[/td]"]
[{"$nulls":21},"[td]$9.67[/td]"]
[{"$nulls":21},"[td][/td]"]
[{"$nulls":21},"[td][/td]"]
[{"$nulls":20},"[/tr]"]
[{"$nulls":20},"[/table]"]
[]
[{"$nulls":20},"[table]"]
[{"$nulls":20},"[tr]"]
[{"$nulls":21},"[td][url=http://www.tabonline.com.au/2012/05/10/VR06.html]Ballarat   Race   6[/url][/td]"]
[{"$nulls":21},"[td][color=yellow]T Daniels The Good Guys Hcp-68[/color][/td]"]
[{"$nulls":21},"[td]$22500[/td]"]
[{"$nulls":21},"[td][color=lime]Restricted 68[/color][/td]"]
[{"$nulls":20},"[/tr]"]
[{"$nulls":20},"[tr]"]
[{"$nulls":21},"[td]No Horse[/td]"]
[{"$nulls":21},"[td]Rated Price[/td]"]
[{"$nulls":21},"[td]Win[/td]"]
[{"$nulls":21},"[td]Place[/td]"]
[{"$nulls":20},"[/tr]"]
[{"$nulls":20},"[tr]"]
[{"$nulls":21},"[td]2. Coghills Creek[/td]"]
[{"$nulls":21},"[td]$2.25[/td]"]
[{"$nulls":21},"[td][/td]"]
[{"$nulls":21},"[td][/td]"]
[{"$nulls":20},"[/tr]"]
[{"$nulls":20},"[tr]"]
[{"$nulls":21},"[td]7. Miss Reveal[/td]"]
[{"$nulls":21},"[td]$2.25[/td]"]
[{"$nulls":21},"[td][/td]"]
[{"$nulls":21},"[td][/td]"]
[{"$nulls":20},"[/tr]"]
[{"$nulls":20},"[tr]"]
[{"$nulls":21},"[td]6. Hadron[/td]"]
[{"$nulls":21},"[td]$6.29[/td]"]
[{"$nulls":21},"[td][/td]"]
[{"$nulls":21},"[td][/td]"]
[{"$nulls":20},"[/tr]"]
[{"$nulls":20},"[tr]"]
[{"$nulls":21},"[td]1. Wills Power[/td]"]
[{"$nulls":21},"[td]$11.38[/td]"]
[{"$nulls":21},"[td][/td]"]
[{"$nulls":21},"[td][/td]"]
[{"$nulls":20},"[/tr]"]
[{"$nulls":20},"[tr]"]
[{"$nulls":21},"[td]10. Lunar Blonde[/td]"]
[{"$nulls":21},"[td]$23.58[/td]"]
[{"$nulls":21},"[td][/td]"]
[{"$nulls":21},"[td][/td]"]
[{"$nulls":20},"[/tr]"]
[{"$nulls":20},"[/table]"]
[]
[{"$nulls":20},"[table]"]
[{"$nulls":20},"[tr]"]
[{"$nulls":21},"[td][url=http://www.tabonline.com.au/2012/05/10/VR07.html]Ballarat   Race   7[/url][/td]"]
[{"$nulls":21},"[td][color=yellow]Fibrous Plasters (Bm72)[/color][/td]"]
[{"$nulls":21},"[td]$15000[/td]"]
[{"$nulls":21},"[td][color=lime]Benchmark 72[/color][/td]"]
[{"$nulls":20},"[/tr]"]
[{"$nulls":20},"[tr]"]
[{"$nulls":21},"[td]No Horse[/td]"]
[{"$nulls":21},"[td]Rated Price[/td]"]
[{"$nulls":21},"[td]Win[/td]"]
[{"$nulls":21},"[td]Place[/td]"]
[{"$nulls":20},"[/tr]"]
[{"$nulls":20},"[tr]"]
[{"$nulls":21},"[td]3. Anklets[/td]"]
[{"$nulls":21},"[td]$2.60[/td]"]
[{"$nulls":21},"[td][/td]"]
[{"$nulls":21},"[td][/td]"]
[{"$nulls":20},"[/tr]"]
[{"$nulls":20},"[tr]"]
[{"$nulls":21},"[td]13. Veiled[/td]"]
[{"$nulls":21},"[td]$3.23[/td]"]
[{"$nulls":21},"[td][/td]"]
[{"$nulls":21},"[td][/td]"]
[{"$nulls":20},"[/tr]"]
[{"$nulls":20},"[tr]"]
[{"$nulls":21},"[td]9. Prince Of Hope[/td]"]
[{"$nulls":21},"[td]$5.57[/td]"]
[{"$nulls":21},"[td][/td]"]
[{"$nulls":21},"[td][/td]"]
[{"$nulls":20},"[/tr]"]
[{"$nulls":20},"[tr]"]
[{"$nulls":21},"[td]5. Hischance[/td]"]
[{"$nulls":21},"[td]$6.22[/td]"]
[{"$nulls":21},"[td][/td]"]
[{"$nulls":21},"[td][/td]"]
[{"$nulls":20},"[/tr]"]
[{"$nulls":20},"[tr]"]
[{"$nulls":21},"[td]10. Reel Way[/td]"]
[{"$nulls":21},"[td]$7.03[/td]"]
[{"$nulls":21},"[td][/td]"]
[{"$nulls":21},"[td][/td]"]
[{"$nulls":20},"[/tr]"]
[{"$nulls":20},"[/table]"]
[]
[{"$nulls":20},"[table]"]
[{"$nulls":20},"[tr]"]
[{"$nulls":21},"[td][url=http://www.tabonline.com.au/2012/05/10/VR08.html]Ballarat   Race   8[/url][/td]"]
[{"$nulls":21},"[td][color=yellow]Sportsbet.Com.Au Hcp (62)[/color][/td]"]
[{"$nulls":21},"[td]$22500[/td]"]
[{"$nulls":21},"[td][color=lime]Restricted 62[/color][/td]"]
[{"$nulls":20},"[/tr]"]
[{"$nulls":20},"[tr]"]
[{"$nulls":21},"[td]No Horse[/td]"]
[{"$nulls":21},"[td]Rated Price[/td]"]
[{"$nulls":21},"[td]Win[/td]"]
[{"$nulls":21},"[td]Place[/td]"]
[{"$nulls":20},"[/tr]"]
[{"$nulls":20},"[tr]"]
[{"$nulls":21},"[td]7. Love My World[/td]"]
[{"$nulls":21},"[td]$3.43[/td]"]
[{"$nulls":21},"[td][/td]"]
[{"$nulls":21},"[td][/td]"]
[{"$nulls":20},"[/tr]"]
[{"$nulls":20},"[tr]"]
[{"$nulls":21},"[td]4. Island Home[/td]"]
[{"$nulls":21},"[td]$3.72[/td]"]
[{"$nulls":21},"[td][/td]"]
[{"$nulls":21},"[td][/td]"]
[{"$nulls":20},"[/tr]"]
[{"$nulls":20},"[tr]"]
[{"$nulls":21},"[td]8. Rilelilmag[/td]"]
[{"$nulls":21},"[td]$4.43[/td]"]
[{"$nulls":21},"[td][/td]"]
[{"$nulls":21},"[td][/td]"]
[{"$nulls":20},"[/tr]"]
[{"$nulls":20},"[tr]"]
[{"$nulls":21},"[td]9. Step Dance[/td]"]
[{"$nulls":21},"[td]$4.88[/td]"]
[{"$nulls":21},"[td][/td]"]
[{"$nulls":21},"[td][/td]"]
[{"$nulls":20},"[/tr]"]
[{"$nulls":20},"[tr]"]
[{"$nulls":21},"[td]16. Wonderful Rules[/td]"]
[{"$nulls":21},"[td]$5.40[/td]"]
[{"$nulls":21},"[td][/td]"]
[{"$nulls":21},"[td][/td]"]
[{"$nulls":20},"[/tr]"]
[{"$nulls":20},"[/table]"]
[]
[{"$nulls":20},"[table]"]
[{"$nulls":20},"[tr]"]
[{"$nulls":21},"[td][url=http://www.tabonline.com.au/2012/05/10/QR04.html]Gold Coast   Race   4[/url][/td]"]
[{"$nulls":21},"[td][color=yellow]21 July Tradies Raceday Mdn[/color][/td]"]
[{"$nulls":21},"[td]$10000[/td]"]
[{"$nulls":21},"[td][color=lime]Maiden[/color][/td]"]
[{"$nulls":20},"[/tr]"]
[{"$nulls":20},"[tr]"]
[{"$nulls":21},"[td]No Horse[/td]"]
[{"$nulls":21},"[td]Rated Price[/td]"]
[{"$nulls":21},"[td]Win[/td]"]
[{"$nulls":21},"[td]Place[/td]"]
[{"$nulls":20},"[/tr]"]
[{"$nulls":20},"[tr]"]
[{"$nulls":21},"[td]5. Karma Force[/td]"]
[{"$nulls":21},"[td]$2.23[/td]"]
[{"$nulls":21},"[td][/td]"]
[{"$nulls":21},"[td][/td]"]
[{"$nulls":20},"[/tr]"]
[{"$nulls":20},"[tr]"]
[{"$nulls":21},"[td]15. Magaris Dream[/td]"]
[{"$nulls":21},"[td]$3.68[/td]"]
[{"$nulls":21},"[td][/td]"]
[{"$nulls":21},"[td][/td]"]
[{"$nulls":20},"[/tr]"]
[{"$nulls":20},"[tr]"]
[{"$nulls":21},"[td]12. Exquisite Angel[/td]"]
[{"$nulls":21},"[td]$5.49[/td]"]
[{"$nulls":21},"[td][/td]"]
[{"$nulls":21},"[td][/td]"]
[{"$nulls":20},"[/tr]"]
[{"$nulls":20},"[tr]"]
[{"$nulls":21},"[td]7. Nordic Jet[/td]"]
[{"$nulls":21},"[td]$6.02[/td]"]
[{"$nulls":21},"[td][/td]"]
[{"$nulls":21},"[td][/td]"]
[{"$nulls":20},"[/tr]"]
[{"$nulls":20},"[tr]"]
[{"$nulls":21},"[td]10. Storm The Line[/td]"]
[{"$nulls":21},"[td]$9.25[/td]"]
[{"$nulls":21},"[td][/td]"]
[{"$nulls":21},"[td][/td]"]
[{"$nulls":20},"[/tr]"]
[{"$nulls":20},"[/table]"]
[]
[{"$nulls":20},"[table]"]
[{"$nulls":20},"[tr]"]
[{"$nulls":21},"[td][url=http://www.tabonline.com.au/2012/05/10/QR05.html]Gold Coast   Race   5[/url][/td]"]
[{"$nulls":21},"[td][color=yellow]18 August Intl Raceday (C1)[/color][/td]"]
[{"$nulls":21},"[td]$10000[/td]"]
[{"$nulls":21},"[td][color=lime]Class 1[/color][/td]"]
[{"$nulls":20},"[/tr]"]
[{"$nulls":20},"[tr]"]
[{"$nulls":21},"[td]No Horse[/td]"]
[{"$nulls":21},"[td]Rated Price[/td]"]
[{"$nulls":21},"[td]Win[/td]"]
[{"$nulls":21},"[td]Place[/td]"]
[{"$nulls":20},"[/tr]"]
[{"$nulls":20},"[tr]"]
[{"$nulls":21},"[td]2. Skate On By[/td]"]
[{"$nulls":21},"[td]$1.88[/td]"]
[{"$nulls":21},"[td][/td]"]
[{"$nulls":21},"[td][/td]"]
[{"$nulls":20},"[/tr]"]
[{"$nulls":20},"[tr]"]
[{"$nulls":21},"[td]6. Stop Crying[/td]"]
[{"$nulls":21},"[td]$4.45[/td]"]
[{"$nulls":21},"[td][/td]"]
[{"$nulls":21},"[td][/td]"]
[{"$nulls":20},"[/tr]"]
[{"$nulls":20},"[tr]"]
[{"$nulls":21},"[td]5. Princess Forse[/td]"]
[{"$nulls":21},"[td]$6.28[/td]"]
[{"$nulls":21},"[td][/td]"]
[{"$nulls":21},"[td][/td]"]
[{"$nulls":20},"[/tr]"]
[{"$nulls":20},"[tr]"]
[{"$nulls":21},"[td]12. Soul Crusade[/td]"]
[{"$nulls":21},"[td]$7.18[/td]"]
[{"$nulls":21},"[td][/td]"]
[{"$nulls":21},"[td][/td]"]
[{"$nulls":20},"[/tr]"]
[{"$nulls":20},"[tr]"]
[{"$nulls":21},"[td]3. Keep Winning[/td]"]
[{"$nulls":21},"[td]$8.32[/td]"]
[{"$nulls":21},"[td][/td]"]
[{"$nulls":21},"[td][/td]"]
[{"$nulls":20},"[/tr]"]
[{"$nulls":20},"[/table]"]
[]
[{"$nulls":20},"[table]"]
[{"$nulls":20},"[tr]"]
[{"$nulls":21},"[td][url=http://www.tabonline.com.au/2012/05/10/QR06.html]Gold Coast   Race   6[/url][/td]"]
[{"$nulls":21},"[td][color=yellow]25 August City Cup Raceday-C3[/color][/td]"]
[{"$nulls":21},"[td]$12000[/td]"]
[{"$nulls":21},"[td][color=lime]Class 3[/color][/td]"]
[{"$nulls":20},"[/tr]"]
[{"$nulls":20},"[tr]"]
[{"$nulls":21},"[td]No Horse[/td]"]
[{"$nulls":21},"[td]Rated Price[/td]"]
[{"$nulls":21},"[td]Win[/td]"]
[{"$nulls":21},"[td]Place[/td]"]
[{"$nulls":20},"[/tr]"]
[{"$nulls":20},"[tr]"]
[{"$nulls":21},"[td]1. Audacious Spirit[/td]"]
[{"$nulls":21},"[td]$3.22[/td]"]
[{"$nulls":21},"[td][/td]"]
[{"$nulls":21},"[td][/td]"]
[{"$nulls":20},"[/tr]"]
[{"$nulls":20},"[tr]"]
[{"$nulls":21},"[td]7. Vaarwel[/td]"]
[{"$nulls":21},"[td]$3.45[/td]"]
[{"$nulls":21},"[td][/td]"]
[{"$nulls":21},"[td][/td]"]
[{"$nulls":20},"[/tr]"]
[{"$nulls":20},"[tr]"]
[{"$nulls":21},"[td]3. Cryon[/td]"]
[{"$nulls":21},"[td]$4.33[/td]"]
[{"$nulls":21},"[td][/td]"]
[{"$nulls":21},"[td][/td]"]
[{"$nulls":20},"[/tr]"]
[{"$nulls":20},"[tr]"]
[{"$nulls":21},"[td]10. Tabassi[/td]"]
[{"$nulls":21},"[td]$4.33[/td]"]
[{"$nulls":21},"[td][/td]"]
[{"$nulls":21},"[td][/td]"]
[{"$nulls":20},"[/tr]"]
[{"$nulls":20},"[tr]"]
[{"$nulls":21},"[td]4. Mujahu[/td]"]
[{"$nulls":21},"[td]$8.70[/td]"]
[{"$nulls":21},"[td][/td]"]
[{"$nulls":21},"[td][/td]"]
[{"$nulls":20},"[/tr]"]
[{"$nulls":20},"[/table]"]
[]
[{"$nulls":20},"[table]"]
[{"$nulls":20},"[tr]"]
[{"$nulls":21},"[td][url=http://www.tabonline.com.au/2012/05/10/QR07.html]Gold Coast   Race   7[/url][/td]"]
[{"$nulls":21},"[td][color=yellow]Live Entertainment Sat. (Bm80)[/color][/td]"]
[{"$nulls":21},"[td]$12000[/td]"]
[{"$nulls":21},"[td][color=lime]Benchmark 80[/color][/td]"]
[{"$nulls":20},"[/tr]"]
[{"$nulls":20},"[tr]"]
[{"$nulls":21},"[td]No Horse[/td]"]
[{"$nulls":21},"[td]Rated Price[/td]"]
[{"$nulls":21},"[td]Win[/td]"]
[{"$nulls":21},"[td]Place[/td]"]
[{"$nulls":20},"[/tr]"]
[{"$nulls":20},"[tr]"]
[{"$nulls":21},"[td]8. Go Kingpin[/td]"]
[{"$nulls":21},"[td]$2.96[/td]"]
[{"$nulls":21},"[td][/td]"]
[{"$nulls":21},"[td][/td]"]
[{"$nulls":20},"[/tr]"]
[{"$nulls":20},"[tr]"]
[{"$nulls":21},"[td]4. Newsnight[/td]"]
[{"$nulls":21},"[td]$3.74[/td]"]
[{"$nulls":21},"[td][/td]"]
[{"$nulls":21},"[td][/td]"]
[{"$nulls":20},"[/tr]"]
[{"$nulls":20},"[tr]"]
[{"$nulls":21},"[td]9. Show Me An Ace[/td]"]
[{"$nulls":21},"[td]$4.47[/td]"]
[{"$nulls":21},"[td][/td]"]
[{"$nulls":21},"[td][/td]"]
[{"$nulls":20},"[/tr]"]
[{"$nulls":20},"[tr]"]
[{"$nulls":21},"[td]10. Whispering Gap[/td]"]
[{"$nulls":21},"[td]$5.46[/td]"]
[{"$nulls":21},"[td][/td]"]
[{"$nulls":21},"[td][/td]"]
[{"$nulls":20},"[/tr]"]
[{"$nulls":20},"[tr]"]
[{"$nulls":21},"[td]3. Mr Slick[/td]"]
[{"$nulls":21},"[td]$6.10[/td]"]
[{"$nulls":21},"[td][/td]"]
[{"$nulls":21},"[td][/td]"]
[{"$nulls":20},"[/tr]"]
[{"$nulls":20},"[/table]"]
[]
[{"$nulls":20},"[table]"]
[{"$nulls":20},"[tr]"]
[{"$nulls":21},"[td][url=http://www.tabonline.com.au/2012/05/10/NR05.html]Wyong   Race   5[/url][/td]"]
[{"$nulls":21},"[td][color=yellow]NSW Vb Blues State Of Orig.-C2[/color][/td]"]
[{"$nulls":21},"[td]$16000[/td]"]
[{"$nulls":21},"[td][color=lime]Class 2[/color][/td]"]
[{"$nulls":20},"[/tr]"]
[{"$nulls":20},"[tr]"]
[{"$nulls":21},"[td]No Horse[/td]"]
[{"$nulls":21},"[td]Rated Price[/td]"]
[{"$nulls":21},"[td]Win[/td]"]
[{"$nulls":21},"[td]Place[/td]"]
[{"$nulls":20},"[/tr]"]
[{"$nulls":20},"[tr]"]
[{"$nulls":21},"[td]1. Whitesails[/td]"]
[{"$nulls":21},"[td]$3.22[/td]"]
[{"$nulls":21},"[td][/td]"]
[{"$nulls":21},"[td][/td]"]
[{"$nulls":20},"[/tr]"]
[{"$nulls":20},"[tr]"]
[{"$nulls":21},"[td]6. Elchester[/td]"]
[{"$nulls":21},"[td]$3.22[/td]"]
[{"$nulls":21},"[td][/td]"]
[{"$nulls":21},"[td][/td]"]
[{"$nulls":20},"[/tr]"]
[{"$nulls":20},"[tr]"]
[{"$nulls":21},"[td]7. Elusive Diva[/td]"]
[{"$nulls":21},"[td]$3.22[/td]"]
[{"$nulls":21},"[td][/td]"]
[{"$nulls":21},"[td][/td]"]
[{"$nulls":20},"[/tr]"]
[{"$nulls":20},"[tr]"]
[{"$nulls":21},"[td]2. Fletch[/td]"]
[{"$nulls":21},"[td]$7.50[/td]"]
[{"$nulls":21},"[td][/td]"]
[{"$nulls":21},"[td][/td]"]
[{"$nulls":20},"[/tr]"]
[{"$nulls":20},"[tr]"]
[{"$nulls":21},"[td]4. Thebigiam[/td]"]
[{"$nulls":21},"[td]$8.96[/td]"]
[{"$nulls":21},"[td][/td]"]
[{"$nulls":21},"[td][/td]"]
[{"$nulls":20},"[/tr]"]
[{"$nulls":20},"[/table]"]
[]
[{"$nulls":20},"[table]"]
[{"$nulls":20},"[tr]"]
[{"$nulls":21},"[td][url=http://www.tabonline.com.au/2012/05/10/NR06.html]Wyong   Race   6[/url][/td]"]
[{"$nulls":21},"[td][color=yellow]Johnnie Walker Hcp (C2)[/color][/td]"]
[{"$nulls":21},"[td]$16000[/td]"]
[{"$nulls":21},"[td][color=lime]Class 2[/color][/td]"]
[{"$nulls":20},"[/tr]"]
[{"$nulls":20},"[tr]"]
[{"$nulls":21},"[td]No Horse[/td]"]
[{"$nulls":21},"[td]Rated Price[/td]"]
[{"$nulls":21},"[td]Win[/td]"]
[{"$nulls":21},"[td]Place[/td]"]
[{"$nulls":20},"[/tr]"]
[{"$nulls":20},"[tr]"]
[{"$nulls":21},"[td]4. Lucymaylyn[/td]"]
[{"$nulls":21},"[td]$2.97[/td]"]
[{"$nulls":21},"[td][/td]"]
[{"$nulls":21},"[td][/td]"]
[{"$nulls":20},"[/tr]"]
[{"$nulls":20},"[tr]"]
[{"$nulls":21},"[td]3. Octavius[/td]"]
[{"$nulls":21},"[td]$3.84[/td]"]
[{"$nulls":21},"[td][/td]"]
[{"$nulls":21},"[td][/td]"]
[{"$nulls":20},"[/tr]"]
[{"$nulls":20},"[tr]"]
[{"$nulls":21},"[td]6. Al Cavan[/td]"]
[{"$nulls":21},"[td]$4.23[/td]"]
[{"$nulls":21},"[td][/td]"]
[{"$nulls":21},"[td][/td]"]
[{"$nulls":20},"[/tr]"]
[{"$nulls":20},"[tr]"]
[{"$nulls":21},"[td]7. Stratal[/td]"]
[{"$nulls":21},"[td]$4.68[/td]"]
[{"$nulls":21},"[td][/td]"]
[{"$nulls":21},"[td][/td]"]
[{"$nulls":20},"[/tr]"]
[{"$nulls":20},"[tr]"]
[{"$nulls":21},"[td]5. Triumphant[/td]"]
[{"$nulls":21},"[td]$7.72[/td]"]
[{"$nulls":21},"[td][/td]"]
[{"$nulls":21},"[td][/td]"]
[{"$nulls":20},"[/tr]"]
[{"$nulls":20},"[/table]"]
[]
[{"$nulls":20},"[table]"]
[{"$nulls":20},"[tr]"]
[{"$nulls":21},"[td][url=http://www.tabonline.com.au/2012/05/10/NR07.html]Wyong   Race   7[/url][/td]"]
[{"$nulls":21},"[td][color=yellow]Woodstock One Footer (Bm65)[/color][/td]"]
[{"$nulls":21},"[td]$16000[/td]"]
[{"$nulls":21},"[td][color=lime]Benchmark 65[/color][/td]"]
[{"$nulls":20},"[/tr]"]
[{"$nulls":20},"[tr]"]
[{"$nulls":21},"[td]No Horse[/td]"]
[{"$nulls":21},"[td]Rated Price[/td]"]
[{"$nulls":21},"[td]Win[/td]"]
[{"$nulls":21},"[td]Place[/td]"]
[{"$nulls":20},"[/tr]"]
[{"$nulls":20},"[tr]"]
[{"$nulls":21},"[td]10. Playful Miss[/td]"]
[{"$nulls":21},"[td]$2.59[/td]"]
[{"$nulls":21},"[td][/td]"]
[{"$nulls":21},"[td][/td]"]
[{"$nulls":20},"[/tr]"]
[{"$nulls":20},"[tr]"]
[{"$nulls":21},"[td]11. Drop Of Magic[/td]"]
[{"$nulls":21},"[td]$4.31[/td]"]
[{"$nulls":21},"[td][/td]"]
[{"$nulls":21},"[td][/td]"]
[{"$nulls":20},"[/tr]"]
[{"$nulls":20},"[tr]"]
[{"$nulls":21},"[td]4. Akmal[/td]"]
[{"$nulls":21},"[td]$4.90[/td]"]
[{"$nulls":21},"[td][/td]"]
[{"$nulls":21},"[td][/td]"]
[{"$nulls":20},"[/tr]"]
[{"$nulls":20},"[tr]"]
[{"$nulls":21},"[td]6. Ransom Gaze[/td]"]
[{"$nulls":21},"[td]$5.65[/td]"]
[{"$nulls":21},"[td][/td]"]
[{"$nulls":21},"[td][/td]"]
[{"$nulls":20},"[/tr]"]
[{"$nulls":20},"[tr]"]
[{"$nulls":21},"[td]7. Sophisticated Lass[/td]"]
[{"$nulls":21},"[td]$5.65[/td]"]
[{"$nulls":21},"[td][/td]"]
[{"$nulls":21},"[td][/td]"]
[{"$nulls":20},"[/tr]"]
[{"$nulls":20},"[/table]"]
[]
[{"$nulls":20},"[table]"]
[{"$nulls":20},"[tr]"]
[{"$nulls":21},"[td][url=http://www.tabonline.com.au/2012/05/10/NR08.html]Wyong   Race   8[/url][/td]"]
[{"$nulls":21},"[td][color=yellow]Lindemans Early Harvest Hcp-C1[/color][/td]"]
[{"$nulls":21},"[td]$16000[/td]"]
[{"$nulls":21},"[td][color=lime]Class 1[/color][/td]"]
[{"$nulls":20},"[/tr]"]
[{"$nulls":20},"[tr]"]
[{"$nulls":21},"[td]No Horse[/td]"]
[{"$nulls":21},"[td]Rated Price[/td]"]
[{"$nulls":21},"[td]Win[/td]"]
[{"$nulls":21},"[td]Place[/td]"]
[{"$nulls":20},"[/tr]"]
[{"$nulls":20},"[tr]"]
[{"$nulls":21},"[td]1. Gianfranco[/td]"]
[{"$nulls":21},"[td]$2.69[/td]"]
[{"$nulls":21},"[td][/td]"]
[{"$nulls":21},"[td][/td]"]
[{"$nulls":20},"[/tr]"]
[{"$nulls":20},"[tr]"]
[{"$nulls":21},"[td]2. Iberian Pleasure[/td]"]
[{"$nulls":21},"[td]$3.05[/td]"]
[{"$nulls":21},"[td][/td]"]
[{"$nulls":21},"[td][/td]"]
[{"$nulls":20},"[/tr]"]
[{"$nulls":20},"[tr]"]
[{"$nulls":21},"[td]6. Accretive[/td]"]
[{"$nulls":21},"[td]$4.72[/td]"]
[{"$nulls":21},"[td][/td]"]
[{"$nulls":21},"[td][/td]"]
[{"$nulls":20},"[/tr]"]
[{"$nulls":20},"[tr]"]
[{"$nulls":21},"[td]7. Nkonkoni[/td]"]
[{"$nulls":21},"[td]$6.18[/td]"]
[{"$nulls":21},"[td][/td]"]
[{"$nulls":21},"[td][/td]"]
[{"$nulls":20},"[/tr]"]
[{"$nulls":20},"[tr]"]
[{"$nulls":21},"[td]11. Fu Jak[/td]"]
[{"$nulls":21},"[td]$9.66[/td]"]
[{"$nulls":21},"[td][/td]"]
[{"$nulls":21},"[td][/td]"]
[{"$nulls":20},"[/tr]"]
[{"$nulls":20},"[/table]"]
[]
[{"$nulls":20},"[table]"]
[{"$nulls":20},"[tr]"]
[{"$nulls":21},"[td][url=http://www.tabonline.com.au/2012/05/11/CR04.html]Canberra Acton   Race   4[/url][/td]"]
[{"$nulls":21},"[td][color=yellow]Nexis Accnts & Advisors (Bm69)[/color][/td]"]
[{"$nulls":21},"[td]$14000[/td]"]
[{"$nulls":21},"[td][color=lime]Benchmark 69[/color][/td]"]
[{"$nulls":20},"[/tr]"]
[{"$nulls":20},"[tr]"]
[{"$nulls":21},"[td]No Horse[/td]"]
[{"$nulls":21},"[td]Rated Price[/td]"]
[{"$nulls":21},"[td]Win[/td]"]
[{"$nulls":21},"[td]Place[/td]"]
[{"$nulls":20},"[/tr]"]
[{"$nulls":20},"[tr]"]
[{"$nulls":21},"[td]5. Glad You Called[/td]"]
[{"$nulls":21},"[td]$2.39[/td]"]
[{"$nulls":21},"[td][/td]"]
[{"$nulls":21},"[td][/td]"]
[{"$nulls":20},"[/tr]"]
[{"$nulls":20},"[tr]"]
[{"$nulls":21},"[td]1. Our Avalanche[/td]"]
[{"$nulls":21},"[td]$3.49[/td]"]
[{"$nulls":21},"[td][/td]"]
[{"$nulls":21},"[td][/td]"]
[{"$nulls":20},"[/tr]"]
[{"$nulls":20},"[/table]"]
[]
[{"$nulls":20},"[table]"]
[{"$nulls":20},"[tr]"]
[{"$nulls":21},"[td][url=http://www.tabonline.com.au/2012/05/11/NR04.html]Coffs Harbour   Race   4[/url][/td]"]
[{"$nulls":21},"[td][color=yellow]Ladies In Racing Hcp (C3)[/color][/td]"]
[{"$nulls":21},"[td]$10000[/td]"]
[{"$nulls":21},"[td][color=lime]Class 3[/color][/td]"]
[{"$nulls":20},"[/tr]"]
[{"$nulls":20},"[tr]"]
[{"$nulls":21},"[td]No Horse[/td]"]
[{"$nulls":21},"[td]Rated Price[/td]"]
[{"$nulls":21},"[td]Win[/td]"]
[{"$nulls":21},"[td]Place[/td]"]
[{"$nulls":20},"[/tr]"]
[{"$nulls":20},"[tr]"]
[{"$nulls":21},"[td]1. Speeding To Win[/td]"]
[{"$nulls":21},"[td]$3.24[/td]"]
[{"$nulls":21},"[td][/td]"]
[{"$nulls":21},"[td][/td]"]
[{"$nulls":20},"[/tr]"]
[{"$nulls":20},"[tr]"]
[{"$nulls":21},"[td]4. Duxagain[/td]"]
[{"$nulls":21},"[td]$3.73[/td]"]
[{"$nulls":21},"[td][/td]"]
[{"$nulls":21},"[td][/td]"]
[{"$nulls":20},"[/tr]"]
[{"$nulls":20},"[/table]"]
[]
[{"$nulls":20},"[table]"]
[{"$nulls":20},"[tr]"]
[{"$nulls":21},"[td][url=http://www.tabonline.com.au/2012/05/11/VR09.html]Geelong Syntheti   Race   9[/url][/td]"]
[{"$nulls":21},"[td][color=yellow]Centrebet (Bm78)[/color][/td]"]
[{"$nulls":21},"[td]$17500[/td]"]
[{"$nulls":21},"[td][color=lime]Benchmark 78[/color][/td]"]
[{"$nulls":20},"[/tr]"]
[{"$nulls":20},"[tr]"]
[{"$nulls":21},"[td]No Horse[/td]"]
[{"$nulls":21},"[td]Rated Price[/td]"]
[{"$nulls":21},"[td]Win[/td]"]
[{"$nulls":21},"[td]Place[/td]"]
[{"$nulls":20},"[/tr]"]
[{"$nulls":20},"[tr]"]
[{"$nulls":21},"[td]3. King Cotton[/td]"]
[{"$nulls":21},"[td]$3.04[/td]"]
[{"$nulls":21},"[td][/td]"]
[{"$nulls":21},"[td][/td]"]
[{"$nulls":20},"[/tr]"]
[{"$nulls":20},"[tr]"]
[{"$nulls":21},"[td]12. Sweet Music[/td]"]
[{"$nulls":21},"[td]$3.59[/td]"]
[{"$nulls":21},"[td][/td]"]
[{"$nulls":21},"[td][/td]"]
[{"$nulls":20},"[/tr]"]
[{"$nulls":20},"[/table]"]
[]
[{"$nulls":20},"[table]"]
[{"$nulls":20},"[tr]"]
[{"$nulls":21},"[td][url=http://www.tabonline.com.au/2012/05/11/BR06.html]Ipswich   Race   6[/url][/td]"]
[{"$nulls":21},"[td][color=yellow]J.G. Mullan Constructions (C3)[/color][/td]"]
[{"$nulls":21},"[td]$12000[/td]"]
[{"$nulls":21},"[td][color=lime]Class 3[/color][/td]"]
[{"$nulls":20},"[/tr]"]
[{"$nulls":20},"[tr]"]
[{"$nulls":21},"[td]No Horse[/td]"]
[{"$nulls":21},"[td]Rated Price[/td]"]
[{"$nulls":21},"[td]Win[/td]"]
[{"$nulls":21},"[td]Place[/td]"]
[{"$nulls":20},"[/tr]"]
[{"$nulls":20},"[tr]"]
[{"$nulls":21},"[td]11. Amalgamate[/td]"]
[{"$nulls":21},"[td]$3.54[/td]"]
[{"$nulls":21},"[td][/td]"]
[{"$nulls":21},"[td][/td]"]
[{"$nulls":20},"[/tr]"]
[{"$nulls":20},"[tr]"]
[{"$nulls":21},"[td]7. Rocket Boots[/td]"]
[{"$nulls":21},"[td]$4.08[/td]"]
[{"$nulls":21},"[td][/td]"]
[{"$nulls":21},"[td][/td]"]
[{"$nulls":20},"[/tr]"]
[{"$nulls":20},"[/table]"]
[]
[{"$nulls":20},"[table]"]
[{"$nulls":20},"[tr]"]
[{"$nulls":21},"[td][url=http://www.tabonline.com.au/2012/05/11/CR05.html]Canberra Acton   Race   5[/url][/td]"]
[{"$nulls":21},"[td][color=yellow]Premier Payroll Solutions (C1)[/color][/td]"]
[{"$nulls":21},"[td]$14000[/td]"]
[{"$nulls":21},"[td][color=lime]Class 1[/color][/td]"]
[{"$nulls":20},"[/tr]"]
[{"$nulls":20},"[tr]"]
[{"$nulls":21},"[td]No Horse[/td]"]
[{"$nulls":21},"[td]Rated Price[/td]"]
[{"$nulls":21},"[td]Win[/td]"]
[{"$nulls":21},"[td]Place[/td]"]
[{"$nulls":20},"[/tr]"]
[{"$nulls":20},"[tr]"]
[{"$nulls":21},"[td]6. Strategic Purchase[/td]"]
[{"$nulls":21},"[td]$2.81[/td]"]
[{"$nulls":21},"[td][/td]"]
[{"$nulls":21},"[td][/td]"]
[{"$nulls":20},"[/tr]"]
[{"$nulls":20},"[tr]"]
[{"$nulls":21},"[td]5. Doubtful Miss[/td]"]
[{"$nulls":21},"[td]$3.54[/td]"]
[{"$nulls":21},"[td][/td]"]
[{"$nulls":21},"[td][/td]"]
[{"$nulls":20},"[/tr]"]
[{"$nulls":20},"[tr]"]
[{"$nulls":21},"[td]1. Ready Fora Crownie[/td]"]
[{"$nulls":21},"[td]$4.31[/td]"]
[{"$nulls":21},"[td][/td]"]
[{"$nulls":21},"[td][/td]"]
[{"$nulls":20},"[/tr]"]
[{"$nulls":20},"[tr]"]
[{"$nulls":21},"[td]7. Dolled Up[/td]"]
[{"$nulls":21},"[td]$5.37[/td]"]
[{"$nulls":21},"[td][/td]"]
[{"$nulls":21},"[td][/td]"]
[{"$nulls":20},"[/tr]"]
[{"$nulls":20},"[tr]"]
[{"$nulls":21},"[td]4. Swish On By[/td]"]
[{"$nulls":21},"[td]$8.34[/td]"]
[{"$nulls":21},"[td][/td]"]
[{"$nulls":21},"[td][/td]"]
[{"$nulls":20},"[/tr]"]
[{"$nulls":20},"[/table]"]
[]
[{"$nulls":20},"[table]"]
[{"$nulls":20},"[tr]"]
[{"$nulls":21},"[td][url=http://www.tabonline.com.au/2012/05/11/CR06.html]Canberra Acton   Race   6[/url][/td]"]
[{"$nulls":21},"[td][color=yellow]Nexis Business Life Plan Mdn[/color][/td]"]
[{"$nulls":21},"[td]$14000[/td]"]
[{"$nulls":21},"[td][color=lime]Maiden[/color][/td]"]
[{"$nulls":20},"[/tr]"]
[{"$nulls":20},"[tr]"]
[{"$nulls":21},"[td]No Horse[/td]"]
[{"$nulls":21},"[td]Rated Price[/td]"]
[{"$nulls":21},"[td]Win[/td]"]
[{"$nulls":21},"[td]Place[/td]"]
[{"$nulls":20},"[/tr]"]
[{"$nulls":20},"[tr]"]
[{"$nulls":21},"[td]7. Testabolt[/td]"]
[{"$nulls":21},"[td]$2.55[/td]"]
[{"$nulls":21},"[td][/td]"]
[{"$nulls":21},"[td][/td]"]
[{"$nulls":20},"[/tr]"]
[{"$nulls":20},"[tr]"]
[{"$nulls":21},"[td]11. Pitchella[/td]"]
[{"$nulls":21},"[td]$2.69[/td]"]
[{"$nulls":21},"[td][/td]"]
[{"$nulls":21},"[td][/td]"]
[{"$nulls":20},"[/tr]"]
[{"$nulls":20},"[tr]"]
[{"$nulls":21},"[td]9. Foila[/td]"]
[{"$nulls":21},"[td]$6.48[/td]"]
[{"$nulls":21},"[td][/td]"]
[{"$nulls":21},"[td][/td]"]
[{"$nulls":20},"[/tr]"]
[{"$nulls":20},"[tr]"]
[{"$nulls":21},"[td]2. Flying Bentley[/td]"]
[{"$nulls":21},"[td]$7.08[/td]"]
[{"$nulls":21},"[td][/td]"]
[{"$nulls":21},"[td][/td]"]
[{"$nulls":20},"[/tr]"]
[{"$nulls":20},"[tr]"]
[{"$nulls":21},"[td]10. Magna Dea[/td]"]
[{"$nulls":21},"[td]$8.59[/td]"]
[{"$nulls":21},"[td][/td]"]
[{"$nulls":21},"[td][/td]"]
[{"$nulls":20},"[/tr]"]
[{"$nulls":20},"[/table]"]
[]
[{"$nulls":20},"[table]"]
[{"$nulls":20},"[tr]"]
[{"$nulls":21},"[td][url=http://www.tabonline.com.au/2012/05/11/CR07.html]Canberra Acton   Race   7[/url][/td]"]
[{"$nulls":21},"[td][color=yellow]Financial Integrity Gen. -Bm55[/color][/td]"]
[{"$nulls":21},"[td]$14000[/td]"]
[{"$nulls":21},"[td][color=lime]Benchmark 55[/color][/td]"]
[{"$nulls":20},"[/tr]"]
[{"$nulls":20},"[tr]"]
[{"$nulls":21},"[td]No Horse[/td]"]
[{"$nulls":21},"[td]Rated Price[/td]"]
[{"$nulls":21},"[td]Win[/td]"]
[{"$nulls":21},"[td]Place[/td]"]
[{"$nulls":20},"[/tr]"]
[{"$nulls":20},"[tr]"]
[{"$nulls":21},"[td]5. Virtuoso[/td]"]
[{"$nulls":21},"[td]$2.05[/td]"]
[{"$nulls":21},"[td][/td]"]
[{"$nulls":21},"[td][/td]"]
[{"$nulls":20},"[/tr]"]
[{"$nulls":20},"[tr]"]
[{"$nulls":21},"[td]6. Devils Watch[/td]"]
[{"$nulls":21},"[td]$3.04[/td]"]
[{"$nulls":21},"[td][/td]"]
[{"$nulls":21},"[td][/td]"]
[{"$nulls":20},"[/tr]"]
[{"$nulls":20},"[tr]"]
[{"$nulls":21},"[td]2. Bohemian Spirit[/td]"]
[{"$nulls":21},"[td]$7.71[/td]"]
[{"$nulls":21},"[td][/td]"]
[{"$nulls":21},"[td][/td]"]
[{"$nulls":20},"[/tr]"]
[{"$nulls":20},"[tr]"]
[{"$nulls":21},"[td]9. Artys Noverre[/td]"]
[{"$nulls":21},"[td]$7.71[/td]"]
[{"$nulls":21},"[td][/td]"]
[{"$nulls":21},"[td][/td]"]
[{"$nulls":20},"[/tr]"]
[{"$nulls":20},"[tr]"]
[{"$nulls":21},"[td]1. Playa[/td]"]
[{"$nulls":21},"[td]$9.89[/td]"]
[{"$nulls":21},"[td][/td]"]
[{"$nulls":21},"[td][/td]"]
[{"$nulls":20},"[/tr]"]
[{"$nulls":20},"[/table]"]
[]
[{"$nulls":20},"[table]"]
[{"$nulls":20},"[tr]"]
[{"$nulls":21},"[td][url=http://www.tabonline.com.au/2012/05/11/CR08.html]Canberra Acton   Race   8[/url][/td]"]
[{"$nulls":21},"[td][color=yellow]Elrington Lawyers (Bm60)[/color][/td]"]
[{"$nulls":21},"[td]$14000[/td]"]
[{"$nulls":21},"[td][color=lime]Benchmark 60[/color][/td]"]
[{"$nulls":20},"[/tr]"]
[{"$nulls":20},"[tr]"]
[{"$nulls":21},"[td]No Horse[/td]"]
[{"$nulls":21},"[td]Rated Price[/td]"]
[{"$nulls":21},"[td]Win[/td]"]
[{"$nulls":21},"[td]Place[/td]"]
[{"$nulls":20},"[/tr]"]
[{"$nulls":20},"[tr]"]
[{"$nulls":21},"[td]4. Salander[/td]"]
[{"$nulls":21},"[td]$2.47[/td]"]
[{"$nulls":21},"[td][/td]"]
[{"$nulls":21},"[td][/td]"]
[{"$nulls":20},"[/tr]"]
[{"$nulls":20},"[tr]"]
[{"$nulls":21},"[td]2. Prince Warrior[/td]"]
[{"$nulls":21},"[td]$3.32[/td]"]
[{"$nulls":21},"[td][/td]"]
[{"$nulls":21},"[td][/td]"]
[{"$nulls":20},"[/tr]"]
[{"$nulls":20},"[tr]"]
[{"$nulls":21},"[td]1. Monte Ichiban[/td]"]
[{"$nulls":21},"[td]$3.61[/td]"]
[{"$nulls":21},"[td][/td]"]
[{"$nulls":21},"[td][/td]"]
[{"$nulls":20},"[/tr]"]
[{"$nulls":20},"[tr]"]
[{"$nulls":21},"[td]3. Prestidigitate[/td]"]
[{"$nulls":21},"[td]$10.34[/td]"]
[{"$nulls":21},"[td][/td]"]
[{"$nulls":21},"[td][/td]"]
[{"$nulls":20},"[/tr]"]
[{"$nulls":20},"[tr]"]
[{"$nulls":21},"[td]6. Mr Zip[/td]"]
[{"$nulls":21},"[td]$10.34[/td]"]
[{"$nulls":21},"[td][/td]"]
[{"$nulls":21},"[td][/td]"]
[{"$nulls":20},"[/tr]"]
[{"$nulls":20},"[/table]"]
[]
[{"$nulls":20},"[table]"]
[{"$nulls":20},"[tr]"]
[{"$nulls":21},"[td][url=http://www.tabonline.com.au/2012/05/11/NR05.html]Coffs Harbour   Race   5[/url][/td]"]
[{"$nulls":21},"[td][color=yellow]Tabcorp Country Plate (C1)[/color][/td]"]
[{"$nulls":21},"[td]$10000[/td]"]
[{"$nulls":21},"[td][color=lime]Class 1[/color][/td]"]
[{"$nulls":20},"[/tr]"]
[{"$nulls":20},"[tr]"]
[{"$nulls":21},"[td]No Horse[/td]"]
[{"$nulls":21},"[td]Rated Price[/td]"]
[{"$nulls":21},"[td]Win[/td]"]
[{"$nulls":21},"[td]Place[/td]"]
[{"$nulls":20},"[/tr]"]
[{"$nulls":20},"[tr]"]
[{"$nulls":21},"[td]8. Red Celtique[/td]"]
[{"$nulls":21},"[td]$2.54[/td]"]
[{"$nulls":21},"[td][/td]"]
[{"$nulls":21},"[td][/td]"]
[{"$nulls":20},"[/tr]"]
[{"$nulls":20},"[tr]"]
[{"$nulls":21},"[td]7. Please Be Gentle[/td]"]
[{"$nulls":21},"[td]$3.38[/td]"]
[{"$nulls":21},"[td][/td]"]
[{"$nulls":21},"[td][/td]"]
[{"$nulls":20},"[/tr]"]
[{"$nulls":20},"[tr]"]
[{"$nulls":21},"[td]13. The Mighty Gem[/td]"]
[{"$nulls":21},"[td]$4.34[/td]"]
[{"$nulls":21},"[td][/td]"]
[{"$nulls":21},"[td][/td]"]
[{"$nulls":20},"[/tr]"]
[{"$nulls":20},"[tr]"]
[{"$nulls":21},"[td]5. Caught High[/td]"]
[{"$nulls":21},"[td]$6.53[/td]"]
[{"$nulls":21},"[td][/td]"]
[{"$nulls":21},"[td][/td]"]
[{"$nulls":20},"[/tr]"]
[{"$nulls":20},"[tr]"]
[{"$nulls":21},"[td]3. Ransom Demand[/td]"]
[{"$nulls":21},"[td]$9.74[/td]"]
[{"$nulls":21},"[td][/td]"]
[{"$nulls":21},"[td][/td]"]
[{"$nulls":20},"[/tr]"]
[{"$nulls":20},"[/table]"]
[]
[{"$nulls":20},"[table]"]
[{"$nulls":20},"[tr]"]
[{"$nulls":21},"[td][url=http://www.tabonline.com.au/2012/05/11/NR06.html]Coffs Harbour   Race   6[/url][/td]"]
[{"$nulls":21},"[td][color=yellow]Hydro Digger Coffs Harbour Hcp[/color][/td]"]
[{"$nulls":21},"[td]$10000[/td]"]
[{"$nulls":21},"[td][color=lime]Open[/color][/td]"]
[{"$nulls":20},"[/tr]"]
[{"$nulls":20},"[tr]"]
[{"$nulls":21},"[td]No Horse[/td]"]
[{"$nulls":21},"[td]Rated Price[/td]"]
[{"$nulls":21},"[td]Win[/td]"]
[{"$nulls":21},"[td]Place[/td]"]
[{"$nulls":20},"[/tr]"]
[{"$nulls":20},"[tr]"]
[{"$nulls":21},"[td]4. Save a Buck[/td]"]
[{"$nulls":21},"[td]$2.94[/td]"]
[{"$nulls":21},"[td][/td]"]
[{"$nulls":21},"[td][/td]"]
[{"$nulls":20},"[/tr]"]
[{"$nulls":20},"[tr]"]
[{"$nulls":21},"[td]1. Never Doubt Me[/td]"]
[{"$nulls":21},"[td]$3.96[/td]"]
[{"$nulls":21},"[td][/td]"]
[{"$nulls":21},"[td][/td]"]
[{"$nulls":20},"[/tr]"]
[{"$nulls":20},"[tr]"]
[{"$nulls":21},"[td]2. Symposium[/td]"]
[{"$nulls":21},"[td]$4.69[/td]"]
[{"$nulls":21},"[td][/td]"]
[{"$nulls":21},"[td][/td]"]
[{"$nulls":20},"[/tr]"]
[{"$nulls":20},"[tr]"]
[{"$nulls":21},"[td]3. Danes Bullet[/td]"]
[{"$nulls":21},"[td]$5.14[/td]"]
[{"$nulls":21},"[td][/td]"]
[{"$nulls":21},"[td][/td]"]
[{"$nulls":20},"[/tr]"]
[{"$nulls":20},"[tr]"]
[{"$nulls":21},"[td]5. Darshan Joh[/td]"]
[{"$nulls":21},"[td]$5.67[/td]"]
[{"$nulls":21},"[td][/td]"]
[{"$nulls":21},"[td][/td]"]
[{"$nulls":20},"[/tr]"]
[{"$nulls":20},"[/table]"]
[]
[{"$nulls":20},"[table]"]
[{"$nulls":20},"[tr]"]
[{"$nulls":21},"[td][url=http://www.tabonline.com.au/2012/05/11/NR07.html]Coffs Harbour   Race   7[/url][/td]"]
[{"$nulls":21},"[td][color=yellow]Hqb Chartered Accountants-Bm65[/color][/td]"]
[{"$nulls":21},"[td]$10000[/td]"]
[{"$nulls":21},"[td][color=lime]Benchmark 65[/color][/td]"]
[{"$nulls":20},"[/tr]"]
[{"$nulls":20},"[tr]"]
[{"$nulls":21},"[td]No Horse[/td]"]
[{"$nulls":21},"[td]Rated Price[/td]"]
[{"$nulls":21},"[td]Win[/td]"]
[{"$nulls":21},"[td]Place[/td]"]
[{"$nulls":20},"[/tr]"]
[{"$nulls":20},"[tr]"]
[{"$nulls":21},"[td]6. Al Be Swift[/td]"]
[{"$nulls":21},"[td]$3.52[/td]"]
[{"$nulls":21},"[td][/td]"]
[{"$nulls":21},"[td][/td]"]
[{"$nulls":20},"[/tr]"]
[{"$nulls":20},"[tr]"]
[{"$nulls":21},"[td]2. Private Accord[/td]"]
[{"$nulls":21},"[td]$4.12[/td]"]
[{"$nulls":21},"[td][/td]"]
[{"$nulls":21},"[td][/td]"]
[{"$nulls":20},"[/tr]"]
[{"$nulls":20},"[tr]"]
[{"$nulls":21},"[td]10. Rev The Chev[/td]"]
[{"$nulls":21},"[td]$4.12[/td]"]
[{"$nulls":21},"[td][/td]"]
[{"$nulls":21},"[td][/td]"]
[{"$nulls":20},"[/tr]"]
[{"$nulls":20},"[tr]"]
[{"$nulls":21},"[td]4. Lotsamoola[/td]"]
[{"$nulls":21},"[td]$4.49[/td]"]
[{"$nulls":21},"[td][/td]"]
[{"$nulls":21},"[td][/td]"]
[{"$nulls":20},"[/tr]"]
[{"$nulls":20},"[tr]"]
[{"$nulls":21},"[td]3. Broadway Gossip[/td]"]
[{"$nulls":21},"[td]$5.42[/td]"]
[{"$nulls":21},"[td][/td]"]
[{"$nulls":21},"[td][/td]"]
[{"$nulls":20},"[/tr]"]
[{"$nulls":20},"[/table]"]
[]
[{"$nulls":20},"[table]"]
[{"$nulls":20},"[tr]"]
[{"$nulls":21},"[td][url=http://www.tabonline.com.au/2012/05/11/NR08.html]Coffs Harbour   Race   8[/url][/td]"]
[{"$nulls":21},"[td][color=yellow]Hqb Chartered Accountants-Bm55[/color][/td]"]
[{"$nulls":21},"[td]$10000[/td]"]
[{"$nulls":21},"[td][color=lime]Benchmark 55[/color][/td]"]
[{"$nulls":20},"[/tr]"]
[{"$nulls":20},"[tr]"]
[{"$nulls":21},"[td]No Horse[/td]"]
[{"$nulls":21},"[td]Rated Price[/td]"]
[{"$nulls":21},"[td]Win[/td]"]
[{"$nulls":21},"[td]Place[/td]"]
[{"$nulls":20},"[/tr]"]
[{"$nulls":20},"[tr]"]
[{"$nulls":21},"[td]3. Hackers[/td]"]
[{"$nulls":21},"[td]$2.31[/td]"]
[{"$nulls":21},"[td][/td]"]
[{"$nulls":21},"[td][/td]"]
[{"$nulls":20},"[/tr]"]
[{"$nulls":20},"[tr]"]
[{"$nulls":21},"[td]9. Sandy Selection[/td]"]
[{"$nulls":21},"[td]$3.63[/td]"]
[{"$nulls":21},"[td][/td]"]
[{"$nulls":21},"[td][/td]"]
[{"$nulls":20},"[/tr]"]
[{"$nulls":20},"[tr]"]
[{"$nulls":21},"[td]8. Retirement[/td]"]
[{"$nulls":21},"[td]$5.01[/td]"]
[{"$nulls":21},"[td][/td]"]
[{"$nulls":21},"[td][/td]"]
[{"$nulls":20},"[/tr]"]
[{"$nulls":20},"[tr]"]
[{"$nulls":21},"[td]1. Bondit[/td]"]
[{"$nulls":21},"[td]$7.45[/td]"]
[{"$nulls":21},"[td][/td]"]
[{"$nulls":21},"[td][/td]"]
[{"$nulls":20},"[/tr]"]
[{"$nulls":20},"[tr]"]
[{"$nulls":21},"[td]11. Franc[/td]"]
[{"$nulls":21},"[td]$7.45[/td]"]
[{"$nulls":21},"[td][/td]"]
[{"$nulls":21},"[td][/td]"]
[{"$nulls":20},"[/tr]"]
[{"$nulls":20},"[/table]"]
[]
[{"$nulls":20},"[table]"]
[{"$nulls":20},"[tr]"]
[{"$nulls":21},"[td][url=http://www.tabonline.com.au/2012/05/11/VR06.html]Geelong Syntheti   Race   6[/url][/td]"]
[{"$nulls":21},"[td][color=yellow]Buxton Real Estate Hcp (58)[/color][/td]"]
[{"$nulls":21},"[td]$12000[/td]"]
[{"$nulls":21},"[td][color=lime]Restricted 58[/color][/td]"]
[{"$nulls":20},"[/tr]"]
[{"$nulls":20},"[tr]"]
[{"$nulls":21},"[td]No Horse[/td]"]
[{"$nulls":21},"[td]Rated Price[/td]"]
[{"$nulls":21},"[td]Win[/td]"]
[{"$nulls":21},"[td]Place[/td]"]
[{"$nulls":20},"[/tr]"]
[{"$nulls":20},"[tr]"]
[{"$nulls":21},"[td]1. Redline Vector[/td]"]
[{"$nulls":21},"[td]$2.54[/td]"]
[{"$nulls":21},"[td][/td]"]
[{"$nulls":21},"[td][/td]"]
[{"$nulls":20},"[/tr]"]
[{"$nulls":20},"[tr]"]
[{"$nulls":21},"[td]6. Fearless Fly[/td]"]
[{"$nulls":21},"[td]$3.15[/td]"]
[{"$nulls":21},"[td][/td]"]
[{"$nulls":21},"[td][/td]"]
[{"$nulls":20},"[/tr]"]
[{"$nulls":20},"[tr]"]
[{"$nulls":21},"[td]12. Rouen[/td]"]
[{"$nulls":21},"[td]$4.43[/td]"]
[{"$nulls":21},"[td][/td]"]
[{"$nulls":21},"[td][/td]"]
[{"$nulls":20},"[/tr]"]
[{"$nulls":20},"[tr]"]
[{"$nulls":21},"[td]4. Fine Dina[/td]"]
[{"$nulls":21},"[td]$7.81[/td]"]
[{"$nulls":21},"[td][/td]"]
[{"$nulls":21},"[td][/td]"]
[{"$nulls":20},"[/tr]"]
[{"$nulls":20},"[tr]"]
[{"$nulls":21},"[td]2. Vinge Grande[/td]"]
[{"$nulls":21},"[td]$9.03[/td]"]
[{"$nulls":21},"[td][/td]"]
[{"$nulls":21},"[td][/td]"]
[{"$nulls":20},"[/tr]"]
[{"$nulls":20},"[/table]"]
[]
[{"$nulls":20},"[table]"]
[{"$nulls":20},"[tr]"]
[{"$nulls":21},"[td][url=http://www.tabonline.com.au/2012/05/11/VR07.html]Geelong Syntheti   Race   7[/url][/td]"]
[{"$nulls":21},"[td][color=yellow]Market Square Shopping (62)[/color][/td]"]
[{"$nulls":21},"[td]$12000[/td]"]
[{"$nulls":21},"[td][color=lime]Restricted 62[/color][/td]"]
[{"$nulls":20},"[/tr]"]
[{"$nulls":20},"[tr]"]
[{"$nulls":21},"[td]No Horse[/td]"]
[{"$nulls":21},"[td]Rated Price[/td]"]
[{"$nulls":21},"[td]Win[/td]"]
[{"$nulls":21},"[td]Place[/td]"]
[{"$nulls":20},"[/tr]"]
[{"$nulls":20},"[tr]"]
[{"$nulls":21},"[td]1. Nothin Leica Dame[/td]"]
[{"$nulls":21},"[td]$3.12[/td]"]
[{"$nulls":21},"[td][/td]"]
[{"$nulls":21},"[td][/td]"]
[{"$nulls":20},"[/tr]"]
[{"$nulls":20},"[tr]"]
[{"$nulls":21},"[td]6. American Gee[/td]"]
[{"$nulls":21},"[td]$3.66[/td]"]
[{"$nulls":21},"[td][/td]"]
[{"$nulls":21},"[td][/td]"]
[{"$nulls":20},"[/tr]"]
[{"$nulls":20},"[tr]"]
[{"$nulls":21},"[td]4. Pelikaan Straat[/td]"]
[{"$nulls":21},"[td]$4.81[/td]"]
[{"$nulls":21},"[td][/td]"]
[{"$nulls":21},"[td][/td]"]
[{"$nulls":20},"[/tr]"]
[{"$nulls":20},"[tr]"]
[{"$nulls":21},"[td]3. Sir Cohen[/td]"]
[{"$nulls":21},"[td]$5.33[/td]"]
[{"$nulls":21},"[td][/td]"]
[{"$nulls":21},"[td][/td]"]
[{"$nulls":20},"[/tr]"]
[{"$nulls":20},"[tr]"]
[{"$nulls":21},"[td]9. Rock To Excess[/td]"]
[{"$nulls":21},"[td]$5.33[/td]"]
[{"$nulls":21},"[td][/td]"]
[{"$nulls":21},"[td][/td]"]
[{"$nulls":20},"[/tr]"]
[{"$nulls":20},"[/table]"]
[]
[{"$nulls":20},"[table]"]
[{"$nulls":20},"[tr]"]
[{"$nulls":21},"[td][url=http://www.tabonline.com.au/2012/05/11/VR08.html]Geelong Syntheti   Race   8[/url][/td]"]
[{"$nulls":21},"[td][color=yellow]Bay Fm Hcp (62)[/color][/td]"]
[{"$nulls":21},"[td]$12000[/td]"]
[{"$nulls":21},"[td][color=lime]Restricted 62[/color][/td]"]
[{"$nulls":20},"[/tr]"]
[{"$nulls":20},"[tr]"]
[{"$nulls":21},"[td]No Horse[/td]"]
[{"$nulls":21},"[td]Rated Price[/td]"]
[{"$nulls":21},"[td]Win[/td]"]
[{"$nulls":21},"[td]Place[/td]"]
[{"$nulls":20},"[/tr]"]
[{"$nulls":20},"[tr]"]
[{"$nulls":21},"[td]2. Gold Indeed[/td]"]
[{"$nulls":21},"[td]$1.63[/td]"]
[{"$nulls":21},"[td][/td]"]
[{"$nulls":21},"[td][/td]"]
[{"$nulls":20},"[/tr]"]
[{"$nulls":20},"[tr]"]
[{"$nulls":21},"[td]7. Mr Bandit Country[/td]"]
[{"$nulls":21},"[td]$3.24[/td]"]
[{"$nulls":21},"[td][/td]"]
[{"$nulls":21},"[td][/td]"]
[{"$nulls":20},"[/tr]"]
[{"$nulls":20},"[tr]"]
[{"$nulls":21},"[td]10. Stanborough[/td]"]
[{"$nulls":21},"[td]$7.57[/td]"]
[{"$nulls":21},"[td][/td]"]
[{"$nulls":21},"[td][/td]"]
[{"$nulls":20},"[/tr]"]
[{"$nulls":20},"[tr]"]
[{"$nulls":21},"[td]1. Friend In Deed[/td]"]
[{"$nulls":21},"[td]$16.53[/td]"]
[{"$nulls":21},"[td][/td]"]
[{"$nulls":21},"[td][/td]"]
[{"$nulls":20},"[/tr]"]
[{"$nulls":20},"[tr]"]
[{"$nulls":21},"[td]9. Love My Dad[/td]"]
[{"$nulls":21},"[td]$16.53[/td]"]
[{"$nulls":21},"[td][/td]"]
[{"$nulls":21},"[td][/td]"]
[{"$nulls":20},"[/tr]"]
[{"$nulls":20},"[/table]"]
[]
[{"$nulls":20},"[table]"]
[{"$nulls":20},"[tr]"]
[{"$nulls":21},"[td][url=http://www.tabonline.com.au/2012/05/11/VR09.html]Geelong Syntheti   Race   9[/url][/td]"]
[{"$nulls":21},"[td][color=yellow]Centrebet (Bm78)[/color][/td]"]
[{"$nulls":21},"[td]$17500[/td]"]
[{"$nulls":21},"[td][color=lime]Benchmark 78[/color][/td]"]
[{"$nulls":20},"[/tr]"]
[{"$nulls":20},"[tr]"]
[{"$nulls":21},"[td]No Horse[/td]"]
[{"$nulls":21},"[td]Rated Price[/td]"]
[{"$nulls":21},"[td]Win[/td]"]
[{"$nulls":21},"[td]Place[/td]"]
[{"$nulls":20},"[/tr]"]
[{"$nulls":20},"[tr]"]
[{"$nulls":21},"[td]3. King Cotton[/td]"]
[{"$nulls":21},"[td]$3.04[/td]"]
[{"$nulls":21},"[td][/td]"]
[{"$nulls":21},"[td][/td]"]
[{"$nulls":20},"[/tr]"]
[{"$nulls":20},"[tr]"]
[{"$nulls":21},"[td]12. Sweet Music[/td]"]
[{"$nulls":21},"[td]$3.59[/td]"]
[{"$nulls":21},"[td][/td]"]
[{"$nulls":21},"[td][/td]"]
[{"$nulls":20},"[/tr]"]
[{"$nulls":20},"[tr]"]
[{"$nulls":21},"[td]7. Piclesia[/td]"]
[{"$nulls":21},"[td]$3.93[/td]"]
[{"$nulls":21},"[td][/td]"]
[{"$nulls":21},"[td][/td]"]
[{"$nulls":20},"[/tr]"]
[{"$nulls":20},"[tr]"]
[{"$nulls":21},"[td]8. Exceed And Excite[/td]"]
[{"$nulls":21},"[td]$5.34[/td]"]
[{"$nulls":21},"[td][/td]"]
[{"$nulls":21},"[td][/td]"]
[{"$nulls":20},"[/tr]"]
[{"$nulls":20},"[tr]"]
[{"$nulls":21},"[td]11. She Swings[/td]"]
[{"$nulls":21},"[td]$7.89[/td]"]
[{"$nulls":21},"[td][/td]"]
[{"$nulls":21},"[td][/td]"]
[{"$nulls":20},"[/tr]"]
[{"$nulls":20},"[/table]"]
[]
[{"$nulls":20},"[table]"]
[{"$nulls":20},"[tr]"]
[{"$nulls":21},"[td][url=http://www.tabonline.com.au/2012/05/11/BR04.html]Ipswich   Race   4[/url][/td]"]
[{"$nulls":21},"[td][color=yellow]Charlton's Bait & Tackle Mdn[/color][/td]"]
[{"$nulls":21},"[td]$12000[/td]"]
[{"$nulls":21},"[td][color=lime]Maiden[/color][/td]"]
[{"$nulls":20},"[/tr]"]
[{"$nulls":20},"[tr]"]
[{"$nulls":21},"[td]No Horse[/td]"]
[{"$nulls":21},"[td]Rated Price[/td]"]
[{"$nulls":21},"[td]Win[/td]"]
[{"$nulls":21},"[td]Place[/td]"]
[{"$nulls":20},"[/tr]"]
[{"$nulls":20},"[tr]"]
[{"$nulls":21},"[td]4. Slick Lago[/td]"]
[{"$nulls":21},"[td]$2.68[/td]"]
[{"$nulls":21},"[td][/td]"]
[{"$nulls":21},"[td][/td]"]
[{"$nulls":20},"[/tr]"]
[{"$nulls":20},"[tr]"]
[{"$nulls":21},"[td]11. Valentine Girl[/td]"]
[{"$nulls":21},"[td]$3.58[/td]"]
[{"$nulls":21},"[td][/td]"]
[{"$nulls":21},"[td][/td]"]
[{"$nulls":20},"[/tr]"]
[{"$nulls":20},"[tr]"]
[{"$nulls":21},"[td]6. Double Rose[/td]"]
[{"$nulls":21},"[td]$4.07[/td]"]
[{"$nulls":21},"[td][/td]"]
[{"$nulls":21},"[td][/td]"]
[{"$nulls":20},"[/tr]"]
[{"$nulls":20},"[tr]"]
[{"$nulls":21},"[td]5. Aspy Bay[/td]"]
[{"$nulls":21},"[td]$5.44[/td]"]
[{"$nulls":21},"[td][/td]"]
[{"$nulls":21},"[td][/td]"]
[{"$nulls":20},"[/tr]"]
[{"$nulls":20},"[tr]"]
[{"$nulls":21},"[td]9. Boutique Hotel[/td]"]
[{"$nulls":21},"[td]$10.53[/td]"]
[{"$nulls":21},"[td][/td]"]
[{"$nulls":21},"[td][/td]"]
[{"$nulls":20},"[/tr]"]
[{"$nulls":20},"[/table]"]
[]
[{"$nulls":20},"[table]"]
[{"$nulls":20},"[tr]"]
[{"$nulls":21},"[td][url=http://www.tabonline.com.au/2012/05/11/BR05.html]Ipswich   Race   5[/url][/td]"]
[{"$nulls":21},"[td][color=yellow]Mick Ratcliffe Memorial Hcp-C1[/color][/td]"]
[{"$nulls":21},"[td]$10000[/td]"]
[{"$nulls":21},"[td][color=lime]Class 1[/color][/td]"]
[{"$nulls":20},"[/tr]"]
[{"$nulls":20},"[tr]"]
[{"$nulls":21},"[td]No Horse[/td]"]
[{"$nulls":21},"[td]Rated Price[/td]"]
[{"$nulls":21},"[td]Win[/td]"]
[{"$nulls":21},"[td]Place[/td]"]
[{"$nulls":20},"[/tr]"]
[{"$nulls":20},"[tr]"]
[{"$nulls":21},"[td]1. Lucky Sound[/td]"]
[{"$nulls":21},"[td]$1.80[/td]"]
[{"$nulls":21},"[td][/td]"]
[{"$nulls":21},"[td][/td]"]
[{"$nulls":20},"[/tr]"]
[{"$nulls":20},"[tr]"]
[{"$nulls":21},"[td]3. Dorchester[/td]"]
[{"$nulls":21},"[td]$4.29[/td]"]
[{"$nulls":21},"[td][/td]"]
[{"$nulls":21},"[td][/td]"]
[{"$nulls":20},"[/tr]"]
[{"$nulls":20},"[tr]"]
[{"$nulls":21},"[td]5. Sugar Daddy[/td]"]
[{"$nulls":21},"[td]$6.54[/td]"]
[{"$nulls":21},"[td][/td]"]
[{"$nulls":21},"[td][/td]"]
[{"$nulls":20},"[/tr]"]
[{"$nulls":20},"[tr]"]
[{"$nulls":21},"[td]11. Amigo Cinco[/td]"]
[{"$nulls":21},"[td]$7.42[/td]"]
[{"$nulls":21},"[td][/td]"]
[{"$nulls":21},"[td][/td]"]
[{"$nulls":20},"[/tr]"]
[{"$nulls":20},"[tr]"]
[{"$nulls":21},"[td]4. Firestorm[/td]"]
[{"$nulls":21},"[td]$9.88[/td]"]
[{"$nulls":21},"[td][/td]"]
[{"$nulls":21},"[td][/td]"]
[{"$nulls":20},"[/tr]"]
[{"$nulls":20},"[/table]"]
[]
[{"$nulls":20},"[table]"]
[{"$nulls":20},"[tr]"]
[{"$nulls":21},"[td][url=http://www.tabonline.com.au/2012/05/11/BR06.html]Ipswich   Race   6[/url][/td]"]
[{"$nulls":21},"[td][color=yellow]J.G. Mullan Constructions (C3)[/color][/td]"]
[{"$nulls":21},"[td]$12000[/td]"]
[{"$nulls":21},"[td][color=lime]Class 3[/color][/td]"]
[{"$nulls":20},"[/tr]"]
[{"$nulls":20},"[tr]"]
[{"$nulls":21},"[td]No Horse[/td]"]
[{"$nulls":21},"[td]Rated Price[/td]"]
[{"$nulls":21},"[td]Win[/td]"]
[{"$nulls":21},"[td]Place[/td]"]
[{"$nulls":20},"[/tr]"]
[{"$nulls":20},"[tr]"]
[{"$nulls":21},"[td]11. Amalgamate[/td]"]
[{"$nulls":21},"[td]$3.54[/td]"]
[{"$nulls":21},"[td][/td]"]
[{"$nulls":21},"[td][/td]"]
[{"$nulls":20},"[/tr]"]
[{"$nulls":20},"[tr]"]
[{"$nulls":21},"[td]7. Rocket Boots[/td]"]
[{"$nulls":21},"[td]$4.08[/td]"]
[{"$nulls":21},"[td][/td]"]
[{"$nulls":21},"[td][/td]"]
[{"$nulls":20},"[/tr]"]
[{"$nulls":20},"[tr]"]
[{"$nulls":21},"[td]1. Crosscannons[/td]"]
[{"$nulls":21},"[td]$4.40[/td]"]
[{"$nulls":21},"[td][/td]"]
[{"$nulls":21},"[td][/td]"]
[{"$nulls":20},"[/tr]"]
[{"$nulls":20},"[tr]"]
[{"$nulls":21},"[td]6. High Chancellor[/td]"]
[{"$nulls":21},"[td]$4.40[/td]"]
[{"$nulls":21},"[td][/td]"]
[{"$nulls":21},"[td][/td]"]
[{"$nulls":20},"[/tr]"]
[{"$nulls":20},"[tr]"]
[{"$nulls":21},"[td]2. Cyclone Al[/td]"]
[{"$nulls":21},"[td]$5.17[/td]"]
[{"$nulls":21},"[td][/td]"]
[{"$nulls":21},"[td][/td]"]
[{"$nulls":20},"[/tr]"]
[{"$nulls":20},"[/table]"]
[]
[{"$nulls":20},"[table]"]
[{"$nulls":20},"[tr]"]
[{"$nulls":21},"[td][url=http://www.tabonline.com.au/2012/05/11/BR07.html]Ipswich   Race   7[/url][/td]"]
[{"$nulls":21},"[td][color=yellow]Civil Pro's Goodna R.L. Hcp-C2[/color][/td]"]
[{"$nulls":21},"[td]$10000[/td]"]
[{"$nulls":21},"[td][color=lime]Class 2[/color][/td]"]
[{"$nulls":20},"[/tr]"]
[{"$nulls":20},"[tr]"]
[{"$nulls":21},"[td]No Horse[/td]"]
[{"$nulls":21},"[td]Rated Price[/td]"]
[{"$nulls":21},"[td]Win[/td]"]
[{"$nulls":21},"[td]Place[/td]"]
[{"$nulls":20},"[/tr]"]
[{"$nulls":20},"[tr]"]
[{"$nulls":21},"[td]2. Fractions[/td]"]
[{"$nulls":21},"[td]$2.65[/td]"]
[{"$nulls":21},"[td][/td]"]
[{"$nulls":21},"[td][/td]"]
[{"$nulls":20},"[/tr]"]
[{"$nulls":20},"[tr]"]
[{"$nulls":21},"[td]11. Miss Leibert[/td]"]
[{"$nulls":21},"[td]$2.85[/td]"]
[{"$nulls":21},"[td][/td]"]
[{"$nulls":21},"[td][/td]"]
[{"$nulls":20},"[/tr]"]
[{"$nulls":20},"[tr]"]
[{"$nulls":21},"[td]3. Tough Taimz[/td]"]
[{"$nulls":21},"[td]$6.15[/td]"]
[{"$nulls":21},"[td][/td]"]
[{"$nulls":21},"[td][/td]"]
[{"$nulls":20},"[/tr]"]
[{"$nulls":20},"[tr]"]
[{"$nulls":21},"[td]7. Little White Horse[/td]"]
[{"$nulls":21},"[td]$7.00[/td]"]
[{"$nulls":21},"[td][/td]"]
[{"$nulls":21},"[td][/td]"]
[{"$nulls":20},"[/tr]"]
[{"$nulls":20},"[tr]"]
[{"$nulls":21},"[td]12. Switmoa[/td]"]
[{"$nulls":21},"[td]$7.00[/td]"]
[{"$nulls":21},"[td][/td]"]
[{"$nulls":21},"[td][/td]"]
[{"$nulls":20},"[/tr]"]
[{"$nulls":20},"[/table]"]
[]
[{"$nulls":20},"[table]"]
[{"$nulls":20},"[tr]"]
[{"$nulls":21},"[td][url=http://www.tabonline.com.au/2012/05/12/PR05.html]Belmont Park   Race   5[/url][/td]"]
[{"$nulls":21},"[td][color=yellow]S.L. Hanson 40th B'day (Bm74+)[/color][/td]"]
[{"$nulls":21},"[td]$45000[/td]"]
[{"$nulls":21},"[td][color=lime]BM74+[/color][/td]"]
[{"$nulls":20},"[/tr]"]
[{"$nulls":20},"[tr]"]
[{"$nulls":21},"[td]No Horse[/td]"]
[{"$nulls":21},"[td]Rated Price[/td]"]
[{"$nulls":21},"[td]Win[/td]"]
[{"$nulls":21},"[td]Place[/td]"]
[{"$nulls":20},"[/tr]"]
[{"$nulls":20},"[tr]"]
[{"$nulls":21},"[td]9. Almachino[/td]"]
[{"$nulls":21},"[td]$1.48[/td]"]
[{"$nulls":21},"[td][/td]"]
[{"$nulls":21},"[td][/td]"]
[{"$nulls":20},"[/tr]"]
[{"$nulls":20},"[tr]"]
[{"$nulls":21},"[td]2. Mickey Drippin[/td]"]
[{"$nulls":21},"[td]$6.62[/td]"]
[{"$nulls":21},"[td][/td]"]
[{"$nulls":21},"[td][/td]"]
[{"$nulls":20},"[/tr]"]
[{"$nulls":20},"[tr]"]
[{"$nulls":21},"[td]4. Stompin[/td]"]
[{"$nulls":21},"[td]$6.62[/td]"]
[{"$nulls":21},"[td][/td]"]
[{"$nulls":21},"[td][/td]"]
[{"$nulls":20},"[/tr]"]
[{"$nulls":20},"[tr]"]
[{"$nulls":21},"[td]6. Elle Choisit[/td]"]
[{"$nulls":21},"[td]$6.62[/td]"]
[{"$nulls":21},"[td][/td]"]
[{"$nulls":21},"[td][/td]"]
[{"$nulls":20},"[/tr]"]
[{"$nulls":20},"[tr]"]
[{"$nulls":21},"[td]3. Pin Rouge[/td]"]
[{"$nulls":21},"[td]$20.84[/td]"]
[{"$nulls":21},"[td][/td]"]
[{"$nulls":21},"[td][/td]"]
[{"$nulls":20},"[/tr]"]
[{"$nulls":20},"[/table]"]
[]
[{"$nulls":20},"[table]"]
[{"$nulls":20},"[tr]"]
[{"$nulls":21},"[td][url=http://www.tabonline.com.au/2012/05/12/PR06.html]Belmont Park   Race   6[/url][/td]"]
[{"$nulls":21},"[td][color=yellow]Vivid Group H.G. Bolton Sprint[/color][/td]"]
[{"$nulls":21},"[td]$80000[/td]"]
[{"$nulls":21},"[td][color=lime]LR[/color][/td]"]
[{"$nulls":20},"[/tr]"]
[{"$nulls":20},"[tr]"]
[{"$nulls":21},"[td]No Horse[/td]"]
[{"$nulls":21},"[td]Rated Price[/td]"]
[{"$nulls":21},"[td]Win[/td]"]
[{"$nulls":21},"[td]Place[/td]"]
[{"$nulls":20},"[/tr]"]
[{"$nulls":20},"[tr]"]
[{"$nulls":21},"[td]7. Our Ol Fella[/td]"]
[{"$nulls":21},"[td]$2.08[/td]"]
[{"$nulls":21},"[td][/td]"]
[{"$nulls":21},"[td][/td]"]
[{"$nulls":20},"[/tr]"]
[{"$nulls":20},"[tr]"]
[{"$nulls":21},"[td]5. Cavallo Pazzo[/td]"]
[{"$nulls":21},"[td]$4.01[/td]"]
[{"$nulls":21},"[td][/td]"]
[{"$nulls":21},"[td][/td]"]
[{"$nulls":20},"[/tr]"]
[{"$nulls":20},"[tr]"]
[{"$nulls":21},"[td]8. Zester[/td]"]
[{"$nulls":21},"[td]$5.63[/td]"]
[{"$nulls":21},"[td][/td]"]
[{"$nulls":21},"[td][/td]"]
[{"$nulls":20},"[/tr]"]
[{"$nulls":20},"[tr]"]
[{"$nulls":21},"[td]3. Avante[/td]"]
[{"$nulls":21},"[td]$7.42[/td]"]
[{"$nulls":21},"[td][/td]"]
[{"$nulls":21},"[td][/td]"]
[{"$nulls":20},"[/tr]"]
[{"$nulls":20},"[tr]"]
[{"$nulls":21},"[td]6. Dantes Diamond[/td]"]
[{"$nulls":21},"[td]$7.42[/td]"]
[{"$nulls":21},"[td][/td]"]
[{"$nulls":21},"[td][/td]"]
[{"$nulls":20},"[/tr]"]
[{"$nulls":20},"[/table]"]
[]
[{"$nulls":20},"[table]"]
[{"$nulls":20},"[tr]"]
[{"$nulls":21},"[td][url=http://www.tabonline.com.au/2012/05/12/PR07.html]Belmont Park   Race   7[/url][/td]"]
[{"$nulls":21},"[td][color=yellow]Johnex Explosives (Bm68+)[/color][/td]"]
[{"$nulls":21},"[td]$45000[/td]"]
[{"$nulls":21},"[td][color=lime]BM68+[/color][/td]"]
[{"$nulls":20},"[/tr]"]
[{"$nulls":20},"[tr]"]
[{"$nulls":21},"[td]No Horse[/td]"]
[{"$nulls":21},"[td]Rated Price[/td]"]
[{"$nulls":21},"[td]Win[/td]"]
[{"$nulls":21},"[td]Place[/td]"]
[{"$nulls":20},"[/tr]"]
[{"$nulls":20},"[tr]"]
[{"$nulls":21},"[td]3. Scrapindipity[/td]"]
[{"$nulls":21},"[td]$2.98[/td]"]
[{"$nulls":21},"[td][/td]"]
[{"$nulls":21},"[td][/td]"]
[{"$nulls":20},"[/tr]"]
[{"$nulls":20},"[tr]"]
[{"$nulls":21},"[td]11. Crispiano[/td]"]
[{"$nulls":21},"[td]$3.21[/td]"]
[{"$nulls":21},"[td][/td]"]
[{"$nulls":21},"[td][/td]"]
[{"$nulls":20},"[/tr]"]
[{"$nulls":20},"[tr]"]
[{"$nulls":21},"[td]1. Once A Week[/td]"]
[{"$nulls":21},"[td]$4.95[/td]"]
[{"$nulls":21},"[td][/td]"]
[{"$nulls":21},"[td][/td]"]
[{"$nulls":20},"[/tr]"]
[{"$nulls":20},"[tr]"]
[{"$nulls":21},"[td]2. Striking Viking[/td]"]
[{"$nulls":21},"[td]$6.13[/td]"]
[{"$nulls":21},"[td][/td]"]
[{"$nulls":21},"[td][/td]"]
[{"$nulls":20},"[/tr]"]
[{"$nulls":20},"[tr]"]
[{"$nulls":21},"[td]5. Seths Blessed[/td]"]
[{"$nulls":21},"[td]$6.13[/td]"]
[{"$nulls":21},"[td][/td]"]
[{"$nulls":21},"[td][/td]"]
[{"$nulls":20},"[/tr]"]
[{"$nulls":20},"[/table]"]
[]
[{"$nulls":20},"[table]"]
[{"$nulls":20},"[tr]"]
[{"$nulls":21},"[td][url=http://www.tabonline.com.au/2012/05/12/PR08.html]Belmont Park   Race   8[/url][/td]"]
[{"$nulls":21},"[td][color=yellow]Steve's 50th Celebration (74)[/color][/td]"]
[{"$nulls":21},"[td]$40000[/td]"]
[{"$nulls":21},"[td][color=lime]Restricted 74[/color][/td]"]
[{"$nulls":20},"[/tr]"]
[{"$nulls":20},"[tr]"]
[{"$nulls":21},"[td]No Horse[/td]"]
[{"$nulls":21},"[td]Rated Price[/td]"]
[{"$nulls":21},"[td]Win[/td]"]
[{"$nulls":21},"[td]Place[/td]"]
[{"$nulls":20},"[/tr]"]
[{"$nulls":20},"[tr]"]
[{"$nulls":21},"[td]4. Texan[/td]"]
[{"$nulls":21},"[td]$1.87[/td]"]
[{"$nulls":21},"[td][/td]"]
[{"$nulls":21},"[td][/td]"]
[{"$nulls":20},"[/tr]"]
[{"$nulls":20},"[tr]"]
[{"$nulls":21},"[td]6. Roman Knows[/td]"]
[{"$nulls":21},"[td]$4.75[/td]"]
[{"$nulls":21},"[td][/td]"]
[{"$nulls":21},"[td][/td]"]
[{"$nulls":20},"[/tr]"]
[{"$nulls":20},"[tr]"]
[{"$nulls":21},"[td]1. Raucous Laughter[/td]"]
[{"$nulls":21},"[td]$5.29[/td]"]
[{"$nulls":21},"[td][/td]"]
[{"$nulls":21},"[td][/td]"]
[{"$nulls":20},"[/tr]"]
[{"$nulls":20},"[tr]"]
[{"$nulls":21},"[td]7. Silver Trader[/td]"]
[{"$nulls":21},"[td]$7.68[/td]"]
[{"$nulls":21},"[td][/td]"]
[{"$nulls":21},"[td][/td]"]
[{"$nulls":20},"[/tr]"]
[{"$nulls":20},"[tr]"]
[{"$nulls":21},"[td]2. Babieca Noire[/td]"]
[{"$nulls":21},"[td]$8.91[/td]"]
[{"$nulls":21},"[td][/td]"]
[{"$nulls":21},"[td][/td]"]
[{"$nulls":20},"[/tr]"]
[{"$nulls":20},"[/table]"]
[]
[{"$nulls":20},"[table]"]
[{"$nulls":20},"[tr]"]
[{"$nulls":21},"[td][url=http://www.tabonline.com.au/2012/05/12/MR05.html]Caulfield   Race   5[/url][/td]"]
[{"$nulls":21},"[td][color=yellow]Barbara Booth Hcp[/color][/td]"]
[{"$nulls":21},"[td]$70000[/td]"]
[{"$nulls":21},"[td][color=lime]Open[/color][/td]"]
[{"$nulls":20},"[/tr]"]
[{"$nulls":20},"[tr]"]
[{"$nulls":21},"[td]No Horse[/td]"]
[{"$nulls":21},"[td]Rated Price[/td]"]
[{"$nulls":21},"[td]Win[/td]"]
[{"$nulls":21},"[td]Place[/td]"]
[{"$nulls":20},"[/tr]"]
[{"$nulls":20},"[tr]"]
[{"$nulls":21},"[td]5. Classy Chloe[/td]"]
[{"$nulls":21},"[td]$2.07[/td]"]
[{"$nulls":21},"[td][/td]"]
[{"$nulls":21},"[td][/td]"]
[{"$nulls":20},"[/tr]"]
[{"$nulls":20},"[tr]"]
[{"$nulls":21},"[td]2. Platelet[/td]"]
[{"$nulls":21},"[td]$3.46[/td]"]
[{"$nulls":21},"[td][/td]"]
[{"$nulls":21},"[td][/td]"]
[{"$nulls":20},"[/tr]"]
[{"$nulls":20},"[tr]"]
[{"$nulls":21},"[td]4. Stratigraphy[/td]"]
[{"$nulls":21},"[td]$4.39[/td]"]
[{"$nulls":21},"[td][/td]"]
[{"$nulls":21},"[td][/td]"]
[{"$nulls":20},"[/tr]"]
[{"$nulls":20},"[tr]"]
[{"$nulls":21},"[td]7. Eastward[/td]"]
[{"$nulls":21},"[td]$10.47[/td]"]
[{"$nulls":21},"[td][/td]"]
[{"$nulls":21},"[td][/td]"]
[{"$nulls":20},"[/tr]"]
[{"$nulls":20},"[tr]"]
[{"$nulls":21},"[td]11. You Tell Me[/td]"]
[{"$nulls":21},"[td]$12.18[/td]"]
[{"$nulls":21},"[td][/td]"]
[{"$nulls":21},"[td][/td]"]
[{"$nulls":20},"[/tr]"]
[{"$nulls":20},"[/table]"]
[]
[{"$nulls":20},"[table]"]
[{"$nulls":20},"[tr]"]
[{"$nulls":21},"[td][url=http://www.tabonline.com.au/2012/05/12/MR06.html]Caulfield   Race   6[/url][/td]"]
[{"$nulls":21},"[td][color=yellow]Manfred Philipps Hcp[/color][/td]"]
[{"$nulls":21},"[td]$70000[/td]"]
[{"$nulls":21},"[td][color=lime]Open[/color][/td]"]
[{"$nulls":20},"[/tr]"]
[{"$nulls":20},"[tr]"]
[{"$nulls":21},"[td]No Horse[/td]"]
[{"$nulls":21},"[td]Rated Price[/td]"]
[{"$nulls":21},"[td]Win[/td]"]
[{"$nulls":21},"[td]Place[/td]"]
[{"$nulls":20},"[/tr]"]
[{"$nulls":20},"[tr]"]
[{"$nulls":21},"[td]7. Stratcombe[/td]"]
[{"$nulls":21},"[td]$1.85[/td]"]
[{"$nulls":21},"[td][/td]"]
[{"$nulls":21},"[td][/td]"]
[{"$nulls":20},"[/tr]"]
[{"$nulls":20},"[tr]"]
[{"$nulls":21},"[td]5. General Truce[/td]"]
[{"$nulls":21},"[td]$3.98[/td]"]
[{"$nulls":21},"[td][/td]"]
[{"$nulls":21},"[td][/td]"]
[{"$nulls":20},"[/tr]"]
[{"$nulls":20},"[tr]"]
[{"$nulls":21},"[td]3. Shock Value[/td]"]
[{"$nulls":21},"[td]$6.21[/td]"]
[{"$nulls":21},"[td][/td]"]
[{"$nulls":21},"[td][/td]"]
[{"$nulls":20},"[/tr]"]
[{"$nulls":20},"[tr]"]
[{"$nulls":21},"[td]2. Secret Flyer[/td]"]
[{"$nulls":21},"[td]$8.22[/td]"]
[{"$nulls":21},"[td][/td]"]
[{"$nulls":21},"[td][/td]"]
[{"$nulls":20},"[/tr]"]
[{"$nulls":20},"[tr]"]
[{"$nulls":21},"[td]6. Tramuntana[/td]"]
[{"$nulls":21},"[td]$9.68[/td]"]
[{"$nulls":21},"[td][/td]"]
[{"$nulls":21},"[td][/td]"]
[{"$nulls":20},"[/tr]"]
[{"$nulls":20},"[/table]"]
[]
[{"$nulls":20},"[table]"]
[{"$nulls":20},"[tr]"]
[{"$nulls":21},"[td][url=http://www.tabonline.com.au/2012/05/12/MR07.html]Caulfield   Race   7[/url][/td]"]
[{"$nulls":21},"[td][color=yellow]Gail Jackson Hcp[/color][/td]"]
[{"$nulls":21},"[td]$70000[/td]"]
[{"$nulls":21},"[td][color=lime]Open[/color][/td]"]
[{"$nulls":20},"[/tr]"]
[{"$nulls":20},"[tr]"]
[{"$nulls":21},"[td]No Horse[/td]"]
[{"$nulls":21},"[td]Rated Price[/td]"]
[{"$nulls":21},"[td]Win[/td]"]
[{"$nulls":21},"[td]Place[/td]"]
[{"$nulls":20},"[/tr]"]
[{"$nulls":20},"[tr]"]
[{"$nulls":21},"[td]1. Rue Maple[/td]"]
[{"$nulls":21},"[td]$2.27[/td]"]
[{"$nulls":21},"[td][/td]"]
[{"$nulls":21},"[td][/td]"]
[{"$nulls":20},"[/tr]"]
[{"$nulls":20},"[tr]"]
[{"$nulls":21},"[td]2. Theres Only One[/td]"]
[{"$nulls":21},"[td]$3.31[/td]"]
[{"$nulls":21},"[td][/td]"]
[{"$nulls":21},"[td][/td]"]
[{"$nulls":20},"[/tr]"]
[{"$nulls":20},"[tr]"]
[{"$nulls":21},"[td]9. Tariana[/td]"]
[{"$nulls":21},"[td]$5.42[/td]"]
[{"$nulls":21},"[td][/td]"]
[{"$nulls":21},"[td][/td]"]
[{"$nulls":20},"[/tr]"]
[{"$nulls":20},"[tr]"]
[{"$nulls":21},"[td]5. Miss Bindi[/td]"]
[{"$nulls":21},"[td]$8.06[/td]"]
[{"$nulls":21},"[td][/td]"]
[{"$nulls":21},"[td][/td]"]
[{"$nulls":20},"[/tr]"]
[{"$nulls":20},"[tr]"]
[{"$nulls":21},"[td]8. Silkstone Special[/td]"]
[{"$nulls":21},"[td]$8.06[/td]"]
[{"$nulls":21},"[td][/td]"]
[{"$nulls":21},"[td][/td]"]
[{"$nulls":20},"[/tr]"]
[{"$nulls":20},"[/table]"]
[]
[{"$nulls":20},"[table]"]
[{"$nulls":20},"[tr]"]
[{"$nulls":21},"[td][url=http://www.tabonline.com.au/2012/05/12/MR08.html]Caulfield   Race   8[/url][/td]"]
[{"$nulls":21},"[td][color=yellow]Barry Poynter Hcp[/color][/td]"]
[{"$nulls":21},"[td]$70000[/td]"]
[{"$nulls":21},"[td][color=lime]Open[/color][/td]"]
[{"$nulls":20},"[/tr]"]
[{"$nulls":20},"[tr]"]
[{"$nulls":21},"[td]No Horse[/td]"]
[{"$nulls":21},"[td]Rated Price[/td]"]
[{"$nulls":21},"[td]Win[/td]"]
[{"$nulls":21},"[td]Place[/td]"]
[{"$nulls":20},"[/tr]"]
[{"$nulls":20},"[tr]"]
[{"$nulls":21},"[td]4. Pago Rock[/td]"]
[{"$nulls":21},"[td]$2.43[/td]"]
[{"$nulls":21},"[td][/td]"]
[{"$nulls":21},"[td][/td]"]
[{"$nulls":20},"[/tr]"]
[{"$nulls":20},"[tr]"]
[{"$nulls":21},"[td]1. Under The Eiffel[/td]"]
[{"$nulls":21},"[td]$3.04[/td]"]
[{"$nulls":21},"[td][/td]"]
[{"$nulls":21},"[td][/td]"]
[{"$nulls":20},"[/tr]"]
[{"$nulls":20},"[tr]"]
[{"$nulls":21},"[td]2. Utah Saints[/td]"]
[{"$nulls":21},"[td]$3.44[/td]"]
[{"$nulls":21},"[td][/td]"]
[{"$nulls":21},"[td][/td]"]
[{"$nulls":20},"[/tr]"]
[{"$nulls":20},"[tr]"]
[{"$nulls":21},"[td]5. Faster Son[/td]"]
[{"$nulls":21},"[td]$10.21[/td]"]
[{"$nulls":21},"[td][/td]"]
[{"$nulls":21},"[td][/td]"]
[{"$nulls":20},"[/tr]"]
[{"$nulls":20},"[tr]"]
[{"$nulls":21},"[td]6. Gold Sand[/td]"]
[{"$nulls":21},"[td]$20.93[/td]"]
[{"$nulls":21},"[td][/td]"]
[{"$nulls":21},"[td][/td]"]
[{"$nulls":20},"[/tr]"]
[{"$nulls":20},"[/table]"]
[]
[{"$nulls":20},"[table]"]
[{"$nulls":20},"[tr]"]
[{"$nulls":21},"[td][url=http://www.tabonline.com.au/2012/05/12/BR05.html]Doomben   Race   5[/url][/td]"]
[{"$nulls":21},"[td][color=yellow]Boq Albany Crk Chairman's Hcp[/color][/td]"]
[{"$nulls":21},"[td]$116100[/td]"]
[{"$nulls":21},"[td][color=lime]G3[/color][/td]"]
[{"$nulls":20},"[/tr]"]
[{"$nulls":20},"[tr]"]
[{"$nulls":21},"[td]No Horse[/td]"]
[{"$nulls":21},"[td]Rated Price[/td]"]
[{"$nulls":21},"[td]Win[/td]"]
[{"$nulls":21},"[td]Place[/td]"]
[{"$nulls":20},"[/tr]"]
[{"$nulls":20},"[tr]"]
[{"$nulls":21},"[td]10. Streets Away[/td]"]
[{"$nulls":21},"[td]$2.35[/td]"]
[{"$nulls":21},"[td][/td]"]
[{"$nulls":21},"[td][/td]"]
[{"$nulls":20},"[/tr]"]
[{"$nulls":20},"[tr]"]
[{"$nulls":21},"[td]4. Spechenka[/td]"]
[{"$nulls":21},"[td]$4.47[/td]"]
[{"$nulls":21},"[td][/td]"]
[{"$nulls":21},"[td][/td]"]
[{"$nulls":20},"[/tr]"]
[{"$nulls":20},"[tr]"]
[{"$nulls":21},"[td]7. Rundle[/td]"]
[{"$nulls":21},"[td]$4.47[/td]"]
[{"$nulls":21},"[td][/td]"]
[{"$nulls":21},"[td][/td]"]
[{"$nulls":20},"[/tr]"]
[{"$nulls":20},"[tr]"]
[{"$nulls":21},"[td]1. Six Oclock News[/td]"]
[{"$nulls":21},"[td]$5.74[/td]"]
[{"$nulls":21},"[td][/td]"]
[{"$nulls":21},"[td][/td]"]
[{"$nulls":20},"[/tr]"]
[{"$nulls":20},"[tr]"]
[{"$nulls":21},"[td]3. Shuffle the Cash[/td]"]
[{"$nulls":21},"[td]$7.76[/td]"]
[{"$nulls":21},"[td][/td]"]
[{"$nulls":21},"[td][/td]"]
[{"$nulls":20},"[/tr]"]
[{"$nulls":20},"[/table]"]
[]
[{"$nulls":20},"[table]"]
[{"$nulls":20},"[tr]"]
[{"$nulls":21},"[td][url=http://www.tabonline.com.au/2012/05/12/BR06.html]Doomben   Race   6[/url][/td]"]
[{"$nulls":21},"[td][color=yellow]Mittys Rough Habit Plate[/color][/td]"]
[{"$nulls":21},"[td]$126100[/td]"]
[{"$nulls":21},"[td][color=lime]G3[/color][/td]"]
[{"$nulls":20},"[/tr]"]
[{"$nulls":20},"[tr]"]
[{"$nulls":21},"[td]No Horse[/td]"]
[{"$nulls":21},"[td]Rated Price[/td]"]
[{"$nulls":21},"[td]Win[/td]"]
[{"$nulls":21},"[td]Place[/td]"]
[{"$nulls":20},"[/tr]"]
[{"$nulls":20},"[tr]"]
[{"$nulls":21},"[td]2. Trump[/td]"]
[{"$nulls":21},"[td]$2.03[/td]"]
[{"$nulls":21},"[td][/td]"]
[{"$nulls":21},"[td][/td]"]
[{"$nulls":20},"[/tr]"]
[{"$nulls":20},"[tr]"]
[{"$nulls":21},"[td]1. Isopach[/td]"]
[{"$nulls":21},"[td]$3.72[/td]"]
[{"$nulls":21},"[td][/td]"]
[{"$nulls":21},"[td][/td]"]
[{"$nulls":20},"[/tr]"]
[{"$nulls":20},"[tr]"]
[{"$nulls":21},"[td]4. Brambles[/td]"]
[{"$nulls":21},"[td]$5.30[/td]"]
[{"$nulls":21},"[td][/td]"]
[{"$nulls":21},"[td][/td]"]
[{"$nulls":20},"[/tr]"]
[{"$nulls":20},"[tr]"]
[{"$nulls":21},"[td]5. Margins[/td]"]
[{"$nulls":21},"[td]$7.36[/td]"]
[{"$nulls":21},"[td][/td]"]
[{"$nulls":21},"[td][/td]"]
[{"$nulls":20},"[/tr]"]
[{"$nulls":20},"[tr]"]
[{"$nulls":21},"[td]3. Peppered Black[/td]"]
[{"$nulls":21},"[td]$11.11[/td]"]
[{"$nulls":21},"[td][/td]"]
[{"$nulls":21},"[td][/td]"]
[{"$nulls":20},"[/tr]"]
[{"$nulls":20},"[/table]"]
[]
[{"$nulls":20},"[table]"]
[{"$nulls":20},"[tr]"]
[{"$nulls":21},"[td][url=http://www.tabonline.com.au/2012/05/12/BR07.html]Doomben   Race   7[/url][/td]"]
[{"$nulls":21},"[td][color=yellow]Bundaberg Dist. Co. B T C Cup[/color][/td]"]
[{"$nulls":21},"[td]$405500[/td]"]
[{"$nulls":21},"[td][color=lime]G1[/color][/td]"]
[{"$nulls":20},"[/tr]"]
[{"$nulls":20},"[tr]"]
[{"$nulls":21},"[td]No Horse[/td]"]
[{"$nulls":21},"[td]Rated Price[/td]"]
[{"$nulls":21},"[td]Win[/td]"]
[{"$nulls":21},"[td]Place[/td]"]
[{"$nulls":20},"[/tr]"]
[{"$nulls":20},"[tr]"]
[{"$nulls":21},"[td]11. Beaded[/td]"]
[{"$nulls":21},"[td]$2.30[/td]"]
[{"$nulls":21},"[td][/td]"]
[{"$nulls":21},"[td][/td]"]
[{"$nulls":20},"[/tr]"]
[{"$nulls":20},"[tr]"]
[{"$nulls":21},"[td]6. Neeson[/td]"]
[{"$nulls":21},"[td]$3.85[/td]"]
[{"$nulls":21},"[td][/td]"]
[{"$nulls":21},"[td][/td]"]
[{"$nulls":20},"[/tr]"]
[{"$nulls":20},"[tr]"]
[{"$nulls":21},"[td]15. Sea Siren[/td]"]
[{"$nulls":21},"[td]$4.21[/td]"]
[{"$nulls":21},"[td][/td]"]
[{"$nulls":21},"[td][/td]"]
[{"$nulls":20},"[/tr]"]
[{"$nulls":20},"[tr]"]
[{"$nulls":21},"[td]2. Scenic Blast[/td]"]
[{"$nulls":21},"[td]$8.19[/td]"]
[{"$nulls":21},"[td][/td]"]
[{"$nulls":21},"[td][/td]"]
[{"$nulls":20},"[/tr]"]
[{"$nulls":20},"[tr]"]
[{"$nulls":21},"[td]4. Temple Of Boom[/td]"]
[{"$nulls":21},"[td]$8.19[/td]"]
[{"$nulls":21},"[td][/td]"]
[{"$nulls":21},"[td][/td]"]
[{"$nulls":20},"[/tr]"]
[{"$nulls":20},"[/table]"]
[]
[{"$nulls":20},"[table]"]
[{"$nulls":20},"[tr]"]
[{"$nulls":21},"[td][url=http://www.tabonline.com.au/2012/05/12/BR08.html]Doomben   Race   8[/url][/td]"]
[{"$nulls":21},"[td][color=yellow]Easy Pools Plate (C6)[/color][/td]"]
[{"$nulls":21},"[td]$50000[/td]"]
[{"$nulls":21},"[td][color=lime]Class 6[/color][/td]"]
[{"$nulls":20},"[/tr]"]
[{"$nulls":20},"[tr]"]
[{"$nulls":21},"[td]No Horse[/td]"]
[{"$nulls":21},"[td]Rated Price[/td]"]
[{"$nulls":21},"[td]Win[/td]"]
[{"$nulls":21},"[td]Place[/td]"]
[{"$nulls":20},"[/tr]"]
[{"$nulls":20},"[tr]"]
[{"$nulls":21},"[td]7. Oak Street[/td]"]
[{"$nulls":21},"[td]$2.91[/td]"]
[{"$nulls":21},"[td][/td]"]
[{"$nulls":21},"[td][/td]"]
[{"$nulls":20},"[/tr]"]
[{"$nulls":20},"[tr]"]
[{"$nulls":21},"[td]15. Mossriver[/td]"]
[{"$nulls":21},"[td]$3.10[/td]"]
[{"$nulls":21},"[td][/td]"]
[{"$nulls":21},"[td][/td]"]
[{"$nulls":20},"[/tr]"]
[{"$nulls":20},"[tr]"]
[{"$nulls":21},"[td]3. Solzhenitsyn[/td]"]
[{"$nulls":21},"[td]$4.13[/td]"]
[{"$nulls":21},"[td][/td]"]
[{"$nulls":21},"[td][/td]"]
[{"$nulls":20},"[/tr]"]
[{"$nulls":20},"[tr]"]
[{"$nulls":21},"[td]10. Moneysaver[/td]"]
[{"$nulls":21},"[td]$5.84[/td]"]
[{"$nulls":21},"[td][/td]"]
[{"$nulls":21},"[td][/td]"]
[{"$nulls":20},"[/tr]"]
[{"$nulls":20},"[tr]"]
[{"$nulls":21},"[td]13. Viva Las[/td]"]
[{"$nulls":21},"[td]$10.36[/td]"]
[{"$nulls":21},"[td][/td]"]
[{"$nulls":21},"[td][/td]"]
[{"$nulls":20},"[/tr]"]
[{"$nulls":20},"[/table]"]
[]
[{"$nulls":20},"[table]"]
[{"$nulls":20},"[tr]"]
[{"$nulls":21},"[td][url=http://www.tabonline.com.au/2012/05/12/AR05.html]Morphettville   Race   5[/url][/td]"]
[{"$nulls":21},"[td][color=yellow]Darley Laelia Stakes[/color][/td]"]
[{"$nulls":21},"[td]$100400[/td]"]
[{"$nulls":21},"[td][color=lime]LR[/color][/td]"]
[{"$nulls":20},"[/tr]"]
[{"$nulls":20},"[tr]"]
[{"$nulls":21},"[td]No Horse[/td]"]
[{"$nulls":21},"[td]Rated Price[/td]"]
[{"$nulls":21},"[td]Win[/td]"]
[{"$nulls":21},"[td]Place[/td]"]
[{"$nulls":20},"[/tr]"]
[{"$nulls":20},"[tr]"]
[{"$nulls":21},"[td]2. Lucky Penny[/td]"]
[{"$nulls":21},"[td]$2.98[/td]"]
[{"$nulls":21},"[td][/td]"]
[{"$nulls":21},"[td][/td]"]
[{"$nulls":20},"[/tr]"]
[{"$nulls":20},"[tr]"]
[{"$nulls":21},"[td]5. Kasumi[/td]"]
[{"$nulls":21},"[td]$4.29[/td]"]
[{"$nulls":21},"[td][/td]"]
[{"$nulls":21},"[td][/td]"]
[{"$nulls":20},"[/tr]"]
[{"$nulls":20},"[tr]"]
[{"$nulls":21},"[td]7. Comearoundsundown[/td]"]
[{"$nulls":21},"[td]$4.29[/td]"]
[{"$nulls":21},"[td][/td]"]
[{"$nulls":21},"[td][/td]"]
[{"$nulls":20},"[/tr]"]
[{"$nulls":20},"[tr]"]
[{"$nulls":21},"[td]3. Rahveel[/td]"]
[{"$nulls":21},"[td]$5.09[/td]"]
[{"$nulls":21},"[td][/td]"]
[{"$nulls":21},"[td][/td]"]
[{"$nulls":20},"[/tr]"]
[{"$nulls":20},"[tr]"]
[{"$nulls":21},"[td]1. Tai Tai Tess[/td]"]
[{"$nulls":21},"[td]$5.59[/td]"]
[{"$nulls":21},"[td][/td]"]
[{"$nulls":21},"[td][/td]"]
[{"$nulls":20},"[/tr]"]
[{"$nulls":20},"[/table]"]
[]
[{"$nulls":20},"[table]"]
[{"$nulls":20},"[tr]"]
[{"$nulls":21},"[td][url=http://www.tabonline.com.au/2012/05/12/AR06.html]Morphettville   Race   6[/url][/td]"]
[{"$nulls":21},"[td][color=yellow]R A Lee Stakes[/color][/td]"]
[{"$nulls":21},"[td]$150400[/td]"]
[{"$nulls":21},"[td][color=lime]G3[/color][/td]"]
[{"$nulls":20},"[/tr]"]
[{"$nulls":20},"[tr]"]
[{"$nulls":21},"[td]No Horse[/td]"]
[{"$nulls":21},"[td]Rated Price[/td]"]
[{"$nulls":21},"[td]Win[/td]"]
[{"$nulls":21},"[td]Place[/td]"]
[{"$nulls":20},"[/tr]"]
[{"$nulls":20},"[tr]"]
[{"$nulls":21},"[td]2. Testa My Patience[/td]"]
[{"$nulls":21},"[td]$3.50[/td]"]
[{"$nulls":21},"[td][/td]"]
[{"$nulls":21},"[td][/td]"]
[{"$nulls":20},"[/tr]"]
[{"$nulls":20},"[tr]"]
[{"$nulls":21},"[td]3. Bagman[/td]"]
[{"$nulls":21},"[td]$3.50[/td]"]
[{"$nulls":21},"[td][/td]"]
[{"$nulls":21},"[td][/td]"]
[{"$nulls":20},"[/tr]"]
[{"$nulls":20},"[tr]"]
[{"$nulls":21},"[td]7. Seville[/td]"]
[{"$nulls":21},"[td]$4.38[/td]"]
[{"$nulls":21},"[td][/td]"]
[{"$nulls":21},"[td][/td]"]
[{"$nulls":20},"[/tr]"]
[{"$nulls":20},"[tr]"]
[{"$nulls":21},"[td]1. Linton[/td]"]
[{"$nulls":21},"[td]$4.97[/td]"]
[{"$nulls":21},"[td][/td]"]
[{"$nulls":21},"[td][/td]"]
[{"$nulls":20},"[/tr]"]
[{"$nulls":20},"[tr]"]
[{"$nulls":21},"[td]6. Hawks Bay[/td]"]
[{"$nulls":21},"[td]$5.71[/td]"]
[{"$nulls":21},"[td][/td]"]
[{"$nulls":21},"[td][/td]"]
[{"$nulls":20},"[/tr]"]
[{"$nulls":20},"[/table]"]
[]
[{"$nulls":20},"[table]"]
[{"$nulls":20},"[tr]"]
[{"$nulls":21},"[td][url=http://www.tabonline.com.au/2012/05/12/AR07.html]Morphettville   Race   7[/url][/td]"]
[{"$nulls":21},"[td][color=yellow]The Distinctive Homes Goodwood[/color][/td]"]
[{"$nulls":21},"[td]$500500[/td]"]
[{"$nulls":21},"[td][color=lime]G1[/color][/td]"]
[{"$nulls":20},"[/tr]"]
[{"$nulls":20},"[tr]"]
[{"$nulls":21},"[td]No Horse[/td]"]
[{"$nulls":21},"[td]Rated Price[/td]"]
[{"$nulls":21},"[td]Win[/td]"]
[{"$nulls":21},"[td]Place[/td]"]
[{"$nulls":20},"[/tr]"]
[{"$nulls":20},"[tr]"]
[{"$nulls":21},"[td]1. Black Caviar[/td]"]
[{"$nulls":21},"[td]$1.43[/td]"]
[{"$nulls":21},"[td][/td]"]
[{"$nulls":21},"[td][/td]"]
[{"$nulls":20},"[/tr]"]
[{"$nulls":20},"[tr]"]
[{"$nulls":21},"[td]6. Go The Knuckle[/td]"]
[{"$nulls":21},"[td]$5.61[/td]"]
[{"$nulls":21},"[td][/td]"]
[{"$nulls":21},"[td][/td]"]
[{"$nulls":20},"[/tr]"]
[{"$nulls":20},"[tr]"]
[{"$nulls":21},"[td]3. Outlandish Lad[/td]"]
[{"$nulls":21},"[td]$7.19[/td]"]
[{"$nulls":21},"[td][/td]"]
[{"$nulls":21},"[td][/td]"]
[{"$nulls":20},"[/tr]"]
[{"$nulls":20},"[tr]"]
[{"$nulls":21},"[td]4. Were Gonna Rock[/td]"]
[{"$nulls":21},"[td]$11.44[/td]"]
[{"$nulls":21},"[td][/td]"]
[{"$nulls":21},"[td][/td]"]
[{"$nulls":20},"[/tr]"]
[{"$nulls":20},"[tr]"]
[{"$nulls":21},"[td]2. Catapulted[/td]"]
[{"$nulls":21},"[td]$13.87[/td]"]
[{"$nulls":21},"[td][/td]"]
[{"$nulls":21},"[td][/td]"]
[{"$nulls":20},"[/tr]"]
[{"$nulls":20},"[/table]"]
[]
[{"$nulls":20},"[table]"]
[{"$nulls":20},"[tr]"]
[{"$nulls":21},"[td][url=http://www.tabonline.com.au/2012/05/12/AR08.html]Morphettville   Race   8[/url][/td]"]
[{"$nulls":21},"[td][color=yellow]Centrebet Proud Miss Stks[/color][/td]"]
[{"$nulls":21},"[td]$100400[/td]"]
[{"$nulls":21},"[td][color=lime]LR[/color][/td]"]
[{"$nulls":20},"[/tr]"]
[{"$nulls":20},"[tr]"]
[{"$nulls":21},"[td]No Horse[/td]"]
[{"$nulls":21},"[td]Rated Price[/td]"]
[{"$nulls":21},"[td]Win[/td]"]
[{"$nulls":21},"[td]Place[/td]"]
[{"$nulls":20},"[/tr]"]
[{"$nulls":20},"[tr]"]
[{"$nulls":21},"[td]2. Power Princess[/td]"]
[{"$nulls":21},"[td]$2.09[/td]"]
[{"$nulls":21},"[td][/td]"]
[{"$nulls":21},"[td][/td]"]
[{"$nulls":20},"[/tr]"]
[{"$nulls":20},"[tr]"]
[{"$nulls":21},"[td]10. Bonnie Mac[/td]"]
[{"$nulls":21},"[td]$4.37[/td]"]
[{"$nulls":21},"[td][/td]"]
[{"$nulls":21},"[td][/td]"]
[{"$nulls":20},"[/tr]"]
[{"$nulls":20},"[tr]"]
[{"$nulls":21},"[td]5. All Friared Up[/td]"]
[{"$nulls":21},"[td]$5.92[/td]"]
[{"$nulls":21},"[td][/td]"]
[{"$nulls":21},"[td][/td]"]
[{"$nulls":20},"[/tr]"]
[{"$nulls":20},"[tr]"]
[{"$nulls":21},"[td]1. Sistine Angel[/td]"]
[{"$nulls":21},"[td]$6.64[/td]"]
[{"$nulls":21},"[td][/td]"]
[{"$nulls":21},"[td][/td]"]
[{"$nulls":20},"[/tr]"]
[{"$nulls":20},"[tr]"]
[{"$nulls":21},"[td]14. Arctic Flight[/td]"]
[{"$nulls":21},"[td]$6.64[/td]"]
[{"$nulls":21},"[td][/td]"]
[{"$nulls":21},"[td][/td]"]
[{"$nulls":20},"[/tr]"]
[{"$nulls":20},"[/table]"]
[]
[{"$nulls":20},"[table]"]
[{"$nulls":20},"[tr]"]
[{"$nulls":21},"[td][url=http://www.tabonline.com.au/2012/05/12/SR05.html]Rosehill   Race   5[/url][/td]"]
[{"$nulls":21},"[td][color=yellow]Rotary International (Bm75)[/color][/td]"]
[{"$nulls":21},"[td]$70000[/td]"]
[{"$nulls":21},"[td][color=lime]Benchmark 75[/color][/td]"]
[{"$nulls":20},"[/tr]"]
[{"$nulls":20},"[tr]"]
[{"$nulls":21},"[td]No Horse[/td]"]
[{"$nulls":21},"[td]Rated Price[/td]"]
[{"$nulls":21},"[td]Win[/td]"]
[{"$nulls":21},"[td]Place[/td]"]
[{"$nulls":20},"[/tr]"]
[{"$nulls":20},"[tr]"]
[{"$nulls":21},"[td]9. Shamardani[/td]"]
[{"$nulls":21},"[td]$4.01[/td]"]
[{"$nulls":21},"[td][/td]"]
[{"$nulls":21},"[td][/td]"]
[{"$nulls":20},"[/tr]"]
[{"$nulls":20},"[tr]"]
[{"$nulls":21},"[td]1. Moriarty[/td]"]
[{"$nulls":21},"[td]$4.32[/td]"]
[{"$nulls":21},"[td][/td]"]
[{"$nulls":21},"[td][/td]"]
[{"$nulls":20},"[/tr]"]
[{"$nulls":20},"[tr]"]
[{"$nulls":21},"[td]5. Song Shan[/td]"]
[{"$nulls":21},"[td]$4.32[/td]"]
[{"$nulls":21},"[td][/td]"]
[{"$nulls":21},"[td][/td]"]
[{"$nulls":20},"[/tr]"]
[{"$nulls":20},"[tr]"]
[{"$nulls":21},"[td]6. Triple Six[/td]"]
[{"$nulls":21},"[td]$4.32[/td]"]
[{"$nulls":21},"[td][/td]"]
[{"$nulls":21},"[td][/td]"]
[{"$nulls":20},"[/tr]"]
[{"$nulls":20},"[tr]"]
[{"$nulls":21},"[td]11. Kwilas Law[/td]"]
[{"$nulls":21},"[td]$4.32[/td]"]
[{"$nulls":21},"[td][/td]"]
[{"$nulls":21},"[td][/td]"]
[{"$nulls":20},"[/tr]"]
[{"$nulls":20},"[/table]"]
[]
[{"$nulls":20},"[table]"]
[{"$nulls":20},"[tr]"]
[{"$nulls":21},"[td][url=http://www.tabonline.com.au/2012/05/12/SR06.html]Rosehill   Race   6[/url][/td]"]
[{"$nulls":21},"[td][color=yellow]Masterton Lord Mayor's Cup[/color][/td]"]
[{"$nulls":21},"[td]$100800[/td]"]
[{"$nulls":21},"[td][color=lime]LR[/color][/td]"]
[{"$nulls":20},"[/tr]"]
[{"$nulls":20},"[tr]"]
[{"$nulls":21},"[td]No Horse[/td]"]
[{"$nulls":21},"[td]Rated Price[/td]"]
[{"$nulls":21},"[td]Win[/td]"]
[{"$nulls":21},"[td]Place[/td]"]
[{"$nulls":20},"[/tr]"]
[{"$nulls":20},"[tr]"]
[{"$nulls":21},"[td]3. Skyerush[/td]"]
[{"$nulls":21},"[td]$2.15[/td]"]
[{"$nulls":21},"[td][/td]"]
[{"$nulls":21},"[td][/td]"]
[{"$nulls":20},"[/tr]"]
[{"$nulls":20},"[tr]"]
[{"$nulls":21},"[td]6. Wazn[/td]"]
[{"$nulls":21},"[td]$4.12[/td]"]
[{"$nulls":21},"[td][/td]"]
[{"$nulls":21},"[td][/td]"]
[{"$nulls":20},"[/tr]"]
[{"$nulls":20},"[tr]"]
[{"$nulls":21},"[td]4. Crafty Irna[/td]"]
[{"$nulls":21},"[td]$5.81[/td]"]
[{"$nulls":21},"[td][/td]"]
[{"$nulls":21},"[td][/td]"]
[{"$nulls":20},"[/tr]"]
[{"$nulls":20},"[tr]"]
[{"$nulls":21},"[td]2. The Verminator[/td]"]
[{"$nulls":21},"[td]$6.40[/td]"]
[{"$nulls":21},"[td][/td]"]
[{"$nulls":21},"[td][/td]"]
[{"$nulls":20},"[/tr]"]
[{"$nulls":20},"[tr]"]
[{"$nulls":21},"[td]1. Herculian Prince[/td]"]
[{"$nulls":21},"[td]$7.10[/td]"]
[{"$nulls":21},"[td][/td]"]
[{"$nulls":21},"[td][/td]"]
[{"$nulls":20},"[/tr]"]
[{"$nulls":20},"[/table]"]
[]
[{"$nulls":20},"[table]"]
[{"$nulls":20},"[tr]"]
[{"$nulls":21},"[td][url=http://www.tabonline.com.au/2012/05/12/SR07.html]Rosehill   Race   7[/url][/td]"]
[{"$nulls":21},"[td][color=yellow]Australian Rotary Health-Bm95[/color][/td]"]
[{"$nulls":21},"[td]$70000[/td]"]
[{"$nulls":21},"[td][color=lime]Benchmark 95[/color][/td]"]
[{"$nulls":20},"[/tr]"]
[{"$nulls":20},"[tr]"]
[{"$nulls":21},"[td]No Horse[/td]"]
[{"$nulls":21},"[td]Rated Price[/td]"]
[{"$nulls":21},"[td]Win[/td]"]
[{"$nulls":21},"[td]Place[/td]"]
[{"$nulls":20},"[/tr]"]
[{"$nulls":20},"[tr]"]
[{"$nulls":21},"[td]1. Kennys World[/td]"]
[{"$nulls":21},"[td]$3.14[/td]"]
[{"$nulls":21},"[td][/td]"]
[{"$nulls":21},"[td][/td]"]
[{"$nulls":20},"[/tr]"]
[{"$nulls":20},"[tr]"]
[{"$nulls":21},"[td]12. Falzzon[/td]"]
[{"$nulls":21},"[td]$3.14[/td]"]
[{"$nulls":21},"[td][/td]"]
[{"$nulls":21},"[td][/td]"]
[{"$nulls":20},"[/tr]"]
[{"$nulls":20},"[tr]"]
[{"$nulls":21},"[td]13. Do You Think[/td]"]
[{"$nulls":21},"[td]$3.94[/td]"]
[{"$nulls":21},"[td][/td]"]
[{"$nulls":21},"[td][/td]"]
[{"$nulls":20},"[/tr]"]
[{"$nulls":20},"[tr]"]
[{"$nulls":21},"[td]4. Sharp Princess[/td]"]
[{"$nulls":21},"[td]$6.99[/td]"]
[{"$nulls":21},"[td][/td]"]
[{"$nulls":21},"[td][/td]"]
[{"$nulls":20},"[/tr]"]
[{"$nulls":20},"[tr]"]
[{"$nulls":21},"[td]9. Glintz[/td]"]
[{"$nulls":21},"[td]$6.99[/td]"]
[{"$nulls":21},"[td][/td]"]
[{"$nulls":21},"[td][/td]"]
[{"$nulls":20},"[/tr]"]
[{"$nulls":20},"[/table]"]
[]
[{"$nulls":20},"[table]"]
[{"$nulls":20},"[tr]"]
[{"$nulls":21},"[td][url=http://www.tabonline.com.au/2012/05/12/SR08.html]Rosehill   Race   8[/url][/td]"]
[{"$nulls":21},"[td][color=yellow]Co-Ordinated Landscapes (Bm80)[/color][/td]"]
[{"$nulls":21},"[td]$70000[/td]"]
[{"$nulls":21},"[td][color=lime]Benchmark 80[/color][/td]"]
[{"$nulls":20},"[/tr]"]
[{"$nulls":20},"[tr]"]
[{"$nulls":21},"[td]No Horse[/td]"]
[{"$nulls":21},"[td]Rated Price[/td]"]
[{"$nulls":21},"[td]Win[/td]"]
[{"$nulls":21},"[td]Place[/td]"]
[{"$nulls":20},"[/tr]"]
[{"$nulls":20},"[tr]"]
[{"$nulls":21},"[td]11. Under The Sun[/td]"]
[{"$nulls":21},"[td]$2.56[/td]"]
[{"$nulls":21},"[td][/td]"]
[{"$nulls":21},"[td][/td]"]
[{"$nulls":20},"[/tr]"]
[{"$nulls":20},"[tr]"]
[{"$nulls":21},"[td]1. Circle Of Power[/td]"]
[{"$nulls":21},"[td]$3.58[/td]"]
[{"$nulls":21},"[td][/td]"]
[{"$nulls":21},"[td][/td]"]
[{"$nulls":20},"[/tr]"]
[{"$nulls":20},"[tr]"]
[{"$nulls":21},"[td]3. Thumbtacks[/td]"]
[{"$nulls":21},"[td]$4.37[/td]"]
[{"$nulls":21},"[td][/td]"]
[{"$nulls":21},"[td][/td]"]
[{"$nulls":20},"[/tr]"]
[{"$nulls":20},"[tr]"]
[{"$nulls":21},"[td]2. King Gladiator[/td]"]
[{"$nulls":21},"[td]$6.26[/td]"]
[{"$nulls":21},"[td][/td]"]
[{"$nulls":21},"[td][/td]"]
[{"$nulls":20},"[/tr]"]
[{"$nulls":20},"[tr]"]
[{"$nulls":21},"[td]4. Als Gold[/td]"]
[{"$nulls":21},"[td]$8.47[/td]"]
[{"$nulls":21},"[td][/td]"]
[{"$nulls":21},"[td][/td]"]
[{"$nulls":20},"[/tr]"]
[{"$nulls":20},"[/table]"]
[]
[{"$nulls":20},"[table]"]
[{"$nulls":20},"[tr]"]
[{"$nulls":21},"[td][url=http://www.tabonline.com.au/2012/05/12/PR06.html]Belmont Park   Race   6[/url][/td]"]
[{"$nulls":21},"[td][color=yellow]Vivid Group H.G. Bolton Sprint[/color][/td]"]
[{"$nulls":21},"[td]$80000[/td]"]
[{"$nulls":21},"[td][color=lime]LR[/color][/td]"]
[{"$nulls":20},"[/tr]"]
[{"$nulls":20},"[tr]"]
[{"$nulls":21},"[td]No Horse[/td]"]
[{"$nulls":21},"[td]Rated Price[/td]"]
[{"$nulls":21},"[td]Win[/td]"]
[{"$nulls":21},"[td]Place[/td]"]
[{"$nulls":20},"[/tr]"]
[{"$nulls":20},"[tr]"]
[{"$nulls":21},"[td]7. Our Ol Fella[/td]"]
[{"$nulls":21},"[td]$2.08[/td]"]
[{"$nulls":21},"[td][/td]"]
[{"$nulls":21},"[td][/td]"]
[{"$nulls":20},"[/tr]"]
[{"$nulls":20},"[tr]"]
[{"$nulls":21},"[td]5. Cavallo Pazzo[/td]"]
[{"$nulls":21},"[td]$4.01[/td]"]
[{"$nulls":21},"[td][/td]"]
[{"$nulls":21},"[td][/td]"]
[{"$nulls":20},"[/tr]"]
[{"$nulls":20},"[/table]"]
[]
[{"$nulls":20},"[table]"]
[{"$nulls":20},"[tr]"]
[{"$nulls":21},"[td][url=http://www.tabonline.com.au/2012/05/12/MR04.html]Caulfield   Race   4[/url][/td]"]
[{"$nulls":21},"[td][color=yellow]Gayle Shacklock Hcp[/color][/td]"]
[{"$nulls":21},"[td]$70000[/td]"]
[{"$nulls":21},"[td][color=lime]Open[/color][/td]"]
[{"$nulls":20},"[/tr]"]
[{"$nulls":20},"[tr]"]
[{"$nulls":21},"[td]No Horse[/td]"]
[{"$nulls":21},"[td]Rated Price[/td]"]
[{"$nulls":21},"[td]Win[/td]"]
[{"$nulls":21},"[td]Place[/td]"]
[{"$nulls":20},"[/tr]"]
[{"$nulls":20},"[tr]"]
[{"$nulls":21},"[td]3. Magnifique Soleil[/td]"]
[{"$nulls":21},"[td]$3.05[/td]"]
[{"$nulls":21},"[td][/td]"]
[{"$nulls":21},"[td][/td]"]
[{"$nulls":20},"[/tr]"]
[{"$nulls":20},"[tr]"]
[{"$nulls":21},"[td]4. Turnitup[/td]"]
[{"$nulls":21},"[td]$3.44[/td]"]
[{"$nulls":21},"[td][/td]"]
[{"$nulls":21},"[td][/td]"]
[{"$nulls":20},"[/tr]"]
[{"$nulls":20},"[/table]"]
[]
[{"$nulls":20},"[table]"]
[{"$nulls":20},"[tr]"]
[{"$nulls":21},"[td][url=http://www.tabonline.com.au/2012/05/12/MR06.html]Caulfield   Race   6[/url][/td]"]
[{"$nulls":21},"[td][color=yellow]Manfred Philipps Hcp[/color][/td]"]
[{"$nulls":21},"[td]$70000[/td]"]
[{"$nulls":21},"[td][color=lime]Open[/color][/td]"]
[{"$nulls":20},"[/tr]"]
[{"$nulls":20},"[tr]"]
[{"$nulls":21},"[td]No Horse[/td]"]
[{"$nulls":21},"[td]Rated Price[/td]"]
[{"$nulls":21},"[td]Win[/td]"]
[{"$nulls":21},"[td]Place[/td]"]
[{"$nulls":20},"[/tr]"]
[{"$nulls":20},"[tr]"]
[{"$nulls":21},"[td]7. Stratcombe[/td]"]
[{"$nulls":21},"[td]$1.85[/td]"]
[{"$nulls":21},"[td][/td]"]
[{"$nulls":21},"[td][/td]"]
[{"$nulls":20},"[/tr]"]
[{"$nulls":20},"[tr]"]
[{"$nulls":21},"[td]5. General Truce[/td]"]
[{"$nulls":21},"[td]$3.98[/td]"]
[{"$nulls":21},"[td][/td]"]
[{"$nulls":21},"[td][/td]"]
[{"$nulls":20},"[/tr]"]
[{"$nulls":20},"[/table]"]
[]
[{"$nulls":20},"[table]"]
[{"$nulls":20},"[tr]"]
[{"$nulls":21},"[td][url=http://www.tabonline.com.au/2012/05/12/MR08.html]Caulfield   Race   8[/url][/td]"]
[{"$nulls":21},"[td][color=yellow]Barry Poynter Hcp[/color][/td]"]
[{"$nulls":21},"[td]$70000[/td]"]
[{"$nulls":21},"[td][color=lime]Open[/color][/td]"]
[{"$nulls":20},"[/tr]"]
[{"$nulls":20},"[tr]"]
[{"$nulls":21},"[td]No Horse[/td]"]
[{"$nulls":21},"[td]Rated Price[/td]"]
[{"$nulls":21},"[td]Win[/td]"]
[{"$nulls":21},"[td]Place[/td]"]
[{"$nulls":20},"[/tr]"]
[{"$nulls":20},"[tr]"]
[{"$nulls":21},"[td]4. Pago Rock[/td]"]
[{"$nulls":21},"[td]$2.43[/td]"]
[{"$nulls":21},"[td][/td]"]
[{"$nulls":21},"[td][/td]"]
[{"$nulls":20},"[/tr]"]
[{"$nulls":20},"[tr]"]
[{"$nulls":21},"[td]1. Under The Eiffel[/td]"]
[{"$nulls":21},"[td]$3.04[/td]"]
[{"$nulls":21},"[td][/td]"]
[{"$nulls":21},"[td][/td]"]
[{"$nulls":20},"[/tr]"]
[{"$nulls":20},"[/table]"]
[]
[{"$nulls":20},"[table]"]
[{"$nulls":20},"[tr]"]
[{"$nulls":21},"[td][url=http://www.tabonline.com.au/2012/05/12/BR07.html]Doomben   Race   7[/url][/td]"]
[{"$nulls":21},"[td][color=yellow]Bundaberg Dist. Co. B T C Cup[/color][/td]"]
[{"$nulls":21},"[td]$405500[/td]"]
[{"$nulls":21},"[td][color=lime]G1[/color][/td]"]
[{"$nulls":20},"[/tr]"]
[{"$nulls":20},"[tr]"]
[{"$nulls":21},"[td]No Horse[/td]"]
[{"$nulls":21},"[td]Rated Price[/td]"]
[{"$nulls":21},"[td]Win[/td]"]
[{"$nulls":21},"[td]Place[/td]"]
[{"$nulls":20},"[/tr]"]
[{"$nulls":20},"[tr]"]
[{"$nulls":21},"[td]11. Beaded[/td]"]
[{"$nulls":21},"[td]$2.30[/td]"]
[{"$nulls":21},"[td][/td]"]
[{"$nulls":21},"[td][/td]"]
[{"$nulls":20},"[/tr]"]
[{"$nulls":20},"[tr]"]
[{"$nulls":21},"[td]6. Neeson[/td]"]
[{"$nulls":21},"[td]$3.85[/td]"]
[{"$nulls":21},"[td][/td]"]
[{"$nulls":21},"[td][/td]"]
[{"$nulls":20},"[/tr]"]
[{"$nulls":20},"[/table]"]
[]
[{"$nulls":20},"[table]"]
[{"$nulls":20},"[tr]"]
[{"$nulls":21},"[td][url=http://www.tabonline.com.au/2012/05/12/AR03.html]Morphettville   Race   3[/url][/td]"]
[{"$nulls":21},"[td][color=yellow]Veolia Port Adelaide Cup[/color][/td]"]
[{"$nulls":21},"[td]$100400[/td]"]
[{"$nulls":21},"[td][color=lime]LR[/color][/td]"]
[{"$nulls":20},"[/tr]"]
[{"$nulls":20},"[tr]"]
[{"$nulls":21},"[td]No Horse[/td]"]
[{"$nulls":21},"[td]Rated Price[/td]"]
[{"$nulls":21},"[td]Win[/td]"]
[{"$nulls":21},"[td]Place[/td]"]
[{"$nulls":20},"[/tr]"]
[{"$nulls":20},"[tr]"]
[{"$nulls":21},"[td]2. Finiguerra[/td]"]
[{"$nulls":21},"[td]$2.74[/td]"]
[{"$nulls":21},"[td][/td]"]
[{"$nulls":21},"[td][/td]"]
[{"$nulls":20},"[/tr]"]
[{"$nulls":20},"[tr]"]
[{"$nulls":21},"[td]3. My Ex Mate[/td]"]
[{"$nulls":21},"[td]$2.74[/td]"]
[{"$nulls":21},"[td][/td]"]
[{"$nulls":21},"[td][/td]"]
[{"$nulls":20},"[/tr]"]
[{"$nulls":20},"[/table]"]
[]
[{"$nulls":20},"[table]"]
[{"$nulls":20},"[tr]"]
[{"$nulls":21},"[td][url=http://www.tabonline.com.au/2012/05/12/AR06.html]Morphettville   Race   6[/url][/td]"]
[{"$nulls":21},"[td][color=yellow]R A Lee Stakes[/color][/td]"]
[{"$nulls":21},"[td]$150400[/td]"]
[{"$nulls":21},"[td][color=lime]G3[/color][/td]"]
[{"$nulls":20},"[/tr]"]
[{"$nulls":20},"[tr]"]
[{"$nulls":21},"[td]No Horse[/td]"]
[{"$nulls":21},"[td]Rated Price[/td]"]
[{"$nulls":21},"[td]Win[/td]"]
[{"$nulls":21},"[td]Place[/td]"]
[{"$nulls":20},"[/tr]"]
[{"$nulls":20},"[tr]"]
[{"$nulls":21},"[td]2. Testa My Patience[/td]"]
[{"$nulls":21},"[td]$3.50[/td]"]
[{"$nulls":21},"[td][/td]"]
[{"$nulls":21},"[td][/td]"]
[{"$nulls":20},"[/tr]"]
[{"$nulls":20},"[tr]"]
[{"$nulls":21},"[td]3. Bagman[/td]"]
[{"$nulls":21},"[td]$3.50[/td]"]
[{"$nulls":21},"[td][/td]"]
[{"$nulls":21},"[td][/td]"]
[{"$nulls":20},"[/tr]"]
[{"$nulls":20},"[/table]"]
[]
[{"$nulls":20},"[table]"]
[{"$nulls":20},"[tr]"]
[{"$nulls":21},"[td][url=http://www.tabonline.com.au/2012/05/12/SR06.html]Rosehill   Race   6[/url][/td]"]
[{"$nulls":21},"[td][color=yellow]Masterton Lord Mayor's Cup[/color][/td]"]
[{"$nulls":21},"[td]$100800[/td]"]
[{"$nulls":21},"[td][color=lime]LR[/color][/td]"]
[{"$nulls":20},"[/tr]"]
[{"$nulls":20},"[tr]"]
[{"$nulls":21},"[td]No Horse[/td]"]
[{"$nulls":21},"[td]Rated Price[/td]"]
[{"$nulls":21},"[td]Win[/td]"]
[{"$nulls":21},"[td]Place[/td]"]
[{"$nulls":20},"[/tr]"]
[{"$nulls":20},"[tr]"]
[{"$nulls":21},"[td]3. Skyerush[/td]"]
[{"$nulls":21},"[td]$2.15[/td]"]
[{"$nulls":21},"[td][/td]"]
[{"$nulls":21},"[td][/td]"]
[{"$nulls":20},"[/tr]"]
[{"$nulls":20},"[tr]"]
[{"$nulls":21},"[td]6. Wazn[/td]"]
[{"$nulls":21},"[td]$4.12[/td]"]
[{"$nulls":21},"[td][/td]"]
[{"$nulls":21},"[td][/td]"]
[{"$nulls":20},"[/tr]"]
[{"$nulls":20},"[/table]"]
[]
[{"$nulls":20},"[table]"]
[{"$nulls":20},"[tr]"]
[{"$nulls":21},"[td][url=http://www.tabonline.com.au/2012/05/13/VR07.html]Cranbourne   Race   7[/url][/td]"]
[{"$nulls":21},"[td][color=yellow]2012 TROA/Luxbet Winter Series[/color][/td]"]
[{"$nulls":21},"[td]$40000[/td]"]
[{"$nulls":21},"[td][color=lime]Open[/color][/td]"]
[{"$nulls":20},"[/tr]"]
[{"$nulls":20},"[tr]"]
[{"$nulls":21},"[td]No Horse[/td]"]
[{"$nulls":21},"[td]Rated Price[/td]"]
[{"$nulls":21},"[td]Win[/td]"]
[{"$nulls":21},"[td]Place[/td]"]
[{"$nulls":20},"[/tr]"]
[{"$nulls":20},"[tr]"]
[{"$nulls":21},"[td]1. Jungle Ruler[/td]"]
[{"$nulls":21},"[td]$3.34[/td]"]
[{"$nulls":21},"[td][/td]"]
[{"$nulls":21},"[td][/td]"]
[{"$nulls":20},"[/tr]"]
[{"$nulls":20},"[tr]"]
[{"$nulls":21},"[td]2. Lord Pyrus[/td]"]
[{"$nulls":21},"[td]$3.57[/td]"]
[{"$nulls":21},"[td][/td]"]
[{"$nulls":21},"[td][/td]"]
[{"$nulls":20},"[/tr]"]
[{"$nulls":20},"[/table]"]
[]
[{"$nulls":20},"[table]"]
[{"$nulls":20},"[tr]"]
[{"$nulls":21},"[td][url=http://www.tabonline.com.au/2012/05/13/QR07.html]Sunshine Cushion   Race   7[/url][/td]"]
[{"$nulls":21},"[td][color=yellow]Butler McDermott Lawyers (C5)[/color][/td]"]
[{"$nulls":21},"[td]$12000[/td]"]
[{"$nulls":21},"[td][color=lime]Class 5[/color][/td]"]
[{"$nulls":20},"[/tr]"]
[{"$nulls":20},"[tr]"]
[{"$nulls":21},"[td]No Horse[/td]"]
[{"$nulls":21},"[td]Rated Price[/td]"]
[{"$nulls":21},"[td]Win[/td]"]
[{"$nulls":21},"[td]Place[/td]"]
[{"$nulls":20},"[/tr]"]
[{"$nulls":20},"[tr]"]
[{"$nulls":21},"[td]1. Rhetoric[/td]"]
[{"$nulls":21},"[td]$2.96[/td]"]
[{"$nulls":21},"[td][/td]"]
[{"$nulls":21},"[td][/td]"]
[{"$nulls":20},"[/tr]"]
[{"$nulls":20},"[tr]"]
[{"$nulls":21},"[td]6. Neros Fire[/td]"]
[{"$nulls":21},"[td]$3.40[/td]"]
[{"$nulls":21},"[td][/td]"]
[{"$nulls":21},"[td][/td]"]
[{"$nulls":20},"[/tr]"]
[{"$nulls":20},"[/table]"]
[]
[{"$nulls":20},"[table]"]
[{"$nulls":20},"[tr]"]
[{"$nulls":21},"[td][url=http://www.tabonline.com.au/2012/05/13/ER07.html]Donald   Race   7[/url][/td]"]
[{"$nulls":21},"[td][color=yellow]Welcome Centrebet (Bm72)[/color][/td]"]
[{"$nulls":21},"[td]$17500[/td]"]
[{"$nulls":21},"[td][color=lime]Benchmark 72[/color][/td]"]
[{"$nulls":20},"[/tr]"]
[{"$nulls":20},"[tr]"]
[{"$nulls":21},"[td]No Horse[/td]"]
[{"$nulls":21},"[td]Rated Price[/td]"]
[{"$nulls":21},"[td]Win[/td]"]
[{"$nulls":21},"[td]Place[/td]"]
[{"$nulls":20},"[/tr]"]
[{"$nulls":20},"[tr]"]
[{"$nulls":21},"[td]4. Glenisla Crossing[/td]"]
[{"$nulls":21},"[td]$2.23[/td]"]
[{"$nulls":21},"[td][/td]"]
[{"$nulls":21},"[td][/td]"]
[{"$nulls":20},"[/tr]"]
[{"$nulls":20},"[tr]"]
[{"$nulls":21},"[td]2. Ebony Rock[/td]"]
[{"$nulls":21},"[td]$2.68[/td]"]
[{"$nulls":21},"[td][/td]"]
[{"$nulls":21},"[td][/td]"]
[{"$nulls":20},"[/tr]"]
[{"$nulls":20},"[/table]"]
[]
[{"$nulls":20},"[table]"]
[{"$nulls":20},"[tr]"]
[{"$nulls":21},"[td][url=http://www.tabonline.com.au/2012/05/13/NR07.html]Gunnedah   Race   7[/url][/td]"]
[{"$nulls":21},"[td][color=yellow]Prydes Easifeed Gunnedah Cup[/color][/td]"]
[{"$nulls":21},"[td]$20000[/td]"]
[{"$nulls":21},"[td][color=lime]Open[/color][/td]"]
[{"$nulls":20},"[/tr]"]
[{"$nulls":20},"[tr]"]
[{"$nulls":21},"[td]No Horse[/td]"]
[{"$nulls":21},"[td]Rated Price[/td]"]
[{"$nulls":21},"[td]Win[/td]"]
[{"$nulls":21},"[td]Place[/td]"]
[{"$nulls":20},"[/tr]"]
[{"$nulls":20},"[tr]"]
[{"$nulls":21},"[td]6. Quindelop[/td]"]
[{"$nulls":21},"[td]$2.65[/td]"]
[{"$nulls":21},"[td][/td]"]
[{"$nulls":21},"[td][/td]"]
[{"$nulls":20},"[/tr]"]
[{"$nulls":20},"[tr]"]
[{"$nulls":21},"[td]2. Prior Baron[/td]"]
[{"$nulls":21},"[td]$4.41[/td]"]
[{"$nulls":21},"[td][/td]"]
[{"$nulls":21},"[td][/td]"]
[{"$nulls":20},"[/tr]"]
[{"$nulls":20},"[/table]"]
[]
[{"$nulls":20},"[table]"]
[{"$nulls":20},"[tr]"]
[{"$nulls":21},"[td][url=http://www.tabonline.com.au/2012/05/13/AR05.html]Port Augusta   Race   5[/url][/td]"]
[{"$nulls":21},"[td][color=yellow]Robert McKenzie Mem. Hcp (68)[/color][/td]"]
[{"$nulls":21},"[td]$8000[/td]"]
[{"$nulls":21},"[td][color=lime]Restricted 68[/color][/td]"]
[{"$nulls":20},"[/tr]"]
[{"$nulls":20},"[tr]"]
[{"$nulls":21},"[td]No Horse[/td]"]
[{"$nulls":21},"[td]Rated Price[/td]"]
[{"$nulls":21},"[td]Win[/td]"]
[{"$nulls":21},"[td]Place[/td]"]
[{"$nulls":20},"[/tr]"]
[{"$nulls":20},"[tr]"]
[{"$nulls":21},"[td]7. Out Do Me[/td]"]
[{"$nulls":21},"[td]$2.97[/td]"]
[{"$nulls":21},"[td][/td]"]
[{"$nulls":21},"[td][/td]"]
[{"$nulls":20},"[/tr]"]
[{"$nulls":20},"[tr]"]
[{"$nulls":21},"[td]4. Mukarrar[/td]"]
[{"$nulls":21},"[td]$3.76[/td]"]
[{"$nulls":21},"[td][/td]"]
[{"$nulls":21},"[td][/td]"]
[{"$nulls":20},"[/tr]"]
[{"$nulls":20},"[/table]"]
[]
[{"$nulls":20},"[table]"]
[{"$nulls":20},"[tr]"]
[{"$nulls":21},"[td][url=http://www.tabonline.com.au/2012/05/13/CR03.html]Queanbeyan   Race   3[/url][/td]"]
[{"$nulls":21},"[td][color=yellow]Sky Racing Gold Hcp[/color][/td]"]
[{"$nulls":21},"[td]$25000[/td]"]
[{"$nulls":21},"[td][color=lime]Open[/color][/td]"]
[{"$nulls":20},"[/tr]"]
[{"$nulls":20},"[tr]"]
[{"$nulls":21},"[td]No Horse[/td]"]
[{"$nulls":21},"[td]Rated Price[/td]"]
[{"$nulls":21},"[td]Win[/td]"]
[{"$nulls":21},"[td]Place[/td]"]
[{"$nulls":20},"[/tr]"]
[{"$nulls":20},"[tr]"]
[{"$nulls":21},"[td]4. Quichang[/td]"]
[{"$nulls":21},"[td]$2.55[/td]"]
[{"$nulls":21},"[td][/td]"]
[{"$nulls":21},"[td][/td]"]
[{"$nulls":20},"[/tr]"]
[{"$nulls":20},"[tr]"]
[{"$nulls":21},"[td]1. Beyond Expectation[/td]"]
[{"$nulls":21},"[td]$3.28[/td]"]
[{"$nulls":21},"[td][/td]"]
[{"$nulls":21},"[td][/td]"]
[{"$nulls":20},"[/tr]"]
[{"$nulls":20},"[/table]"]
[]
[{"$nulls":20},"[table]"]
[{"$nulls":20},"[tr]"]
[{"$nulls":21},"[td][url=http://www.tabonline.com.au/2012/05/13/VR06.html]Cranbourne   Race   6[/url][/td]"]
[{"$nulls":21},"[td][color=yellow]Highview Accounting Serv. (68)[/color][/td]"]
[{"$nulls":21},"[td]$15000[/td]"]
[{"$nulls":21},"[td][color=lime]Restricted 68[/color][/td]"]
[{"$nulls":20},"[/tr]"]
[{"$nulls":20},"[tr]"]
[{"$nulls":21},"[td]No Horse[/td]"]
[{"$nulls":21},"[td]Rated Price[/td]"]
[{"$nulls":21},"[td]Win[/td]"]
[{"$nulls":21},"[td]Place[/td]"]
[{"$nulls":20},"[/tr]"]
[{"$nulls":20},"[tr]"]
[{"$nulls":21},"[td]5. The Red Emperor[/td]"]
[{"$nulls":21},"[td]$2.15[/td]"]
[{"$nulls":21},"[td][/td]"]
[{"$nulls":21},"[td][/td]"]
[{"$nulls":20},"[/tr]"]
[{"$nulls":20},"[tr]"]
[{"$nulls":21},"[td]2. Mosseltov[/td]"]
[{"$nulls":21},"[td]$2.44[/td]"]
[{"$nulls":21},"[td][/td]"]
[{"$nulls":21},"[td][/td]"]
[{"$nulls":20},"[/tr]"]
[{"$nulls":20},"[tr]"]
[{"$nulls":21},"[td]3. Escape Artist[/td]"]
[{"$nulls":21},"[td]$8.21[/td]"]
[{"$nulls":21},"[td][/td]"]
[{"$nulls":21},"[td][/td]"]
[{"$nulls":20},"[/tr]"]
[{"$nulls":20},"[tr]"]
[{"$nulls":21},"[td]7. Strategic Impact[/td]"]
[{"$nulls":21},"[td]$9.52[/td]"]
[{"$nulls":21},"[td][/td]"]
[{"$nulls":21},"[td][/td]"]
[{"$nulls":20},"[/tr]"]
[{"$nulls":20},"[tr]"]
[{"$nulls":21},"[td]10. Phantom Flight[/td]"]
[{"$nulls":21},"[td]$13.49[/td]"]
[{"$nulls":21},"[td][/td]"]
[{"$nulls":21},"[td][/td]"]
[{"$nulls":20},"[/tr]"]
[{"$nulls":20},"[/table]"]
[]
[{"$nulls":20},"[table]"]
[{"$nulls":20},"[tr]"]
[{"$nulls":21},"[td][url=http://www.tabonline.com.au/2012/05/13/VR07.html]Cranbourne   Race   7[/url][/td]"]
[{"$nulls":21},"[td][color=yellow]2012 TROA/Luxbet Winter Series[/color][/td]"]
[{"$nulls":21},"[td]$40000[/td]"]
[{"$nulls":21},"[td][color=lime]Open[/color][/td]"]
[{"$nulls":20},"[/tr]"]
[{"$nulls":20},"[tr]"]
[{"$nulls":21},"[td]No Horse[/td]"]
[{"$nulls":21},"[td]Rated Price[/td]"]
[{"$nulls":21},"[td]Win[/td]"]
[{"$nulls":21},"[td]Place[/td]"]
[{"$nulls":20},"[/tr]"]
[{"$nulls":20},"[tr]"]
[{"$nulls":21},"[td]1. Jungle Ruler[/td]"]
[{"$nulls":21},"[td]$3.34[/td]"]
[{"$nulls":21},"[td][/td]"]
[{"$nulls":21},"[td][/td]"]
[{"$nulls":20},"[/tr]"]
[{"$nulls":20},"[tr]"]
[{"$nulls":21},"[td]2. Lord Pyrus[/td]"]
[{"$nulls":21},"[td]$3.57[/td]"]
[{"$nulls":21},"[td][/td]"]
[{"$nulls":21},"[td][/td]"]
[{"$nulls":20},"[/tr]"]
[{"$nulls":20},"[tr]"]
[{"$nulls":21},"[td]3. Wealthy Lad[/td]"]
[{"$nulls":21},"[td]$4.11[/td]"]
[{"$nulls":21},"[td][/td]"]
[{"$nulls":21},"[td][/td]"]
[{"$nulls":20},"[/tr]"]
[{"$nulls":20},"[tr]"]
[{"$nulls":21},"[td]4. Sophrosyne[/td]"]
[{"$nulls":21},"[td]$4.80[/td]"]
[{"$nulls":21},"[td][/td]"]
[{"$nulls":21},"[td][/td]"]
[{"$nulls":20},"[/tr]"]
[{"$nulls":20},"[tr]"]
[{"$nulls":21},"[td]9. Signor Socks[/td]"]
[{"$nulls":21},"[td]$6.90[/td]"]
[{"$nulls":21},"[td][/td]"]
[{"$nulls":21},"[td][/td]"]
[{"$nulls":20},"[/tr]"]
[{"$nulls":20},"[/table]"]
[]
[{"$nulls":20},"[table]"]
[{"$nulls":20},"[tr]"]
[{"$nulls":21},"[td][url=http://www.tabonline.com.au/2012/05/13/VR08.html]Cranbourne   Race   8[/url][/td]"]
[{"$nulls":21},"[td][color=yellow]City Of Casey Hcp (62)[/color][/td]"]
[{"$nulls":21},"[td]$22500[/td]"]
[{"$nulls":21},"[td][color=lime]Restricted 62[/color][/td]"]
[{"$nulls":20},"[/tr]"]
[{"$nulls":20},"[tr]"]
[{"$nulls":21},"[td]No Horse[/td]"]
[{"$nulls":21},"[td]Rated Price[/td]"]
[{"$nulls":21},"[td]Win[/td]"]
[{"$nulls":21},"[td]Place[/td]"]
[{"$nulls":20},"[/tr]"]
[{"$nulls":20},"[tr]"]
[{"$nulls":21},"[td]2. Justice Fighter[/td]"]
[{"$nulls":21},"[td]$3.26[/td]"]
[{"$nulls":21},"[td][/td]"]
[{"$nulls":21},"[td][/td]"]
[{"$nulls":20},"[/tr]"]
[{"$nulls":20},"[tr]"]
[{"$nulls":21},"[td]10. Tricky Maid[/td]"]
[{"$nulls":21},"[td]$3.54[/td]"]
[{"$nulls":21},"[td][/td]"]
[{"$nulls":21},"[td][/td]"]
[{"$nulls":20},"[/tr]"]
[{"$nulls":20},"[tr]"]
[{"$nulls":21},"[td]16. Octavanus[/td]"]
[{"$nulls":21},"[td]$4.21[/td]"]
[{"$nulls":21},"[td][/td]"]
[{"$nulls":21},"[td][/td]"]
[{"$nulls":20},"[/tr]"]
[{"$nulls":20},"[tr]"]
[{"$nulls":21},"[td]4. Dubai Opera[/td]"]
[{"$nulls":21},"[td]$5.14[/td]"]
[{"$nulls":21},"[td][/td]"]
[{"$nulls":21},"[td][/td]"]
[{"$nulls":20},"[/tr]"]
[{"$nulls":20},"[tr]"]
[{"$nulls":21},"[td]17. Togni[/td]"]
[{"$nulls":21},"[td]$6.46[/td]"]
[{"$nulls":21},"[td][/td]"]
[{"$nulls":21},"[td][/td]"]
[{"$nulls":20},"[/tr]"]
[{"$nulls":20},"[/table]"]
[]
[{"$nulls":20},"[table]"]
[{"$nulls":20},"[tr]"]
[{"$nulls":21},"[td][url=http://www.tabonline.com.au/2012/05/13/VR09.html]Cranbourne   Race   9[/url][/td]"]
[{"$nulls":21},"[td][color=yellow]Monacellars Hcp (68)[/color][/td]"]
[{"$nulls":21},"[td]$22500[/td]"]
[{"$nulls":21},"[td][color=lime]Restricted 68[/color][/td]"]
[{"$nulls":20},"[/tr]"]
[{"$nulls":20},"[tr]"]
[{"$nulls":21},"[td]No Horse[/td]"]
[{"$nulls":21},"[td]Rated Price[/td]"]
[{"$nulls":21},"[td]Win[/td]"]
[{"$nulls":21},"[td]Place[/td]"]
[{"$nulls":20},"[/tr]"]
[{"$nulls":20},"[tr]"]
[{"$nulls":21},"[td]1. Auriegirl[/td]"]
[{"$nulls":21},"[td]$2.43[/td]"]
[{"$nulls":21},"[td][/td]"]
[{"$nulls":21},"[td][/td]"]
[{"$nulls":20},"[/tr]"]
[{"$nulls":20},"[tr]"]
[{"$nulls":21},"[td]4. Spurring Success[/td]"]
[{"$nulls":21},"[td]$4.83[/td]"]
[{"$nulls":21},"[td][/td]"]
[{"$nulls":21},"[td][/td]"]
[{"$nulls":20},"[/tr]"]
[{"$nulls":20},"[tr]"]
[{"$nulls":21},"[td]5. Emmookis Star[/td]"]
[{"$nulls":21},"[td]$4.83[/td]"]
[{"$nulls":21},"[td][/td]"]
[{"$nulls":21},"[td][/td]"]
[{"$nulls":20},"[/tr]"]
[{"$nulls":20},"[tr]"]
[{"$nulls":21},"[td]7. Galway Gal[/td]"]
[{"$nulls":21},"[td]$4.83[/td]"]
[{"$nulls":21},"[td][/td]"]
[{"$nulls":21},"[td][/td]"]
[{"$nulls":20},"[/tr]"]
[{"$nulls":20},"[tr]"]
[{"$nulls":21},"[td]10. Nikolaevena[/td]"]
[{"$nulls":21},"[td]$6.94[/td]"]
[{"$nulls":21},"[td][/td]"]
[{"$nulls":21},"[td][/td]"]
[{"$nulls":20},"[/tr]"]
[{"$nulls":20},"[/table]"]
[]
[{"$nulls":20},"[table]"]
[{"$nulls":20},"[tr]"]
[{"$nulls":21},"[td][url=http://www.tabonline.com.au/2012/05/13/VR06.html]Cranbourne   Race   6[/url][/td]"]
[{"$nulls":21},"[td][color=yellow]Highview Accounting Serv. (68)[/color][/td]"]
[{"$nulls":21},"[td]$15000[/td]"]
[{"$nulls":21},"[td][color=lime]Restricted 68[/color][/td]"]
[{"$nulls":20},"[/tr]"]
[{"$nulls":20},"[tr]"]
[{"$nulls":21},"[td]No Horse[/td]"]
[{"$nulls":21},"[td]Rated Price[/td]"]
[{"$nulls":21},"[td]Win[/td]"]
[{"$nulls":21},"[td]Place[/td]"]
[{"$nulls":20},"[/tr]"]
[{"$nulls":20},"[tr]"]
[{"$nulls":21},"[td]5. The Red Emperor[/td]"]
[{"$nulls":21},"[td]$2.15[/td]"]
[{"$nulls":21},"[td][/td]"]
[{"$nulls":21},"[td][/td]"]
[{"$nulls":20},"[/tr]"]
[{"$nulls":20},"[tr]"]
[{"$nulls":21},"[td]2. Mosseltov[/td]"]
[{"$nulls":21},"[td]$2.44[/td]"]
[{"$nulls":21},"[td][/td]"]
[{"$nulls":21},"[td][/td]"]
[{"$nulls":20},"[/tr]"]
[{"$nulls":20},"[tr]"]
[{"$nulls":21},"[td]3. Escape Artist[/td]"]
[{"$nulls":21},"[td]$8.21[/td]"]
[{"$nulls":21},"[td][/td]"]
[{"$nulls":21},"[td][/td]"]
[{"$nulls":20},"[/tr]"]
[{"$nulls":20},"[tr]"]
[{"$nulls":21},"[td]7. Strategic Impact[/td]"]
[{"$nulls":21},"[td]$9.52[/td]"]
[{"$nulls":21},"[td][/td]"]
[{"$nulls":21},"[td][/td]"]
[{"$nulls":20},"[/tr]"]
[{"$nulls":20},"[tr]"]
[{"$nulls":21},"[td]10. Phantom Flight[/td]"]
[{"$nulls":21},"[td]$13.49[/td]"]
[{"$nulls":21},"[td][/td]"]
[{"$nulls":21},"[td][/td]"]
[{"$nulls":20},"[/tr]"]
[{"$nulls":20},"[/table]"]
[]
[{"$nulls":20},"[table]"]
[{"$nulls":20},"[tr]"]
[{"$nulls":21},"[td][url=http://www.tabonline.com.au/2012/05/13/VR07.html]Cranbourne   Race   7[/url][/td]"]
[{"$nulls":21},"[td][color=yellow]2012 TROA/Luxbet Winter Series[/color][/td]"]
[{"$nulls":21},"[td]$40000[/td]"]
[{"$nulls":21},"[td][color=lime]Open[/color][/td]"]
[{"$nulls":20},"[/tr]"]
[{"$nulls":20},"[tr]"]
[{"$nulls":21},"[td]No Horse[/td]"]
[{"$nulls":21},"[td]Rated Price[/td]"]
[{"$nulls":21},"[td]Win[/td]"]
[{"$nulls":21},"[td]Place[/td]"]
[{"$nulls":20},"[/tr]"]
[{"$nulls":20},"[tr]"]
[{"$nulls":21},"[td]1. Jungle Ruler[/td]"]
[{"$nulls":21},"[td]$3.34[/td]"]
[{"$nulls":21},"[td][/td]"]
[{"$nulls":21},"[td][/td]"]
[{"$nulls":20},"[/tr]"]
[{"$nulls":20},"[tr]"]
[{"$nulls":21},"[td]2. Lord Pyrus[/td]"]
[{"$nulls":21},"[td]$3.57[/td]"]
[{"$nulls":21},"[td][/td]"]
[{"$nulls":21},"[td][/td]"]
[{"$nulls":20},"[/tr]"]
[{"$nulls":20},"[tr]"]
[{"$nulls":21},"[td]3. Wealthy Lad[/td]"]
[{"$nulls":21},"[td]$4.11[/td]"]
[{"$nulls":21},"[td][/td]"]
[{"$nulls":21},"[td][/td]"]
[{"$nulls":20},"[/tr]"]
[{"$nulls":20},"[tr]"]
[{"$nulls":21},"[td]4. Sophrosyne[/td]"]
[{"$nulls":21},"[td]$4.80[/td]"]
[{"$nulls":21},"[td][/td]"]
[{"$nulls":21},"[td][/td]"]
[{"$nulls":20},"[/tr]"]
[{"$nulls":20},"[tr]"]
[{"$nulls":21},"[td]9. Signor Socks[/td]"]
[{"$nulls":21},"[td]$6.90[/td]"]
[{"$nulls":21},"[td][/td]"]
[{"$nulls":21},"[td][/td]"]
[{"$nulls":20},"[/tr]"]
[{"$nulls":20},"[/table]"]
[]
[{"$nulls":20},"[table]"]
[{"$nulls":20},"[tr]"]
[{"$nulls":21},"[td][url=http://www.tabonline.com.au/2012/05/13/VR08.html]Cranbourne   Race   8[/url][/td]"]
[{"$nulls":21},"[td][color=yellow]City Of Casey Hcp (62)[/color][/td]"]
[{"$nulls":21},"[td]$22500[/td]"]
[{"$nulls":21},"[td][color=lime]Restricted 62[/color][/td]"]
[{"$nulls":20},"[/tr]"]
[{"$nulls":20},"[tr]"]
[{"$nulls":21},"[td]No Horse[/td]"]
[{"$nulls":21},"[td]Rated Price[/td]"]
[{"$nulls":21},"[td]Win[/td]"]
[{"$nulls":21},"[td]Place[/td]"]
[{"$nulls":20},"[/tr]"]
[{"$nulls":20},"[tr]"]
[{"$nulls":21},"[td]2. Justice Fighter[/td]"]
[{"$nulls":21},"[td]$3.26[/td]"]
[{"$nulls":21},"[td][/td]"]
[{"$nulls":21},"[td][/td]"]
[{"$nulls":20},"[/tr]"]
[{"$nulls":20},"[tr]"]
[{"$nulls":21},"[td]10. Tricky Maid[/td]"]
[{"$nulls":21},"[td]$3.54[/td]"]
[{"$nulls":21},"[td][/td]"]
[{"$nulls":21},"[td][/td]"]
[{"$nulls":20},"[/tr]"]
[{"$nulls":20},"[tr]"]
[{"$nulls":21},"[td]16. Octavanus[/td]"]
[{"$nulls":21},"[td]$4.21[/td]"]
[{"$nulls":21},"[td][/td]"]
[{"$nulls":21},"[td][/td]"]
[{"$nulls":20},"[/tr]"]
[{"$nulls":20},"[tr]"]
[{"$nulls":21},"[td]4. Dubai Opera[/td]"]
[{"$nulls":21},"[td]$5.14[/td]"]
[{"$nulls":21},"[td][/td]"]
[{"$nulls":21},"[td][/td]"]
[{"$nulls":20},"[/tr]"]
[{"$nulls":20},"[tr]"]
[{"$nulls":21},"[td]17. Togni[/td]"]
[{"$nulls":21},"[td]$6.46[/td]"]
[{"$nulls":21},"[td][/td]"]
[{"$nulls":21},"[td][/td]"]
[{"$nulls":20},"[/tr]"]
[{"$nulls":20},"[/table]"]
[]
[{"$nulls":20},"[table]"]
[{"$nulls":20},"[tr]"]
[{"$nulls":21},"[td][url=http://www.tabonline.com.au/2012/05/13/VR09.html]Cranbourne   Race   9[/url][/td]"]
[{"$nulls":21},"[td][color=yellow]Monacellars Hcp (68)[/color][/td]"]
[{"$nulls":21},"[td]$22500[/td]"]
[{"$nulls":21},"[td][color=lime]Restricted 68[/color][/td]"]
[{"$nulls":20},"[/tr]"]
[{"$nulls":20},"[tr]"]
[{"$nulls":21},"[td]No Horse[/td]"]
[{"$nulls":21},"[td]Rated Price[/td]"]
[{"$nulls":21},"[td]Win[/td]"]
[{"$nulls":21},"[td]Place[/td]"]
[{"$nulls":20},"[/tr]"]
[{"$nulls":20},"[tr]"]
[{"$nulls":21},"[td]1. Auriegirl[/td]"]
[{"$nulls":21},"[td]$2.43[/td]"]
[{"$nulls":21},"[td][/td]"]
[{"$nulls":21},"[td][/td]"]
[{"$nulls":20},"[/tr]"]
[{"$nulls":20},"[tr]"]
[{"$nulls":21},"[td]4. Spurring Success[/td]"]
[{"$nulls":21},"[td]$4.83[/td]"]
[{"$nulls":21},"[td][/td]"]
[{"$nulls":21},"[td][/td]"]
[{"$nulls":20},"[/tr]"]
[{"$nulls":20},"[tr]"]
[{"$nulls":21},"[td]5. Emmookis Star[/td]"]
[{"$nulls":21},"[td]$4.83[/td]"]
[{"$nulls":21},"[td][/td]"]
[{"$nulls":21},"[td][/td]"]
[{"$nulls":20},"[/tr]"]
[{"$nulls":20},"[tr]"]
[{"$nulls":21},"[td]7. Galway Gal[/td]"]
[{"$nulls":21},"[td]$4.83[/td]"]
[{"$nulls":21},"[td][/td]"]
[{"$nulls":21},"[td][/td]"]
[{"$nulls":20},"[/tr]"]
[{"$nulls":20},"[tr]"]
[{"$nulls":21},"[td]10. Nikolaevena[/td]"]
[{"$nulls":21},"[td]$6.94[/td]"]
[{"$nulls":21},"[td][/td]"]
[{"$nulls":21},"[td][/td]"]
[{"$nulls":20},"[/tr]"]
[{"$nulls":20},"[/table]"]
[]
[{"$nulls":20},"[table]"]
[{"$nulls":20},"[tr]"]
[{"$nulls":21},"[td][url=http://www.tabonline.com.au/2012/05/13/NR05.html]Gunnedah   Race   5[/url][/td]"]
[{"$nulls":21},"[td][color=yellow]Lion Nathan Breweries Hcp (C1)[/color][/td]"]
[{"$nulls":21},"[td]$10000[/td]"]
[{"$nulls":21},"[td][color=lime]Class 1[/color][/td]"]
[{"$nulls":20},"[/tr]"]
[{"$nulls":20},"[tr]"]
[{"$nulls":21},"[td]No Horse[/td]"]
[{"$nulls":21},"[td]Rated Price[/td]"]
[{"$nulls":21},"[td]Win[/td]"]
[{"$nulls":21},"[td]Place[/td]"]
[{"$nulls":20},"[/tr]"]
[{"$nulls":20},"[tr]"]
[{"$nulls":21},"[td]4. Baby I Know[/td]"]
[{"$nulls":21},"[td]$3.05[/td]"]
[{"$nulls":21},"[td][/td]"]
[{"$nulls":21},"[td][/td]"]
[{"$nulls":20},"[/tr]"]
[{"$nulls":20},"[tr]"]
[{"$nulls":21},"[td]2. Beauzel[/td]"]
[{"$nulls":21},"[td]$3.29[/td]"]
[{"$nulls":21},"[td][/td]"]
[{"$nulls":21},"[td][/td]"]
[{"$nulls":20},"[/tr]"]
[{"$nulls":20},"[tr]"]
[{"$nulls":21},"[td]3. Thats How[/td]"]
[{"$nulls":21},"[td]$3.89[/td]"]
[{"$nulls":21},"[td][/td]"]
[{"$nulls":21},"[td][/td]"]
[{"$nulls":20},"[/tr]"]
[{"$nulls":20},"[tr]"]
[{"$nulls":21},"[td]6. Nearly Human[/td]"]
[{"$nulls":21},"[td]$6.54[/td]"]
[{"$nulls":21},"[td][/td]"]
[{"$nulls":21},"[td][/td]"]
[{"$nulls":20},"[/tr]"]
[{"$nulls":20},"[tr]"]
[{"$nulls":21},"[td]8. Semenya[/td]"]
[{"$nulls":21},"[td]$7.44[/td]"]
[{"$nulls":21},"[td][/td]"]
[{"$nulls":21},"[td][/td]"]
[{"$nulls":20},"[/tr]"]
[{"$nulls":20},"[/table]"]
[]
[{"$nulls":20},"[table]"]
[{"$nulls":20},"[tr]"]
[{"$nulls":21},"[td][url=http://www.tabonline.com.au/2012/05/13/NR06.html]Gunnedah   Race   6[/url][/td]"]
[{"$nulls":21},"[td][color=yellow]Club House Hotel Lightning Hcp[/color][/td]"]
[{"$nulls":21},"[td]$12000[/td]"]
[{"$nulls":21},"[td][color=lime]Open[/color][/td]"]
[{"$nulls":20},"[/tr]"]
[{"$nulls":20},"[tr]"]
[{"$nulls":21},"[td]No Horse[/td]"]
[{"$nulls":21},"[td]Rated Price[/td]"]
[{"$nulls":21},"[td]Win[/td]"]
[{"$nulls":21},"[td]Place[/td]"]
[{"$nulls":20},"[/tr]"]
[{"$nulls":20},"[tr]"]
[{"$nulls":21},"[td]1. Prussian Secret[/td]"]
[{"$nulls":21},"[td]$2.75[/td]"]
[{"$nulls":21},"[td][/td]"]
[{"$nulls":21},"[td][/td]"]
[{"$nulls":20},"[/tr]"]
[{"$nulls":20},"[tr]"]
[{"$nulls":21},"[td]5. Tomcatnaround[/td]"]
[{"$nulls":21},"[td]$3.17[/td]"]
[{"$nulls":21},"[td][/td]"]
[{"$nulls":21},"[td][/td]"]
[{"$nulls":20},"[/tr]"]
[{"$nulls":20},"[tr]"]
[{"$nulls":21},"[td]3. Emotional Outburst[/td]"]
[{"$nulls":21},"[td]$4.38[/td]"]
[{"$nulls":21},"[td][/td]"]
[{"$nulls":21},"[td][/td]"]
[{"$nulls":20},"[/tr]"]
[{"$nulls":20},"[tr]"]
[{"$nulls":21},"[td]6. Sutton Brave[/td]"]
[{"$nulls":21},"[td]$7.43[/td]"]
[{"$nulls":21},"[td][/td]"]
[{"$nulls":21},"[td][/td]"]
[{"$nulls":20},"[/tr]"]
[{"$nulls":20},"[tr]"]
[{"$nulls":21},"[td]7. Mountain Brew[/td]"]
[{"$nulls":21},"[td]$7.43[/td]"]
[{"$nulls":21},"[td][/td]"]
[{"$nulls":21},"[td][/td]"]
[{"$nulls":20},"[/tr]"]
[{"$nulls":20},"[/table]"]
[]
[{"$nulls":20},"[table]"]
[{"$nulls":20},"[tr]"]
[{"$nulls":21},"[td][url=http://www.tabonline.com.au/2012/05/13/NR07.html]Gunnedah   Race   7[/url][/td]"]
[{"$nulls":21},"[td][color=yellow]Prydes Easifeed Gunnedah Cup[/color][/td]"]
[{"$nulls":21},"[td]$20000[/td]"]
[{"$nulls":21},"[td][color=lime]Open[/color][/td]"]
[{"$nulls":20},"[/tr]"]
[{"$nulls":20},"[tr]"]
[{"$nulls":21},"[td]No Horse[/td]"]
[{"$nulls":21},"[td]Rated Price[/td]"]
[{"$nulls":21},"[td]Win[/td]"]
[{"$nulls":21},"[td]Place[/td]"]
[{"$nulls":20},"[/tr]"]
[{"$nulls":20},"[tr]"]
[{"$nulls":21},"[td]6. Quindelop[/td]"]
[{"$nulls":21},"[td]$2.65[/td]"]
[{"$nulls":21},"[td][/td]"]
[{"$nulls":21},"[td][/td]"]
[{"$nulls":20},"[/tr]"]
[{"$nulls":20},"[tr]"]
[{"$nulls":21},"[td]2. Prior Baron[/td]"]
[{"$nulls":21},"[td]$4.41[/td]"]
[{"$nulls":21},"[td][/td]"]
[{"$nulls":21},"[td][/td]"]
[{"$nulls":20},"[/tr]"]
[{"$nulls":20},"[tr]"]
[{"$nulls":21},"[td]10. All Again[/td]"]
[{"$nulls":21},"[td]$4.41[/td]"]
[{"$nulls":21},"[td][/td]"]
[{"$nulls":21},"[td][/td]"]
[{"$nulls":20},"[/tr]"]
[{"$nulls":20},"[tr]"]
[{"$nulls":21},"[td]7. Dustys Felt[/td]"]
[{"$nulls":21},"[td]$5.46[/td]"]
[{"$nulls":21},"[td][/td]"]
[{"$nulls":21},"[td][/td]"]
[{"$nulls":20},"[/tr]"]
[{"$nulls":20},"[tr]"]
[{"$nulls":21},"[td]4. Flaming Circle[/td]"]
[{"$nulls":21},"[td]$6.16[/td]"]
[{"$nulls":21},"[td][/td]"]
[{"$nulls":21},"[td][/td]"]
[{"$nulls":20},"[/tr]"]
[{"$nulls":20},"[/table]"]
[]
[{"$nulls":20},"[table]"]
[{"$nulls":20},"[tr]"]
[{"$nulls":21},"[td][url=http://www.tabonline.com.au/2012/05/13/NR08.html]Gunnedah   Race   8[/url][/td]"]
[{"$nulls":21},"[td][color=yellow]Santos Hcp (C3)[/color][/td]"]
[{"$nulls":21},"[td]$10000[/td]"]
[{"$nulls":21},"[td][color=lime]Class 3[/color][/td]"]
[{"$nulls":20},"[/tr]"]
[{"$nulls":20},"[tr]"]
[{"$nulls":21},"[td]No Horse[/td]"]
[{"$nulls":21},"[td]Rated Price[/td]"]
[{"$nulls":21},"[td]Win[/td]"]
[{"$nulls":21},"[td]Place[/td]"]
[{"$nulls":20},"[/tr]"]
[{"$nulls":20},"[tr]"]
[{"$nulls":21},"[td]4. Spellbinding[/td]"]
[{"$nulls":21},"[td]$2.91[/td]"]
[{"$nulls":21},"[td][/td]"]
[{"$nulls":21},"[td][/td]"]
[{"$nulls":20},"[/tr]"]
[{"$nulls":20},"[tr]"]
[{"$nulls":21},"[td]9. Find Your Manners[/td]"]
[{"$nulls":21},"[td]$3.46[/td]"]
[{"$nulls":21},"[td][/td]"]
[{"$nulls":21},"[td][/td]"]
[{"$nulls":20},"[/tr]"]
[{"$nulls":20},"[tr]"]
[{"$nulls":21},"[td]8. Its Game On[/td]"]
[{"$nulls":21},"[td]$5.29[/td]"]
[{"$nulls":21},"[td][/td]"]
[{"$nulls":21},"[td][/td]"]
[{"$nulls":20},"[/tr]"]
[{"$nulls":20},"[tr]"]
[{"$nulls":21},"[td]10. Sir Hawkins[/td]"]
[{"$nulls":21},"[td]$5.29[/td]"]
[{"$nulls":21},"[td][/td]"]
[{"$nulls":21},"[td][/td]"]
[{"$nulls":20},"[/tr]"]
[{"$nulls":20},"[tr]"]
[{"$nulls":21},"[td]1. Aqwaal[/td]"]
[{"$nulls":21},"[td]$6.02[/td]"]
[{"$nulls":21},"[td][/td]"]
[{"$nulls":21},"[td][/td]"]
[{"$nulls":20},"[/tr]"]
[{"$nulls":20},"[/table]"]
[]
[{"$nulls":20},"[table]"]
[{"$nulls":20},"[tr]"]
[{"$nulls":21},"[td][url=http://www.tabonline.com.au/2012/05/14/CR06.html]Albury   Race   6[/url][/td]"]
[{"$nulls":21},"[td][color=yellow]Commercial Club Albury (Bm70)[/color][/td]"]
[{"$nulls":21},"[td]$10000[/td]"]
[{"$nulls":21},"[td][color=lime]Benchmark 70[/color][/td]"]
[{"$nulls":20},"[/tr]"]
[{"$nulls":20},"[tr]"]
[{"$nulls":21},"[td]No Horse[/td]"]
[{"$nulls":21},"[td]Rated Price[/td]"]
[{"$nulls":21},"[td]Win[/td]"]
[{"$nulls":21},"[td]Place[/td]"]
[{"$nulls":20},"[/tr]"]
[{"$nulls":20},"[tr]"]
[{"$nulls":21},"[td]3. Riverina Lad[/td]"]
[{"$nulls":21},"[td]$2.56[/td]"]
[{"$nulls":21},"[td][/td]"]
[{"$nulls":21},"[td][/td]"]
[{"$nulls":20},"[/tr]"]
[{"$nulls":20},"[tr]"]
[{"$nulls":21},"[td]6. Possess[/td]"]
[{"$nulls":21},"[td]$3.46[/td]"]
[{"$nulls":21},"[td][/td]"]
[{"$nulls":21},"[td][/td]"]
[{"$nulls":20},"[/tr]"]
[{"$nulls":20},"[/table]"]
[]
[{"$nulls":20},"[table]"]
[{"$nulls":20},"[tr]"]
[{"$nulls":21},"[td][url=http://www.tabonline.com.au/2012/05/14/NR06.html]Dubbo   Race   6[/url][/td]"]
[{"$nulls":21},"[td][color=yellow]Kings Hall Jewellers Open Hcp[/color][/td]"]
[{"$nulls":21},"[td]$10000[/td]"]
[{"$nulls":21},"[td][color=lime]Open[/color][/td]"]
[{"$nulls":20},"[/tr]"]
[{"$nulls":20},"[tr]"]
[{"$nulls":21},"[td]No Horse[/td]"]
[{"$nulls":21},"[td]Rated Price[/td]"]
[{"$nulls":21},"[td]Win[/td]"]
[{"$nulls":21},"[td]Place[/td]"]
[{"$nulls":20},"[/tr]"]
[{"$nulls":20},"[tr]"]
[{"$nulls":21},"[td]1. Moment of Clarity[/td]"]
[{"$nulls":21},"[td]$3.30[/td]"]
[{"$nulls":21},"[td][/td]"]
[{"$nulls":21},"[td][/td]"]
[{"$nulls":20},"[/tr]"]
[{"$nulls":20},"[tr]"]
[{"$nulls":21},"[td]2. Boomerang[/td]"]
[{"$nulls":21},"[td]$3.54[/td]"]
[{"$nulls":21},"[td][/td]"]
[{"$nulls":21},"[td][/td]"]
[{"$nulls":20},"[/tr]"]
[{"$nulls":20},"[/table]"]
[]
[{"$nulls":20},"[table]"]
[{"$nulls":20},"[tr]"]
[{"$nulls":21},"[td][url=http://www.tabonline.com.au/2012/05/14/VR07.html]Kyneton   Race   7[/url][/td]"]
[{"$nulls":21},"[td][color=yellow]Iasbet.Com Hcp (68)[/color][/td]"]
[{"$nulls":21},"[td]$12000[/td]"]
[{"$nulls":21},"[td][color=lime]Restricted 68[/color][/td]"]
[{"$nulls":20},"[/tr]"]
[{"$nulls":20},"[tr]"]
[{"$nulls":21},"[td]No Horse[/td]"]
[{"$nulls":21},"[td]Rated Price[/td]"]
[{"$nulls":21},"[td]Win[/td]"]
[{"$nulls":21},"[td]Place[/td]"]
[{"$nulls":20},"[/tr]"]
[{"$nulls":20},"[tr]"]
[{"$nulls":21},"[td]6. Need To Exceed[/td]"]
[{"$nulls":21},"[td]$2.90[/td]"]
[{"$nulls":21},"[td][/td]"]
[{"$nulls":21},"[td][/td]"]
[{"$nulls":20},"[/tr]"]
[{"$nulls":20},"[tr]"]
[{"$nulls":21},"[td]9. Unloved[/td]"]
[{"$nulls":21},"[td]$2.90[/td]"]
[{"$nulls":21},"[td][/td]"]
[{"$nulls":21},"[td][/td]"]
[{"$nulls":20},"[/tr]"]
[{"$nulls":20},"[/table]"]
[]
[{"$nulls":20},"[table]"]
[{"$nulls":20},"[tr]"]
[{"$nulls":21},"[td][url=http://www.tabonline.com.au/2012/05/14/CR04.html]Albury   Race   4[/url][/td]"]
[{"$nulls":21},"[td][color=yellow]Enpower Solutions (Eps) (Bm61)[/color][/td]"]
[{"$nulls":21},"[td]$10000[/td]"]
[{"$nulls":21},"[td][color=lime]Benchmark 61[/color][/td]"]
[{"$nulls":20},"[/tr]"]
[{"$nulls":20},"[tr]"]
[{"$nulls":21},"[td]No Horse[/td]"]
[{"$nulls":21},"[td]Rated Price[/td]"]
[{"$nulls":21},"[td]Win[/td]"]
[{"$nulls":21},"[td]Place[/td]"]
[{"$nulls":20},"[/tr]"]
[{"$nulls":20},"[tr]"]
[{"$nulls":21},"[td]1. Tysons Tiger[/td]"]
[{"$nulls":21},"[td]$1.93[/td]"]
[{"$nulls":21},"[td][/td]"]
[{"$nulls":21},"[td][/td]"]
[{"$nulls":20},"[/tr]"]
[{"$nulls":20},"[tr]"]
[{"$nulls":21},"[td]5. Mossmeister[/td]"]
[{"$nulls":21},"[td]$4.68[/td]"]
[{"$nulls":21},"[td][/td]"]
[{"$nulls":21},"[td][/td]"]
[{"$nulls":20},"[/tr]"]
[{"$nulls":20},"[tr]"]
[{"$nulls":21},"[td]6. The Boondock Saint[/td]"]
[{"$nulls":21},"[td]$4.68[/td]"]
[{"$nulls":21},"[td][/td]"]
[{"$nulls":21},"[td][/td]"]
[{"$nulls":20},"[/tr]"]
[{"$nulls":20},"[tr]"]
[{"$nulls":21},"[td]4. Three Buddies[/td]"]
[{"$nulls":21},"[td]$7.39[/td]"]
[{"$nulls":21},"[td][/td]"]
[{"$nulls":21},"[td][/td]"]
[{"$nulls":20},"[/tr]"]
[{"$nulls":20},"[tr]"]
[{"$nulls":21},"[td]3. Capriev[/td]"]
[{"$nulls":21},"[td]$10.43[/td]"]
[{"$nulls":21},"[td][/td]"]
[{"$nulls":21},"[td][/td]"]
[{"$nulls":20},"[/tr]"]
[{"$nulls":20},"[/table]"]
[]
[{"$nulls":20},"[table]"]
[{"$nulls":20},"[tr]"]
[{"$nulls":21},"[td][url=http://www.tabonline.com.au/2012/05/14/CR05.html]Albury   Race   5[/url][/td]"]
[{"$nulls":21},"[td][color=yellow]Carlton Draught Hcp (C3)[/color][/td]"]
[{"$nulls":21},"[td]$10000[/td]"]
[{"$nulls":21},"[td][color=lime]Class 3[/color][/td]"]
[{"$nulls":20},"[/tr]"]
[{"$nulls":20},"[tr]"]
[{"$nulls":21},"[td]No Horse[/td]"]
[{"$nulls":21},"[td]Rated Price[/td]"]
[{"$nulls":21},"[td]Win[/td]"]
[{"$nulls":21},"[td]Place[/td]"]
[{"$nulls":20},"[/tr]"]
[{"$nulls":20},"[tr]"]
[{"$nulls":21},"[td]1. No Prior Knowledge[/td]"]
[{"$nulls":21},"[td]$1.98[/td]"]
[{"$nulls":21},"[td][/td]"]
[{"$nulls":21},"[td][/td]"]
[{"$nulls":20},"[/tr]"]
[{"$nulls":20},"[tr]"]
[{"$nulls":21},"[td]9. Dacowboyway[/td]"]
[{"$nulls":21},"[td]$3.22[/td]"]
[{"$nulls":21},"[td][/td]"]
[{"$nulls":21},"[td][/td]"]
[{"$nulls":20},"[/tr]"]
[{"$nulls":20},"[tr]"]
[{"$nulls":21},"[td]3. Our Fabian[/td]"]
[{"$nulls":21},"[td]$4.96[/td]"]
[{"$nulls":21},"[td][/td]"]
[{"$nulls":21},"[td][/td]"]
[{"$nulls":20},"[/tr]"]
[{"$nulls":20},"[tr]"]
[{"$nulls":21},"[td]6. Prancing[/td]"]
[{"$nulls":21},"[td]$9.20[/td]"]
[{"$nulls":21},"[td][/td]"]
[{"$nulls":21},"[td][/td]"]
[{"$nulls":20},"[/tr]"]
[{"$nulls":20},"[tr]"]
[{"$nulls":21},"[td]8. Herodias[/td]"]
[{"$nulls":21},"[td]$20.09[/td]"]
[{"$nulls":21},"[td][/td]"]
[{"$nulls":21},"[td][/td]"]
[{"$nulls":20},"[/tr]"]
[{"$nulls":20},"[/table]"]
[]
[{"$nulls":20},"[table]"]
[{"$nulls":20},"[tr]"]
[{"$nulls":21},"[td][url=http://www.tabonline.com.au/2012/05/14/CR06.html]Albury   Race   6[/url][/td]"]
[{"$nulls":21},"[td][color=yellow]Commercial Club Albury (Bm70)[/color][/td]"]
[{"$nulls":21},"[td]$10000[/td]"]
[{"$nulls":21},"[td][color=lime]Benchmark 70[/color][/td]"]
[{"$nulls":20},"[/tr]"]
[{"$nulls":20},"[tr]"]
[{"$nulls":21},"[td]No Horse[/td]"]
[{"$nulls":21},"[td]Rated Price[/td]"]
[{"$nulls":21},"[td]Win[/td]"]
[{"$nulls":21},"[td]Place[/td]"]
[{"$nulls":20},"[/tr]"]
[{"$nulls":20},"[tr]"]
[{"$nulls":21},"[td]3. Riverina Lad[/td]"]
[{"$nulls":21},"[td]$2.56[/td]"]
[{"$nulls":21},"[td][/td]"]
[{"$nulls":21},"[td][/td]"]
[{"$nulls":20},"[/tr]"]
[{"$nulls":20},"[tr]"]
[{"$nulls":21},"[td]6. Possess[/td]"]
[{"$nulls":21},"[td]$3.46[/td]"]
[{"$nulls":21},"[td][/td]"]
[{"$nulls":21},"[td][/td]"]
[{"$nulls":20},"[/tr]"]
[{"$nulls":20},"[tr]"]
[{"$nulls":21},"[td]2. Hillbilly Dancer[/td]"]
[{"$nulls":21},"[td]$4.98[/td]"]
[{"$nulls":21},"[td][/td]"]
[{"$nulls":21},"[td][/td]"]
[{"$nulls":20},"[/tr]"]
[{"$nulls":20},"[tr]"]
[{"$nulls":21},"[td]1. Jetconi[/td]"]
[{"$nulls":21},"[td]$5.91[/td]"]
[{"$nulls":21},"[td][/td]"]
[{"$nulls":21},"[td][/td]"]
[{"$nulls":20},"[/tr]"]
[{"$nulls":20},"[tr]"]
[{"$nulls":21},"[td]4. Ambergris[/td]"]
[{"$nulls":21},"[td]$7.90[/td]"]
[{"$nulls":21},"[td][/td]"]
[{"$nulls":21},"[td][/td]"]
[{"$nulls":20},"[/tr]"]
[{"$nulls":20},"[/table]"]
[]
[{"$nulls":20},"[table]"]
[{"$nulls":20},"[tr]"]
[{"$nulls":21},"[td][url=http://www.tabonline.com.au/2012/05/14/CR07.html]Albury   Race   7[/url][/td]"]
[{"$nulls":21},"[td][color=yellow]Blacklocks Lavington Hcp (C1)[/color][/td]"]
[{"$nulls":21},"[td]$10000[/td]"]
[{"$nulls":21},"[td][color=lime]Class 1[/color][/td]"]
[{"$nulls":20},"[/tr]"]
[{"$nulls":20},"[tr]"]
[{"$nulls":21},"[td]No Horse[/td]"]
[{"$nulls":21},"[td]Rated Price[/td]"]
[{"$nulls":21},"[td]Win[/td]"]
[{"$nulls":21},"[td]Place[/td]"]
[{"$nulls":20},"[/tr]"]
[{"$nulls":20},"[tr]"]
[{"$nulls":21},"[td]2. Ceccanti[/td]"]
[{"$nulls":21},"[td]$3.68[/td]"]
[{"$nulls":21},"[td][/td]"]
[{"$nulls":21},"[td][/td]"]
[{"$nulls":20},"[/tr]"]
[{"$nulls":20},"[tr]"]
[{"$nulls":21},"[td]4. Instyle Ben[/td]"]
[{"$nulls":21},"[td]$4.03[/td]"]
[{"$nulls":21},"[td][/td]"]
[{"$nulls":21},"[td][/td]"]
[{"$nulls":20},"[/tr]"]
[{"$nulls":20},"[tr]"]
[{"$nulls":21},"[td]12. Princess Fubu[/td]"]
[{"$nulls":21},"[td]$4.03[/td]"]
[{"$nulls":21},"[td][/td]"]
[{"$nulls":21},"[td][/td]"]
[{"$nulls":20},"[/tr]"]
[{"$nulls":20},"[tr]"]
[{"$nulls":21},"[td]7. Shivoo[/td]"]
[{"$nulls":21},"[td]$4.90[/td]"]
[{"$nulls":21},"[td][/td]"]
[{"$nulls":21},"[td][/td]"]
[{"$nulls":20},"[/tr]"]
[{"$nulls":20},"[tr]"]
[{"$nulls":21},"[td]10. Silver Sting[/td]"]
[{"$nulls":21},"[td]$4.90[/td]"]
[{"$nulls":21},"[td][/td]"]
[{"$nulls":21},"[td][/td]"]
[{"$nulls":20},"[/tr]"]
[{"$nulls":20},"[/table]"]
[]
[{"$nulls":20},"[table]"]
[{"$nulls":20},"[tr]"]
[{"$nulls":21},"[td][url=http://www.tabonline.com.au/2012/05/14/NR04.html]Dubbo   Race   4[/url][/td]"]
[{"$nulls":21},"[td][color=yellow]Ploughman's Rest Tavern (C1)[/color][/td]"]
[{"$nulls":21},"[td]$10000[/td]"]
[{"$nulls":21},"[td][color=lime]Class 1[/color][/td]"]
[{"$nulls":20},"[/tr]"]
[{"$nulls":20},"[tr]"]
[{"$nulls":21},"[td]No Horse[/td]"]
[{"$nulls":21},"[td]Rated Price[/td]"]
[{"$nulls":21},"[td]Win[/td]"]
[{"$nulls":21},"[td]Place[/td]"]
[{"$nulls":20},"[/tr]"]
[{"$nulls":20},"[tr]"]
[{"$nulls":21},"[td]7. Sparkey Babe[/td]"]
[{"$nulls":21},"[td]$2.42[/td]"]
[{"$nulls":21},"[td][/td]"]
[{"$nulls":21},"[td][/td]"]
[{"$nulls":20},"[/tr]"]
[{"$nulls":20},"[tr]"]
[{"$nulls":21},"[td]6. Big Black Beauty[/td]"]
[{"$nulls":21},"[td]$4.24[/td]"]
[{"$nulls":21},"[td][/td]"]
[{"$nulls":21},"[td][/td]"]
[{"$nulls":20},"[/tr]"]
[{"$nulls":20},"[tr]"]
[{"$nulls":21},"[td]2. Criminal Mind[/td]"]
[{"$nulls":21},"[td]$4.61[/td]"]
[{"$nulls":21},"[td][/td]"]
[{"$nulls":21},"[td][/td]"]
[{"$nulls":20},"[/tr]"]
[{"$nulls":20},"[tr]"]
[{"$nulls":21},"[td]12. Etinceler[/td]"]
[{"$nulls":21},"[td]$6.13[/td]"]
[{"$nulls":21},"[td][/td]"]
[{"$nulls":21},"[td][/td]"]
[{"$nulls":20},"[/tr]"]
[{"$nulls":20},"[tr]"]
[{"$nulls":21},"[td]9. Welsh Fantasy[/td]"]
[{"$nulls":21},"[td]$6.82[/td]"]
[{"$nulls":21},"[td][/td]"]
[{"$nulls":21},"[td][/td]"]
[{"$nulls":20},"[/tr]"]
[{"$nulls":20},"[/table]"]
[]
[{"$nulls":20},"[table]"]
[{"$nulls":20},"[tr]"]
[{"$nulls":21},"[td][url=http://www.tabonline.com.au/2012/05/14/NR05.html]Dubbo   Race   5[/url][/td]"]
[{"$nulls":21},"[td][color=yellow]Aqua West Dubbo Hcp (C3)[/color][/td]"]
[{"$nulls":21},"[td]$10000[/td]"]
[{"$nulls":21},"[td][color=lime]Class 3[/color][/td]"]
[{"$nulls":20},"[/tr]"]
[{"$nulls":20},"[tr]"]
[{"$nulls":21},"[td]No Horse[/td]"]
[{"$nulls":21},"[td]Rated Price[/td]"]
[{"$nulls":21},"[td]Win[/td]"]
[{"$nulls":21},"[td]Place[/td]"]
[{"$nulls":20},"[/tr]"]
[{"$nulls":20},"[tr]"]
[{"$nulls":21},"[td]5. Louis The Tonne[/td]"]
[{"$nulls":21},"[td]$3.76[/td]"]
[{"$nulls":21},"[td][/td]"]
[{"$nulls":21},"[td][/td]"]
[{"$nulls":20},"[/tr]"]
[{"$nulls":20},"[tr]"]
[{"$nulls":21},"[td]6. Star Of Texas[/td]"]
[{"$nulls":21},"[td]$3.76[/td]"]
[{"$nulls":21},"[td][/td]"]
[{"$nulls":21},"[td][/td]"]
[{"$nulls":20},"[/tr]"]
[{"$nulls":20},"[tr]"]
[{"$nulls":21},"[td]2. Oceanic[/td]"]
[{"$nulls":21},"[td]$4.11[/td]"]
[{"$nulls":21},"[td][/td]"]
[{"$nulls":21},"[td][/td]"]
[{"$nulls":20},"[/tr]"]
[{"$nulls":20},"[tr]"]
[{"$nulls":21},"[td]1. Relentless Lad[/td]"]
[{"$nulls":21},"[td]$4.52[/td]"]
[{"$nulls":21},"[td][/td]"]
[{"$nulls":21},"[td][/td]"]
[{"$nulls":20},"[/tr]"]
[{"$nulls":20},"[tr]"]
[{"$nulls":21},"[td]3. Ruby Hill[/td]"]
[{"$nulls":21},"[td]$5.57[/td]"]
[{"$nulls":21},"[td][/td]"]
[{"$nulls":21},"[td][/td]"]
[{"$nulls":20},"[/tr]"]
[{"$nulls":20},"[/table]"]
[]
[{"$nulls":20},"[table]"]
[{"$nulls":20},"[tr]"]
[{"$nulls":21},"[td][url=http://www.tabonline.com.au/2012/05/14/NR06.html]Dubbo   Race   6[/url][/td]"]
[{"$nulls":21},"[td][color=yellow]Kings Hall Jewellers Open Hcp[/color][/td]"]
[{"$nulls":21},"[td]$10000[/td]"]
[{"$nulls":21},"[td][color=lime]Open[/color][/td]"]
[{"$nulls":20},"[/tr]"]
[{"$nulls":20},"[tr]"]
[{"$nulls":21},"[td]No Horse[/td]"]
[{"$nulls":21},"[td]Rated Price[/td]"]
[{"$nulls":21},"[td]Win[/td]"]
[{"$nulls":21},"[td]Place[/td]"]
[{"$nulls":20},"[/tr]"]
[{"$nulls":20},"[tr]"]
[{"$nulls":21},"[td]1. Moment of Clarity[/td]"]
[{"$nulls":21},"[td]$3.30[/td]"]
[{"$nulls":21},"[td][/td]"]
[{"$nulls":21},"[td][/td]"]
[{"$nulls":20},"[/tr]"]
[{"$nulls":20},"[tr]"]
[{"$nulls":21},"[td]2. Boomerang[/td]"]
[{"$nulls":21},"[td]$3.54[/td]"]
[{"$nulls":21},"[td][/td]"]
[{"$nulls":21},"[td][/td]"]
[{"$nulls":20},"[/tr]"]
[{"$nulls":20},"[tr]"]
[{"$nulls":21},"[td]4. Tora Tora Tora[/td]"]
[{"$nulls":21},"[td]$4.10[/td]"]
[{"$nulls":21},"[td][/td]"]
[{"$nulls":21},"[td][/td]"]
[{"$nulls":20},"[/tr]"]
[{"$nulls":20},"[tr]"]
[{"$nulls":21},"[td]6. Bottled Up[/td]"]
[{"$nulls":21},"[td]$5.26[/td]"]
[{"$nulls":21},"[td][/td]"]
[{"$nulls":21},"[td][/td]"]
[{"$nulls":20},"[/tr]"]
[{"$nulls":20},"[tr]"]
[{"$nulls":21},"[td]3. Temperate Prince[/td]"]
[{"$nulls":21},"[td]$6.36[/td]"]
[{"$nulls":21},"[td][/td]"]
[{"$nulls":21},"[td][/td]"]
[{"$nulls":20},"[/tr]"]
[{"$nulls":20},"[/table]"]
[]
[{"$nulls":20},"[table]"]
[{"$nulls":20},"[tr]"]
[{"$nulls":21},"[td][url=http://www.tabonline.com.au/2012/05/14/NR07.html]Dubbo   Race   7[/url][/td]"]
[{"$nulls":21},"[td][color=yellow]Dubbo Railway Bowling Clb-Bm70[/color][/td]"]
[{"$nulls":21},"[td]$10000[/td]"]
[{"$nulls":21},"[td][color=lime]Benchmark 70[/color][/td]"]
[{"$nulls":20},"[/tr]"]
[{"$nulls":20},"[tr]"]
[{"$nulls":21},"[td]No Horse[/td]"]
[{"$nulls":21},"[td]Rated Price[/td]"]
[{"$nulls":21},"[td]Win[/td]"]
[{"$nulls":21},"[td]Place[/td]"]
[{"$nulls":20},"[/tr]"]
[{"$nulls":20},"[tr]"]
[{"$nulls":21},"[td]1. Dragons Keep[/td]"]
[{"$nulls":21},"[td]$3.18[/td]"]
[{"$nulls":21},"[td][/td]"]
[{"$nulls":21},"[td][/td]"]
[{"$nulls":20},"[/tr]"]
[{"$nulls":20},"[tr]"]
[{"$nulls":21},"[td]6. School Prince[/td]"]
[{"$nulls":21},"[td]$3.92[/td]"]
[{"$nulls":21},"[td][/td]"]
[{"$nulls":21},"[td][/td]"]
[{"$nulls":20},"[/tr]"]
[{"$nulls":20},"[tr]"]
[{"$nulls":21},"[td]3. Kaypers[/td]"]
[{"$nulls":21},"[td]$4.23[/td]"]
[{"$nulls":21},"[td][/td]"]
[{"$nulls":21},"[td][/td]"]
[{"$nulls":20},"[/tr]"]
[{"$nulls":20},"[tr]"]
[{"$nulls":21},"[td]5. Sapphiregaze[/td]"]
[{"$nulls":21},"[td]$4.58[/td]"]
[{"$nulls":21},"[td][/td]"]
[{"$nulls":21},"[td][/td]"]
[{"$nulls":20},"[/tr]"]
[{"$nulls":20},"[tr]"]
[{"$nulls":21},"[td]7. Gold Sultan[/td]"]
[{"$nulls":21},"[td]$6.58[/td]"]
[{"$nulls":21},"[td][/td]"]
[{"$nulls":21},"[td][/td]"]
[{"$nulls":20},"[/tr]"]
[{"$nulls":20},"[/table]"]
[]
[{"$nulls":20},"[table]"]
[{"$nulls":20},"[tr]"]
[{"$nulls":21},"[td][url=http://www.tabonline.com.au/2012/05/14/VR06.html]Kyneton   Race   6[/url][/td]"]
[{"$nulls":21},"[td][color=yellow]Nmit Hcp (62)[/color][/td]"]
[{"$nulls":21},"[td]$12000[/td]"]
[{"$nulls":21},"[td][color=lime]Restricted 62[/color][/td]"]
[{"$nulls":20},"[/tr]"]
[{"$nulls":20},"[tr]"]
[{"$nulls":21},"[td]No Horse[/td]"]
[{"$nulls":21},"[td]Rated Price[/td]"]
[{"$nulls":21},"[td]Win[/td]"]
[{"$nulls":21},"[td]Place[/td]"]
[{"$nulls":20},"[/tr]"]
[{"$nulls":20},"[tr]"]
[{"$nulls":21},"[td]11. Beastofburdon[/td]"]
[{"$nulls":21},"[td]$3.03[/td]"]
[{"$nulls":21},"[td][/td]"]
[{"$nulls":21},"[td][/td]"]
[{"$nulls":20},"[/tr]"]
[{"$nulls":20},"[tr]"]
[{"$nulls":21},"[td]6. Tsar Of Russia[/td]"]
[{"$nulls":21},"[td]$3.61[/td]"]
[{"$nulls":21},"[td][/td]"]
[{"$nulls":21},"[td][/td]"]
[{"$nulls":20},"[/tr]"]
[{"$nulls":20},"[tr]"]
[{"$nulls":21},"[td]1. Danzoya[/td]"]
[{"$nulls":21},"[td]$3.97[/td]"]
[{"$nulls":21},"[td][/td]"]
[{"$nulls":21},"[td][/td]"]
[{"$nulls":20},"[/tr]"]
[{"$nulls":20},"[tr]"]
[{"$nulls":21},"[td]7. Dominant Manner[/td]"]
[{"$nulls":21},"[td]$6.28[/td]"]
[{"$nulls":21},"[td][/td]"]
[{"$nulls":21},"[td][/td]"]
[{"$nulls":20},"[/tr]"]
[{"$nulls":20},"[tr]"]
[{"$nulls":21},"[td]12. Absolute News[/td]"]
[{"$nulls":21},"[td]$6.28[/td]"]
[{"$nulls":21},"[td][/td]"]
[{"$nulls":21},"[td][/td]"]
[{"$nulls":20},"[/tr]"]
[{"$nulls":20},"[/table]"]
[]
[{"$nulls":20},"[table]"]
[{"$nulls":20},"[tr]"]
[{"$nulls":21},"[td][url=http://www.tabonline.com.au/2012/05/14/VR07.html]Kyneton   Race   7[/url][/td]"]
[{"$nulls":21},"[td][color=yellow]Iasbet.Com Hcp (68)[/color][/td]"]
[{"$nulls":21},"[td]$12000[/td]"]
[{"$nulls":21},"[td][color=lime]Restricted 68[/color][/td]"]
[{"$nulls":20},"[/tr]"]
[{"$nulls":20},"[tr]"]
[{"$nulls":21},"[td]No Horse[/td]"]
[{"$nulls":21},"[td]Rated Price[/td]"]
[{"$nulls":21},"[td]Win[/td]"]
[{"$nulls":21},"[td]Place[/td]"]
[{"$nulls":20},"[/tr]"]
[{"$nulls":20},"[tr]"]
[{"$nulls":21},"[td]6. Need To Exceed[/td]"]
[{"$nulls":21},"[td]$2.90[/td]"]
[{"$nulls":21},"[td][/td]"]
[{"$nulls":21},"[td][/td]"]
[{"$nulls":20},"[/tr]"]
[{"$nulls":20},"[tr]"]
[{"$nulls":21},"[td]9. Unloved[/td]"]
[{"$nulls":21},"[td]$2.90[/td]"]
[{"$nulls":21},"[td][/td]"]
[{"$nulls":21},"[td][/td]"]
[{"$nulls":20},"[/tr]"]
[{"$nulls":20},"[tr]"]
[{"$nulls":21},"[td]8. Nou Camp[/td]"]
[{"$nulls":21},"[td]$4.85[/td]"]
[{"$nulls":21},"[td][/td]"]
[{"$nulls":21},"[td][/td]"]
[{"$nulls":20},"[/tr]"]
[{"$nulls":20},"[tr]"]
[{"$nulls":21},"[td]11. Gotta Have Faith[/td]"]
[{"$nulls":21},"[td]$6.43[/td]"]
[{"$nulls":21},"[td][/td]"]
[{"$nulls":21},"[td][/td]"]
[{"$nulls":20},"[/tr]"]
[{"$nulls":20},"[tr]"]
[{"$nulls":21},"[td]4. Cip Cip Hooray[/td]"]
[{"$nulls":21},"[td]$8.00[/td]"]
[{"$nulls":21},"[td][/td]"]
[{"$nulls":21},"[td][/td]"]
[{"$nulls":20},"[/tr]"]
[{"$nulls":20},"[/table]"]
[]
[{"$nulls":20},"[table]"]
[{"$nulls":20},"[tr]"]
[{"$nulls":21},"[td][url=http://www.tabonline.com.au/2012/05/14/VR08.html]Kyneton   Race   8[/url][/td]"]
[{"$nulls":21},"[td][color=yellow]Slickpix/ Tvn Hcp (68)[/color][/td]"]
[{"$nulls":21},"[td]$12000[/td]"]
[{"$nulls":21},"[td][color=lime]Restricted 68[/color][/td]"]
[{"$nulls":20},"[/tr]"]
[{"$nulls":20},"[tr]"]
[{"$nulls":21},"[td]No Horse[/td]"]
[{"$nulls":21},"[td]Rated Price[/td]"]
[{"$nulls":21},"[td]Win[/td]"]
[{"$nulls":21},"[td]Place[/td]"]
[{"$nulls":20},"[/tr]"]
[{"$nulls":20},"[tr]"]
[{"$nulls":21},"[td]5. Planet King[/td]"]
[{"$nulls":21},"[td]$2.85[/td]"]
[{"$nulls":21},"[td][/td]"]
[{"$nulls":21},"[td][/td]"]
[{"$nulls":20},"[/tr]"]
[{"$nulls":20},"[tr]"]
[{"$nulls":21},"[td]6. Reindeer Lake[/td]"]
[{"$nulls":21},"[td]$2.85[/td]"]
[{"$nulls":21},"[td][/td]"]
[{"$nulls":21},"[td][/td]"]
[{"$nulls":20},"[/tr]"]
[{"$nulls":20},"[tr]"]
[{"$nulls":21},"[td]4. Northcliffe[/td]"]
[{"$nulls":21},"[td]$5.66[/td]"]
[{"$nulls":21},"[td][/td]"]
[{"$nulls":21},"[td][/td]"]
[{"$nulls":20},"[/tr]"]
[{"$nulls":20},"[tr]"]
[{"$nulls":21},"[td]7. Tackleberry[/td]"]
[{"$nulls":21},"[td]$6.33[/td]"]
[{"$nulls":21},"[td][/td]"]
[{"$nulls":21},"[td][/td]"]
[{"$nulls":20},"[/tr]"]
[{"$nulls":20},"[tr]"]
[{"$nulls":21},"[td]10. Miss Written[/td]"]
[{"$nulls":21},"[td]$7.14[/td]"]
[{"$nulls":21},"[td][/td]"]
[{"$nulls":21},"[td][/td]"]
[{"$nulls":20},"[/tr]"]
[{"$nulls":20},"[/table]"]
[]
[{"$nulls":20},"[table]"]
[{"$nulls":20},"[tr]"]
[{"$nulls":21},"[td][url=http://www.tabonline.com.au/2012/05/14/VR09.html]Kyneton   Race   9[/url][/td]"]
[{"$nulls":21},"[td][color=yellow]Sole Heating & Cooling Hcp-58[/color][/td]"]
[{"$nulls":21},"[td]$12000[/td]"]
[{"$nulls":21},"[td][color=lime]Restricted 58[/color][/td]"]
[{"$nulls":20},"[/tr]"]
[{"$nulls":20},"[tr]"]
[{"$nulls":21},"[td]No Horse[/td]"]
[{"$nulls":21},"[td]Rated Price[/td]"]
[{"$nulls":21},"[td]Win[/td]"]
[{"$nulls":21},"[td]Place[/td]"]
[{"$nulls":20},"[/tr]"]
[{"$nulls":20},"[tr]"]
[{"$nulls":21},"[td]13. Remedia[/td]"]
[{"$nulls":21},"[td]$2.45[/td]"]
[{"$nulls":21},"[td][/td]"]
[{"$nulls":21},"[td][/td]"]
[{"$nulls":20},"[/tr]"]
[{"$nulls":20},"[tr]"]
[{"$nulls":21},"[td]3. Watasham[/td]"]
[{"$nulls":21},"[td]$4.29[/td]"]
[{"$nulls":21},"[td][/td]"]
[{"$nulls":21},"[td][/td]"]
[{"$nulls":20},"[/tr]"]
[{"$nulls":20},"[tr]"]
[{"$nulls":21},"[td]9. Elite Ebony[/td]"]
[{"$nulls":21},"[td]$4.29[/td]"]
[{"$nulls":21},"[td][/td]"]
[{"$nulls":21},"[td][/td]"]
[{"$nulls":20},"[/tr]"]
[{"$nulls":20},"[tr]"]
[{"$nulls":21},"[td]7. Vopop[/td]"]
[{"$nulls":21},"[td]$6.62[/td]"]
[{"$nulls":21},"[td][/td]"]
[{"$nulls":21},"[td][/td]"]
[{"$nulls":20},"[/tr]"]
[{"$nulls":20},"[tr]"]
[{"$nulls":21},"[td]10. Hoakstess[/td]"]
[{"$nulls":21},"[td]$6.62[/td]"]
[{"$nulls":21},"[td][/td]"]
[{"$nulls":21},"[td][/td]"]
[{"$nulls":20},"[/tr]"]
[{"$nulls":20},"[/table]"]

{"sheet":"Splashscreen","index":9,"n_rows":8,"n_cols":12,"rows_kept":8,"cut":false,"hidden":false,"merged":[[8,7,12,21]]}
{"$rows_empty":7}
[{"$nulls":7},{"$f":"Data!A1","v":0},{"$f":"IF(H8=\"\",\"\",SUBSTITUTE(H8,\"=\",\" \"))","v":"0"},{"$f":"IF(I8=\"\",\"\",RIGHT(I8,LEN(I8)-SEARCH(\" \",I8,SEARCH(\" \",I8,1)+1)))","v":{"$error":"#VALUE!"}},{"$f":"IF(J8=\"\",\"\",(LEFT(J8,FIND(\"&\",J8)-1)))","v":{"$error":"#VALUE!"}},{"$f":"IF(J8=\"\",\"\",RIGHT(J8,LEN(J8)-SEARCH(\" \",J8,2)))","v":{"$error":"#VALUE!"}}]

{"sheet":"Info","index":10,"n_rows":127,"n_cols":1,"rows_kept":127,"cut":false,"hidden":false,"merged":[]}
["Metropolitan Ratings Based Races"]
["2YO - No change to how it is currently structured"]
[]
["3YO"]
["3yo Open Handicap (No change)"]
["3yo 0 – 82 (or 3yo midweek - 1MW)"]
["3yo 0 – 72 (3yo Class 1)"]
[]
["OPEN"]
["Open Handicap"]
["0 – 95 (1MW – LY - Strong Midweek restricted race)"]
["0 – 89 (1MW – LY - Class 6 (Equivalent of Midweek/Night/Sunday)"]
["0 – 82 (Class 6 / NMW (Equivalent of Midweek Class 6 / Night / Sunday restricted race)"]
[]
["MARES"]
["Mares Open Handicap"]
["0 - 89 (Mares 1MW LY)"]
["0 - 82 (Mares Class 6)"]
[]
["Provincial Ratings Based Races"]
["Open Handicap"]
["0 - 89 (Class 5 or 6 Provincial)"]
["0 - 78 (Class 4 Provincial)"]
["0 - 72 (Class 2 or 3 Provincial"]
["0 - 68 (Class 1 or 2 Provincial)"]
["0 - 62 (Weak Class 1 Provincial)"]
["Ratings figures courtesy of Racing Victoria website."]
[]
["RESTRICTED & SPECIAL CONDITIONS RACES"]
["A conditions race is an event where specific conditions must be met before an entry is allowed. Number of wins in the city or country, age, sex, prizemoney won, even horse colour can be a race that is classed as a Restricted or Special condition's race."]
[]
["TWO-YEAR-OLD "]
["A race event for 2yo colts & geldings and fillies only. Many 2yo events are open to males and females such as the Blue Diamond Stakes at Caulfield, however some 2yo races may be for colts & geldings only or fillies only. Early in the racing season 2yo races can be over distances as short as 900m."]
[]
["THREE-YEAR-OLD "]
["A race event for 3yo colts & geldings and fillies only. Many 3yo events are open to males and females such as the Victoria Derby at Flemington, however some 3yo races may be for colts & geldings only, or fillies only."]
[]
["DERBY"]
["A blue ribbon classic stakes race for three year old colts & geldings and fillies and normally run over a distance of 2400m. The biggest Derby in Australia is the Victoria Derby held at Flemington each year during the spring racing carnival and it is raced over a distance of 2500m."]
[]
["OAKS"]
["A blue ribbon classic stakes race for three year old fillies and normally run over a distance of 2400m. The biggest Oaks race in Australia is the Crown Oaks held at Flemington each year during the spring racing carnival and it is raced over a distance of 2500m"]
[]
["FOUR-YEAR-OLD "]
["A race event for 4yo horses and mares only"]
[]
["MARES"]
["A race event for female horses who are 4 years old and upwards"]
[]
["HANDICAP"]
["A race event where the racecourse handicapper assigns horses a weight based on earnings and past performance to create a theoretical level playing field. The Melbourne Cup is Australia's most famous handicap race."]
[]
["OPEN"]
["An open race is one where there are no conditions on horses who enter the race."]
[]
["FLYING"]
["A race event open to all horses and usually over a sprint distance 1200m or less"]
[]
["WELTER"]
["A race event where a minimum weight is assigned"]
[]
["FLYING WELTER"]
["A race event open to all horses with a minimum weight assigned."]
[]
["INVITATION RACE "]
["A race event for invited horses only"]
[]
["STAKES RACE"]
["A race of higher quality that attracts better horses and offers much more prizemoney than a normal race and is generally a black type race such as a Listed or Group race."]
[]
["QUALITY HANDICAP"]
["A handicap race with a maximum and minimum weight which is different in each state but usually around 60-61kg maximum and 52-53kg minimum. Attracts higher quality horses and is generally a black type Group or Listed race."]
[]
["SET WEIGHTS AND PENALTIES"]
["A high majority of two and three year old races are run under Set Weights and Penalties (SW+P) conditions where weights are known upon entry into the race. The sex or age of the horse determines the weight of the race. Colts and Geldings usually carry around 2 kilograms more than the fillies. Set weights races are also available for horses and mares."]
[]
["WEIGHT FOR AGE"]
["A race where a horse will carry a set weight in accordance with the Weight for Age(WFA) Scale. This weight varies depending on the horse’s age, sex, race distance, and month of the year. These races are usually Group races for high quality gallopers and more often than not Group 1 or Group 2 races. The WS Cox Plate is Australia's most famous Weight For Age race."]
[]
["GROUP AND LISTED RACES"]
["Group and Listed Races are those considered by the Australian Racing Board to reflect the highest standard of racing for races run in Australia and are published in the schedule of races described as “Group and Listed Races” by the Australian Racing Board.Group 1 races are the highest class race in Australia followed by Group 2, Group 3 and Listed races. More info on group races can be found at our Australian group races page."]
[]
["NSW BENCHMARK FIGURE"]
["Benchmark programming and handicapping commenced in NSW on 1st October 2009 to replace the Ratings system in use at the time. A Benchmark figure applies to NSW Meetings only and a horse's Benchmark figure is updated after each race start."]
[]
[]
[]
[]
[]
["RACE CLASSES IN AUSTRALIA"]
[]
["Used to be reasonably easy - after you won a maiden, the lowest class race you were eligible for was a Class1 - when you won a Class 1 race you could then only compete in a Class 2 or better - when you won that you moved to Class 3 as the minimum quality race you were allowed to contest - and so it went all the way up to Open Class. "]
["Before that system, it was maiden, progressive, graduation, transition. open and good old Admiral Rouse's weight for age. Then the administrators, realising they were running out of horses with seven day a week races put in our current system so that older, once well performed horses could drop back in class and keep racing and keep the whole seven day a week monster keeping on!"]
["It's why you now have once good horses getting thrashed at Taree et al when they're 9 and 10 years old and should have been retired three years ago :-)"]
[]
["This is our assessment list from best to worst. This is not an \"official\" list - just how we see things seemingly work out on an average day in, day out basis across all States and our \"feel\" for how things play out. "]
["As in all things racing, we are also likely to be wrong!"]
[]
["WFA"]
["Group races"]
["Open handicaps (Saturday and public holidays)"]
["Open handicaps (Provincial - Sundays)"]
["Welter (Saturdays and public holidays)"]
["Flying (Provincial / Sunday)"]
["Class 6 Saturday"]
["Welter / mares handicap (provincial / Sunday)"]
["Class 6 Provincial "]
["0 - 90 and better"]
["Restricted Handicaps e.g. 1MW, 2MW etc"]
["0 - 80 up to 0- 89"]
["Class 5"]
["0 - 75 up to 0 - 79"]
["Class 4"]
["3YO 1Metro win"]
["0 - 72 up to 0-74"]
["Class 3"]
["0 - 63 up to 0-71"]
["Class 2"]
["3YO Open"]
["0-55 up to 0 - 62"]
["Class 1"]
["3YO Restricted"]
["2YO Quality "]
["Maiden City"]
["2YO open"]
["Maiden Provincial"]
["Maiden Country"]

{"sheet":"Instructions","index":11,"n_rows":39,"n_cols":11,"rows_kept":39,"cut":false,"hidden":false,"merged":[]}
[]
[]
[]
[]
[]
[{"$nulls":10},"Instructions"]
[]
[{"$nulls":10},"1) Go to \"RaceList\" Set number of runners to show on ratings."]
[{"$nulls":10},"2) Set market percentage"]
[{"$nulls":10},"3) Press \"Meetings\" button."]
[{"$nulls":10},"4) Go to \"Meetings1\" and remove race numbers from meetings you are not interested in."]
[{"$nulls":10},"5) In left column use dropdown box to select the meeting in right box, if no dropdown box then select meeting from the far right,"]
[{"$nulls":10},"then press \"Copy\" then highlight lefthand box next to the same meeting and press \"Paste\"."]
[{"$nulls":10},"6) In the small box next to the venues you need to put the Stab race code, example MR SR BR do this for each meeting selected."]
[{"$nulls":10},"7) on \"MainSheet\" adjust the greenbox next to hours with the time difference of your state to EST "]
[{"$nulls":10},"8) Type in a drive letter where you would like your created text file to save."]
[]
[{"$nulls":10},"Automatic Mode"]
[{"$nulls":10},"9) On the \"RaceList\" sheet hit the \"Automatic\" button and the sheet will rate all the selected venues and create a sheet with the race name, "]
[{"$nulls":10},"this sheet will have results if the race has been run."]
[{"$nulls":10},"10) a text document in your saved location called \"Bets\", will be created with a list of rated bets."]
[]
[{"$nulls":10},"Manual Mode"]
[{"$nulls":10},"11) follow steps 1-8 to select a race scroll down on the \"RaceList\" sheet to see the races then highlight a race number and press \"Manual\""]
[{"$nulls":10},"12) Once the race has been rated if you would like to keep the sheet press \"Copy Race\" and the sheet will be saved and the race added to the text document,"]
[{"$nulls":10},"pressing \"Delete\" on the \"RaceList\" will clear all saved race from the file but not the text document."]
[{"$nulls":10},"13) If you change the number of runners it will be reflected in the dividends shown on the main sheet, this can be changed at any time."]
[]
[{"$nulls":10},"Tables Sheet"]
[]
[{"$nulls":10},"14) the \"Tables\" sheet has all the rating variables in red, these can be changed to reflect your opinion of each variable,"]
[{"$nulls":10},"put a check mark in the box to exclude."]
[]
[{"$nulls":10},"Data Sheet"]
[]
[{"$nulls":10},"15) The \"Data\" sheet contains the brains of the workbook, this is where all the imports are formated and the needed information is extracted,"]
[{"$nulls":10},"other information is taken from the \"Form\" and \"Race\" sheets."]
[]
[{"$nulls":10},"This sheet is designed to work with all  excel versions."]