{"text_format":"2","workbook":"xlsx","n_sheets":4,"sheets":["Home","RaceDay","Results","DataCollection"],"not_rendered":{"charts":0,"images":0,"macros":1,"external_links":0,"defined_names":0,"comments":0,"pivot_tables":0},"unopened":[],"bounds":{"document_bytes":16777216,"sheet_cells":100000,"run_cost":"one","rows_first":2000,"rows_last":500,"rows_between":2000,"halvings":0,"cell_chars":16384,"cell_head_chars":4096},"cells_cut":0,"cells_raw":0,"read":"whole","date_system":"1900"}

{"sheet":"Home","index":0,"n_rows":31,"n_cols":27,"rows_kept":31,"cut":false,"hidden":false,"merged":[[1,0,2,4],[11,0,19,4]]}
[{"$nulls":23},2011,1,1]
["Tatts Results",{"$nulls":22},2012,2,2]
[{"$nulls":23},2013,3,3]
[{"$nulls":24},4,4]
[null,"Year","Month","Day",{"$nulls":20},5,5]
[null,2013,2,2,{"$nulls":20},6,6,{"$f":"B6&\"/\"&C6&\"/\"&D6","v":"2013/2/2"}]
[{"$nulls":24},7,7,{"$f":"TEXT(AA6,\"ddd\")","v":"Sat"}]
[{"$nulls":24},8,8]
[{"$nulls":24},9,9]
[{"$nulls":24},10,10]
[{"$nulls":24},11,11]
["Hitting 'START' will download all race results in Ausralia for the given date. The three placings, at this stage, are only given as 'w' 'p' 'p' - no distinctioon is made between 2nd and 3rd. I've noted that a couple of venues ie Esperance & Darwin don't display placings at all. Have a play with it and customize however you want.",{"$nulls":23},12,12]
[{"$nulls":25},13]
[{"$nulls":25},14]
[{"$nulls":25},15]
[{"$nulls":25},16]
[{"$nulls":25},17]
[{"$nulls":25},18]
[{"$nulls":25},19]
[{"$nulls":25},20]
[{"$nulls":25},21]
[{"$nulls":25},22]
[{"$nulls":25},23]
[{"$nulls":25},24]
[{"$nulls":25},25]
[{"$nulls":25},26]
[{"$nulls":25},27]
[{"$nulls":25},28]
[{"$nulls":25},29]
[{"$nulls":25},30]
[{"$nulls":25},31]

{"sheet":"RaceDay","index":1,"n_rows":100,"n_cols":1,"rows_kept":100,"cut":false,"hidden":false,"merged":[]}
[{"$f":"\"http://tatts.com/pagedata/racing/\"&Home!$AA$6&\"/\"&\"RaceDay.XML\"","v":"http://tatts.com/pagedata/racing/2013/2/2/RaceDay.XML"}]
[]
[{"$f":"IF(B3<>\"\",\"http://tatts.com/pagedata/racing/\"&Home!$AA$6&\"/\"&B3&\".XML\",\"\")","v":""}]
[{"$f":"IF(B4<>\"\",\"http://tatts.com/pagedata/racing/\"&Home!$AA$6&\"/\"&B4&\".XML\",\"\")","v":""}]
[{"$f":"IF(B5<>\"\",\"http://tatts.com/pagedata/racing/\"&Home!$AA$6&\"/\"&B5&\".XML\",\"\")","v":""}]
[{"$f":"IF(B6<>\"\",\"http://tatts.com/pagedata/racing/\"&Home!$AA$6&\"/\"&B6&\".XML\",\"\")","v":""}]
[{"$f":"IF(B7<>\"\",\"http://tatts.com/pagedata/racing/\"&Home!$AA$6&\"/\"&B7&\".XML\",\"\")","v":""}]
[{"$f":"IF(B8<>\"\",\"http://tatts.com/pagedata/racing/\"&Home!$AA$6&\"/\"&B8&\".XML\",\"\")","v":""}]
[{"$f":"IF(B9<>\"\",\"http://tatts.com/pagedata/racing/\"&Home!$AA$6&\"/\"&B9&\".XML\",\"\")","v":""}]
[{"$f":"IF(B10<>\"\",\"http://tatts.com/pagedata/racing/\"&Home!$AA$6&\"/\"&B10&\".XML\",\"\")","v":""}]
[{"$f":"IF(B11<>\"\",\"http://tatts.com/pagedata/racing/\"&Home!$AA$6&\"/\"&B11&\".XML\",\"\")","v":""}]
[{"$f":"IF(B12<>\"\",\"http://tatts.com/pagedata/racing/\"&Home!$AA$6&\"/\"&B12&\".XML\",\"\")","v":""}]
[{"$f":"IF(B13<>\"\",\"http://tatts.com/pagedata/racing/\"&Home!$AA$6&\"/\"&B13&\".XML\",\"\")","v":""}]
[{"$f":"IF(B14<>\"\",\"http://tatts.com/pagedata/racing/\"&Home!$AA$6&\"/\"&B14&\".XML\",\"\")","v":""}]
[{"$f":"IF(B15<>\"\",\"http://tatts.com/pagedata/racing/\"&Home!$AA$6&\"/\"&B15&\".XML\",\"\")","v":""}]
[{"$f":"IF(B16<>\"\",\"http://tatts.com/pagedata/racing/\"&Home!$AA$6&\"/\"&B16&\".XML\",\"\")","v":""}]
[{"$f":"IF(B17<>\"\",\"http://tatts.com/pagedata/racing/\"&Home!$AA$6&\"/\"&B17&\".XML\",\"\")","v":""}]
[{"$f":"IF(B18<>\"\",\"http://tatts.com/pagedata/racing/\"&Home!$AA$6&\"/\"&B18&\".XML\",\"\")","v":""}]
[{"$f":"IF(B19<>\"\",\"http://tatts.com/pagedata/racing/\"&Home!$AA$6&\"/\"&B19&\".XML\",\"\")","v":""}]
[{"$f":"IF(B20<>\"\",\"http://tatts.com/pagedata/racing/\"&Home!$AA$6&\"/\"&B20&\".XML\",\"\")","v":""}]
[{"$f":"IF(B21<>\"\",\"http://tatts.com/pagedata/racing/\"&Home!$AA$6&\"/\"&B21&\".XML\",\"\")","v":""}]
[{"$f":"IF(B22<>\"\",\"http://tatts.com/pagedata/racing/\"&Home!$AA$6&\"/\"&B22&\".XML\",\"\")","v":""}]
[{"$f":"IF(B23<>\"\",\"http://tatts.com/pagedata/racing/\"&Home!$AA$6&\"/\"&B23&\".XML\",\"\")","v":""}]
[{"$f":"IF(B24<>\"\",\"http://tatts.com/pagedata/racing/\"&Home!$AA$6&\"/\"&B24&\".XML\",\"\")","v":""}]
[{"$f":"IF(B25<>\"\",\"http://tatts.com/pagedata/racing/\"&Home!$AA$6&\"/\"&B25&\".XML\",\"\")","v":""}]
[{"$f":"IF(B26<>\"\",\"http://tatts.com/pagedata/racing/\"&Home!$AA$6&\"/\"&B26&\".XML\",\"\")","v":""}]
[{"$f":"IF(B27<>\"\",\"http://tatts.com/pagedata/racing/\"&Home!$AA$6&\"/\"&B27&\".XML\",\"\")","v":""}]
[{"$f":"IF(B28<>\"\",\"http://tatts.com/pagedata/racing/\"&Home!$AA$6&\"/\"&B28&\".XML\",\"\")","v":""}]
[{"$f":"IF(B29<>\"\",\"http://tatts.com/pagedata/racing/\"&Home!$AA$6&\"/\"&B29&\".XML\",\"\")","v":""}]
[{"$f":"IF(B30<>\"\",\"http://tatts.com/pagedata/racing/\"&Home!$AA$6&\"/\"&B30&\".XML\",\"\")","v":""}]
[{"$f":"IF(B31<>\"\",\"http://tatts.com/pagedata/racing/\"&Home!$AA$6&\"/\"&B31&\".XML\",\"\")","v":""}]
[{"$f":"IF(B32<>\"\",\"http://tatts.com/pagedata/racing/\"&Home!$AA$6&\"/\"&B32&\".XML\",\"\")","v":""}]
[{"$f":"IF(B33<>\"\",\"http://tatts.com/pagedata/racing/\"&Home!$AA$6&\"/\"&B33&\".XML\",\"\")","v":""}]
[{"$f":"IF(B34<>\"\",\"http://tatts.com/pagedata/racing/\"&Home!$AA$6&\"/\"&B34&\".XML\",\"\")","v":""}]
[{"$f":"IF(B35<>\"\",\"http://tatts.com/pagedata/racing/\"&Home!$AA$6&\"/\"&B35&\".XML\",\"\")","v":""}]
[{"$f":"IF(B36<>\"\",\"http://tatts.com/pagedata/racing/\"&Home!$AA$6&\"/\"&B36&\".XML\",\"\")","v":""}]
[{"$f":"IF(B37<>\"\",\"http://tatts.com/pagedata/racing/\"&Home!$AA$6&\"/\"&B37&\".XML\",\"\")","v":""}]
[{"$f":"IF(B38<>\"\",\"http://tatts.com/pagedata/racing/\"&Home!$AA$6&\"/\"&B38&\".XML\",\"\")","v":""}]
[{"$f":"IF(B39<>\"\",\"http://tatts.com/pagedata/racing/\"&Home!$AA$6&\"/\"&B39&\".XML\",\"\")","v":""}]
[{"$f":"IF(B40<>\"\",\"http://tatts.com/pagedata/racing/\"&Home!$AA$6&\"/\"&B40&\".XML\",\"\")","v":""}]
[{"$f":"IF(B41<>\"\",\"http://tatts.com/pagedata/racing/\"&Home!$AA$6&\"/\"&B41&\".XML\",\"\")","v":""}]
[{"$f":"IF(B42<>\"\",\"http://tatts.com/pagedata/racing/\"&Home!$AA$6&\"/\"&B42&\".XML\",\"\")","v":""}]
[{"$f":"IF(B43<>\"\",\"http://tatts.com/pagedata/racing/\"&Home!$AA$6&\"/\"&B43&\".XML\",\"\")","v":""}]
[{"$f":"IF(B44<>\"\",\"http://tatts.com/pagedata/racing/\"&Home!$AA$6&\"/\"&B44&\".XML\",\"\")","v":""}]
[{"$f":"IF(B45<>\"\",\"http://tatts.com/pagedata/racing/\"&Home!$AA$6&\"/\"&B45&\".XML\",\"\")","v":""}]
[{"$f":"IF(B46<>\"\",\"http://tatts.com/pagedata/racing/\"&Home!$AA$6&\"/\"&B46&\".XML\",\"\")","v":""}]
[{"$f":"IF(B47<>\"\",\"http://tatts.com/pagedata/racing/\"&Home!$AA$6&\"/\"&B47&\".XML\",\"\")","v":""}]
[{"$f":"IF(B48<>\"\",\"http://tatts.com/pagedata/racing/\"&Home!$AA$6&\"/\"&B48&\".XML\",\"\")","v":""}]
[{"$f":"IF(B49<>\"\",\"http://tatts.com/pagedata/racing/\"&Home!$AA$6&\"/\"&B49&\".XML\",\"\")","v":""}]
[{"$f":"IF(B50<>\"\",\"http://tatts.com/pagedata/racing/\"&Home!$AA$6&\"/\"&B50&\".XML\",\"\")","v":""}]
[{"$f":"IF(B51<>\"\",\"http://tatts.com/pagedata/racing/\"&Home!$AA$6&\"/\"&B51&\".XML\",\"\")","v":""}]
[{"$f":"IF(B52<>\"\",\"http://tatts.com/pagedata/racing/\"&Home!$AA$6&\"/\"&B52&\".XML\",\"\")","v":""}]
[{"$f":"IF(B53<>\"\",\"http://tatts.com/pagedata/racing/\"&Home!$AA$6&\"/\"&B53&\".XML\",\"\")","v":""}]
[{"$f":"IF(B54<>\"\",\"http://tatts.com/pagedata/racing/\"&Home!$AA$6&\"/\"&B54&\".XML\",\"\")","v":""}]
[{"$f":"IF(B55<>\"\",\"http://tatts.com/pagedata/racing/\"&Home!$AA$6&\"/\"&B55&\".XML\",\"\")","v":""}]
[{"$f":"IF(B56<>\"\",\"http://tatts.com/pagedata/racing/\"&Home!$AA$6&\"/\"&B56&\".XML\",\"\")","v":""}]
[{"$f":"IF(B57<>\"\",\"http://tatts.com/pagedata/racing/\"&Home!$AA$6&\"/\"&B57&\".XML\",\"\")","v":""}]
[{"$f":"IF(B58<>\"\",\"http://tatts.com/pagedata/racing/\"&Home!$AA$6&\"/\"&B58&\".XML\",\"\")","v":""}]
[{"$f":"IF(B59<>\"\",\"http://tatts.com/pagedata/racing/\"&Home!$AA$6&\"/\"&B59&\".XML\",\"\")","v":""}]
[{"$f":"IF(B60<>\"\",\"http://tatts.com/pagedata/racing/\"&Home!$AA$6&\"/\"&B60&\".XML\",\"\")","v":""}]
[{"$f":"IF(B61<>\"\",\"http://tatts.com/pagedata/racing/\"&Home!$AA$6&\"/\"&B61&\".XML\",\"\")","v":""}]
[{"$f":"IF(B62<>\"\",\"http://tatts.com/pagedata/racing/\"&Home!$AA$6&\"/\"&B62&\".XML\",\"\")","v":""}]
[{"$f":"IF(B63<>\"\",\"http://tatts.com/pagedata/racing/\"&Home!$AA$6&\"/\"&B63&\".XML\",\"\")","v":""}]
[{"$f":"IF(B64<>\"\",\"http://tatts.com/pagedata/racing/\"&Home!$AA$6&\"/\"&B64&\".XML\",\"\")","v":""}]
[{"$f":"IF(B65<>\"\",\"http://tatts.com/pagedata/racing/\"&Home!$AA$6&\"/\"&B65&\".XML\",\"\")","v":""}]
[{"$f":"IF(B66<>\"\",\"http://tatts.com/pagedata/racing/\"&Home!$AA$6&\"/\"&B66&\".XML\",\"\")","v":""}]
[{"$f":"IF(B67<>\"\",\"http://tatts.com/pagedata/racing/\"&Home!$AA$6&\"/\"&B67&\".XML\",\"\")","v":""}]
[{"$f":"IF(B68<>\"\",\"http://tatts.com/pagedata/racing/\"&Home!$AA$6&\"/\"&B68&\".XML\",\"\")","v":""}]
[{"$f":"IF(B69<>\"\",\"http://tatts.com/pagedata/racing/\"&Home!$AA$6&\"/\"&B69&\".XML\",\"\")","v":""}]
[{"$f":"IF(B70<>\"\",\"http://tatts.com/pagedata/racing/\"&Home!$AA$6&\"/\"&B70&\".XML\",\"\")","v":""}]
[{"$f":"IF(B71<>\"\",\"http://tatts.com/pagedata/racing/\"&Home!$AA$6&\"/\"&B71&\".XML\",\"\")","v":""}]
[{"$f":"IF(B72<>\"\",\"http://tatts.com/pagedata/racing/\"&Home!$AA$6&\"/\"&B72&\".XML\",\"\")","v":""}]
[{"$f":"IF(B73<>\"\",\"http://tatts.com/pagedata/racing/\"&Home!$AA$6&\"/\"&B73&\".XML\",\"\")","v":""}]
[{"$f":"IF(B74<>\"\",\"http://tatts.com/pagedata/racing/\"&Home!$AA$6&\"/\"&B74&\".XML\",\"\")","v":""}]
[{"$f":"IF(B75<>\"\",\"http://tatts.com/pagedata/racing/\"&Home!$AA$6&\"/\"&B75&\".XML\",\"\")","v":""}]
[{"$f":"IF(B76<>\"\",\"http://tatts.com/pagedata/racing/\"&Home!$AA$6&\"/\"&B76&\".XML\",\"\")","v":""}]
[{"$f":"IF(B77<>\"\",\"http://tatts.com/pagedata/racing/\"&Home!$AA$6&\"/\"&B77&\".XML\",\"\")","v":""}]
[{"$f":"IF(B78<>\"\",\"http://tatts.com/pagedata/racing/\"&Home!$AA$6&\"/\"&B78&\".XML\",\"\")","v":""}]
[{"$f":"IF(B79<>\"\",\"http://tatts.com/pagedata/racing/\"&Home!$AA$6&\"/\"&B79&\".XML\",\"\")","v":""}]
[{"$f":"IF(B80<>\"\",\"http://tatts.com/pagedata/racing/\"&Home!$AA$6&\"/\"&B80&\".XML\",\"\")","v":""}]
[{"$f":"IF(B81<>\"\",\"http://tatts.com/pagedata/racing/\"&Home!$AA$6&\"/\"&B81&\".XML\",\"\")","v":""}]
[{"$f":"IF(B82<>\"\",\"http://tatts.com/pagedata/racing/\"&Home!$AA$6&\"/\"&B82&\".XML\",\"\")","v":""}]
[{"$f":"IF(B83<>\"\",\"http://tatts.com/pagedata/racing/\"&Home!$AA$6&\"/\"&B83&\".XML\",\"\")","v":""}]
[{"$f":"IF(B84<>\"\",\"http://tatts.com/pagedata/racing/\"&Home!$AA$6&\"/\"&B84&\".XML\",\"\")","v":""}]
[{"$f":"IF(B85<>\"\",\"http://tatts.com/pagedata/racing/\"&Home!$AA$6&\"/\"&B85&\".XML\",\"\")","v":""}]
[{"$f":"IF(B86<>\"\",\"http://tatts.com/pagedata/racing/\"&Home!$AA$6&\"/\"&B86&\".XML\",\"\")","v":""}]
[{"$f":"IF(B87<>\"\",\"http://tatts.com/pagedata/racing/\"&Home!$AA$6&\"/\"&B87&\".XML\",\"\")","v":""}]
[{"$f":"IF(B88<>\"\",\"http://tatts.com/pagedata/racing/\"&Home!$AA$6&\"/\"&B88&\".XML\",\"\")","v":""}]
[{"$f":"IF(B89<>\"\",\"http://tatts.com/pagedata/racing/\"&Home!$AA$6&\"/\"&B89&\".XML\",\"\")","v":""}]
[{"$f":"IF(B90<>\"\",\"http://tatts.com/pagedata/racing/\"&Home!$AA$6&\"/\"&B90&\".XML\",\"\")","v":""}]
[{"$f":"IF(B91<>\"\",\"http://tatts.com/pagedata/racing/\"&Home!$AA$6&\"/\"&B91&\".XML\",\"\")","v":""}]
[{"$f":"IF(B92<>\"\",\"http://tatts.com/pagedata/racing/\"&Home!$AA$6&\"/\"&B92&\".XML\",\"\")","v":""}]
[{"$f":"IF(B93<>\"\",\"http://tatts.com/pagedata/racing/\"&Home!$AA$6&\"/\"&B93&\".XML\",\"\")","v":""}]
[{"$f":"IF(B94<>\"\",\"http://tatts.com/pagedata/racing/\"&Home!$AA$6&\"/\"&B94&\".XML\",\"\")","v":""}]
[{"$f":"IF(B95<>\"\",\"http://tatts.com/pagedata/racing/\"&Home!$AA$6&\"/\"&B95&\".XML\",\"\")","v":""}]
[{"$f":"IF(B96<>\"\",\"http://tatts.com/pagedata/racing/\"&Home!$AA$6&\"/\"&B96&\".XML\",\"\")","v":""}]
[{"$f":"IF(B97<>\"\",\"http://tatts.com/pagedata/racing/\"&Home!$AA$6&\"/\"&B97&\".XML\",\"\")","v":""}]
[{"$f":"IF(B98<>\"\",\"http://tatts.com/pagedata/racing/\"&Home!$AA$6&\"/\"&B98&\".XML\",\"\")","v":""}]
[{"$f":"IF(B99<>\"\",\"http://tatts.com/pagedata/racing/\"&Home!$AA$6&\"/\"&B99&\".XML\",\"\")","v":""}]
[{"$f":"IF(B100<>\"\",\"http://tatts.com/pagedata/racing/\"&Home!$AA$6&\"/\"&B100&\".XML\",\"\")","v":""}]

{"sheet":"Results","index":2,"n_rows":0,"n_cols":0,"rows_kept":0,"cut":false,"hidden":false,"merged":[]}

{"sheet":"DataCollection","index":3,"n_rows":30,"n_cols":1,"rows_kept":30,"cut":false,"hidden":false,"merged":[]}
{"$rows_empty":25}
[""]
[""]
[""]
[""]
[""]